Workbook
Name _kk1: #REF!
Name _kk1: #REF!
Name _kk1: #REF!
Name ▼選択してください。: #REF!
Name ▼選択してください。: #REF!
Name ▼選択してください。: '別紙2-1勤務体制一覧表'!$CA$1:$CA$5
Name ▼選択してください。: #REF!
Name Avrg: #REF!
Name Avrg: #REF!
Name Avrg: #REF!
Name houjin: #REF!
Name houjin: #REF!
Name houjin: #REF!
Name jigyoumeishou: #REF!
Name jigyoumeishou: #REF!
Name jigyoumeishou: #REF!
Name kanagawaken: #REF!
Name kanagawaken: #REF!
Name kanagawaken: #REF!
Name kawasaki: #REF!
Name kawasaki: #REF!
Name kawasaki: #REF!
Name kk: #REF!
Name kk: #REF!
Name kk: #REF!
Name KK_03: #REF!
Name KK_03: #REF!
Name KK_03: #REF!
Name KK_06: #REF!
Name KK_06: #REF!
Name KK_06: #REF!
Name KK2_3: #REF!
Name KK2_3: #REF!
Name KK2_3: #REF!
Name ｋｋｋｋ: #REF!
Name ｋｋｋｋ: #REF!
Name ｋｋｋｋ: #REF!
Name Roman_01: #REF!
Name Roman_01: #REF!
Name Roman_01: #REF!
Name Roman_03: #REF!
Name Roman_03: #REF!
Name Roman_03: #REF!
Name Roman_04: #REF!
Name Roman_04: #REF!
Name Roman_04: #REF!
Name Roman_06: #REF!
Name Roman_06: #REF!
Name Roman_06: #REF!
Name Roman2_1: #REF!
Name Roman2_1: #REF!
Name Roman2_1: #REF!
Name Roman2_3: #REF!
Name Roman2_3: #REF!
Name Roman2_3: #REF!
Name Serv_LIST: #REF!
Name Serv_LIST: #REF!
Name Serv_LIST: #REF!
Name siharai: #REF!
Name siharai: #REF!

Sheet 必要書類
B1: 指定更新申請に必要な申請書等
B3: 川崎市における地域生活支援事業の事業者指定更新申請にかかる必要書類は、次のとおりです。
C5: 必要書類 | D5: 留意事項等
B6: 【移動支援事業】【生活サポート事業】 | C6: ◎更新申請書 | D6: ※左の必要書類のうち、◎は必ず提出してください。それ以外は、変更がある場合のみ提出してください。 ※運営規程については、原則として、移動支援事業・生活サポート事業ごとに作成する必要があります。生活サポート事業を新たに実施する場合には、生活サポート事業用の運営規程を別途作成いただくか、運営規程の事業目的に、「生活サポート事業」という文言を入れ込む必要があります。
C7: ◎付表（出張所がある場合は付表２も提出）
C8: ・下記の添付書類
C9: （以下添付書類）
C10: ・定款、登記簿謄本等
C11: ◎運営規程
C12: ・参考様式1 （平面図） 及び事業所の外観・内観のカラー写真
C13: ・参考様式3 （設備）
C14: ・参考様式4 （管理者、サービス管理責任者の経歴書）
C15: ・参考様式6 （苦情解決）
C16: ・別紙2 （勤務形態）
C17: ・参考様式7 （組織体制）
C18: ・参考様式8 （主たる対象者）
... C20: ◎その他必要なもの （賠償責任保険証の写し・事務所の賃貸借契約書の写し、旧指定書（原本））
B21: （日中短期入所）(障害児･者一時預かり） 【日 中 一 時 支 援 事 業】 | C21: ◎更新申請書 | D21: ※右の必要書類のうち、◎は必ず提出してください。それ以外は、変更がある場合のみ提出してください。 ※日中短期入所と障害児・者一時預かりは、同一の更新申請書で指定更新することができません。
C22: ◎付表
C23: ・下記の添付書類
C24: （以下添付書類）
C25: ・定款、登記簿謄本等
C26: ◎運営規程
C27: ・参考様式1 （平面図） 及び事業所の外観・内観のカラー写真
C28: ・参考様式2 （面積）
C29: ・参考様式3 （設備）
C30: ・参考様式4 （管理者、サービス管理責任者の経歴書）
C31: ・参考様式6 （苦情解決）
C32: ・別紙2 （勤務形態）
C33: ・参考様式7 （組織体制）
... C36: ◎その他必要なもの （賠償責任保険証の写し・事務所の賃貸借契約書の写し、旧指定書（原本））
B37: 市外事業所 及び 市外特例 事業所 | C37: ・申請書 | D37: ※市外特例事業所とは、川崎市が支給決定をおこない、市外の障害者支援施設や共同生活援助等を利用している障害者に対して、事業所が所在する市町村の地域生活支援事業を提供する場合の事業者指定です。
C38: ・付表（出張所がある場合は付表２にも記入）
C39: ・事業所が所在する市町村における地域生活支援事業の指定書、契約書等の写し ・旧指定書（原本）

Sheet 申請書
B1: （様式第１号） | W1: 1
Q2: 受付番号
E4: 川崎市地域生活支援事業 | M4: 指定更新申請書
B6: （申請先） | H6: （申請者）
B7: 川崎市長 | I7: 所 在 地
I9: 名 称 | U9: 印
I10: 代表者氏名
B12: 障害者の日常生活及び社会生活を総合的に支援するための法律に規定する地域生活支援事業に係る指定の更新を受けたいので、下記のとおり、関係書類を添えて申請します。
B14: 申請者（設置者） | C14: ﾌ ﾘ ｶﾞ ﾅ
C15: 名 称
C16: 主たる事務所の 所在地 | G16: 〒 | L16: ←郵便番号を半角数字７桁で記載してください
C19: 連絡先 | G19: 電話番号 | O19: ＦＡＸ番号
C20: 法人の種類 | O20: 法人所轄庁
C21: 代表者 | E21: 役 職
E22: 氏 名
E23: 住 所 | G23: 〒 | L23: ←郵便番号を半角数字７桁で記載してください
B26: 指定を受けようとする 事業所・施設の種類 | C26: ﾌ ﾘ ｶﾞ ﾅ
C27: 名 称
C28: 事業所（施設） の所在地 | G28: 〒 | L28: 事業所(施設)所在地市町村番号 | T28: 級地区分
C31: 連絡先 | G31: 電話番号 | O31: ＦＡＸ番号
C32: 事業等の種類
C34: 指定申請をする事業等の 事業開始予定年月日
B35: 障害者の日常生活及び社会生活を総合的に支援するための法律等において 既に指定を受けている場合 | G35: サービスの種類 | P35: 事業所番号
G36: 事業所名称
B37: （備考）
B38: １ 「事業所(施設)所在地市町村番号」欄及び「級地区分」欄には記載しないでください。
B39: ２ 「法人の種類」欄には、申請者が法人である場合に、「社会福祉法人」「医療法人」「社団法人」「財団法人」「株式会社」「有限会社」等の別
B40: を記載してください。
B41: ３ 「法人所轄庁」欄には、申請者が認可法人である場合に、その主務官庁の名称を記載してください。
B42: ４ 「指定を受けようとする事業所・施設の種類」欄には、今回申請をするものについて必要事項を記載してください。
B43: ５ 「障害者自立支援法において既に指定を受けている場合」欄には、事業所所在地の都道府県において既に事業所としての指定を受け、番号が
B44: 付番されている場合に、その事業所に関する事項を記載してください。複数の番号を有する場合には、そのうちの一つのみを記載してください。
B45: 障害児・者日中一時預かりの場合は児童デイサービス、日中短期入所の場合は短期入所の事業者番号を記入してください。
AS72: 1 | AT72: 移動支援事業
AS73: 2 | AT73: 指定障害者支援施設
AS74: 3 | AT74: 指定相談支援事業所
AS76: 1 | AT76: 居宅介護 | AU76: 1 | AV76: 11
AS77: 2 | AT77: 重度訪問介護 | AU77: 1 | AV77: 12
AS78: 3 | AT78: 行動援護 | AU78: 1 | AV78: 13
AS79: 4 | AT79: 療養介護 | AU79: 2 | AV79: 21
...

Sheet 申請書（記載例）
B1: （様式第１号） | W1: 1
H2: （記載例） | Q2: 受付番号
E4: 川崎市地域生活支援事業 | M4: 指定更新申請書
B6: （申請先） | H6: （申請者）
B7: 川崎市長 | I7: 所 在 地 | L7: 川崎市川崎区宮本町１番地
I9: 名 称 | L9: 特定非営利活動法人 川崎移動の会 | U9: 印
I10: 代表者氏名 | L10: 川崎 太郎
B12: 障害者の日常生活及び社会生活を総合的に支援するための法律に規定する地域生活支援事業に係る指定の更新を受けたいので、下記のとおり、関係書類を添えて申請します。
B14: 申請者（設置者） | C14: ﾌ ﾘ ｶﾞ ﾅ | G14: ｶﾌﾞｼｷｶﾞｲｼｬ ｶﾜｻｷｻｰﾋﾞｽ
C15: 名 称 | G15: 株式会社川崎サービス
C16: 主たる事務所の 所在地 | G16: 〒 | H16: 1234567 | L16: ←郵便番号を半角数字７桁で記載してください
G17: 神奈川県川崎市川崎区
G18: 宮本町１番地
C19: 連絡先 | G19: 電話番号 | J19: 044-123-4567 | O19: ＦＡＸ番号 | R19: 044-123-4567
C20: 法人の種類 | G20: 営利法人 | O20: 法人所轄庁 | R20: 川崎市
C21: 代表者 | E21: 役 職 | G21: 代表取締役
E22: 氏 名 | G22: 川崎 太郎
E23: 住 所 | G23: 〒 | H23: 1234567 | L23: ←郵便番号を半角数字７桁で記載してください
G24: 神奈川県川崎市川崎区
G25: 砂子１丁目１番地
B26: 指定を受けようとする 事業所・施設の種類 | C26: ﾌ ﾘ ｶﾞ ﾅ | G26: ｶﾜｻｷｲﾄﾞｳｻｰﾋﾞｽ
C27: 名 称 | G27: 川崎移動サービス
C28: 事業所（施設） の所在地 | G28: 〒 | H28: 1234567 | L28: 事業所(施設)所在地市町村番号 | T28: 級地区分
G29: 神奈川県川崎市川崎区
G30: 駅前本町１番地
C31: 事業等の種類
C33: 指定申請をする事業等の 事業開始予定年月日 | G33: 46113
B34: 障害者の日常生活及び社会生活を総合的に支援するための法律等において 既に指定を受けている場合 | G34: サービスの種類 | J34: 居宅介護・同行援護 | P34: 事業所番号 | S34: 1415000000
G35: 事業所名称 | J35: 川崎移動サービス
B36: （備考）
B37: １ 「事業所(施設)所在地市町村番号」欄及び「級地区分」欄には記載しないでください。
B38: ２ 「法人の種類」欄には、申請者が法人である場合に、「社会福祉法人」「医療法人」「社団法人」「財団法人」「株式会社」「有限会社」等の別
B39: を記載してください。
B40: ３ 「法人所轄庁」欄には、申請者が認可法人である場合に、その主務官庁の名称を記載してください。
B41: ４ 「指定を受けようとする事業所・施設の種類」欄には、今回申請をするものについて必要事項を記載してください。
B42: ５ 「障害者自立支援法において既に指定を受けている場合」欄には、事業所所在地の都道府県において既に事業所としての指定を受け、番号が
B43: 付番されている場合に、その事業所に関する事項を記載してください。複数の番号を有する場合には、そのうちの一つのみを記載してください。
B44: 障害児日中一時預りの場合は児童デイサービス、日中短期入所の場合は短期入所の事業者番号を記入してください。
AS71: 1 | AT71: 移動支援事業
AS72: 2 | AT72: 指定障害者支援施設
...

Sheet 付表
A1: （付表） 地域生活支援事業の指定に係る記載事項
AA3: 受付番号
A5: 事業所 | C5: ﾌﾘｶﾞﾅ | I5: =申請書!G26 -> 0
C6: 名 称 | I6: =申請書!G27 -> 0
C7: 事業種別
C9: 所在地 | I9: 〒 | K9: =申請書!H28 -> 0 | Q9: ←郵便番号を半角数字７桁で入力してください
I10: =申請書!G29 -> 0
I11: =申請書!G30 -> 0
C12: 連 絡 先 | I12: 電話番号 | M12: =申請書!J31 -> 0 | W12: ＦＡＸ番号 | AA12: =申請書!R31 -> 0
C13: 連絡用メールアドレス
A14: 当該事業の実施について定めてある定款・寄付行為等又は条例等
A15: 管理者 | C15: ﾌﾘｶﾞﾅ
C16: 氏 名
C17: 住 所 | I17: 〒 | Q17: ←郵便番号を半角数字７桁で入力してください
C20: 当該事業所における居宅介護従業者等との兼務の有無
C21: 同一敷地内の他の事業所又は施設の従業者との兼務（兼務の場合記入） | O21: 事業所等の名称
O22: 兼務する職種
O23: 勤務時間
A24: 従業者の員数 | C24: (単位：人） | I24: 直接支援従業者 | O24: その他従業者
I25: 専従 | L25: 兼務 | O25: 専従 | R25: 兼務
C26: 従業者数 | F26: 常勤
F27: 非常勤
A28: 主な掲示事項 | C28: 営業日
C29: 営業時間 | I29: 平日 | O29: ～ | T29: 土曜 | Z29: ～ | AE29: 備考
I30: 日曜 | O30: ～ | T30: 祝日 | Z30: ～
C31: 主たる対象者
C32: 利用料
C33: その他費用
C34: 通常の事業 の実施地域 （移動支援・生活サポートのみ）
C38: その他参考 となる事項 | I38: 第三者評価の実施状況
I39: 苦情解決の措置概要 | R39: 窓口（連絡先）
R40: 担当者
I41: その他
A42: （備考）
A43: １．「受付番号」欄には、記載しないでください。
A44: ２．記入欄が不足する場合は、適宜欄を設けて記載するか又は別葉に記載した書類を添付してください。
A45: ３．「主な掲示事項」欄には、その内容を簡潔に記載してください。
A46: ４．「その他の費用」欄には、利用者に直接金銭の負担を求める場合のサービス内容について記載してください。
A47: ５．「通常の事業の実施地域」欄には、市区町村名を記載することとし、当該区域の全部又は一部の別を記載してください。
A48: なお、一部の地域が実施地域である場合は適宜地図を添付してください。
...

Sheet 付表（記載例）
A1: （付表） 地域生活支援事業の指定に係る記載事項（記載例）
B2: ・この付表は移動支援・生活サポート事業を行う事業者で、障害者自立支援法の居宅介護・行動援護・
B3: 重度訪問介護・（旧体系）外出介護の指定を受けていない場合に他の添付資料と | AA3: 受付番号
B4: ともに提出してください。
A5: 事業所 | C5: ﾌﾘｶﾞﾅ | I5: ='申請書（記載例）'!G26 -> ｶﾜｻｷｲﾄﾞｳｻｰﾋﾞｽ
C6: 名 称 | I6: ='申請書（記載例）'!G27 -> 川崎移動サービス
C7: 事業種別
C9: 所在地 | I9: 〒 | K9: ='申請書（記載例）'!H28 -> 1234567 | Q9: ←郵便番号を半角数字７桁で入力してください
I10: ='申請書（記載例）'!G29 -> 神奈川県川崎市川崎区
I11: ='申請書（記載例）'!G30 -> 駅前本町１番地
C12: 連 絡 先 | I12: 電話番号 | M12: 044-123-4567 | W12: ＦＡＸ番号 | AA12: 044-123-4567
C13: 連絡用メールアドレス | M13: 40syogai@city.kawasaki.jp
A14: 当該事業の実施について定めてある定款・寄付行為等又は条例等 | W14: 定款2条１項
A15: 管理者 | C15: ﾌﾘｶﾞﾅ | I15: ｶﾜｻｷ ﾄﾓｺ
C16: 氏 名 | I16: 川崎 友子
C17: 住 所 | I17: 〒 | K17: 1234567 | Q17: ←郵便番号を半角数字７桁で入力してください
I18: 神奈川県川崎市川崎区
I19: 駅前本町１番地
C20: 当該事業所における居宅介護従業者等との兼務の有無
C21: 同一敷地内の他の事業所又は施設の従業者との兼務（兼務の場合記入） | O21: 事業所等の名称
O22: 兼務する職種
O23: 勤務時間
A24: 従業者の員数 | C24: (単位：人） | I24: 直接支援従業者 | O24: その他従業者
I25: 専従 | L25: 兼務 | O25: 専従 | R25: 兼務
C26: 従業者数 | F26: 常勤 | R26: 1
F27: 非常勤 | L27: 4
A28: 主な掲示事項 | C28: 営業日
C29: 営業時間 | I29: 平日 | L29: 0.375 | O29: ～ | Q29: 0.75 | T29: 土曜 | W29: 0.375 | Z29: ～ | AB29: 0.54166667 | AE29: 備考
I30: 日曜 | O30: ～ | T30: 祝日 | Z30: ～
C31: 主たる対象者
C32: 利用料 | I32: 運営規定に定めるとおり
C33: その他費用 | I33: なし
C34: 通常の事業 の実施地域 （移動支援・生活サポートのみ）
I35: 川崎市全域
C38: その他参考 となる事項 | I38: 第三者評価の実施状況
I39: 苦情解決の措置概要 | R39: 窓口（連絡先） | W39: 044-123-4567
R40: 担当者 | W40: 川崎 太郎
I41: その他
A42: （備考）
A43: １．「受付番号」欄には、記載しないでください。
...

Sheet 付表２
A1: 付表２ 移動支援等を事業所所在地以外の場所で一部実施する場合の記載事項
AA2: 受付番号
A4: 事業所 | C4: ﾌﾘｶﾞﾅ
C5: 名 称
C6: 所在地 | I6: 〒 | Q6: ←郵便番号を半角数字７桁で入力してください
C9: 連 絡 先 | I9: 電話番号 | W9: ＦＡＸ番号
A10: 主な掲示事項 | C10: 営業日
C11: 営業時間 | I11: 平日 | O11: ～ | T11: 土曜 | Z11: ～ | AE11: 備考
I12: 日曜 | O12: ～ | T12: 祝日 | Z12: ～
C13: 主たる対象者
C14: 利用料
C15: その他費用
C16: 通常の事業 の実施地域 （移動支援・生活サポートのみ）
C20: その他参考 となる事項 | I20: 第三者評価の実施状況
I21: 苦情解決の措置概要 | R21: 窓口（連絡先）
R22: 担当者
I23: その他
A24: （備考）
A25: １．「受付番号」欄には、記載しないでください。
A26: ２．記入欄が不足する場合は、適宜欄を設けて記載するか又は別葉に記載した書類を添付してください。
A27: ３．「主な掲示事項」欄には、その内容を簡潔に記載してください。
A28: ４．「その他の費用」欄には、利用者に直接金銭の負担を求める場合のサービス内容について記載してください。
A29: ５．「通常の事業の実施地域」欄には、市区町村名を記載することとし、当該区域の全部又は一部の別を記載してください。
A30: なお、一部の地域が実施地域である場合は適宜地図を添付してください。

Sheet 付表２（記載例）
A1: 付表２ 移動支援等を事業所所在地以外の場所で一部実施する場合の記載事項（記載例）
AA2: 受付番号
A4: 事業所 | C4: ﾌﾘｶﾞﾅ | I4: ｶﾜｻｷ ｲﾄﾞｳｻｰﾋﾞｽﾀﾞｲﾆ
C5: 名 称 | I5: 川崎移動サービス第2
C6: 所在地 | I6: 〒 | K6: 1234567 | Q6: ←郵便番号を半角数字７桁で入力してください
I7: 神奈川県川崎市幸区
I8: 北加瀬１番地
C9: 連 絡 先 | I9: 電話番号 | M9: 044-112-3456 | W9: ＦＡＸ番号 | AA9: 044-112-3456
A10: 主な掲示事項 | C10: 営業日
C11: 営業時間 | I11: 平日 | L11: 0.375 | O11: ～ | Q11: 0.75 | T11: 土曜 | W11: 0.375 | Z11: ～ | AB11: 0.54166667 | AE11: 備考
I12: 日曜 | O12: ～ | T12: 祝日 | Z12: ～
C13: 主たる対象者
C14: 利用料 | I14: 運営規定に定めるとおり
C15: その他費用 | I15: なし
C16: 通常の事業 の実施地域 （移動支援・生活サポートのみ）
I17: 川崎市全域
C20: その他参考 となる事項 | I20: 第三者評価の実施状況
I21: 苦情解決の措置概要 | R21: 窓口（連絡先） | W21: 044-123-4567
R22: 担当者 | W22: 川崎 太郎
I23: その他
A24: （備考）
A25: １．「受付番号」欄には、記載しないでください。
A26: ２．記入欄が不足する場合は、適宜欄を設けて記載するか又は別葉に記載した書類を添付してください。
A27: ３．「主な掲示事項」欄には、その内容を簡潔に記載してください。
A28: ４．「その他の費用」欄には、利用者に直接金銭の負担を求める場合のサービス内容について記載してください。
A29: ５．「通常の事業の実施地域」欄には、市区町村名を記載することとし、当該区域の全部又は一部の別を記載してください。
A30: なお、一部の地域が実施地域である場合は適宜地図を添付してください。

Sheet 参考様式１(記載例)
A3: 参考様式１ | E3: 事業所・施設の平面図
B5: 事業所の名称 | D5: （申請書記載の名称と同一であること）
B9: 建物の名称 | D9: ○○ビルディング（ビル、施設等の名称）
B10: 構造概要 | D10: ○造○階建 ○階
B11: 事業所の共用の有無 | D11: （○○介護保険事業所と共用等）
C14: ○○ビルディング ○階平面図 | L14: Ｎ
A38: （備考）１ | B38: 各室、区画の用途及び面積を記載し、他の事業や施設と共用する場合は、その旨を記載し色分けする等わかりやすく表示してください。
A39: ２ | B39: 既製の平面図がある場合にはそれを添付してください。（その場合、Ａ３に縮尺の上、折り込んでください。）
A40: ３ | B40: 療養介護事業所、共同生活介護、共同生活援助、短期入所事業所、障害者支援施設においては既製の平面図を添付して下さい。短期入所事業所で、併設事業所の場合は、本体施設の平面図を添付してください。
A42: ４ | B42: 事業所の外観及び内部（各室、区画）の写真を添付してください。
A43: ５ | B43: 多機能型、従たる事業所や複数の共同生活住居がある場合は、それぞれの位置関係がわかる地図等を添付してください。

Sheet 参考様式２（居室面積等一覧表）
A1: 参考様式２ | F1: 居室面積等一覧表
B3: 事業所の名称
B4: サービスの種類
B6: 設置階 | D6: 1 | E6: 階 | H6: 2 | I6: 階 | M6: 階 | Q6: 階 | S6: 合 計
A7: 種類 | C7: 室数 | D7: 面積 | F7: 備考 | G7: 室数 | H7: 面積 | J7: 備考 | K7: 室数 | L7: 面積 | N7: 備考 | O7: 室数 | P7: 面積 | R7: 備考 | S7: 室数 | T7: 面積 | U7: 備考
A8: 居室 | B8: １室の定員 | E8: 一人あたり | I8: 一人あたり | M8: 一人あたり | Q8: 一人あたり
E9: （ ） | I9: （ ） | M9: （ ） | Q9: （ ）
E10: （ ） | I10: （ ） | M10: （ ） | Q10: （ ）
E11: （ ） | I11: （ ） | M11: （ ） | Q11: （ ）
E12: （ ） | I12: （ ） | M12: （ ） | Q12: （ ）
E13: （ ） | I13: （ ） | M13: （ ） | Q13: （ ）
E14: （ ） | I14: （ ） | M14: （ ） | Q14: （ ）
E15: （ ） | I15: （ ） | M15: （ ） | Q15: （ ）
E16: （ ） | I16: （ ） | M16: （ ） | Q16: （ ）
A17: 居室以外
A28: 片廊下幅 | C28: （最も狭い個所） | F28: ｍ | G28: （最も狭い個所） | J28: ｍ | K28: （最も狭い個所） | N28: ｍ | O28: （最も狭い個所） | R28: ｍ
A29: 中廊下幅 | F29: ｍ | J29: ｍ | N29: ｍ | R29: ｍ
A30: 共用する事業所・施設名
A32: 備考１ | B32: 設備基準で定められた設備等について、設置階ごとに記載してください。
A33: ２ | B33: 居室については、「1室の定員」ごとに分けて記入してください。また、同じ定員でも面積に異なる居室がある場合には、それぞれの居室ごとに分けて記入してください。
A34: ３ | B34: 「1人あたりの面積」の算出が必要な設備は、面積欄の（ ）内に記入してください。（算出にあたっては小数点以下第二位を切捨て）
A35: ４ | B35: 部屋の種類ごとにまとめて、合計の室数、面積を記入してください。
A36: ５ | B36: 他の事業所、施設と共用がある場合は、備考欄に「共用」と記入し、「共用する事業所・施設名」欄に正式名称を記入し、共用先の当該部分の平面図を添付してください。
B37: （様式１で添付されている場合は省略可）
A38: ６ | B38: 同一の事業所又は施設の他の設備と兼用している場合は「備考欄」に「○○室と兼用」と記載してください。
A39: ７ | B39: 施設入所支援の場合は昼間実施するサービスとあわせて記載してください。

Sheet 参考様式２(記載例)
A3: 参考様式２ | F3: 居室面積等一覧表
B5: 事業所の名称 | D5: かながわ○△園
B6: サービスの種類 | D6: 日中短期入所
B8: 設置階 | D8: 1 | E8: 階 | H8: 2 | I8: 階 | M8: 階 | Q8: 階 | S8: 合 計
A9: 種類 | C9: 室数 | D9: 面積 | F9: 備考 | G9: 室数 | H9: 面積 | J9: 備考 | K9: 室数 | L9: 面積 | N9: 備考 | O9: 室数 | P9: 面積 | R9: 備考 | S9: 室数 | T9: 面積 | U9: 備考
A10: 居室 | B10: １室の定員 | E10: 一人あたり | I10: 一人あたり | M10: 一人あたり | Q10: 一人あたり
E11: （ ） | I11: （ ） | M11: （ ） | Q11: （ ）
E12: （ ） | I12: （ ） | M12: （ ） | Q12: （ ）
E13: （ ） | I13: （ ） | M13: （ ） | Q13: （ ）
E14: （ ） | I14: （ ） | M14: （ ） | Q14: （ ）
E15: （ ） | I15: （ ） | M15: （ ） | Q15: （ ）
E16: （ ） | I16: （ ） | M16: （ ） | Q16: （ ）
E17: （ ） | I17: （ ） | M17: （ ） | Q17: （ ）
E18: （ ） | I18: （ ） | M18: （ ） | Q18: （ ）
A19: 居室以外
A20: 食堂 | C20: 1 | F20: 共用 | G20: 1 | J20: 共用
A21: 特別浴室 | C21: 1 | F21: 共用
A22: 一般浴室 | G22: 1 | J22: 共用
A23: 洗面所 | C23: 1 | F23: 共用 | G23: 1 | J23: 共用
A24: 便所 | C24: 2 | F24: 共用 | G24: 2 | J24: 共用
A25: 訓練・作業室 | C25: 1 | F25: 共用
A26: 相談室 | G26: 1 | J26: 共用
A27: 多目的室 | G27: 1 | J27: 共用
A30: 片廊下幅 | C30: （最も狭い個所） | E30: 1.55 | F30: ｍ | G30: （最も狭い個所） | I30: 1.55 | J30: ｍ | K30: （最も狭い個所） | N30: ｍ | O30: （最も狭い個所） | R30: ｍ
A31: 中廊下幅 | E31: 1.9 | F31: ｍ | I31: 1.9 | J31: ｍ | N31: ｍ | R31: ｍ
A32: 共用する事業所・施設名
A34: 備考１ | B34: 設備基準で定められた設備等について、設置階ごとに記載してください。
A35: ２ | B35: 居室については、「1室の定員」ごとに分けて記入してください。また、同じ定員でも面積に異なる居室がある場合には、それぞれの居室ごとに分けて記入してください。
A36: ３ | B36: 「1人あたりの面積」の算出が必要な設備は、面積欄の（ ）内に記入してください。（算出にあたっては小数点以下第二位を切捨て）
A37: ４ | B37: 部屋の種類ごとにまとめて、合計の室数、面積を記入してください。
A38: ５ | B38: 他の事業所、施設と共用がある場合は、備考欄に「共用」と記入し、「共用する事業所・施設名」欄に正式名称を記入し、共用先の当該部分の平面図を添付してください。
B39: （様式１で添付されている場合は省略可）
A40: ６ | B40: 同一の事業所又は施設の他の設備と兼用している場合は「備考欄」に「○○室と兼用」と記載してください。
A41: ７ | B41: 施設入所支援の場合は昼間実施するサービスとあわせて記載してください。

Sheet 参考様式３（事業所の設備・備品等一覧表）
A1: 参考様式３ | D1: 事業所の設備・備品等一覧表
B4: 事業所の名称
B5: サービスの種類
A7: 設備の概要 | C7: 設備基準上適合すべき項目についての状況 | H7: 備品の品名及び数量 | K7: 適合の可否
A9: サービス提供上配慮すべき設備の概要
A36: 非常災害設備等
A58: 備考 １ | B58: 申請するサービスの種類に関して、基準省令で定められた設備基準上適合すべき項目のうち、「居室面積等一覧表」（参考様式２）に記載された項目以外の事項について記載してください。
A59: 2 | B59: 「適合の可否」欄には何も記載しないでください。

Sheet 参考様式３(記載例)
A3: 参考様式３ | D3: 事業所の設備・備品等一覧表
B6: 事業所の名称 | D6: 川崎移動サービス
B7: サービスの種類 | D7: 移動支援
A9: 設備の概要 | C9: 設備基準上適合すべき項目についての状況 | H9: 備品の品名及び数量 | K9: 適合の可否
A11: サービス提供上配慮すべき設備の概要
A21: 例）
A22: ・相談室 | C22: ・室内における談話の漏えいを防ぐための間仕切りを設けている | H22: 机 １、いす ４、パーテーション ２
A38: 非常災害設備等
A40: 例）
A41: ・消火設備 | C41: ・消防法に適合したものを備えている。 | H41: ・消火器 10、スプリンクラー
A61: 備考 １ | B61: 申請するサービスの種類に関して、基準省令で定められた設備基準上適合すべき項目のうち、「居室面積等一覧表」（参考様式２）に記載された項目以外の事項について記載してください。
A62: 2 | B62: 「適合の可否」欄には何も記載しないでください。

Sheet 参考様式４（管理者等経歴書）
A2: 参考様式４ | D2: 管 理 者
D3: サービス管理責任者 | H3: 経 歴 書
D4: サービス提供責任者
D5: 相談支援専門員
A7: 事業所の名称
A8: サービスの種類
A9: （管理者の場合で当該管理者が管理する事業所が複数の場合はその全てを記載してください。）
B10: 事業の名称
B11: サービスの種類
A13: フリガナ | H13: 生年月日
A14: 氏 名
A15: 住 所 | B15: (自宅） | C15: （〒 - ）
A16: 電話番号 | B16: (自宅）
A17: 主な職歴
A18: 期間 | D18: 勤務先 | I18: 職務内容
A28: 職務に関する資格
A29: 資格の種類 | F29: 資格取得年月日
A42: 備考（研修等の受講の状況等）
A52: 備考 | B52: 管理者、サービス管理責任者、サービス提供責任者、相談支援専門員のいずれかを○印で囲ってください。
B53: 管理者、サービス管理責任者、サービス提供責任者、相談支援専門員についてそれぞれ別葉で提出してください。

Sheet 参考様式４(記載例)
A3: 参考様式４ | D3: 管 理 者
D4: サービス管理責任者 | H4: 経 歴 書
D5: サービス提供責任者
D6: 相談支援専門員
A8: 事業所の名称 | C8: 川崎移動サービス
A9: サービスの種類 | C9: 移動支援
A10: （管理者の場合で当該管理者が管理する事業所が複数の場合はその全てを記載してください。）
B11: 事業の名称 | C11: 川崎移動サービス
B12: サービスの種類 | C12: 居宅介護
A14: フリガナ | C14: ｶﾜｻｷ ﾄﾓｺ | H14: 生年月日 | I14: 昭和○○年○月○日
A15: 氏 名 | C15: 川崎 友子
A16: 住 所 | B16: (自宅） | C16: （〒231-****） 神奈川県川崎市○○－○○
A17: 電話番号 | B17: (自宅） | C17: 044－○○－○○○○
A18: 主な職歴
A19: 期間 | D19: 勤務先 | I19: 職務内容
A20: 昭和○○年○月～平成○○年○月 | D20: 社会福祉法人△△会特別養護老人ホーム○△□苑 | I20: 介護職員
A22: 平成○○年○月～平成○○年○月 | D22: 株式会社川崎移動サービス | I22: 生活支援員
A24: 平成○○年○月～平成○○年○月 | D24: 同上 | I24: 管理者
A29: 職務に関する資格
A30: 資格の種類 | F30: 資格取得年月日
B32: 介護福祉士 | G32: 平成○○年○月○日
B34: 社会福祉士 | G34: 平成○○年○月○日
A43: 備考（研修等の受講の状況等）
A54: 備考 | B54: 管理者、サービス管理責任者、サービス提供責任者、相談支援専門員のいずれかを○印で囲ってください。
B55: 管理者、サービス管理責任者、サービス提供責任者、相談支援専門員についてそれぞれ別葉で提出してください。

Sheet 参考様式６（苦情を解決するために講ずる措置の概要）
A1: 参考様式6 | C1: 利用者（入所者）又はその家族からの苦情を解決するために講ずる措置の概要
A3: 事業所の名称
A4: サービスの種類
A6: 措置の概要
A7: 1 | B7: 利用者（入所者）又はその家族からの相談又は苦情等に対応する常設窓口（連絡先）、担当者
A28: 2 | B28: 円滑かつ迅速に苦情を解決するための処理体制・手順
B42: ※ | C42: 具体的な対応方針
A51: 3 | B51: その他参考事項
A64: 備考 | B64: 上記は例示であるので、これに関わらず、適宜項目を追加し、その内容について具体的に記載してください。

Sheet 参考様式６(記載例)
A3: 参考様式６ | C3: 利用者（入所者）又はその家族からの苦情を解決するために講ずる措置の概要
A5: 事業所の名称 | C5: 川崎移動サービス
A6: サービスの種類 | C6: 移動支援
A8: 措置の概要
A9: 1 | B9: 利用者（入所者）又はその家族からの相談又は苦情等に対応する常設窓口（連絡先）、担当者
A30: 2 | B30: 円滑かつ迅速に苦情を解決するための処理体制・手順
B44: ※ | C44: 具体的な対応方針
A53: 3 | B53: その他参考事項
A66: 備考 | B66: 上記は例示であるので、これに関わらず、適宜項目を追加し、その内容について具体的に記載してください。

Sheet 別紙2-1勤務体制一覧表
CA1: ▼選択してください。
B2: 別紙２－１ | CA2: 移動支援
B3: 従業者の勤務の体制及び勤務形態一覧表 | CA3: 生活サポート
CA4: 日中短期入所
B5: 事業所名 | CA5: 障害児者一時預かり
B6: サービス種類 | K6: ▼選択してください。 | CA6: 市外地域生活支援事業
B8: 職種 | H8: 勤務 形態 | K8: 氏名 | R8: 第１週 | Y8: 第２週 | AF8: 第３週 | AM8: 第４週 | AT8: 4週の合計 | AW8: 週平均の勤務時間 | AZ8: 常勤換算後の人数 | BA8: 兼務先
P9: 日付 | R9: 1 | S9: 2 | T9: 3 | U9: 4 | V9: 5 | W9: 6 | X9: 7 | Y9: 8 | Z9: 9 | AA9: 10 | AB9: 11 | AC9: 12 | AD9: 13 | AE9: 14 | AF9: 15 | AG9: 16 | AH9: 17 | AI9: 18 | AJ9: 19 | AK9: 20 | AL9: 21 | AM9: 22 | AN9: 23 | AO9: 24 | AP9: 25 | AQ9: 26 | AR9: 27 | AS9: 28
P10: 曜日
P11: 開所日
B12: 管理者 | AT12: =SUM(R12:AS12) -> 0 | AW12: =AT12/4 -> 0
AT13: =SUM(R13:AS13) -> 0 | AW13: =AT13/4 -> 0
AT14: =SUM(R14:AS14) -> 0 | AW14: =AT14/4 -> 0
AT15: =SUM(R15:AS15) -> 0 | AW15: =AT15/4 -> 0
AT16: =SUM(R16:AS16) -> 0 | AW16: =AT16/4 -> 0
AT17: =SUM(R17:AS17) -> 0 | AW17: =AT17/4 -> 0
AT18: =SUM(R18:AS18) -> 0 | AW18: =AT18/4 -> 0
AT19: =SUM(R19:AS19) -> 0 | AW19: =AT19/4 -> 0
AT20: =SUM(R20:AS20) -> 0 | AW20: =AT20/4 -> 0
AT21: =SUM(R21:AS21) -> 0 | AW21: =AT21/4 -> 0
AT22: =SUM(R22:AS22) -> 0 | AW22: =AT22/4 -> 0
AT23: =SUM(R23:AS23) -> 0 | AW23: =AT23/4 -> 0
AT24: =SUM(R24:AS24) -> 0 | AW24: =AT24/4 -> 0
... AT27: =SUM(R27:AS27) -> 0 | AW27: =AT27/4 -> 0
B28: 合計 | AT28: =SUM(AT13:AT27) -> 0 | AW28: =SUM(AW13:AW27) -> 0 | AZ28: =IF(AND(AW28=0,AT29=0),0,ROUNDDOWN(AW28/AT29,1)) -> 0
B29: 当該事業所・施設において常勤職員が1週間に勤務すべき時間数 | AT29: 0

Sheet 別紙2-1勤務体制一覧表【記載例】
CA1: ▼選択してください。
B2: 別紙２－１ | CA2: 移動支援
B3: 従業者の勤務の体制及び勤務形態一覧表 | CA3: 生活サポート
CA4: 日中短期入所
B5: 事業所名 | K5: かながわ介護事業所 | CA5: 障害児者一時預かり
B6: サービス種類 | K6: 移動支援 | CA6: 市外地域生活支援事業
B8: 職種 | H8: 勤務 形態 | K8: 氏名 | R8: 第１週 | Y8: 第２週 | AF8: 第３週 | AM8: 第４週 | AT8: 4週の合計 | AW8: 週平均の勤務時間 | AZ8: 常勤換算後の人数 | BA8: 兼務先
P9: 日付 | R9: 1 | S9: 2 | T9: 3 | U9: 4 | V9: 5 | W9: 6 | X9: 7 | Y9: 8 | Z9: 9 | AA9: 10 | AB9: 11 | AC9: 12 | AD9: 13 | AE9: 14 | AF9: 15 | AG9: 16 | AH9: 17 | AI9: 18 | AJ9: 19 | AK9: 20 | AL9: 21 | AM9: 22 | AN9: 23 | AO9: 24 | AP9: 25 | AQ9: 26 | AR9: 27 | AS9: 28
P10: 曜日 | R10: 月 | S10: 火 | T10: 水 | U10: 木 | V10: 金 | W10: 土 | X10: 日 | Y10: 月 | Z10: 火 | AA10: 水 | AB10: 木 | AC10: 金 | AD10: 土 | AE10: 日 | AF10: 月 | AG10: 火 | AH10: 水 | AI10: 木 | AJ10: 金 | AK10: 土 | AL10: 日 | AM10: 月 | AN10: 火 | AO10: 水 | AP10: 木 | AQ10: 金 | AR10: 土 | AS10: 日
P11: 開所日 | R11: ○ | S11: ○ | T11: ○ | U11: ○ | V11: ○ | Y11: ○ | Z11: ○ | AA11: ○ | AB11: ○ | AC11: ○ | AF11: ○ | AG11: ○ | AH11: ○ | AI11: ○ | AJ11: ○ | AM11: ○ | AN11: ○ | AO11: ○ | AP11: ○ | AQ11: ○
B12: 管理者 | H12: 常勤・兼務 | K12: かながわ 三郎 | R12: 8 | S12: 8 | T12: 8 | U12: 8 | V12: 8 | Y12: 8 | Z12: 8 | AA12: 8 | AB12: 8 | AC12: 8 | AF12: 8 | AG12: 8 | AH12: 8 | AI12: 8 | AJ12: 8 | AM12: 8 | AN12: 8 | AO12: 8 | AP12: 8 | AQ12: 8 | AT12: =SUM(R12:AS12) -> 160 | AW12: =AT12/4 -> 40 | BA12: かながわ介護事業所（訪問介護）
B13: サービス提供責任者 | H13: 常勤・兼務 | K13: きよかわ 村男 | R13: 8 | S13: 8 | T13: 8 | U13: 8 | V13: 8 | Y13: 8 | Z13: 8 | AA13: 8 | AB13: 8 | AC13: 8 | AF13: 8 | AG13: 8 | AH13: 8 | AI13: 8 | AJ13: 8 | AM13: 8 | AN13: 8 | AO13: 8 | AP13: 8 | AQ13: 8 | AT13: =SUM(R13:AS13) -> 160 | AW13: =AT13/4 -> 40 | BA13: かながわ介護事業所（訪問介護）
B14: ヘルパー | H14: 常勤・兼務 | K14: あいかわ 花子 | R14: 6 | S14: 6 | T14: 6 | U14: 6 | V14: 6 | Y14: 6 | Z14: 6 | AA14: 6 | AB14: 6 | AC14: 6 | AF14: 6 | AG14: 6 | AH14: 6 | AI14: 6 | AJ14: 6 | AM14: 6 | AN14: 6 | AO14: 6 | AP14: 6 | AQ14: 6 | AT14: =SUM(R14:AS14) -> 120 | AW14: =AT14/4 -> 30 | BA14: かながわ介護事業所（訪問介護）
B15: ヘルパー | H15: 非常勤・専従 | K15: 湯河 原野 | R15: 4 | S15: 4 | T15: 4 | U15: 4 | V15: 4 | Y15: 4 | Z15: 4 | AA15: 4 | AB15: 4 | AC15: 4 | AF15: 4 | AG15: 4 | AH15: 4 | AI15: 4 | AJ15: 4 | AM15: 4 | AN15: 4 | AO15: 4 | AP15: 4 | AQ15: 4 | AT15: =SUM(R15:AS15) -> 80 | AW15: =AT15/4 -> 20
B16: ヘルパー | H16: 非常勤・兼務 | K16: まな 鶴子 | R16: 4 | T16: 4 | U16: 4 | Y16: 4 | AA16: 4 | AB16: 4 | AF16: 4 | AH16: 4 | AI16: 4 | AM16: 4 | AO16: 4 | AP16: 4 | AT16: =SUM(R16:AS16) -> 48 | AW16: =AT16/4 -> 12 | BA16: かながわGH（世話人）
AT17: =SUM(R17:AS17) -> 0 | AW17: =AT17/4 -> 0
AT18: =SUM(R18:AS18) -> 0 | AW18: =AT18/4 -> 0
AT19: =SUM(R19:AS19) -> 0 | AW19: =AT19/4 -> 0
AT20: =SUM(R20:AS20) -> 0 | AW20: =AT20/4 -> 0
AT21: =SUM(R21:AS21) -> 0 | AW21: =AT21/4 -> 0
AT22: =SUM(R22:AS22) -> 0 | AW22: =AT22/4 -> 0
AT23: =SUM(R23:AS23) -> 0 | AW23: =AT23/4 -> 0
AT24: =SUM(R24:AS24) -> 0 | AW24: =AT24/4 -> 0
AT25: =SUM(R25:AS25) -> 0 | AW25: =AT25/4 -> 0
AT26: =SUM(R26:AS26) -> 0 | AW26: =AT26/4 -> 0
AT27: =SUM(R27:AS27) -> 0 | AW27: =AT27/4 -> 0
B28: 合計 | AT28: =SUM(AT13:AT27) -> 408 | AW28: =SUM(AW13:AW27) -> 102 | AZ28: =IF(AND(AW28=0,AT29=0),0,ROUNDDOWN(AW28/AT29,1)) -> 2.5
B29: 当該事業所・施設において常勤職員が1週間に勤務すべき時間数 | AT29: 40

Sheet 参考様式７（組織体制図）
A1: (参考様式７）
D3: 組 織 体 制 図
B5: 事業所の名称
B6: サービスの種類
B53: 備考 既存の組織体制図がある場合は、その写し等の添付でかまいません。

Sheet 参考様式７（記載例）
A1: (参考様式７）
D3: 組 織 体 制 図
B5: 事業所の名称 | D5: 川崎移動サービス
B6: サービスの種類 | D6: 移動支援
D12: 管理者
D13: 氏名 ○○○○
B20: サービス管理責任者
B21: 氏名 | C21: ○○○○
B27: 従業者氏名 | F27: 事務員氏名
B28: ○○○○ | F28: ○○○○
B29: ○○○○ | F29: ○○○○
B30: ○○○○
B31: ○○○○
B32: ○○○○
B33: ○○○○
B53: 備考 既存の組織体制図がある場合は、その写し等の添付でかまいません。

Sheet 参考様式８（主たる対象者を特定する理由等）
A1: （参考様式８）
A3: 主たる対象者を特定する理由等
C6: 事業所名
C7: サービスの種類
A10: １ 申請に係るサービスの主たる対象者 | M10: ※該当するものを○で囲むこと。
B12: 身体障害者（肢体不自由 ・ 視覚 ・ 聴覚言語 ・ 内部障害）
B13: 知的障害者 ・ 障害児 ・ 精神障害者
A15: ２ 主たる対象者を１のとおり特定する理由
A28: ３ 今後における主たる対象者の拡充の予定
A30: （１）拡充予定の有無
C32: あり | D32: ・ | E32: なし
A34: （２）拡充予定の内容及び予定時期
A38: （３）拡充のための方策

Sheet 参考様式８(記載例)
A3: （参考様式８）
A5: 主たる対象者を特定する理由等
C8: 事業所名 | J8: 川崎移動サービス
C9: サービスの種類 | J9: 移動支援
A12: １ 申請に係るサービスの主たる対象者 | M12: ※該当するものを○で囲むこと。
B14: 身体障害者（肢体不自由 ・ 視覚 ・ 聴覚言語 ・ 内部障害）
B15: 知的障害者 ・ 障害児 ・ 精神障害者
A17: ２ 主たる対象者を１のとおり特定する理由
C19: もともと介護保険サービスを提供していたため、職員体制等が
C20: 他の障害に対応していないため
A30: ３ 今後における主たる対象者の拡充の予定
A32: （１）拡充予定の有無
C34: あり | D34: ・ | E34: なし
A36: （２）拡充予定の内容及び予定時期
A40: （３）拡充のための方策

Sheet 事業計画書
A1: 参考様式
A2: 事業計画書
B3: 事業所名又は施設名
B4: サービスの種類
A6: １．事業の目的
A7: 支給決定を受けた利用者が居宅において自立した日常生活及び社会生活を営むことができるよう、当該事業所の従業者が、当該利用者の身体その他の状況及び環境に応じて、適正な移動支援サービスを提供することを目的とする。
A11: ２．事業開始日 | E11: 平成 | H11: 年 | J11: 月 | L11: 日
A12: ３．年間平均利用者数 | E12: 全体 | H12: 人
F13: 移動支援 | J13: 人
A15: ４．月別状況一覧表
C16: 平成 | E16: 年 | G16: 月 | H16: ～ | I16: 平成 | K16: 年 | M16: 月
A18: 月 項目 | O18: 合計 | Q18: 月平均
C19: 月 | D19: 月 | E19: 月 | F19: 月 | G19: 月 | H19: 月 | I19: 月 | J19: 月 | K19: 月 | L19: 月 | M19: 月 | N19: 月
A20: 移動支援 利用見込数（人） | O20: =SUM(C20:N20) -> 0 | P20: 人 | R20: 人
A21: 人員見込数（人） | O21: =SUM(C21:N21) -> 0 | P21: 人 | R21: 人
A22: その他 （行事・研修の実施等）

Sheet 事業計画書（記載例）
A1: 参考様式
A2: 事業計画書
B3: 事業所名又は施設名 | F3: かわさきホームヘルプサービス
B4: サービスの種類 | F4: 移動支援事業
A6: １．事業の目的
A7: 支給決定を受けた利用者が居宅において自立した日常生活及び社会生活を営むことができるよう、当該事業所の従業者が、当該利用者の身体その他の状況及び環境に応じて、適正な移動支援サービスを提供することを目的とする。
A11: ２．事業開始日 | E11: 平成 | G11: ○○ | H11: 年 | I11: ○ | J11: 月 | K11: ○ | L11: 日
A12: ３．年間平均利用者数 | E12: 全体 | F12: 19.4 | H12: 人
F13: 移動支援 | H13: 18.6 | J13: 人
A15: ４．月別状況一覧表
C16: 平成 | D16: ○○ | E16: 年 | F16: 10 | G16: 月 | H16: ～ | I16: 平成 | J16: ○◎ | K16: 年 | L16: 9 | M16: 月
A18: 月 項目 | C18: 10 | D18: 11 | E18: 12 | F18: 1 | G18: 2 | H18: 3 | I18: 4 | J18: 5 | K18: 6 | L18: 7 | M18: 8 | N18: 9 | O18: 合計 | Q18: 月平均
C19: 月 | D19: 月 | E19: 月 | F19: 月 | G19: 月 | H19: 月 | I19: 月 | J19: 月 | K19: 月 | L19: 月 | M19: 月 | N19: 月
A20: 移動支援 利用見込数（人） | C20: 10 | D20: 10 | E20: 13 | F20: 15 | G20: 15 | H20: 18 | I20: 20 | J20: 20 | K20: 25 | L20: 25 | M20: 25 | N20: 28 | O20: =SUM(C20:N20) -> 224 | P20: 人 | Q20: 18.6 | R20: 人
A21: 人員見込数（人） | C21: 5 | D21: 5 | E21: 6 | F21: 8 | G21: 9 | H21: 10 | I21: 14 | J21: 15 | K21: 18 | L21: 18 | M21: 19 | N21: 19 | O21: =SUM(C21:N21) -> 146 | P21: 人 | Q21: 12.1 | R21: 人
A22: その他 （行事・研修の実施等） | C22: 人権研修 | E22: 介護技術研修 | G22: 介護技術研修 | I22: 初任者研修 人権研修 | K22: 他事業所交流研修 | M22: サービス提供責任者研修 | N22: 人権研修
