Workbook
Name __kk06: #REF!
Name __kk06: #REF!
Name __kk29: #REF!
Name __kk29: #REF!
Name _kk06: #REF!
Name _kk06: #REF!
Name _kk1: #REF!
Name _kk1: #REF!
Name _kk29: #REF!
Name ▼選択してください。: #REF!
Name ▼選択してください。: #REF!
Name Avrg: #REF!
Name Avrg: #REF!
Name Avrg: #REF!
Name avrg1: #REF!
Name CSV_サービス情報: #REF!
Name CSV_サービス情報: #REF!
Name CSV_口座振込依頼書: #REF!
Name CSV_口座振込依頼書: #REF!
Name CSV_追加情報: #REF!
Name CSV_付表１: #REF!
Name CSV_付表１＿１: #REF!
Name CSV_付表１＿２: #REF!
Name CSV_付表１０: #REF!
Name CSV_付表１０＿２: #REF!
Name CSV_付表１１: #REF!
Name CSV_付表１１＿２: #REF!
Name CSV_付表１２: #REF!
Name CSV_付表１２＿２: #REF!
Name CSV_付表１３その１: #REF!
Name CSV_付表１３その２: #REF!
Name CSV_付表１４: #REF!
Name CSV_付表２: #REF!
Name CSV_付表３: #REF!
Name CSV_付表３＿２: #REF!
Name CSV_付表４: #REF!
Name CSV_付表４＿１: #REF!
Name CSV_付表４＿２: #REF!
Name CSV_付表５: #REF!
Name CSV_付表６: #REF!
Name CSV_付表７: #REF!
Name CSV_付表８その１: #REF!
Name CSV_付表８その２: #REF!
Name CSV_付表８その３: #REF!
Name CSV_付表９: #REF!
Name CSV_付表９＿２: #REF!
Name CSV_様式第１号: #REF!
Name houjin: #REF!
Name houjin: #REF!
Name houjin: #REF!
Name houjin: #REF!
Name houjin: #REF!
Name houjin: #REF!
Name houjin: #REF!
Name houjin: #REF!
Name houjin: #REF!
Name houjin: #REF!
Name houjin: #REF!
Name jigyoumeishou: #REF!
Name jigyoumeishou: #REF!

Sheet 【要提出】確認シート
A1: 一般相談支援事業所 指定更新申請確認シート
A3: サービス種別
A4: 事業所名
A5: 担当者
A6: TEL・E-mail | B6: TEL： | F6: E-mail:
A7: 〇：必ず提出 △：該当あれば提出
A8: 様式名等 | C8: 提出 | D8: 確認欄 | E8: 備考
A9: 確認シート（このリスト） | C9: 〇
A10: 様式第１号－２ | C10: 〇
A11: 別紙 | C11: △ | E11: ※他法で指定を受けている事業がある場合のみ ※他法による指定通知書の写しを添付
A12: 付表１４ | C12: 〇
A13: 付表別紙 | C13: 〇
A14: 履歴事項全部証明書 | C14: 〇 | E14: ※更新予定日から6か月以内に発行した原本
A15: 運営規程 | C15: 〇
A16: 参考様式７（組織体制） | C16: 〇
A17: 別紙２（勤務形態） | C17: 〇 | E17: ※サービスごとに書式が異なる
A18: 参考様式９－１（誓約書） | C18: 〇
A19: 参考様式９別紙（役員名簿） | C19: 〇 | E19: ※管理者についても記載すること
A20: 管理者の誓約書 | C20: 〇 | E20: ※サービスごとに書式が異なる
A21: 財産目録又は決算報告書 | C21: 〇
A22: 賠償責任保険証書の写し | C22: 〇
A23: 前回指定を受けた際の指定書の写し | C23: 〇
A24: 変更届出書 | C24: △ | E24: ※今回の更新前に未届の変更事項があった場合
A26: 以下の項目について、更新前に変更した、未届出の変更事項があるか、 御確認の上、該当する方にチェックをつけてください。
A28: １．登記事項証明書 （法人名・法人住所・法人代表者） | E28: □ | F28: 変更届全て提出済 | H28: □ | I28: 未届出の変更届あり
A29: ２．事業所の平面図・レイアウト ※未届出の事業所の住所変更があった場合は、取り急ぎ電話にて御連絡ください。 | E29: □ | F29: 変更届全て提出済 | H29: □ | I29: 未届出の変更届あり
A30: ３．法人・事業所の電話番号・FAX番号 | E30: □ | F30: 変更届全て提出済 | H30: □ | I30: 未届出の変更届あり
A31: ４．事業所の管理者 | E31: □ | F31: 変更届全て提出済 | H31: □ | I31: 未届出の変更届あり
A32: ５．事業所の相談支援専門員 | E32: □ | F32: 変更届全て提出済 | H32: □ | I32: 未届出の変更届あり
A33: ６．運営規程 | E33: □ | F33: 変更届全て提出済 | H33: □ | I33: 未届出の変更届あり
A34: ７．利用者又はその家族からの苦情を 解決するために講ずる措置の概要 | E34: □ | F34: 変更届全て提出済 | H34: □ | I34: 未届出の変更届あり
A36: ◎未届出の変更の項目（チェックが入った項目）がある場合、 該当の項目について、変更届の提出が必要です。
A38: 掲載場所（障害福祉情報サービスかながわ）
A39: 「書式ライブラリ」⇒「３．川崎市からのお知らせ」⇒「５． 変更（休止・廃止）の届出」
A40: ⇒「（１）障害者総合支援法に基づく事業所、施設」

Sheet 様式第１号－２
A1: （様式第１号－２） | AF1: 事業所の種類 | AG1: 法人の種類 | AH1: 事業所の種類
N2: ※受付番号 | AF2: 指定特定相談支援事業所 | AG2: 社会福祉法人（社協以外） | AH2: 地域移行支援
N3: ※指定市町村番号 | AF3: 指定障害児相談支援事業所 | AG3: 社会福祉法人（社協） | AH3: 地域定着支援
A4: 指 定 更 新 申 請 書 | AG4: 医療法人
O5: 平成 年 月 日 | AG5: 民法法人（社団・財団）
A6: （申請先） | G6: （申請者） | AG6: 営利法人
A7: 川崎市長 | H7: 所 在 地 | AG7: 非営利法人（NPO）
AG8: 農協
H9: 名 称 | T9: 印 | AG9: 生協
H10: 代表者氏名 | AG10: その他法人
AG11: 地方公共団体（都道府県）
A12: 障害者の日常生活及び社会生活を総合的に支援するための法律に規定する | AG12: 地方公共団体（市町村）
A13: 指定一般相談支援事業所 | H13: に係る指定の更新を受けたいので、 | AG13: 地方公共団体（広域連合・一部事務組合等）
A14: 下記のとおり、関係書類を添えて申請します。 | AG14: 国立施設
A16: 申請者（設置者） | B16: ﾌ ﾘ ｶﾞ ﾅ | AG16: その他
B17: 名 称
B18: 主たる事務所の 所在地 | F18: 〒 | K18: ←郵便番号を半角数字７桁で入力してください
B21: 連絡先 | F21: 電話番号 | N21: ＦＡＸ番号
B22: 法人の種類 | F22: 社会福祉法人（社協以外） | N22: 法人所轄庁
B23: 代表者 | D23: 役 職
D24: 氏 名
D25: 住 所 | F25: 〒 | K25: ←郵便番号を半角数字７桁で入力してください
A28: 指定更新を受けようとする事業所・施設の種類 | B28: ﾌ ﾘ ｶﾞ ﾅ | S28: 事業所番号
B29: 名 称
B30: 事業所（施設） の所在地 | F30: 〒 | K30: ※事業所(施設)所在地市町村番号 | S30: ※級地区分
B33: 事業等の種類 | F33: =A13 -> 指定一般相談支援事業所
F34: 地域移行支援 | L34: 指定年月日 | R34: 付表 | S34: 備考
R35: 14
A36: 主たる事業所名称
A37: 同一の法律において他に 指定を受けている場合 | F37: サービスの種類 | O37: 事業所番号
F38: 事業所名称
A39: 指定有効開始年月日 | K39: 指定有効終了年月日
A40: ※指定更新申請中区分
A41: ※効力停止開始年月 | K41: ※効力停止終了年月
A42: （備考）
A43: １ 「※」のついた欄には記載しないでください。
A44: ２ 「法人の種類」欄には、「社会福祉法人」「医療法人」「社団法人」「財団法人」 「株式会社」「有限会社」等の別を記載してください。
A45: ３ 「法人所轄庁」欄には、申請者が認可法人である場合に、その主務官庁の名称を記載してください。
A46: ４ 「指定更新を受けようとする事業所・施設の種類」欄には、今回申請をするものについて必要事項を記載してくだ さい。
A47: ５ 「同一の法律において他に指定を受けている場合」欄には、申請する事業所等の指定権者の所管区域内において他 に事業所としての指定を受け、番号が付番されている場合に、その事業所に関する事項を記載してください。複数の 番号を有する場合には、そのうちの一つのみを記載してください。

Sheet 【記載例】様式第１号－２
A1: （様式第１号－２） | AF1: 事業所の種類 | AG1: 法人の種類 | AH1: 事業所の種類
N2: ※受付番号 | AF2: 指定特定相談支援事業所 | AG2: 社会福祉法人（社協以外） | AH2: 計画相談支援
N3: ※指定市町村番号 | AF3: 指定障害児相談支援事業所 | AG3: 社会福祉法人（社協） | AH3: 障害児相談支援
A4: 指 定 更 新 申 請 書 | AG4: 医療法人
E5: =IF(OR($N$4=1,$N$4=2,$N$4=3),VLOOKUP($N$4,$AQ$82:$AR$84,2,FALSE),"") | P5: 平成 年 月 日 | AG5: 民法法人（社団・財団）
A6: （申請先） | G6: （申請者） | AG6: 営利法人
A7: 川崎市長 | H7: 所 在 地 | K7: 神奈川県横浜市中区日本大通１ | AG7: 非営利法人（NPO）
AG8: 農協
H9: 名 称 | K9: 社会福祉法人かながわ福祉会 | T9: 印 | AG9: 生協
H10: 代表者氏名 | K10: 理事長 かながわ一郎 | AG10: その他法人
AG11: 地方公共団体（都道府県）
A12: 障害者の日常生活及び社会生活を総合的に支援するための法律に規定する | AG12: 地方公共団体（市町村）
A13: 指定一般相談支援事業所 | H13: に係る指定の更新を受けたいので、 | AG13: 地方公共団体（広域連合・一部事務組合等）
A14: 下記のとおり、関係書類を添えて申請します。 | AG14: 国立施設
A16: 申請者（設置者） | B16: ﾌ ﾘ ｶﾞ ﾅ | F16: ｼｬｶｲﾌｸｼﾎｳｼﾞﾝｶﾅｶﾞﾜﾌｸｼｶｲ | AG16: その他
B17: 名 称 | F17: 社会福祉法人かながわ福祉会
B18: 主たる事務所の 所在地 | F18: 〒 | G18: 2318588 | K18: ←郵便番号を半角数字７桁で入力してください
F19: 神奈川県横浜市中区日本大通１
B21: 連絡先 | F21: 電話番号 | I21: 045-210-1111 | N21: ＦＡＸ番号 | Q21: 045-201-2051
B22: 法人の種類 | F22: 社会福祉法人（社協以外） | N22: 法人所轄庁 | Q22: 神奈川県知事
B23: 代表者 | D23: 役 職 | F23: 理事長
D24: 氏 名 | F24: かながわ一郎
D25: 住 所 | F25: 〒 | G25: 254-**** | K25: ←郵便番号を半角数字７桁で入力してください
F26: 神奈川県平塚市○■町９－△
F27: ○○マンション４０１
A28: 指定更新を受けようとする事業所・施設の種類 | B28: ﾌ ﾘ ｶﾞ ﾅ | F28: ｶﾜｻｷｿｳﾀﾞﾝｼｴﾝｼﾞｷﾞｮｳｼｮ
B29: 名 称 | F29: 川崎相談支援事業所
B30: 事業所（施設） の所在地 | F30: 〒 | G30: 210-**** | K30: ※事業所(施設)所在地市町村番号 | S30: ※級地区分
F31: 川崎市川崎区川崎１－２－３ | S31: 事業所番号
S32: 14********
B33: 事業等の種類 | F33: =A13 -> 指定一般相談支援事業所
F34: 地域移行支援 | L34: 指定年月日 | R34: 付表 | S34: 備考
L35: 41000 | R35: 14
A36: 主たる事業所名称 | F36: 川崎相談支援事業所
A37: 同一の法律において他に 指定を受けている場合 | F37: サービスの種類 | O37: 事業所番号
F38: 事業所名称
A39: 指定有効開始年月日 | F39: 43191 | K39: 指定有効終了年月日 | P39: 43190
A40: ※指定更新申請中区分
A41: ※効力停止開始年月 | K41: ※効力停止終了年月
A42: （備考）
A43: １ 「※」のついた欄には記載しないでください。
A44: ２ 「法人の種類」欄には、「社会福祉法人」「医療法人」「社団法人」 「財団法人」「株式会社」「有限会社」等の別を記載してください。
A45: ３ 「法人所轄庁」欄には、申請者が認可法人である場合に、その主務官庁の名称を記載してください。
A46: ４ 「指定更新を受けようとする事業所・施設の種類」欄には、今回申請をするものについて必要事項を 記載してください。
A47: ５ 「同一の法律において他に指定を受けている場合」欄には、申請する事業所等の指定権者の所管区域内において他に 事業所としての指定を受け、番号が付番されている場合に、その事業所に関する事項を記載してください。複数の番 号を有する場合には、そのうちの一つのみを記載してください。

Sheet 申請書別紙
AA1: （別紙）
G3: 他の法律において既に指定を受けている事業等について
A5: 法律の名称 | G5: サービスの種類 | K5: 事業所・施設名称 | O5: 指定年月日 | T5: 指定事業所番号

Sheet 付表14
A1: 付表14 指定一般相談支援事業所の指定に係る記載事項
AA2: ※受付番号
A4: 事業所 | C4: ﾌﾘｶﾞﾅ
C5: 名 称
C6: 所在地 | I6: 〒 | Q6: ←郵便番号を半角数字７桁で入力してください
C9: 連 絡 先 | I9: 電話番号 | W9: ＦＡＸ番号
A10: 当該事業の実施について定めてある定款・寄付行為等又は条例等
A11: 管理者 | C11: ﾌﾘｶﾞﾅ
C12: 氏 名
C13: 住 所 | I13: 〒 | Q13: ←郵便番号を半角数字７桁で入力してください
C16: 当該一般相談支援事業所における相談支援専門員との兼務の有無 | W16: 2
C17: 同一敷地内の他の事業所又は施設の従業者との兼務（兼務の場合記入） | O17: 事業所等の名称
O18: 事業の種類
O19: 兼務する職種
O20: 勤務時間
A21: 事業開始時の利用者の予定数 | O21: 人
A22: 相談支援専門員 | C22: ﾌﾘｶﾞﾅ
C23: 氏 名
C24: 住 所 | I24: 〒 | Q24: ←郵便番号を半角数字７桁で入力してください
A27: 従業者の職種 ・員数 | C27: (単位：人） | I27: 地域移行支援・地域定着支援に従事する者
I28: 相談支援専門員 | O28: その他の者 | U28: 他の事業所又は 施設の従業者との兼務
I29: 専従 | L29: 兼務 | O29: 専従 | R29: 兼務 | U29: 2
C30: 従業者数 | F30: 常勤 | U30: 2
F31: 非常勤 | Y31: 2
C32: 常勤換算後の人数 | U32: みなし指定 | Y32: 2 | AR32: FALSE
C33: ※基準上の必要人数
A34: 主な掲示事項 | C34: 営業日 | AL34: TRUE
C35: 営業時間 | I35: 平日 | O35: ～ | T35: 土曜 | Z35: ～ | AE35: 備考 | AM35: FALSE | AN35: FALSE | AO35: FALSE | AP35: FALSE
I36: 日曜 | O36: ～ | T36: 祝日 | Z36: ～
C37: 主たる対象者 | AL37: TRUE
C38: 利用料
C39: その他費用
C40: 通常の事業 の実施地域
A44: その他参考となる事項 | C44: 同一敷地内の 事業の実施状況 | I44: 地域相談支援 | W44: 特定相談支援 | AD44: 障害児相談支援
I45: 2 | P45: 2 | W45: 2 | AD45: 2
I46: 2 | P46: 2 | W46: 2 | AD46: 2
C47: 常時の連絡体制の 確保の具体的方法 (地域定着支援のみ) | AD47: 連絡先
I48: 2 | T48: 2
C49: 緊急時一時滞在 (地域定着支援のみ） | I49: 2 | P49: 他事業所への 委託の有無 | T49: 2 | Y49: 委託先
C50: 体験的な宿泊の実施 (地域移行支援のみ） | P50: 他事業所への 委託の有無 | Y50: 委託先
A51: （備考）
A52: １．「※」のついた欄は、記入しないでください。
A53: ２．「主な掲示事項」欄には、その内容を簡潔に記載して下さい。
A54: ３． 当該指定相談支援サービス以外のサービスを実施する場合には、当該指定相談支援サービス部分と
A55: それ以外のサービス部分の料金の状況が分かるような料金表を提出してください。

Sheet 付表14【記載例】
A1: 付表14 指定一般相談支援事業所の指定に係る記載事項
AA2: ※受付番号
A4: 事業所 | C4: ﾌﾘｶﾞﾅ | I4: ｿｳﾀﾞﾝｼｴﾝｼﾞｷﾞｮｳｼｮﾏﾙﾏﾙｶﾜｻｷ
C5: 名 称 | I5: 相談支援事業所○○かわさき
C6: 所在地 | I6: 〒 | K6: 211-※※※※ | Q6: ←郵便番号を半角数字７桁で入力してください
I7: 川崎市中原区上小田中２－○－○
C9: 連 絡 先 | I9: 電話番号 | M9: 044-※※※-※※※※ | W9: ＦＡＸ番号 | AA9: 044-※※※-※※※※
A10: 当該事業の実施について定めてある定款・寄付行為等又は条例等 | W10: 定款第○条第○項
A11: 管理者 | C11: ﾌﾘｶﾞﾅ | I11: ｶﾜｻｷ ﾊﾅｺ
C12: 氏 名 | I12: 川崎 花子
C13: 住 所 | I13: 〒 | K13: 210-※※※※ | Q13: ←郵便番号を半角数字７桁で入力してください
I14: 川崎市川崎区○○町１００番地
C16: 当該一般相談支援事業所における相談支援専門員との兼務の有無 | W16: 2
C17: 同一敷地内の他の事業所又は施設の従業者との兼務（兼務の場合記入） | O17: 事業所等の名称 | W17: 相談支援事業所○○かわさき
O18: 事業の種類 | W18: 計画相談支援
O19: 兼務する職種 | W19: 管理者
O20: 勤務時間 | W20: ２時間／日
A21: 事業開始時の利用者の予定数 | I21: 2 | O21: 人
A22: 相談支援専門員 | C22: ﾌﾘｶﾞﾅ | I22: ｻｲﾜｲ ｲﾁﾛｳ
C23: 氏 名 | I23: 幸 一郎
C24: 住 所 | I24: 〒 | K24: 212-※※※※ | Q24: ←郵便番号を半角数字７桁で入力してください
I25: 川崎市幸区××町１－１－１
A27: 従業者の職種 ・員数 | C27: (単位：人） | I27: 地域移行支援・地域定着支援に従事する者
I28: 相談支援専門員 | O28: その他の者 | U28: 他の事業所又は 施設の従業者との兼務
I29: 専従 | L29: 兼務 | O29: 専従 | R29: 兼務 | U29: 1
C30: 従業者数 | F30: 常勤 | L30: 2 | U30: 2
F31: 非常勤 | Y31: 2
C32: 常勤換算後の人数 | I32: 1 | U32: みなし指定 | Y32: 2 | AR32: FALSE
C33: ※基準上の必要人数
A34: 主な掲示事項 | C34: 営業日 | AL34: TRUE
C35: 営業時間 | I35: 平日 | L35: 08:30 | O35: ～ | Q35: 17:30 | T35: 土曜 | Z35: ～ | AE35: 備考 | AM35: FALSE | AN35: FALSE | AO35: FALSE | AP35: FALSE
I36: 日曜 | O36: ～ | T36: 祝日 | Z36: ～
C37: 主たる対象者 | AL37: TRUE
C38: 利用料 | I38: 運営規程に定める通り
C39: その他費用 | I39: 運営規程に定める通り
C40: 通常の事業 の実施地域
I41: 川崎区 | P41: 幸区 | W41: 横浜市鶴見区
A44: その他参考となる事項 | C44: 同一敷地内の 事業の実施状況 | I44: 地域相談支援 | W44: 特定相談支援 | AD44: 障害児相談支援
I45: 2 | P45: 1 | W45: 1 | AD45: 2
I46: 2 | P46: 2 | W46: 2 | AD46: 2
C47: 常時の連絡体制の 確保の具体的方法 (地域定着支援のみ) | I47: 相談支援専門員に携帯電話を常備させ、電話番号を利用者に通知し、随時連絡が取れるようにする | AD47: 連絡先
I48: 2 | T48: 1 | AD48: 090-@@@@-@@@@
C49: 緊急時一時滞在 (地域定着支援のみ） | I49: 2 | P49: 他事業所への 委託の有無 | T49: 1 | Y49: 委託先 | AB49: 短期入所かわさき
C50: 体験的な宿泊の実施 (地域移行支援のみ） | P50: 他事業所への 委託の有無 | Y50: 委託先 | AB50: 短期入所かわさき
A51: （備考）
A52: １．「※」のついた欄は、記入しないでください。
A53: ２．「主な掲示事項」欄には、その内容を簡潔に記載して下さい。
A54: ３． 当該指定相談支援サービス以外のサービスを実施する場合には、当該指定相談支援サービス部分と
A55: それ以外のサービス部分の料金の状況が分かるような料金表を提出してください。

Sheet 付表別紙
A2: 付表 別紙 | F2: 他の事業所又は施設の従事者と兼務する相談支援専門員について
A5: 他の事業所又は施設の従業者と兼務する相談支援専門員を全て記載してください。 ※記入欄が不足する場合は追加して記入してください。
A6: 1 | C6: 氏 名 | K6: 事業所の名称
C7: フリガナ | K7: 事業の種類 | T7: 兼務する職種
C8: 氏名 | K8: 勤務時間
A9: 2 | C9: 氏 名 | K9: 事業所の名称
C10: フリガナ | K10: 事業の種類 | T10: 兼務する職種
C11: 氏名 | K11: 勤務時間
A12: 3 | C12: 氏 名 | K12: 事業所の名称
C13: フリガナ | K13: 事業の種類 | T13: 兼務する職種
C14: 氏名 | K14: 勤務時間
A15: 4 | C15: 氏 名 | K15: 事業所の名称
C16: フリガナ | K16: 事業の種類 | T16: 兼務する職種
C17: 氏名 | K17: 勤務時間
A18: 5 | C18: 氏 名 | K18: 事業所の名称
C19: フリガナ | K19: 事業の種類 | T19: 兼務する職種
C20: 氏名 | K20: 勤務時間

Sheet 参考様式1
A1: 参考様式１ | E1: 事業所・施設の平面図
B3: 事業所の名称
B7: 建物の名称
B8: 構造概要
B9: 事業所の共用の有無
A36: （備考）１ | B36: 各室、区画の用途及び面積を記載し、他の事業や施設と共用する場合は、その旨を記載し色分けする等わかりやすく表示してください。
A37: （備考）２ | B37: 既製の平面図がある場合にはそれを添付してください。（その場合、Ａ３に縮尺の上、折り込んでください。）
A38: （備考）３ | B38: 事業所の外観及び内部（各室、区画）の写真を添付してください。

Sheet 参考様式3
A1: 参考様式３ | D1: 事業所の設備・備品等一覧表
B4: 事業所の名称 | D4: =IF(参考様式1!D3="","",参考様式1!D3)
B5: サービスの種類
A7: 設備の概要 | C7: 設備基準上適合すべき項目についての状況 | H7: 備品の品名及び数量 | K7: 適合の可否
A9: サービス提供上配慮すべき設備の概要
A37: 非常災害設備等
A59: 備考 １ | B59: 申請するサービスの種類に関して、基準省令で定められた設備基準上適合すべき項目のうち、「居室面積等一覧表」（参考様式２）に記載された項目以外の事項について記載してください。
A60: ２ | B60: 「適合の可否」欄には何も記載しないでください。

Sheet 参考様式4
A1: 参考様式４ | D1: 管 理 者 | H1: 経 歴 書
D2: サービス管理責任者
D3: サービス提供責任者
D4: 相談支援専門員
D5: 指定地域移行支援従事者
D6: 指定地域定着支援従事者
A8: 事業所の名称 | C8: =IF(参考様式1!D3="","",参考様式1!D3)
A9: サービスの種類
A10: （管理者の場合で当該管理者が管理する事業所が複数の場合はその全てを記載してください。）
B11: 事業の名称
B12: サービスの種類
A14: フリガナ | H14: 生年月日
A15: 氏 名
A16: 住 所 | B16: (自宅） | C16: （〒 - ）
A17: 電話番号 | B17: (自宅）
A18: 主な職歴
A19: 期間 | D19: 勤務先 | I19: 職務内容
A29: 職務に関する資格
A30: 資格の種類 | F30: 資格取得年月日
A43: 備考（研修等の受講の状況等）
A54: 備考 | B54: 管理者、サービス管理責任者、サービス提供責任者、相談支援専門員、指定地域移行支援従事者、指定地域定着支援従事者のいずれかを○印で囲ってください。それぞれ別葉で提出してください。

Sheet 参考様式5
A1: （参考様式５）
A2: 実 務 経 験 (見 込) 証 明 書
D5: 川崎市長 | G5: 平成 年 月 日
E7: 所在地
E8: 名称
E9: 代表者氏名 | J9: 印
E10: 電話番号
A12: 下記の者の実務経験は、以下のとおりであることを証明します。
A14: 氏 名 | G14: （生年月日 年 月 日）
A15: 現 住 所
A16: 施設又は事業所名
D17: 施設・事業所の種別（ ）
A18: 業 務 期 間
D19: 年 月 日～ 年 月 日 （ 年 月間）
A20: 上記のうち業務に従事した日数 | D20: 日
A21: 業 務 内 容 | D21: 職名（ ）
A25: （注） | B25: １． | C25: 施設又は事業所名欄には、障害児入所施設等の種別も記入すること。
B26: ２． | C26: 業務期間欄は、実務経験被証明者が要援護者に対する直接的な援助を行っていた期間（見込においては援助を行うと見込まれる期間）を記入すること。（産休・育休・療養休暇や長期研修期間等は業務期間となりません）
B28: ３． | C28: 見込証明でない場合は、表題の（見込）を二重線で消すこと。
B30: ４． | C30: 業務内容欄は、看護師、生活指導員等の職名を記入し、業務内容について、老人デイサービス事業における○○業務、○○実施要綱の○○事業の○○業務等具体的に記入すること。
B32: ５． | C32: 証明内容を訂正する場合は、二重線で消した上、証明者（代表者）の印を押すこと。

Sheet 参考様式6
A1: 参考様式6 | C1: 利用者又はその家族からの苦情を解決するために講ずる措置の概要
A3: 事業所の名称 | C3: =IF(参考様式1!D3="","",参考様式1!D3)
A4: サービスの種類
A6: 措置の概要
A7: 1 | B7: 利用者又はその家族からの相談又は苦情等に対応する常設窓口（連絡先）、担当者
A28: 2 | B28: 円滑かつ迅速に苦情を解決するための処理体制・手順
B42: ※ 具体的な対応方針
A51: 3 | B51: その他参考事項
A64: 備考 | B64: 上記は例示であるので、これに関わらず、適宜項目を追加し、その内容について具体的に記載してください。

Sheet 別紙2-1
AU1: （訪問系サービス・相談支援） | BA1: ▼選択してください。
A2: 別紙2 | BA2: 地域移行支援 | BB2: 常勤・専従
A3: 従業者の勤務の体制及び勤務形態一覧表 | BA3: 地域定着支援 | BB3: 常勤・兼務
BB4: 非常勤・専従
A5: 事業所名 | J5: =IF(参考様式1!D3="","",参考様式1!D3) | BB5: 非常勤・兼務
A6: サービス種類 | J6: ▼選択してください。
A8: 職種 | G8: 勤務 形態 | J8: 氏名 | Q8: 第１週 | X8: 第２週 | AE8: 第３週 | AL8: 第４週 | AS8: 4週の合計 | AV8: 週平均の勤務時間 | AY8: 常勤換算後の人数 | AZ8: 兼務先
O9: 日付 | Q9: 1 | R9: 2 | S9: 3 | T9: 4 | U9: 5 | V9: 6 | W9: 7 | X9: 8 | Y9: 9 | Z9: 10 | AA9: 11 | AB9: 12 | AC9: 13 | AD9: 14 | AE9: 15 | AF9: 16 | AG9: 17 | AH9: 18 | AI9: 19 | AJ9: 20 | AK9: 21 | AL9: 22 | AM9: 23 | AN9: 24 | AO9: 25 | AP9: 26 | AQ9: 27 | AR9: 28
O10: 曜日 | Q10: 月 | R10: 火 | S10: 水 | T10: 木 | U10: 金 | V10: 土 | W10: 日 | X10: 月 | Y10: 火 | Z10: 水 | AA10: 木 | AB10: 金 | AC10: 土 | AD10: 日 | AE10: 月 | AF10: 火 | AG10: 水 | AH10: 木 | AI10: 金 | AJ10: 土 | AK10: 日 | AL10: 月 | AM10: 火 | AN10: 水 | AO10: 木 | AP10: 金 | AQ10: 土 | AR10: 日
O11: 開所日
A12: 管理者 | AS12: =SUM(Q12:AR12) -> 0 | AV12: =AS12/4 -> 0 | AY12: =IF($AS$29="","",ROUNDDOWN(AV12/$AS$29,1))
A13: 相談支援専門員 | AS13: =SUM(Q13:AR13) -> 0 | AV13: =AS13/4 -> 0 | AY13: =IF($AS$29="","",ROUNDDOWN(AV13/$AS$29,1))
AS14: =SUM(Q14:AR14) -> 0 | AV14: =AS14/4 -> 0 | AY14: =IF($AS$29="","",ROUNDDOWN(AV14/$AS$29,1))
AS15: =SUM(Q15:AR15) -> 0 | AV15: =AS15/4 -> 0 | AY15: =IF($AS$29="","",ROUNDDOWN(AV15/$AS$29,1))
AS16: =SUM(Q16:AR16) -> 0 | AV16: =AS16/4 -> 0 | AY16: =IF($AS$29="","",ROUNDDOWN(AV16/$AS$29,1))
AS17: =SUM(Q17:AR17) -> 0 | AV17: =AS17/4 -> 0 | AY17: =IF($AS$29="","",ROUNDDOWN(AV17/$AS$29,1))
AS18: =SUM(Q18:AR18) -> 0 | AV18: =AS18/4 -> 0 | AY18: =IF($AS$29="","",ROUNDDOWN(AV18/$AS$29,1))
AS19: =SUM(Q19:AR19) -> 0 | AV19: =AS19/4 -> 0 | AY19: =IF($AS$29="","",ROUNDDOWN(AV19/$AS$29,1))
AS20: =SUM(Q20:AR20) -> 0 | AV20: =AS20/4 -> 0 | AY20: =IF($AS$29="","",ROUNDDOWN(AV20/$AS$29,1))
AS21: =SUM(Q21:AR21) -> 0 | AV21: =AS21/4 -> 0 | AY21: =IF($AS$29="","",ROUNDDOWN(AV21/$AS$29,1))
AS22: =SUM(Q22:AR22) -> 0 | AV22: =AS22/4 -> 0 | AY22: =IF($AS$29="","",ROUNDDOWN(AV22/$AS$29,1))
AS23: =SUM(Q23:AR23) -> 0 | AV23: =AS23/4 -> 0 | AY23: =IF($AS$29="","",ROUNDDOWN(AV23/$AS$29,1))
AS24: =SUM(Q24:AR24) -> 0 | AV24: =AS24/4 -> 0 | AY24: =IF($AS$29="","",ROUNDDOWN(AV24/$AS$29,1))
AS25: =SUM(Q25:AR25) -> 0 | AV25: =AS25/4 -> 0 | AY25: =IF($AS$29="","",ROUNDDOWN(AV25/$AS$29,1))
... AS27: =SUM(Q27:AR27) -> 0 | AV27: =AS27/4 -> 0 | AY27: =IF($AS$29="","",ROUNDDOWN(AV27/$AS$29,1))
A28: 合計 | Q28: =IF(Q11="","",SUM(Q13:Q27)) | R28: =IF(R11="","",SUM(R13:R27)) | S28: =IF(S11="","",SUM(S13:S27)) | T28: =IF(T11="","",SUM(T13:T27)) | U28: =IF(U11="","",SUM(U13:U27)) | V28: =IF(V11="","",SUM(V13:V27)) | W28: =IF(W11="","",SUM(W13:W27)) | X28: =IF(X11="","",SUM(X13:X27)) | ... AR28: =IF(AR11="","",SUM(AR13:AR27)) | AS28: =SUM(AS13:AU27) -> 0 | AV28: =SUM(AV13:AX27) -> 0 | AY28: =IF(AND(AV28=0,AS29=0),0,ROUNDDOWN(AV28/AS29,1)) -> 0
A29: 当該事業所・施設において常勤職員が1週間に勤務すべき時間数

Sheet 参考様式7
A1: (参考様式７）
D3: 組 織 体 制 図
B5: 事業所の名称 | D5: =IF(参考様式1!D3="","",参考様式1!D3)
B6: サービスの種類
B53: 備考 既存の組織体制図がある場合は、その写し等の添付でかまいません。

Sheet 参考様式8
A1: 参考様式８
A3: 主たる対象とする障害の種類を定める理由
A6: 事業所名 | H6: =IF(参考様式1!D3="","",参考様式1!D3)
A7: サービスの種類
A10: １ 申請に係るサービスの主たる対象者 | M10: ※該当するものを○で囲むこと。
A12: 身体障害者（肢体不自由 ・ 視覚 ・ 聴覚言語 ・ 内部障害）
A13: 知的障害者 ・ 精神障害者 ・ 障害児（ ） ・ 難病患者等
A14: ※ 障害児について障害種別を特定している場合は、括弧内に記載。
A16: ２ 主たる対象者を１のとおり特定する理由
A29: ３ 今後における主たる対象者の拡充の予定
A31: （１）拡充予定の有無
C33: あり | D33: ・ | E33: なし
A35: （２）拡充予定の内容及び予定時期
A39: （３）拡充のための方策

Sheet 参考様式９
A1: （参考様式９）
A2: 指定一般相談支援事業者の指定に係る誓約書
M4: 平成 年 月 日
A5: 川崎市長
H6: 申請者 | J6: 所在地
J7: 名 称
H8: 代表者 | J8: 住 所
J9: 氏 名 | R9: 印
A11: 当法人（別紙に記載する役員等を含む。）は、下記に掲げる障害者の日常生活及び社会生活を総合的に支援するための法律第５１条の１９第２項において準用する同法第３６条第３項（第４号、第１０号及び第１３号を除く。）の規定のいずれにも該当しないことを誓約します。
A15: 記
A18: 【障害者の日常生活及び社会生活を総合的に支援するための法律第３６条第３項（第４号、第１０号及び第１３号を除く。）の読替後の規定】
A20: １ | B20: 申請者が法人でないとき。
A21: ２ | B21: 当該申請に係る一般相談支援事業所（第五十一条の十九第一項に規定する一般相談支援事業所をいう。以下この項において同じ。）の従業者の知識及び技能並びに人員が、第五十一条の二十三第一項の厚生労働省令で定める基準を満たしていないとき。
A23: ３ | B23: 申請者が、第五十一条の二十三第二項の厚生労働省令で定める指定地域相談支援の事業の運営に関する基準に従って適正な一般相談支援事業の運営をすることができないと認められるとき。
A25: ５ | B25: 申請者が、この法律その他国民の保健医療若しくは福祉に関する法律で政令で定めるものの規定により罰金の刑に処せられ、その執行を終わり、又は執行を受けることがなくなるまでの者であるとき。
A27: ６ | B27: 申請者が、第五十条第一項（同条第三項において準用する場合を含む。以下この項において同じ。）又は第五十一条の二十九第一項若しくは第二項の規定により指定を取り消され、その取消しの日から起算して五年を経過しない者（当該指定を取り消された者が法人である場合においては、当該取消しの処分に係る行政手続法（平成五年法律第八十八号）第十五条の規定による通知があった日前六十日以内に当該法人の役員又はその一般相談支援事業所を管理する者その他の政令で定める使用人（以下「役員等」という。）であった者で当該取消しの日から起算して五年を経過しないものを含み、当該指定を取り消された者が法人でない場合においては、当該通知があった日前六十日以内に当該者の管理者であった者で当該取消しの日から起算して五年を経過しないものを含む。）であるとき。ただし、当該指定の取消しが、指定一般相談支援事業者（第五十一条の十四第一項に規定する指定一般相談支援事業者をいう。以下この項において同じ。）の指定の取消しのうち当該指定の取消しの処分の理由となった事実及び当該事実の発生を防止するための当該指定一般相談支援事業者による業務管理体制の整備についての取組の状況その他の当該事実に関して当該指定一般相談支援事業者が有していた責任の程度を考慮して、この号本文に規定する指定の取消しに該当しないこととすることが相当であると認められるものとして厚生労働省令で定めるものに該当する場合を除く。
A35: ７ | B35: 申請者と密接な関係を有する者（申請者（法人に限る。以下この号において同じ。）の株式の所有その他の事由を通じて当該申請者の事業を実質的に支配し、若しくはその事業に重要な影響を与える関係にある者として厚生労働省令で定めるもの（以下この号において「申請者の親会社等」という。）、申請者の親会社等が株式の所有その他の事由を通じてその事業を実質的に支配し、若しくはその事業に重要な影響を与える関係にある者として厚生労働省令で定めるもの又は当該申請者が株式の所有その他の事由を通じてその事業を実質的に支配し、若しくはその事業に重要な影響を与える関係にある者として厚生労働省令で定めるもののうち、当該申請者と厚生労働省令で定める密接な関係を有する法人をいう。）が、第五十条第一項又は第五十一条の二十九第一項若しくは第二項の規定により指定を取り消され、その取消しの日から起算して五年を経過していないとき。ただし、当該指定の取消しが、指定一般相談支援事業者の指定の取消しのうち当該指定の取消しの処分の理由となった事実及び当該事実の発生を防止するための当該指定一般相談支援事業者による業務管理体制の整備についての取組の状況その他の当該事実に関して当該指定一般相談支援事業者が有していた責任の程度を考慮して、この号本文に規定する指定の取消しに該当しないこととすることが相当であると認められるものとして厚生労働省令で定めるものに該当する場合を除く。
A43: ８ | B43: 申請者が、第五十条第一項又は第五十一条の二十九第一項若しくは第二項の規定による指定の取消しの処分に係る行政手続法第十五条の規定による通知があった日から当該処分をする日又は処分をしないことを決定する日までの間に第四十六条第二項又は第五十一条の二十五第二項若しくは第四項の規定による事業の廃止の届出をした者（当該事業の廃止について相当の理由がある者を除く。）で、当該届出の日から起算して五年を経過しないものであるとき。
A46: ９ | B46: 申請者が、第四十八条第一項（同条第三項において準用する場合を含む。）又は第五十一条の二十七第一項若しくは第二項の規定による検査が行われた日から聴聞決定予定日（当該検査の結果に基づき第五十条第一項又は第五十一条の二十九第一項若しくは第二項の規定による指定の取消しの処分に係る聴聞を行うか否かの決定をすることが見込まれる日として厚生労働省令で定めるところにより都道府県知事又は市町村長が当該申請者に当該検査が行われた日から十日以内に特定の日を通知した場合における当該特定の日をいう。）までの間に第四十六条第二項又は第五十一条の二十五第二項若しくは第四項の規定による事業の廃止の届出をした者（当該事業の廃止について相当の理由がある者を除く。）で、当該届出の日から起算して五年を経過しないものであるとき。
A51: 11 | B51: 申請者が、指定の申請前五年以内に相談支援に関し不正又は著しく不当な行為をした者であるとき。
A52: 12 | B52: 申請者が、法人で、その役員等のうちに第五号、第六号、第八号、第九号又は前号のいずれかに該当する者のあるものであるとき。

Sheet 参考様式9別紙
A1: 参考様式9別紙
A2: 役 員 等 名 簿
J4: 申請者（法人）名 | N4: （ | S4: ）
A5: （ふりがな） | E5: 生年月日 | J5: 住 所 | R5: 押印
A6: 氏 名 | E6: 役職名・呼称 | J6: TEL | N6: FAX
A39: 注 | B39: 当該法人の役員（業務を執行する社員、取締役、執行役又はこれらに準ずる者をいい、相談役、顧問その他いかなる名称を有する者であるかを問わず、法人に対し業務を執行する社員、取締役、執行役又はこれらに準ずる者と同等以上の支配力を有するものと認められる者を含む。）及び事業所を管理する者について記入・押印してください。

Sheet 管理者誓約書
A1: 指定一般相談支援事業所管理者誓約書
A5: 「障害者の日常生活を総合的に支援するための法律に基づく指定地域相談支援の事業の人員及び運営に関する基準（平成24年3月13日厚生労働省令第27号）」の規定に従い、運営に関する基準を遵守し、当該指定一般相談支援事業所の管理者の責務を適正に果たすことを誓約します。
A10: 平成 年 月 日
A13: 川崎市長
D16: 事業者名（開設法人名）
D19: 代表者氏名 | I19: 印
D22: 事業所名
D25: 管理者氏名 | I25: 印
A31: 障害者の日常生活及び社会生活を総合的に支援するための法律に基づく指定地域相談支援の事業の人員及び運営に関する基準【抜粋】
A34: （管理者の責務）
A35: 第29条 指定地域移行支援事業所の管理者は、当該指定地域移行支援事業所の職務に従事する者その他 の従業者の管理、指定地域移行支援の利用の申込みに係る調整、業務の実施状況の把握その他の管理 を一元的に行わなければならない。
A38: ２ 指定地域移行支援事業所の管理者は、当該指定地域移行支援事業所の職務に従事する者その他の従 業者にこの章の規定を遵守させるため必要な指揮命令を行うものとする。
A42: ＊第29条は、指定一般相談支援（地域移行支援）について準用されます。
