Workbook
Name ___________kk29: #REF!
Name __________kk06: #REF!
Name __________kk29: #REF!
Name _________kk06: #REF!
Name _________kk29: #REF!
Name ________kk06: #REF!
Name ________kk29: #REF!
Name _______kk06: #REF!
Name _______kk29: #REF!
Name ______kk06: #REF!
Name ______kk29: #REF!
Name _____kk06: #REF!
Name _____kk29: #REF!
Name ____kk06: #REF!
Name ____kk1: #REF!
Name ____kk29: #REF!
Name ___kk06: #REF!
Name ___kk1: #REF!
Name ___kk29: #REF!
Name __kk06: #REF!
Name __kk1: #REF!
Name __kk29: #REF!
Name _kk06: #REF!
Name _kk1: #REF!
Name _kk1: #REF!
Name _kk2: #REF!
Name _kk29: #REF!
Name ▼選択してください。: #REF!
Name ▼選択してください。: #REF!
Name ▼選択してください。: #REF!
Name ②従業者の員数: #REF!
Name aa: #REF!
Name aaaaa: #REF!
Name as: #REF!
Name Avrg: #REF!
Name Avrg: #REF!
Name Avrg: #REF!
Name avrg1: #REF!
Name CSV_サービス情報: #REF!
Name CSV_サービス情報: #REF!
Name CSV_サービス情報: #REF!
Name CSV_口座振込依頼書: #REF!
Name CSV_口座振込依頼書: #REF!
Name CSV_口座振込依頼書: #REF!
Name CSV_施設種別: #REF!
Name CSV_追加情報: #REF!
Name CSV_追加情報: #REF!
Name CSV_追加情報: #REF!
Name CSV_付表１: #REF!
Name CSV_付表１: #REF!
Name CSV_付表１: #REF!
Name CSV_付表１＿１: #REF!
Name CSV_付表１＿１: #REF!
Name CSV_付表１＿２: #REF!
Name CSV_付表１＿２: #REF!
Name CSV_付表１＿２: #REF!
Name CSV_付表１０: #REF!
Name CSV_付表１０: #REF!
Name CSV_付表１０: #REF!
Name CSV_付表１０＿２: #REF!

Sheet 指定申請書確認表【印刷して必ず提出】
A1: 新規指定申請書確認表（障害児通所支援事業所）
J3: 【令和８年４月現在】
A4: 法人名 | E4: 事業所名 | I4: 確認者名 連絡先
A6: 様式名等 | D6: 大項目 | E6: 小項目 | F6: 記載時の留意事項 | K6: 確認欄
A7: まず最初に | D7: 法令遵守 | E7: 事前確認表 | F7: ＜全事業者対象＞ 指定予定日の前々月15日までに提出していますか？
E8: 事業所等に係る情報の公表 | F8: ＜すでに指定を受けている事業所がある場合＞ 児童福祉法（以下「法」という。）第33条の18により、指定障害児事業者等には事業所等に係る情報の公表が義務付けられています。ＷＡＭ-ＮＥＴの「障害福祉サービス等情報検索」ですでに指定を受けている全ての事業所の直近の情報を公表していますか？
E9: 業務管理体制の届出 | F9: ＜すでに指定を受けている事業所がある場合＞ 法第21条の５の26及び第24条の19の２により、指定障害児事業者等は業務管理体制の整備に関する事項の届出が義務付けられています。直近の内容で届け出ていることを確認しましたか？
A10: 様式第１号 指定申請書 | F10: 日付けは提出日になっていますか？
D11: 申請者（設置者） | E11: 名称及び主たる事務所の所在地 | F11: 法人の名称・所在地は「履歴事項全部証明書」の表記と同様になっていますか？（数字やハイフンは全角となっていますか）
D12: 指定を受けようとする事業所・施設の種類 | E12: 名称及び事業所（施設）の所在地 | F12: 事業所の名称及び住所は「運営規程」の表記と同様になっていますか？（数字やハイフンは全角となっていますか）郵便番号はハイフン無しの半角７桁で記入していますか？
E13: 主たる事業所名称 | F13: 主たる事業所名称は記載されていますか？ ※多機能型事業所の場合、主たる事業所に統一してください。
A14: 付表 | D14: 管理者・児童発達支援管理責任者 | F14: 管理者・児童発達支援管理責任者の氏名や住所は参考様式４の「経歴書」と相違ないですか？
D15: 設備 | F15: 最大定員＝定員 1人あたりの最小床面積＝指導訓練室の面積／定員（小数点第二位以下を切り捨て）
D16: 主な掲示事項 | E16: 営業日 | F16: 営業日は「運営規程」と相違ないですか？
E17: 利用定員 | F17: 記載もれはありませんか？
E18: 通常の事業の実施地域 | F18: 通常の事業の実施地域は「運営規定」と相違ないですか？
E19: 協力医療機関 | F19: 名称及び診療科名は、参考様式10の内容と相違ないですか？（機関名は正式な名称を記載していますか）
A20: 別紙２（その１）多機能型の場合 | D20: サービス種類 | F20: 児童発達支援→61 居宅訪問型児童発達支援→65 放課後等デイサービス→63 保育所等訪問支援→64 サービスコード（数字）で記載をしていますか
D21: 申請に係る事業所 | F21: 申請する事業所についての記載となっていますか？
D22: 多機能型の他の事業所 | F22: 当該事業所以外の多機能型としての事業所について記載していますか？
D23: 管理者・児童発達支援管理責任者 | F23: 管理者・児童発達支援管理責任者の氏名や住所等は記載されていますか？
D24: 主たる対象とする障害の種別 | F24: 運営規程の記載と相違ないですか？ 対象の障害に「１」を記載ください（〇ではなく）
A25: 別紙２（その２）多機能型の場合 | D25: 従業者の職種・員数 | F25: 多機能型として実施する全ての従業員の合計値を記載していますか？
F26: 従業者の職種で記載されている以外の従業員が配置されている場合、空欄に記載していますか？
A27: 口座振込（変更）依頼書 | D27: 振込先 | F27: 振込先は正確に記載されていますか（通帳の写し等と突合）？
D28: 委任状 | F28: 申請者と口座名義人が異なる場合は、申請者による委任を行っていますか？ ※異なる場合だけ右欄にチェックしてください。
A29: 定款、登記簿謄本 | D29: ※営利法人や特定非営利活動法人の場合 | F29: 「目的」又は「事業」に、「児童福祉法に基づく障害児通所支援事業」が明記されていますか？
D30: 登記事項証明（履歴事項全部証明書） | F30: 履歴事項全部証明書の原本は用意されていますか？ ※複数事業所を同時申請をする場合は、原本は１部で差支えありませんが、他の申請書には写しを必ず添付してください。
F31: 履歴事項全部証明書の原本は面接日から３か月以内のものになっていますか？
D32: ※法人等で申請までに定款又は寄付行為の変更手続きが終了していない場合 | F32: 変更認可前の定款等及び登記簿謄本（写しでも可）に加えて、当該事業を行う旨の内容が確認できる書類（理事会議事録等）は添付されていますか？
A33: 運営規程 ※右欄の大項目に記載の第○条は「運営規程（作成例）」に合わせているため、異なる場合があります。 | D33: 運営規程の確認① | F33: ウェブサイト「障害福祉情報サービスかながわ」の中にある「運営規程（作成例）」は参考にしましたか？
D34: 運営規程の確認② | F34: 「運営規程（作成例）」は最新のものを確認されましたか？
D35: 第３条（事業所の名称等） | F35: 「付表」の「名称」と「所在地」は相違ないですか？
D36: 第４条（従業者の職種、員数及び職務内容） | F36: 従業員の員数は「勤務形態一覧表」共に相違ないですか？
D37: 第５条（営業日及び営業時間等） | E37: 営業日 | F37: 営業日は「付表」と「勤務形態一覧表」共に相違ないですか？ ※行事等で営業日以外の日で営業を行う場合は、その旨も記載してください。
E38: 営業時間 | F38: 営業時間は「付表」と相違ないですか？
D39: 第５条（営業日及び営業時間等） | E39: 年間の休日 | F39: 当該事業所の基本の休日を記載していますか？ 例：土、日、祝日、年末年始（12月30日～１月３日） ※年間の休日について、「その他事業所が定める休日」としている場合は、当該事業所の年間スケジュール計画も添付してください。
D40: 第7条（主たる対象者） | F40: 「付表」及び「参考様式８（主たる対象を特定する理由等）」の「主たる対象者」と相違ないですか？
D41: 第10条（通常の事業の実施地域） | F41: 「付表」の「通常の事業の実施地域」と相違ないですか？ ※「周辺」「近隣」「一部」等地域があいまいな記載は不可となります。 ※神奈川県全域としている場合は訪問・送迎が可能か法人で再度確認をお願いします。
D42: 第14条（苦情解決） | F42: 項目の一つは「都道府県知事が行う報告若しくは～」の記載になっていますか？
...

Sheet 口座振込依頼書
A1: 口座振込（変更）依頼書（兼 受領委任状）
A4: 神奈川県国民健康保険団体連合会理事長 殿
A6: 以下の口座に，次に掲げる介護給付費等の振込を依頼します。
U8: 令和 | AA8: 年 | AG8: 月 | AM8: 日
A11: 申請者（債権者） | C11: 法人名称 ( 開 設 者 ) | AG11: 届出印
C13: 郵便番号 | I13: 〒 | N13: -
C14: 事業所 所在地
C18: 代表者氏名
C20: 事業所名称
C22: 事業所番号
C24: 対象事業名
A27: 送付先 | C27: 郵便番号 | I27: 〒 | K27: =IF(#REF!="","",LEFT(#REF!,3)) -> #REF! | N27: - | O27: =IF(#REF!="","",RIGHT(#REF!,4)) -> #REF!
C28: 送付先住所 | I28: =IF(#REF!="","",#REF!) -> #REF!
I30: =IF(#REF!="","",#REF!) -> #REF!
C32: 宛名 | I32: =IF(#REF!="","",#REF!) -> #REF!
C34: 電話番号 | I34: =IF(#REF!="","",#REF!) -> #REF! | L34: =IF(I34="","","-") -> #REF! | M34: =IF(#REF!="","",#REF!) -> #REF! | P34: =IF(M34="","","-") -> #REF! | Q34: =IF(#REF!="","",#REF!) -> #REF!
A37: 振込先 | C37: 金融機関名 | Y37: 金 融 機 関 コ ー ド
C39: 支店名 | Y39: 支 店 コ ー ド
C41: 口座番号 | W41: 預金種目 | AC41: 1
C43: 口座名義人 | E43: ﾌﾘｶﾞﾅ
E45: 氏名
A49: 受領委任状
C50: 申請者（債権者）は，口座名義人（受任者）に，上記介護給付費等の受領に関する一切の権限を
C51: 委任します。
C52: =U8 -> 令和 | F52: =IF(X8<>"",X8,"") | I52: 年 | J52: =IF(AD8<>"",AD8,"") | M52: 月 | N52: =IF(AJ8<>"",AJ8,"") | Q52: 日
C54: 委任者 | I54: =IF(I18<>"",I18,"") | AK54: 印
I57: ※振込エラー防止のためどちらか一方にチェックをお願いします。
E58: 取扱金融機関の確認を以下に明記します。 | V58: ２枚目に通帳のコピーを添付します。
A60: 金 融 機 関 記 載 欄
I61: 上記口座が存在することを確認しました。
K63: 金融機関名
K65: 確認年月日 | AH65: ㊞
A69: 【振込先金融機関 通帳の写し添付様式】
U72: =$U$8 -> 令和 | AA72: 年 | AG72: 月 | AM72: 日
E75: 事業所名
E81: ※振込先金融機関の通帳の表面の名義人名の写し
D98: こちらに通帳の表面の写しを貼ってください。
E106: ※振込先金融機関の通帳の名義人名カタカナの写し
E123: こちらにカタカナ部分の写しを貼ってください。
T169: 指定年月日

Sheet 別紙１
V1: （別紙）
C3: 同一法人において既に指定を受けている事業等について | O3: 法人名
A5: 法律 | C5: サービスの種類 | G5: 事業所・施設名称 | N5: 指定年月日 | S5: 指定事業所番号
A7: 児童福祉法
A16: 障害者総合支援法
A25: 介護保険法

Sheet 別紙２（その１）
A1: 別紙２（その１）
C2: 障害児通所支援事業所に係る多機能型による
C3: 事業を実施する場合の記載事項(総括表) その１
V4: ※多機能型事業実施時は各付表とこの表を併せて提出してください。
AA5: ※受付番号
A7: 申請に係る事業所 | C7: サービス種類 | F7: フリガナ
F8: 名 称
F9: 所在地 | I9: 〒 | Q9: ←郵便番号を半角数字７桁で入力してください
F12: 連 絡 先 | I12: 電話番号 | W12: ＦＡＸ番号
A13: （注）多機能型による他の事業所については、下欄に記載すること。
A14: 多機能型の他の事業所Ⅰ | C14: サービス種類 | F14: フリガナ
F15: 名 称
F16: 所在地 | I16: 〒 | Q16: ←郵便番号を半角数字７桁で入力してください | W16: 0
F19: 連 絡 先 | I19: 電話番号 | W19: ＦＡＸ番号
A20: 多機能型の他の事業所Ⅱ | C20: サービス種類 | F20: フリガナ
F21: 名 称
F22: 所在地 | I22: 〒 | Q22: ←郵便番号を半角数字７桁で入力してください
F25: 連 絡 先 | I25: 電話番号 | W25: ＦＡＸ番号
A26: 多機能型の他の事業所Ⅲ | C26: サービス種類 | F26: フリガナ
F27: 名 称
F28: 所在地 | I28: 〒 | Q28: ←郵便番号を半角数字７桁で入力してください
F31: 連 絡 先 | I31: 電話番号 | W31: ＦＡＸ番号
A32: 多機能型の他の事業所Ⅳ | C32: サービス種類 | F32: フリガナ
F33: 名 称
F34: 所在地 | I34: 〒 | Q34: ←郵便番号を半角数字７桁で入力してください
F37: 連 絡 先 | I37: 電話番号 | W37: ＦＡＸ番号
A38: 管理者 | C38: ﾌﾘｶﾞﾅ
C39: 氏 名
C40: 住 所 | I40: 〒 | Q40: ←郵便番号を半角数字７桁で入力してください
C43: 他の事業所又は施設の従業者との兼務（兼務の場合記入） | O43: 事業所等の名称
O44: 兼務する職種
O45: 勤務時間
A46: 児童発達支援管理責任者 | C46: ﾌﾘｶﾞﾅ
C47: 氏 名
C48: 住 所 | I48: 〒 | Q48: ←郵便番号を半角数字７桁で入力してください
A51: 主たる対象とする障害の種類 | I51: 無し | M51: 知的 | Q51: 身体 | U51: 重心 | Y51: 難聴 | AC51: 盲ろうあ
A54: 実施事業 | M54: 児童発達支援 | Q54: 放課後等デイ | U54: 居宅訪問型児童発達支援 | Y54: 保育所等訪問支援
I56: 単位の有無 | M56: 2 | Q56: 2
A57: 定員 | D57: 合計 | I57: 単位①
I58: 単位②
...

Sheet 別紙（その２）
A1: 別紙２（その２）
Q4: ※多機能型事業実施時は各付表とこの表を併せて提出してください。
AA5: ※受付番号
A7: 従 業 者 の 職 種 ・ 員 数
G8: 児童発達支援管理責任者 | K8: 医師 （嘱託医含む） | O8: 看護師 | S8: 児童指導員 | W8: 保育士 | AA8: 指導員
G10: 専従 | I10: ※兼務 | K10: 専従 | M10: ※兼務 | O10: 専従 | Q10: ※兼務 | S10: 専従 | U10: ※兼務 | W10: 専従 | Y10: ※兼務 | AA10: 専従 | AC10: ※兼務
A11: 合計 | B11: 従業者数 | D11: 常勤（人）
D12: 非常勤（人）
B13: 常勤換算後の人数（人）
B14: 基準上の必要人数（人）
G15: 理学療法士又は作業療法士 | K15: 言語聴覚士 | O15: 機能訓練担当職員 | S15: 訪問支援員 | W15: 栄養士 | AA15: 調理員
G17: 専従 | I17: ※兼務 | K17: 専従 | M17: ※兼務 | O17: 専従 | Q17: ※兼務 | S17: 専従 | U17: ※兼務 | W17: 専従 | Y17: ※兼務 | AA17: 専従 | AC17: ※兼務
A18: 合計 | B18: 従業者数 | D18: 常勤（人）
D19: 非常勤（人）
B20: 常勤換算後の人数（人）
B21: 基準上の必要人数（人）
G24: 専従 | I24: ※兼務 | K24: 専従 | M24: ※兼務 | O24: 専従 | Q24: ※兼務 | S24: 専従 | U24: ※兼務 | W24: 専従 | Y24: ※兼務 | AA24: 専従 | AC24: ※兼務
A25: 合計 | B25: 従業者数 | D25: 常勤（人）
D26: 非常勤（人）
B27: 常勤換算後の人数（人）
B28: 基準上の必要人数（人）
A29: （備考）
A30: １．「受付番号」「基準上の必要人数」欄には、記載しないでください。
A31: ２．記入欄が不足する場合は、適宜欄を設けて記載するか又は別葉に記載した書類を添付してください。

Sheet 勤務形態一覧表（児童発達支援・放課後デイサービス）
A1: 従業者の勤務の体制及び勤務形態一覧表 | AI1: サービス種別 | AK1: 児童発達支援・放課後等デイサービス
M2: 2024 | Q2: 年 | S2: 4 | U2: 月 | AI2: 事業所名
AI3: (1)記載する期間 | AK3: ４週
AI4: (2)予定/実績の別
AI5: (2)-2 定員
AG6: (3)事業所における常勤の従業者が勤務すべき時間数 | AK6: 時間/週 | AM6: 時間/月
A8: No. | B8: (4)職種 | C8: (5)勤務形態 | D8: (6)資格 | E8: (7)氏名 | F8: (8) | AK8: (9)勤務時間数合計 | AL8: (10)週平均の勤務時間数 | AM8: (11)兼務状況 （兼務先／兼務する職務の内容）等
F9: 第１週 | M9: 第２週 | T9: 第３週 | AA9: 第４週 | AH9: 第５週
B10: ※選択肢にない職種については直接入力してください | F10: =DATE($M$2,$S$2,1) -> 45383 | G10: =DATE($M$2,$S$2,2) -> 45384 | H10: =DATE($M$2,$S$2,3) -> 45385 | I10: =DATE($M$2,$S$2,4) -> 45386 | J10: =DATE($M$2,$S$2,5) -> 45387 | K10: =DATE($M$2,$S$2,6) -> 45388 | L10: =DATE($M$2,$S$2,7) -> 45389 | M10: =DATE($M$2,$S$2,8) -> 45390 | N10: =DATE($M$2,$S$2,9) -> 45391 | O10: =DATE($M$2,$S$2,10) -> 45392 | P10: =DATE($M$2,$S$2,11) -> 45393 | Q10: =DATE($M$2,$S$2,12) -> 45394 | R10: =DATE($M$2,$S$2,13) -> 45395 | S10: =DATE($M$2,$S$2,14) -> 45396 | T10: =DATE($M$2,$S$2,15) -> 45397 | U10: =DATE($M$2,$S$2,16) -> 45398 | V10: =DATE($M$2,$S$2,17) -> 45399 | W10: =DATE($M$2,$S$2,18) -> 45400 | X10: =DATE($M$2,$S$2,19) -> 45401 | Y10: =DATE($M$2,$S$2,20) -> 45402 | Z10: =DATE($M$2,$S$2,21) -> 45403 | AA10: =DATE($M$2,$S$2,22) -> 45404 | AB10: =DATE($M$2,$S$2,23) -> 45405 | AC10: =DATE($M$2,$S$2,24) -> 45406 | AD10: =DATE($M$2,$S$2,25) -> 45407 | AE10: =DATE($M$2,$S$2,26) -> 45408 | AF10: =DATE($M$2,$S$2,27) -> 45409 | AG10: =DATE($M$2,$S$2,28) -> 45410 | AH10: =IF(DAY(EOMONTH(F10,0))<29,"",DATE($M$2,$S$2,29)) -> 45411 | AI10: =IF(DAY(EOMONTH(F10,0))<30,"",DATE($M$2,$S$2,30)) -> 45412 | AJ10: =IF(DAY(EOMONTH(F10,0))<31,"",DATE($M$2,$S$2,31))
F11: =DATE($M$2,$S$2,1) -> 45383 | G11: =DATE($M$2,$S$2,2) -> 45384 | H11: =DATE($M$2,$S$2,3) -> 45385 | I11: =DATE($M$2,$S$2,4) -> 45386 | J11: =DATE($M$2,$S$2,5) -> 45387 | K11: =DATE($M$2,$S$2,6) -> 45388 | L11: =DATE($M$2,$S$2,7) -> 45389 | M11: =DATE($M$2,$S$2,8) -> 45390 | N11: =DATE($M$2,$S$2,9) -> 45391 | O11: =DATE($M$2,$S$2,10) -> 45392 | P11: =DATE($M$2,$S$2,11) -> 45393 | Q11: =DATE($M$2,$S$2,12) -> 45394 | R11: =DATE($M$2,$S$2,13) -> 45395 | S11: =DATE($M$2,$S$2,14) -> 45396 | T11: =DATE($M$2,$S$2,15) -> 45397 | U11: =DATE($M$2,$S$2,16) -> 45398 | V11: =DATE($M$2,$S$2,17) -> 45399 | W11: =DATE($M$2,$S$2,18) -> 45400 | X11: =DATE($M$2,$S$2,19) -> 45401 | Y11: =DATE($M$2,$S$2,20) -> 45402 | Z11: =DATE($M$2,$S$2,21) -> 45403 | AA11: =DATE($M$2,$S$2,22) -> 45404 | AB11: =DATE($M$2,$S$2,23) -> 45405 | AC11: =DATE($M$2,$S$2,24) -> 45406 | AD11: =DATE($M$2,$S$2,25) -> 45407 | AE11: =DATE($M$2,$S$2,26) -> 45408 | AF11: =DATE($M$2,$S$2,27) -> 45409 | AG11: =DATE($M$2,$S$2,28) -> 45410 | AH11: =IF(DAY(EOMONTH(F11,0))<29,"",DATE($M$2,$S$2,29)) -> 45411 | AI11: =IF(DAY(EOMONTH(F11,0))<30,"",DATE($M$2,$S$2,30)) -> 45412 | AJ11: =IF(DAY(EOMONTH(F11,0))<31,"",DATE($M$2,$S$2,31))
A12: 1 | B12: 管理者 | C12: A | E12: A | AK12: =+SUM(F12:AJ12) -> 0 | AL12: =IF($AK$3="４週",AK12/4,AK12/(DAY(EOMONTH($F$10,0))/7)) -> 0 | AO12: =IF(B12="","",IF(ISERROR(MATCH(B12,$C$39:$AM$39,0)),"その他職員",B12)) -> 管理者
A13: 2 | B13: 児童発達支援管理責任者 | C13: B | E13: B | AK13: =+SUM(F13:AJ13) -> 0 | AL13: =IF($AK$3="４週",AK13/4,AK13/(DAY(EOMONTH($F$10,0))/7)) -> 0 | AO13: =IF(B13="","",IF(ISERROR(MATCH(B13,$C$39:$AM$39,0)),"その他職員",B13)) -> 児童発達支援管理責任者
A14: 3 | B14: 児童指導員 | C14: C | E14: C | AK14: =+SUM(F14:AJ14) -> 0 | AL14: =IF($AK$3="４週",AK14/4,AK14/(DAY(EOMONTH($F$10,0))/7)) -> 0 | AO14: =IF(B14="","",IF(ISERROR(MATCH(B14,$C$39:$AM$39,0)),"その他職員",B14)) -> 児童指導員
A15: 4 | B15: 保育士 | C15: D | E15: D | AK15: =+SUM(F15:AJ15) -> 0 | AL15: =IF($AK$3="４週",AK15/4,AK15/(DAY(EOMONTH($F$10,0))/7)) -> 0 | AO15: =IF(B15="","",IF(ISERROR(MATCH(B15,$C$39:$AM$39,0)),"その他職員",B15)) -> 保育士
A16: 5 | B16: その他職員 | C16: A | E16: E | AK16: =+SUM(F16:AJ16) -> 0 | AL16: =IF($AK$3="４週",AK16/4,AK16/(DAY(EOMONTH($F$10,0))/7)) -> 0 | AO16: =IF(B16="","",IF(ISERROR(MATCH(B16,$C$39:$AM$39,0)),"その他職員",B16)) -> その他職員
A17: 6 | AK17: =+SUM(F17:AJ17) -> 0 | AL17: =IF($AK$3="４週",AK17/4,AK17/(DAY(EOMONTH($F$10,0))/7)) -> 0 | AO17: =IF(B17="","",IF(ISERROR(MATCH(B17,$C$39:$AM$39,0)),"その他職員",B17))
A18: 7 | AK18: =+SUM(F18:AJ18) -> 0 | AL18: =IF($AK$3="４週",AK18/4,AK18/(DAY(EOMONTH($F$10,0))/7)) -> 0 | AO18: =IF(B18="","",IF(ISERROR(MATCH(B18,$C$39:$AM$39,0)),"その他職員",B18))
A19: 8 | AK19: =+SUM(F19:AJ19) -> 0 | AL19: =IF($AK$3="４週",AK19/4,AK19/(DAY(EOMONTH($F$10,0))/7)) -> 0 | AO19: =IF(B19="","",IF(ISERROR(MATCH(B19,$C$39:$AM$39,0)),"その他職員",B19))
A20: 9 | AK20: =+SUM(F20:AJ20) -> 0 | AL20: =IF($AK$3="４週",AK20/4,AK20/(DAY(EOMONTH($F$10,0))/7)) -> 0 | AO20: =IF(B20="","",IF(ISERROR(MATCH(B20,$C$39:$AM$39,0)),"その他職員",B20))
A21: 10 | AK21: =+SUM(F21:AJ21) -> 0 | AL21: =IF($AK$3="４週",AK21/4,AK21/(DAY(EOMONTH($F$10,0))/7)) -> 0 | AO21: =IF(B21="","",IF(ISERROR(MATCH(B21,$C$39:$AM$39,0)),"その他職員",B21))
A22: 11 | AK22: =+SUM(F22:AJ22) -> 0 | AL22: =IF($AK$3="４週",AK22/4,AK22/(DAY(EOMONTH($F$10,0))/7)) -> 0 | AO22: =IF(B22="","",IF(ISERROR(MATCH(B22,$C$39:$AM$39,0)),"その他職員",B22))
A23: 12 | AK23: =+SUM(F23:AJ23) -> 0 | AL23: =IF($AK$3="４週",AK23/4,AK23/(DAY(EOMONTH($F$10,0))/7)) -> 0 | AO23: =IF(B23="","",IF(ISERROR(MATCH(B23,$C$39:$AM$39,0)),"その他職員",B23))
A24: 13 | AK24: =+SUM(F24:AJ24) -> 0 | AL24: =IF($AK$3="４週",AK24/4,AK24/(DAY(EOMONTH($F$10,0))/7)) -> 0 | AO24: =IF(B24="","",IF(ISERROR(MATCH(B24,$C$39:$AM$39,0)),"その他職員",B24))
A25: 14 | AK25: =+SUM(F25:AJ25) -> 0 | AL25: =IF($AK$3="４週",AK25/4,AK25/(DAY(EOMONTH($F$10,0))/7)) -> 0 | AO25: =IF(B25="","",IF(ISERROR(MATCH(B25,$C$39:$AM$39,0)),"その他職員",B25))
A26: 15 | AK26: =+SUM(F26:AJ26) -> 0 | AL26: =IF($AK$3="４週",AK26/4,AK26/(DAY(EOMONTH($F$10,0))/7)) -> 0 | AO26: =IF(B26="","",IF(ISERROR(MATCH(B26,$C$39:$AM$39,0)),"その他職員",B26))
A27: 16 | AK27: =+SUM(F27:AJ27) -> 0 | AL27: =IF($AK$3="４週",AK27/4,AK27/(DAY(EOMONTH($F$10,0))/7)) -> 0 | AO27: =IF(B27="","",IF(ISERROR(MATCH(B27,$C$39:$AM$39,0)),"その他職員",B27))
A28: 17 | AK28: =+SUM(F28:AJ28) -> 0 | AL28: =IF($AK$3="４週",AK28/4,AK28/(DAY(EOMONTH($F$10,0))/7)) -> 0 | AO28: =IF(B28="","",IF(ISERROR(MATCH(B28,$C$39:$AM$39,0)),"その他職員",B28))
... A31: 20 | AK31: =+SUM(F31:AJ31) -> 0 | AL31: =IF($AK$3="４週",AK31/4,AK31/(DAY(EOMONTH($F$10,0))/7)) -> 0 | AO31: =IF(B31="","",IF(ISERROR(MATCH(B31,$C$39:$AM$39,0)),"その他職員",B31))
A32: 合計 | F32: =+SUM(F12:F31) -> 0 | G32: =+SUM(G12:G31) -> 0 | H32: =+SUM(H12:H31) -> 0 | I32: =+SUM(I12:I31) -> 0 | J32: =+SUM(J12:J31) -> 0 | K32: =+SUM(K12:K31) -> 0 | L32: =+SUM(L12:L31) -> 0 | M32: =+SUM(M12:M31) -> 0 | ... AJ32: =+SUM(AJ12:AJ31) -> 0 | AK32: =+SUM(F32:AJ32) -> 0 | AL32: =IF($AK$3="４週",AK32/4,AK32/(DAY(EOMONTH($F$10,0))/7)) -> 0
A33: サービス提供時間
A38: ＜人員基準に関する実人数集計＞ ※手入力いただいたものはすべて「その他職員」にまとめられます。
C39: =IF(VLOOKUP($AK$1,[5]選択肢!$A$1:$J$32,C44,FALSE)=0,"-",VLOOKUP($AK$1,[5]選択肢!$A$1:$J$32,C44,FALSE)) -> 管理者 | E39: =IF(VLOOKUP($AK$1,[5]選択肢!$A$1:$J$32,E44,FALSE)=0,"-",VLOOKUP($AK$1,[5]選択肢!$A$1:$J$32,E44,FALSE)) -> 児童発達支援管理責任者 | I39: =IF(VLOOKUP($AK$1,[5]選択肢!$A$1:$J$32,I44,FALSE)=0,"-",VLOOKUP($AK$1,[5]選択肢!$A$1:$J$32,I44,FALSE)) -> 児童指導員 | O39: =IF(VLOOKUP($AK$1,[5]選択肢!$A$1:$J$32,O44,FALSE)=0,"-",VLOOKUP($AK$1,[5]選択肢!$A$1:$J$32,O44,FALSE)) -> 保育士 | U39: =IF(VLOOKUP($AK$1,[5]選択肢!$A$1:$J$32,U44,FALSE)=0,"-",VLOOKUP($AK$1,[5]選択肢!$A$1:$J$32,U44,FALSE)) -> 機能訓練担当職員 | AA39: =IF(VLOOKUP($AK$1,[5]選択肢!$A$1:$J$32,AA44,FALSE)=0,"-",VLOOKUP($AK$1,[5]選択肢!$A$1:$J$32,AA44,FALSE)) -> 看護職員 | AG39: =IF(VLOOKUP($AK$1,[5]選択肢!$A$1:$J$32,AG44,FALSE)=0,"-",VLOOKUP($AK$1,[5]選択肢!$A$1:$J$32,AG44,FALSE)) -> その他職員 | AL39: =IF(VLOOKUP($AK$1,[5]選択肢!$A$1:$J$32,AL44,FALSE)=0,"-",VLOOKUP($AK$1,[5]選択肢!$A$1:$J$32,AL44,FALSE)) -> -
C40: 専従 | D40: 兼務 | E40: 専従 | F40: 兼務 | I40: 専従 | L40: 兼務 | O40: 専従 | R40: 兼務 | U40: 専従 | X40: 兼務 | AA40: 専従 | AD40: 兼務 | AG40: 専従 | AJ40: 兼務 | AL40: 専従 | AM40: 兼務
B41: 常勤 | C41: =COUNTIFS($AO$12:$AO$31,C$39,$C$12:$C$31,"A",$E$12:$E$31,"*") -> 1 | D41: =COUNTIFS($AO$12:$AO$31,C$39,$C$12:$C$31,"B",$E$12:$E$31,"*") -> 0 | E41: =COUNTIFS($AO$12:$AO$31,E$39,$C$12:$C$31,"A",$E$12:$E$31,"*") -> 0 | F41: =COUNTIFS($AO$12:$AO$31,E$39,$C$12:$C$31,"B",$E$12:$E$31,"*") -> 1 | I41: =COUNTIFS($AO$12:$AO$31,I$39,$C$12:$C$31,"A",$E$12:$E$31,"*") -> 0 | L41: =COUNTIFS($AO$12:$AO$31,I$39,$C$12:$C$31,"B",$E$12:$E$31,"*") -> 0 | O41: =COUNTIFS($AO$12:$AO$31,O$39,$C$12:$C$31,"A",$E$12:$E$31,"*") -> 0 | R41: =COUNTIFS($AO$12:$AO$31,O$39,$C$12:$C$31,"B",$E$12:$E$31,"*") -> 0 | U41: =COUNTIFS($AO$12:$AO$31,U$39,$C$12:$C$31,"A",$E$12:$E$31,"*") -> 0 | X41: =COUNTIFS($AO$12:$AO$31,U$39,$C$12:$C$31,"B",$E$12:$E$31,"*") -> 0 | AA41: =COUNTIFS($AO$12:$AO$31,AA$39,$C$12:$C$31,"A",$E$12:$E$31,"*") -> 0 | AD41: =COUNTIFS($AO$12:$AO$31,AA$39,$C$12:$C$31,"B",$E$12:$E$31,"*") -> 0 | AG41: =COUNTIFS($AO$12:$AO$31,AG$39,$C$12:$C$31,"A",$E$12:$E$31,"*") -> 1 | AJ41: =COUNTIFS($AO$12:$AO$31,AG$39,$C$12:$C$31,"B",$E$12:$E$31,"*") -> 0 | AL41: =COUNTIFS($AO$12:$AO$31,AL$39,$C$12:$C$31,"A",$E$12:$E$31,"*") -> 0 | AM41: =COUNTIFS($AO$12:$AO$31,AL$39,$C$12:$C$31,"B",$E$12:$E$31,"*") -> 0
B42: 非常勤 | C42: =COUNTIFS($AO$12:$AO$31,C$39,$C$12:$C$31,"C",$E$12:$E$31,"*") -> 0 | D42: =COUNTIFS($AO$12:$AO$31,C$39,$C$12:$C$31,"D",$E$12:$E$31,"*") -> 0 | E42: =COUNTIFS($AO$12:$AO$31,E$39,$C$12:$C$31,"C",$E$12:$E$31,"*") -> 0 | F42: =COUNTIFS($AO$12:$AO$31,E$39,$C$12:$C$31,"D",$E$12:$E$31,"*") -> 0 | I42: =COUNTIFS($AO$12:$AO$31,I$39,$C$12:$C$31,"C",$E$12:$E$31,"*") -> 1 | L42: =COUNTIFS($AO$12:$AO$31,I$39,$C$12:$C$31,"D",$E$12:$E$31,"*") -> 0 | O42: =COUNTIFS($AO$12:$AO$31,O$39,$C$12:$C$31,"C",$E$12:$E$31,"*") -> 0 | R42: =COUNTIFS($AO$12:$AO$31,O$39,$C$12:$C$31,"D",$E$12:$E$31,"*") -> 1 | U42: =COUNTIFS($AO$12:$AO$31,U$39,$C$12:$C$31,"C",$E$12:$E$31,"*") -> 0 | X42: =COUNTIFS($AO$12:$AO$31,U$39,$C$12:$C$31,"D",$E$12:$E$31,"*") -> 0 | AA42: =COUNTIFS($AO$12:$AO$31,AA$39,$C$12:$C$31,"C",$E$12:$E$31,"*") -> 0 | AD42: =COUNTIFS($AO$12:$AO$31,AA$39,$C$12:$C$31,"D",$E$12:$E$31,"*") -> 0 | AG42: =COUNTIFS($AO$12:$AO$31,AG$39,$C$12:$C$31,"C",$E$12:$E$31,"*") -> 0 | AJ42: =COUNTIFS($AO$12:$AO$31,AG$39,$C$12:$C$31,"D",$E$12:$E$31,"*") -> 0 | AL42: =COUNTIFS($AO$12:$AO$31,AL$39,$C$12:$C$31,"C",$E$12:$E$31,"*") -> 0 | AM42: =COUNTIFS($AO$12:$AO$31,AL$39,$C$12:$C$31,"D",$E$12:$E$31,"*") -> 0
B43: 常勤換算数 | C43: =IF($AK$3="４週",SUMIFS($AK$12:$AK$31,$AO$12:$AO$31,C39)/4/$AH$6,IF($AK$3="歴月",SUMIFS($AK$12:$AK$31,$AO$12:$AO$31,C39)/$AL$6,"記載する期間を選択してください")) -> #DIV/0! | E43: =IF($AK$3="４週",SUMIFS($AK$12:$AK$31,$AO$12:$AO$31,E39)/4/$AH$6,IF($AK$3="歴月",SUMIFS($AK$12:$AK$31,$AO$12:$AO$31,E39)/$AL$6,"記載する期間を選択してください")) -> #DIV/0! | I43: =IF($AK$3="４週",SUMIFS($AK$12:$AK$31,$AO$12:$AO$31,I39)/4/$AH$6,IF($AK$3="歴月",SUMIFS($AK$12:$AK$31,$AO$12:$AO$31,I39)/$AL$6,"記載する期間を選択してください")) -> #DIV/0! | O43: =IF($AK$3="４週",SUMIFS($AK$12:$AK$31,$AO$12:$AO$31,O39)/4/$AH$6,IF($AK$3="歴月",SUMIFS($AK$12:$AK$31,$AO$12:$AO$31,O39)/$AL$6,"記載する期間を選択してください")) -> #DIV/0! | U43: =IF($AK$3="４週",SUMIFS($AK$12:$AK$31,$AO$12:$AO$31,U39)/4/$AH$6,IF($AK$3="歴月",SUMIFS($AK$12:$AK$31,$AO$12:$AO$31,U39)/$AL$6,"記載する期間を選択してください")) -> #DIV/0! | AA43: =IF($AK$3="４週",SUMIFS($AK$12:$AK$31,$AO$12:$AO$31,AA39)/4/$AH$6,IF($AK$3="歴月",SUMIFS($AK$12:$AK$31,$AO$12:$AO$31,AA39)/$AL$6,"記載する期間を選択してください")) -> #DIV/0! | AG43: =IF($AK$3="４週",SUMIFS($AK$12:$AK$31,$AO$12:$AO$31,AG39)/4/$AH$6,IF($AK$3="歴月",SUMIFS($AK$12:$AK$31,$AO$12:$AO$31,AG39)/$AL$6,"記載する期間を選択してください")) -> #DIV/0! | AL43: =IF($AK$3="４週",SUMIFS($AK$12:$AK$31,$AO$12:$AO$31,AL39)/4/$AH$6,IF($AK$3="歴月",SUMIFS($AK$12:$AK$31,$AO$12:$AO$31,AL39)/$AL$6,"記載する期間を選択してください")) -> #DIV/0!
C44: 2 | E44: 3 | I44: 4 | O44: 5 | U44: 6 | AA44: 7 | AG44: 8 | AL44: 9
A45: ・最初に「年月欄」「サービス種別」「事業所名」を入力してください。 | R45: 6 | X45: 7 | AD45: 8 | AJ45: 9
A46: (1) 「４週」・「暦月」のいずれかを選択してください。
A47: (2) 「予定」・「実績」のいずれかを選択してください。
...

Sheet 勤務形態一覧表（児童発達支援・主として重症心身障害児）
A1: 従業者の勤務の体制及び勤務形態一覧表 | AI1: サービス種別 | AK1: 児童発達支援・主として重症心身障害児を対象とする場合
M2: 2024 | Q2: 年 | S2: 5 | U2: 月 | AI2: 事業所名
AI3: (1)記載する期間 | AK3: ４週
AI4: (2)予定/実績の別
AI5: (2)-2 定員
AG6: (3)事業所における常勤の従業者が勤務すべき時間数 | AK6: 時間/週 | AM6: 時間/月
A8: No. | B8: (4)職種 | C8: (5)勤務形態 | D8: (6)資格 | E8: (7)氏名 | F8: (8) | AK8: (9)勤務時間数合計 | AL8: (10)週平均の勤務時間数 | AM8: (11)兼務状況 （兼務先／兼務する職務の内容）等
F9: 第１週 | M9: 第２週 | T9: 第３週 | AA9: 第４週 | AH9: 第５週
B10: ※選択肢にない職種については直接入力してください | F10: =DATE($M$2,$S$2,1) -> 45413 | G10: =DATE($M$2,$S$2,2) -> 45414 | H10: =DATE($M$2,$S$2,3) -> 45415 | I10: =DATE($M$2,$S$2,4) -> 45416 | J10: =DATE($M$2,$S$2,5) -> 45417 | K10: =DATE($M$2,$S$2,6) -> 45418 | L10: =DATE($M$2,$S$2,7) -> 45419 | M10: =DATE($M$2,$S$2,8) -> 45420 | N10: =DATE($M$2,$S$2,9) -> 45421 | O10: =DATE($M$2,$S$2,10) -> 45422 | P10: =DATE($M$2,$S$2,11) -> 45423 | Q10: =DATE($M$2,$S$2,12) -> 45424 | R10: =DATE($M$2,$S$2,13) -> 45425 | S10: =DATE($M$2,$S$2,14) -> 45426 | T10: =DATE($M$2,$S$2,15) -> 45427 | U10: =DATE($M$2,$S$2,16) -> 45428 | V10: =DATE($M$2,$S$2,17) -> 45429 | W10: =DATE($M$2,$S$2,18) -> 45430 | X10: =DATE($M$2,$S$2,19) -> 45431 | Y10: =DATE($M$2,$S$2,20) -> 45432 | Z10: =DATE($M$2,$S$2,21) -> 45433 | AA10: =DATE($M$2,$S$2,22) -> 45434 | AB10: =DATE($M$2,$S$2,23) -> 45435 | AC10: =DATE($M$2,$S$2,24) -> 45436 | AD10: =DATE($M$2,$S$2,25) -> 45437 | AE10: =DATE($M$2,$S$2,26) -> 45438 | AF10: =DATE($M$2,$S$2,27) -> 45439 | AG10: =DATE($M$2,$S$2,28) -> 45440 | AH10: =IF(DAY(EOMONTH(F10,0))<29,"",DATE($M$2,$S$2,29)) -> 45441 | AI10: =IF(DAY(EOMONTH(F10,0))<30,"",DATE($M$2,$S$2,30)) -> 45442 | AJ10: =IF(DAY(EOMONTH(F10,0))<31,"",DATE($M$2,$S$2,31)) -> 45443
F11: =DATE($M$2,$S$2,1) -> 45413 | G11: =DATE($M$2,$S$2,2) -> 45414 | H11: =DATE($M$2,$S$2,3) -> 45415 | I11: =DATE($M$2,$S$2,4) -> 45416 | J11: =DATE($M$2,$S$2,5) -> 45417 | K11: =DATE($M$2,$S$2,6) -> 45418 | L11: =DATE($M$2,$S$2,7) -> 45419 | M11: =DATE($M$2,$S$2,8) -> 45420 | N11: =DATE($M$2,$S$2,9) -> 45421 | O11: =DATE($M$2,$S$2,10) -> 45422 | P11: =DATE($M$2,$S$2,11) -> 45423 | Q11: =DATE($M$2,$S$2,12) -> 45424 | R11: =DATE($M$2,$S$2,13) -> 45425 | S11: =DATE($M$2,$S$2,14) -> 45426 | T11: =DATE($M$2,$S$2,15) -> 45427 | U11: =DATE($M$2,$S$2,16) -> 45428 | V11: =DATE($M$2,$S$2,17) -> 45429 | W11: =DATE($M$2,$S$2,18) -> 45430 | X11: =DATE($M$2,$S$2,19) -> 45431 | Y11: =DATE($M$2,$S$2,20) -> 45432 | Z11: =DATE($M$2,$S$2,21) -> 45433 | AA11: =DATE($M$2,$S$2,22) -> 45434 | AB11: =DATE($M$2,$S$2,23) -> 45435 | AC11: =DATE($M$2,$S$2,24) -> 45436 | AD11: =DATE($M$2,$S$2,25) -> 45437 | AE11: =DATE($M$2,$S$2,26) -> 45438 | AF11: =DATE($M$2,$S$2,27) -> 45439 | AG11: =DATE($M$2,$S$2,28) -> 45440 | AH11: =IF(DAY(EOMONTH(F11,0))<29,"",DATE($M$2,$S$2,29)) -> 45441 | AI11: =IF(DAY(EOMONTH(F11,0))<30,"",DATE($M$2,$S$2,30)) -> 45442 | AJ11: =IF(DAY(EOMONTH(F11,0))<31,"",DATE($M$2,$S$2,31)) -> 45443
A12: 1 | B12: 管理者 | C12: A | E12: A | AK12: =+SUM(F12:AJ12) -> 0 | AL12: =IF($AK$3="４週",AK12/4,AK12/(DAY(EOMONTH($F$10,0))/7)) -> 0 | AO12: =IF(B12="","",IF(ISERROR(MATCH(B12,$C$37:$AM$37,0)),"その他職員",B12)) -> 管理者
A13: 2 | B13: 児童発達支援管理責任者 | C13: B | E13: B | AK13: =+SUM(F13:AJ13) -> 0 | AL13: =IF($AK$3="４週",AK13/4,AK13/(DAY(EOMONTH($F$10,0))/7)) -> 0 | AO13: =IF(B13="","",IF(ISERROR(MATCH(B13,$C$37:$AM$37,0)),"その他職員",B13)) -> 児童発達支援管理責任者
A14: 3 | B14: 嘱託医 | C14: C | E14: C | AK14: =+SUM(F14:AJ14) -> 0 | AL14: =IF($AK$3="４週",AK14/4,AK14/(DAY(EOMONTH($F$10,0))/7)) -> 0 | AO14: =IF(B14="","",IF(ISERROR(MATCH(B14,$C$37:$AM$37,0)),"その他職員",B14)) -> 嘱託医
A15: 4 | B15: 児童指導員 | C15: D | E15: D | AK15: =+SUM(F15:AJ15) -> 0 | AL15: =IF($AK$3="４週",AK15/4,AK15/(DAY(EOMONTH($F$10,0))/7)) -> 0 | AO15: =IF(B15="","",IF(ISERROR(MATCH(B15,$C$37:$AM$37,0)),"その他職員",B15)) -> 児童指導員
A16: 5 | B16: その他職員 | C16: B | E16: E | AK16: =+SUM(F16:AJ16) -> 0 | AL16: =IF($AK$3="４週",AK16/4,AK16/(DAY(EOMONTH($F$10,0))/7)) -> 0 | AO16: =IF(B16="","",IF(ISERROR(MATCH(B16,$C$37:$AM$37,0)),"その他職員",B16)) -> その他職員
A17: 6 | AK17: =+SUM(F17:AJ17) -> 0 | AL17: =IF($AK$3="４週",AK17/4,AK17/(DAY(EOMONTH($F$10,0))/7)) -> 0 | AO17: =IF(B17="","",IF(ISERROR(MATCH(B17,$C$37:$AM$37,0)),"その他職員",B17))
A18: 7 | AK18: =+SUM(F18:AJ18) -> 0 | AL18: =IF($AK$3="４週",AK18/4,AK18/(DAY(EOMONTH($F$10,0))/7)) -> 0 | AO18: =IF(B18="","",IF(ISERROR(MATCH(B18,$C$37:$AM$37,0)),"その他職員",B18))
A19: 8 | AK19: =+SUM(F19:AJ19) -> 0 | AL19: =IF($AK$3="４週",AK19/4,AK19/(DAY(EOMONTH($F$10,0))/7)) -> 0 | AO19: =IF(B19="","",IF(ISERROR(MATCH(B19,$C$37:$AM$37,0)),"その他職員",B19))
A20: 9 | AK20: =+SUM(F20:AJ20) -> 0 | AL20: =IF($AK$3="４週",AK20/4,AK20/(DAY(EOMONTH($F$10,0))/7)) -> 0 | AO20: =IF(B20="","",IF(ISERROR(MATCH(B20,$C$37:$AM$37,0)),"その他職員",B20))
A21: 10 | AK21: =+SUM(F21:AJ21) -> 0 | AL21: =IF($AK$3="４週",AK21/4,AK21/(DAY(EOMONTH($F$10,0))/7)) -> 0 | AO21: =IF(B21="","",IF(ISERROR(MATCH(B21,$C$37:$AM$37,0)),"その他職員",B21))
A22: 11 | AK22: =+SUM(F22:AJ22) -> 0 | AL22: =IF($AK$3="４週",AK22/4,AK22/(DAY(EOMONTH($F$10,0))/7)) -> 0 | AO22: =IF(B22="","",IF(ISERROR(MATCH(B22,$C$37:$AM$37,0)),"その他職員",B22))
A23: 12 | AK23: =+SUM(F23:AJ23) -> 0 | AL23: =IF($AK$3="４週",AK23/4,AK23/(DAY(EOMONTH($F$10,0))/7)) -> 0 | AO23: =IF(B23="","",IF(ISERROR(MATCH(B23,$C$37:$AM$37,0)),"その他職員",B23))
A24: 13 | AK24: =+SUM(F24:AJ24) -> 0 | AL24: =IF($AK$3="４週",AK24/4,AK24/(DAY(EOMONTH($F$10,0))/7)) -> 0 | AO24: =IF(B24="","",IF(ISERROR(MATCH(B24,$C$37:$AM$37,0)),"その他職員",B24))
A25: 14 | AK25: =+SUM(F25:AJ25) -> 0 | AL25: =IF($AK$3="４週",AK25/4,AK25/(DAY(EOMONTH($F$10,0))/7)) -> 0 | AO25: =IF(B25="","",IF(ISERROR(MATCH(B25,$C$37:$AM$37,0)),"その他職員",B25))
A26: 15 | AK26: =+SUM(F26:AJ26) -> 0 | AL26: =IF($AK$3="４週",AK26/4,AK26/(DAY(EOMONTH($F$10,0))/7)) -> 0 | AO26: =IF(B26="","",IF(ISERROR(MATCH(B26,$C$37:$AM$37,0)),"その他職員",B26))
A27: 16 | AK27: =+SUM(F27:AJ27) -> 0 | AL27: =IF($AK$3="４週",AK27/4,AK27/(DAY(EOMONTH($F$10,0))/7)) -> 0 | AO27: =IF(B27="","",IF(ISERROR(MATCH(B27,$C$37:$AM$37,0)),"その他職員",B27))
A28: 17 | AK28: =+SUM(F28:AJ28) -> 0 | AL28: =IF($AK$3="４週",AK28/4,AK28/(DAY(EOMONTH($F$10,0))/7)) -> 0 | AO28: =IF(B28="","",IF(ISERROR(MATCH(B28,$C$37:$AM$37,0)),"その他職員",B28))
... A31: 20 | AK31: =+SUM(F31:AJ31) -> 0 | AL31: =IF($AK$3="４週",AK31/4,AK31/(DAY(EOMONTH($F$10,0))/7)) -> 0 | AO31: =IF(B31="","",IF(ISERROR(MATCH(B31,$C$37:$AM$37,0)),"その他職員",B31))
A32: 合計 | F32: =+SUM(F12:F31) -> 0 | G32: =+SUM(G12:G31) -> 0 | H32: =+SUM(H12:H31) -> 0 | I32: =+SUM(I12:I31) -> 0 | J32: =+SUM(J12:J31) -> 0 | K32: =+SUM(K12:K31) -> 0 | L32: =+SUM(L12:L31) -> 0 | M32: =+SUM(M12:M31) -> 0 | ... AJ32: =+SUM(AJ12:AJ31) -> 0 | AK32: =+SUM(F32:AJ32) -> 0 | AL32: =IF($AK$3="４週",AK32/4,AK32/(DAY(EOMONTH($F$10,0))/7)) -> 0
A33: サービス提供時間
A36: ＜人員基準に関する実人数集計＞ ※手入力いただいたものはすべて「その他職員」にまとめられます。
C37: =IF(VLOOKUP($AK$1,[5]選択肢!$A$1:$J$32,C42,FALSE)=0,"-",VLOOKUP($AK$1,[5]選択肢!$A$1:$J$32,C42,FALSE)) -> 管理者 | E37: =IF(VLOOKUP($AK$1,[5]選択肢!$A$1:$J$32,E42,FALSE)=0,"-",VLOOKUP($AK$1,[5]選択肢!$A$1:$J$32,E42,FALSE)) -> 児童発達支援管理責任者 | I37: =IF(VLOOKUP($AK$1,[5]選択肢!$A$1:$J$32,I42,FALSE)=0,"-",VLOOKUP($AK$1,[5]選択肢!$A$1:$J$32,I42,FALSE)) -> 嘱託医 | O37: =IF(VLOOKUP($AK$1,[5]選択肢!$A$1:$J$32,O42,FALSE)=0,"-",VLOOKUP($AK$1,[5]選択肢!$A$1:$J$32,O42,FALSE)) -> 看護職員 | U37: =IF(VLOOKUP($AK$1,[5]選択肢!$A$1:$J$32,U42,FALSE)=0,"-",VLOOKUP($AK$1,[5]選択肢!$A$1:$J$32,U42,FALSE)) -> 児童指導員 | AA37: =IF(VLOOKUP($AK$1,[5]選択肢!$A$1:$J$32,AA42,FALSE)=0,"-",VLOOKUP($AK$1,[5]選択肢!$A$1:$J$32,AA42,FALSE)) -> 保育士 | AG37: =IF(VLOOKUP($AK$1,[5]選択肢!$A$1:$J$32,AG42,FALSE)=0,"-",VLOOKUP($AK$1,[5]選択肢!$A$1:$J$32,AG42,FALSE)) -> 機能訓練担当職員 | AL37: =IF(VLOOKUP($AK$1,[5]選択肢!$A$1:$J$32,AL42,FALSE)=0,"-",VLOOKUP($AK$1,[5]選択肢!$A$1:$J$32,AL42,FALSE)) -> その他職員
C38: 専従 | D38: 兼務 | E38: 専従 | F38: 兼務 | I38: 専従 | L38: 兼務 | O38: 専従 | R38: 兼務 | U38: 専従 | X38: 兼務 | AA38: 専従 | AD38: 兼務 | AG38: 専従 | AJ38: 兼務 | AL38: 専従 | AM38: 兼務
B39: 常勤 | C39: =COUNTIFS($AO$12:$AO$31,C$37,$C$12:$C$31,"A",$E$12:$E$31,"*") -> 1 | D39: =COUNTIFS($AO$12:$AO$31,C$37,$C$12:$C$31,"B",$E$12:$E$31,"*") -> 0 | E39: =COUNTIFS($AO$12:$AO$31,E$37,$C$12:$C$31,"A",$E$12:$E$31,"*") -> 0 | F39: =COUNTIFS($AO$12:$AO$31,E$37,$C$12:$C$31,"B",$E$12:$E$31,"*") -> 1 | I39: =COUNTIFS($AO$12:$AO$31,I$37,$C$12:$C$31,"A",$E$12:$E$31,"*") -> 0 | L39: =COUNTIFS($AO$12:$AO$31,I$37,$C$12:$C$31,"B",$E$12:$E$31,"*") -> 0 | O39: =COUNTIFS($AO$12:$AO$31,O$37,$C$12:$C$31,"A",$E$12:$E$31,"*") -> 0 | R39: =COUNTIFS($AO$12:$AO$31,O$37,$C$12:$C$31,"B",$E$12:$E$31,"*") -> 0 | U39: =COUNTIFS($AO$12:$AO$31,U$37,$C$12:$C$31,"A",$E$12:$E$31,"*") -> 0 | X39: =COUNTIFS($AO$12:$AO$31,U$37,$C$12:$C$31,"B",$E$12:$E$31,"*") -> 0 | AA39: =COUNTIFS($AO$12:$AO$31,AA$37,$C$12:$C$31,"A",$E$12:$E$31,"*") -> 0 | AD39: =COUNTIFS($AO$12:$AO$31,AA$37,$C$12:$C$31,"B",$E$12:$E$31,"*") -> 0 | AG39: =COUNTIFS($AO$12:$AO$31,AG$37,$C$12:$C$31,"A",$E$12:$E$31,"*") -> 0 | AJ39: =COUNTIFS($AO$12:$AO$31,AG$37,$C$12:$C$31,"B",$E$12:$E$31,"*") -> 0 | AL39: =COUNTIFS($AO$12:$AO$31,AL$37,$C$12:$C$31,"A",$E$12:$E$31,"*") -> 0 | AM39: =COUNTIFS($AO$12:$AO$31,AL$37,$C$12:$C$31,"B",$E$12:$E$31,"*") -> 1
B40: 非常勤 | C40: =COUNTIFS($AO$12:$AO$31,C$37,$C$12:$C$31,"C",$E$12:$E$31,"*") -> 0 | D40: =COUNTIFS($AO$12:$AO$31,C$37,$C$12:$C$31,"D",$E$12:$E$31,"*") -> 0 | E40: =COUNTIFS($AO$12:$AO$31,E$37,$C$12:$C$31,"C",$E$12:$E$31,"*") -> 0 | F40: =COUNTIFS($AO$12:$AO$31,E$37,$C$12:$C$31,"D",$E$12:$E$31,"*") -> 0 | I40: =COUNTIFS($AO$12:$AO$31,I$37,$C$12:$C$31,"C",$E$12:$E$31,"*") -> 1 | L40: =COUNTIFS($AO$12:$AO$31,I$37,$C$12:$C$31,"D",$E$12:$E$31,"*") -> 0 | O40: =COUNTIFS($AO$12:$AO$31,O$37,$C$12:$C$31,"C",$E$12:$E$31,"*") -> 0 | R40: =COUNTIFS($AO$12:$AO$31,O$37,$C$12:$C$31,"D",$E$12:$E$31,"*") -> 0 | U40: =COUNTIFS($AO$12:$AO$31,U$37,$C$12:$C$31,"C",$E$12:$E$31,"*") -> 0 | X40: =COUNTIFS($AO$12:$AO$31,U$37,$C$12:$C$31,"D",$E$12:$E$31,"*") -> 1 | AA40: =COUNTIFS($AO$12:$AO$31,AA$37,$C$12:$C$31,"C",$E$12:$E$31,"*") -> 0 | AD40: =COUNTIFS($AO$12:$AO$31,AA$37,$C$12:$C$31,"D",$E$12:$E$31,"*") -> 0 | AG40: =COUNTIFS($AO$12:$AO$31,AG$37,$C$12:$C$31,"C",$E$12:$E$31,"*") -> 0 | AJ40: =COUNTIFS($AO$12:$AO$31,AG$37,$C$12:$C$31,"D",$E$12:$E$31,"*") -> 0 | AL40: =COUNTIFS($AO$12:$AO$31,AL$37,$C$12:$C$31,"C",$E$12:$E$31,"*") -> 0 | AM40: =COUNTIFS($AO$12:$AO$31,AL$37,$C$12:$C$31,"D",$E$12:$E$31,"*") -> 0
B41: 常勤換算数 | C41: =IF($AK$3="４週",SUMIFS($AK$12:$AK$31,$AO$12:$AO$31,C37)/4/$AH$6,IF($AK$3="歴月",SUMIFS($AK$12:$AK$31,$AO$12:$AO$31,C37)/$AL$6,"記載する期間を選択してください")) -> #DIV/0! | E41: =IF($AK$3="４週",SUMIFS($AK$12:$AK$31,$AO$12:$AO$31,E37)/4/$AH$6,IF($AK$3="歴月",SUMIFS($AK$12:$AK$31,$AO$12:$AO$31,E37)/$AL$6,"記載する期間を選択してください")) -> #DIV/0! | I41: =IF($AK$3="４週",SUMIFS($AK$12:$AK$31,$AO$12:$AO$31,I37)/4/$AH$6,IF($AK$3="歴月",SUMIFS($AK$12:$AK$31,$AO$12:$AO$31,I37)/$AL$6,"記載する期間を選択してください")) -> #DIV/0! | O41: =IF($AK$3="４週",SUMIFS($AK$12:$AK$31,$AO$12:$AO$31,O37)/4/$AH$6,IF($AK$3="歴月",SUMIFS($AK$12:$AK$31,$AO$12:$AO$31,O37)/$AL$6,"記載する期間を選択してください")) -> #DIV/0! | U41: =IF($AK$3="４週",SUMIFS($AK$12:$AK$31,$AO$12:$AO$31,U37)/4/$AH$6,IF($AK$3="歴月",SUMIFS($AK$12:$AK$31,$AO$12:$AO$31,U37)/$AL$6,"記載する期間を選択してください")) -> #DIV/0! | AA41: =IF($AK$3="４週",SUMIFS($AK$12:$AK$31,$AO$12:$AO$31,AA37)/4/$AH$6,IF($AK$3="歴月",SUMIFS($AK$12:$AK$31,$AO$12:$AO$31,AA37)/$AL$6,"記載する期間を選択してください")) -> #DIV/0! | AG41: =IF($AK$3="４週",SUMIFS($AK$12:$AK$31,$AO$12:$AO$31,AG37)/4/$AH$6,IF($AK$3="歴月",SUMIFS($AK$12:$AK$31,$AO$12:$AO$31,AG37)/$AL$6,"記載する期間を選択してください")) -> #DIV/0! | AL41: =IF($AK$3="４週",SUMIFS($AK$12:$AK$31,$AO$12:$AO$31,AL37)/4/$AH$6,IF($AK$3="歴月",SUMIFS($AK$12:$AK$31,$AO$12:$AO$31,AL37)/$AL$6,"記載する期間を選択してください")) -> #DIV/0!
C42: 2 | E42: 3 | I42: 4 | O42: 5 | U42: 6 | AA42: 7 | AG42: 8 | AL42: 9
A43: ・最初に「年月欄」「サービス種別」「事業所名」を入力してください。 | R43: 6 | X43: 7 | AD43: 8 | AJ43: 9
A44: (1) 「４週」・「暦月」のいずれかを選択してください。
A45: (2) 「予定」・「実績」のいずれかを選択してください。
...

Sheet 勤務形態一覧表（児童発達支援センター）
A1: 従業者の勤務の体制及び勤務形態一覧表 | AI1: サービス種別 | AK1: 児童発達支援・児童発達支援センターであるもの
M2: 2024 | Q2: 年 | S2: 5 | U2: 月 | AI2: 事業所名
AI3: (1)記載する期間 | AK3: ４週
AI4: (2)予定/実績の別
AI5: (2)-2 定員
AG6: (3)事業所における常勤の従業者が勤務すべき時間数 | AK6: 時間/週 | AM6: 時間/月
A8: No. | B8: (4)職種 | C8: (5)勤務形態 | D8: (6)資格 | E8: (7)氏名 | F8: (8) | AK8: (9)勤務時間数合計 | AL8: (10)週平均の勤務時間数 | AM8: (11)兼務状況 （兼務先／兼務する職務の内容）等
F9: 第１週 | M9: 第２週 | T9: 第３週 | AA9: 第４週 | AH9: 第５週
B10: ※選択肢にない職種については直接入力してください | F10: =DATE($M$2,$S$2,1) -> 45413 | G10: =DATE($M$2,$S$2,2) -> 45414 | H10: =DATE($M$2,$S$2,3) -> 45415 | I10: =DATE($M$2,$S$2,4) -> 45416 | J10: =DATE($M$2,$S$2,5) -> 45417 | K10: =DATE($M$2,$S$2,6) -> 45418 | L10: =DATE($M$2,$S$2,7) -> 45419 | M10: =DATE($M$2,$S$2,8) -> 45420 | N10: =DATE($M$2,$S$2,9) -> 45421 | O10: =DATE($M$2,$S$2,10) -> 45422 | P10: =DATE($M$2,$S$2,11) -> 45423 | Q10: =DATE($M$2,$S$2,12) -> 45424 | R10: =DATE($M$2,$S$2,13) -> 45425 | S10: =DATE($M$2,$S$2,14) -> 45426 | T10: =DATE($M$2,$S$2,15) -> 45427 | U10: =DATE($M$2,$S$2,16) -> 45428 | V10: =DATE($M$2,$S$2,17) -> 45429 | W10: =DATE($M$2,$S$2,18) -> 45430 | X10: =DATE($M$2,$S$2,19) -> 45431 | Y10: =DATE($M$2,$S$2,20) -> 45432 | Z10: =DATE($M$2,$S$2,21) -> 45433 | AA10: =DATE($M$2,$S$2,22) -> 45434 | AB10: =DATE($M$2,$S$2,23) -> 45435 | AC10: =DATE($M$2,$S$2,24) -> 45436 | AD10: =DATE($M$2,$S$2,25) -> 45437 | AE10: =DATE($M$2,$S$2,26) -> 45438 | AF10: =DATE($M$2,$S$2,27) -> 45439 | AG10: =DATE($M$2,$S$2,28) -> 45440 | AH10: =IF(DAY(EOMONTH(F10,0))<29,"",DATE($M$2,$S$2,29)) -> 45441 | AI10: =IF(DAY(EOMONTH(F10,0))<30,"",DATE($M$2,$S$2,30)) -> 45442 | AJ10: =IF(DAY(EOMONTH(F10,0))<31,"",DATE($M$2,$S$2,31)) -> 45443
F11: =DATE($M$2,$S$2,1) -> 45413 | G11: =DATE($M$2,$S$2,2) -> 45414 | H11: =DATE($M$2,$S$2,3) -> 45415 | I11: =DATE($M$2,$S$2,4) -> 45416 | J11: =DATE($M$2,$S$2,5) -> 45417 | K11: =DATE($M$2,$S$2,6) -> 45418 | L11: =DATE($M$2,$S$2,7) -> 45419 | M11: =DATE($M$2,$S$2,8) -> 45420 | N11: =DATE($M$2,$S$2,9) -> 45421 | O11: =DATE($M$2,$S$2,10) -> 45422 | P11: =DATE($M$2,$S$2,11) -> 45423 | Q11: =DATE($M$2,$S$2,12) -> 45424 | R11: =DATE($M$2,$S$2,13) -> 45425 | S11: =DATE($M$2,$S$2,14) -> 45426 | T11: =DATE($M$2,$S$2,15) -> 45427 | U11: =DATE($M$2,$S$2,16) -> 45428 | V11: =DATE($M$2,$S$2,17) -> 45429 | W11: =DATE($M$2,$S$2,18) -> 45430 | X11: =DATE($M$2,$S$2,19) -> 45431 | Y11: =DATE($M$2,$S$2,20) -> 45432 | Z11: =DATE($M$2,$S$2,21) -> 45433 | AA11: =DATE($M$2,$S$2,22) -> 45434 | AB11: =DATE($M$2,$S$2,23) -> 45435 | AC11: =DATE($M$2,$S$2,24) -> 45436 | AD11: =DATE($M$2,$S$2,25) -> 45437 | AE11: =DATE($M$2,$S$2,26) -> 45438 | AF11: =DATE($M$2,$S$2,27) -> 45439 | AG11: =DATE($M$2,$S$2,28) -> 45440 | AH11: =IF(DAY(EOMONTH(F11,0))<29,"",DATE($M$2,$S$2,29)) -> 45441 | AI11: =IF(DAY(EOMONTH(F11,0))<30,"",DATE($M$2,$S$2,30)) -> 45442 | AJ11: =IF(DAY(EOMONTH(F11,0))<31,"",DATE($M$2,$S$2,31)) -> 45443
A12: 1 | B12: 管理者 | C12: A | E12: A | AK12: =+SUM(F12:AJ12) -> 0 | AL12: =IF($AK$3="４週",AK12/4,AK12/(DAY(EOMONTH($F$10,0))/7)) -> 0 | AO12: =IF(B12="","",IF(ISERROR(MATCH(B12,$C$38:$AM$38,0)),"その他職員",B12)) -> 管理者
A13: 2 | B13: 児童発達支援管理責任者 | C13: B | E13: B | AK13: =+SUM(F13:AJ13) -> 0 | AL13: =IF($AK$3="４週",AK13/4,AK13/(DAY(EOMONTH($F$10,0))/7)) -> 0 | AO13: =IF(B13="","",IF(ISERROR(MATCH(B13,$C$38:$AM$38,0)),"その他職員",B13)) -> 児童発達支援管理責任者
A14: 3 | B14: 嘱託医 | C14: C | E14: C | AK14: =+SUM(F14:AJ14) -> 0 | AL14: =IF($AK$3="４週",AK14/4,AK14/(DAY(EOMONTH($F$10,0))/7)) -> 0 | AO14: =IF(B14="","",IF(ISERROR(MATCH(B14,$C$38:$AM$38,0)),"その他職員",B14)) -> 嘱託医
A15: 4 | B15: 児童指導員 | C15: D | E15: D | AK15: =+SUM(F15:AJ15) -> 0 | AL15: =IF($AK$3="４週",AK15/4,AK15/(DAY(EOMONTH($F$10,0))/7)) -> 0 | AO15: =IF(B15="","",IF(ISERROR(MATCH(B15,$C$38:$AM$38,0)),"その他職員",B15)) -> 児童指導員
A16: 5 | B16: その他職員 | C16: B | E16: E | AK16: =+SUM(F16:AJ16) -> 0 | AL16: =IF($AK$3="４週",AK16/4,AK16/(DAY(EOMONTH($F$10,0))/7)) -> 0 | AO16: =IF(B16="","",IF(ISERROR(MATCH(B16,$C$38:$AM$38,0)),"その他職員",B16)) -> その他職員
A17: 6 | AK17: =+SUM(F17:AJ17) -> 0 | AL17: =IF($AK$3="４週",AK17/4,AK17/(DAY(EOMONTH($F$10,0))/7)) -> 0 | AO17: =IF(B17="","",IF(ISERROR(MATCH(B17,$C$38:$AM$38,0)),"その他職員",B17))
A18: 7 | AK18: =+SUM(F18:AJ18) -> 0 | AL18: =IF($AK$3="４週",AK18/4,AK18/(DAY(EOMONTH($F$10,0))/7)) -> 0 | AO18: =IF(B18="","",IF(ISERROR(MATCH(B18,$C$38:$AM$38,0)),"その他職員",B18))
A19: 8 | AK19: =+SUM(F19:AJ19) -> 0 | AL19: =IF($AK$3="４週",AK19/4,AK19/(DAY(EOMONTH($F$10,0))/7)) -> 0 | AO19: =IF(B19="","",IF(ISERROR(MATCH(B19,$C$38:$AM$38,0)),"その他職員",B19))
A20: 9 | AK20: =+SUM(F20:AJ20) -> 0 | AL20: =IF($AK$3="４週",AK20/4,AK20/(DAY(EOMONTH($F$10,0))/7)) -> 0 | AO20: =IF(B20="","",IF(ISERROR(MATCH(B20,$C$38:$AM$38,0)),"その他職員",B20))
A21: 10 | AK21: =+SUM(F21:AJ21) -> 0 | AL21: =IF($AK$3="４週",AK21/4,AK21/(DAY(EOMONTH($F$10,0))/7)) -> 0 | AO21: =IF(B21="","",IF(ISERROR(MATCH(B21,$C$38:$AM$38,0)),"その他職員",B21))
A22: 11 | AK22: =+SUM(F22:AJ22) -> 0 | AL22: =IF($AK$3="４週",AK22/4,AK22/(DAY(EOMONTH($F$10,0))/7)) -> 0 | AO22: =IF(B22="","",IF(ISERROR(MATCH(B22,$C$38:$AM$38,0)),"その他職員",B22))
A23: 12 | AK23: =+SUM(F23:AJ23) -> 0 | AL23: =IF($AK$3="４週",AK23/4,AK23/(DAY(EOMONTH($F$10,0))/7)) -> 0 | AO23: =IF(B23="","",IF(ISERROR(MATCH(B23,$C$38:$AM$38,0)),"その他職員",B23))
A24: 13 | AK24: =+SUM(F24:AJ24) -> 0 | AL24: =IF($AK$3="４週",AK24/4,AK24/(DAY(EOMONTH($F$10,0))/7)) -> 0 | AO24: =IF(B24="","",IF(ISERROR(MATCH(B24,$C$38:$AM$38,0)),"その他職員",B24))
A25: 14 | AK25: =+SUM(F25:AJ25) -> 0 | AL25: =IF($AK$3="４週",AK25/4,AK25/(DAY(EOMONTH($F$10,0))/7)) -> 0 | AO25: =IF(B25="","",IF(ISERROR(MATCH(B25,$C$38:$AM$38,0)),"その他職員",B25))
A26: 15 | AK26: =+SUM(F26:AJ26) -> 0 | AL26: =IF($AK$3="４週",AK26/4,AK26/(DAY(EOMONTH($F$10,0))/7)) -> 0 | AO26: =IF(B26="","",IF(ISERROR(MATCH(B26,$C$38:$AM$38,0)),"その他職員",B26))
A27: 16 | AK27: =+SUM(F27:AJ27) -> 0 | AL27: =IF($AK$3="４週",AK27/4,AK27/(DAY(EOMONTH($F$10,0))/7)) -> 0 | AO27: =IF(B27="","",IF(ISERROR(MATCH(B27,$C$38:$AM$38,0)),"その他職員",B27))
A28: 17 | AK28: =+SUM(F28:AJ28) -> 0 | AL28: =IF($AK$3="４週",AK28/4,AK28/(DAY(EOMONTH($F$10,0))/7)) -> 0 | AO28: =IF(B28="","",IF(ISERROR(MATCH(B28,$C$38:$AM$38,0)),"その他職員",B28))
... A31: 20 | AK31: =+SUM(F31:AJ31) -> 0 | AL31: =IF($AK$3="４週",AK31/4,AK31/(DAY(EOMONTH($F$10,0))/7)) -> 0 | AO31: =IF(B31="","",IF(ISERROR(MATCH(B31,$C$38:$AM$38,0)),"その他職員",B31))
A32: 合計 | F32: =+SUM(F12:F31) -> 0 | G32: =+SUM(G12:G31) -> 0 | H32: =+SUM(H12:H31) -> 0 | I32: =+SUM(I12:I31) -> 0 | J32: =+SUM(J12:J31) -> 0 | K32: =+SUM(K12:K31) -> 0 | L32: =+SUM(L12:L31) -> 0 | M32: =+SUM(M12:M31) -> 0 | ... AJ32: =+SUM(AJ12:AJ31) -> 0 | AK32: =+SUM(F32:AJ32) -> 0 | AL32: =IF($AK$3="４週",AK32/4,AK32/(DAY(EOMONTH($F$10,0))/7)) -> 0
A33: サービス提供時間
A37: ＜人員基準に関する実人数集計＞
C38: =IF(VLOOKUP($AK$1,[5]選択肢!$A$1:$J$32,C43,FALSE)=0,"-",VLOOKUP($AK$1,[5]選択肢!$A$1:$J$32,C43,FALSE)) -> 管理者 | E38: =IF(VLOOKUP($AK$1,[5]選択肢!$A$1:$J$32,E43,FALSE)=0,"-",VLOOKUP($AK$1,[5]選択肢!$A$1:$J$32,E43,FALSE)) -> 児童発達支援管理責任者 | I38: =IF(VLOOKUP($AK$1,[5]選択肢!$A$1:$J$32,I43,FALSE)=0,"-",VLOOKUP($AK$1,[5]選択肢!$A$1:$J$32,I43,FALSE)) -> 嘱託医 | O38: =IF(VLOOKUP($AK$1,[5]選択肢!$A$1:$J$32,O43,FALSE)=0,"-",VLOOKUP($AK$1,[5]選択肢!$A$1:$J$32,O43,FALSE)) -> 児童指導員 | U38: =IF(VLOOKUP($AK$1,[5]選択肢!$A$1:$J$32,U43,FALSE)=0,"-",VLOOKUP($AK$1,[5]選択肢!$A$1:$J$32,U43,FALSE)) -> 保育士 | AA38: =IF(VLOOKUP($AK$1,[5]選択肢!$A$1:$J$32,AA43,FALSE)=0,"-",VLOOKUP($AK$1,[5]選択肢!$A$1:$J$32,AA43,FALSE)) -> 栄養士 | AG38: =IF(VLOOKUP($AK$1,[5]選択肢!$A$1:$J$32,AG43,FALSE)=0,"-",VLOOKUP($AK$1,[5]選択肢!$A$1:$J$32,AG43,FALSE)) -> 調理員 | AL38: =IF(VLOOKUP($AK$1,[5]選択肢!$A$1:$J$32,AL43,FALSE)=0,"-",VLOOKUP($AK$1,[5]選択肢!$A$1:$J$32,AL43,FALSE)) -> 機能訓練担当職員
C39: 専従 | D39: 兼務 | E39: 専従 | F39: 兼務 | I39: 専従 | L39: 兼務 | O39: 専従 | R39: 兼務 | U39: 専従 | X39: 兼務 | AA39: 専従 | AD39: 兼務 | AG39: 専従 | AJ39: 兼務 | AL39: 専従 | AM39: 兼務
B40: 常勤 | C40: =COUNTIFS($AO$12:$AO$31,C$38,$C$12:$C$31,"A",$E$12:$E$31,"*") -> 1 | D40: =COUNTIFS($AO$12:$AO$31,C$38,$C$12:$C$31,"B",$E$12:$E$31,"*") -> 0 | E40: =COUNTIFS($AO$12:$AO$31,E$38,$C$12:$C$31,"A",$E$12:$E$31,"*") -> 0 | F40: =COUNTIFS($AO$12:$AO$31,E$38,$C$12:$C$31,"B",$E$12:$E$31,"*") -> 1 | I40: =COUNTIFS($AO$12:$AO$31,I$38,$C$12:$C$31,"A",$E$12:$E$31,"*") -> 0 | L40: =COUNTIFS($AO$12:$AO$31,I$38,$C$12:$C$31,"B",$E$12:$E$31,"*") -> 0 | O40: =COUNTIFS($AO$12:$AO$31,O$38,$C$12:$C$31,"A",$E$12:$E$31,"*") -> 0 | R40: =COUNTIFS($AO$12:$AO$31,O$38,$C$12:$C$31,"B",$E$12:$E$31,"*") -> 0 | U40: =COUNTIFS($AO$12:$AO$31,U$38,$C$12:$C$31,"A",$E$12:$E$31,"*") -> 0 | X40: =COUNTIFS($AO$12:$AO$31,U$38,$C$12:$C$31,"B",$E$12:$E$31,"*") -> 0 | AA40: =COUNTIFS($AO$12:$AO$31,AA$38,$C$12:$C$31,"A",$E$12:$E$31,"*") -> 0 | AD40: =COUNTIFS($AO$12:$AO$31,AA$38,$C$12:$C$31,"B",$E$12:$E$31,"*") -> 0 | AG40: =COUNTIFS($AO$12:$AO$31,AG$38,$C$12:$C$31,"A",$E$12:$E$31,"*") -> 0 | AJ40: =COUNTIFS($AO$12:$AO$31,AG$38,$C$12:$C$31,"B",$E$12:$E$31,"*") -> 0 | AL40: =COUNTIFS($AO$12:$AO$31,AL$38,$C$12:$C$31,"A",$E$12:$E$31,"*") -> 0 | AM40: =COUNTIFS($AO$12:$AO$31,AL$38,$C$12:$C$31,"B",$E$12:$E$31,"*") -> 0
B41: 非常勤 | C41: =COUNTIFS($AO$12:$AO$31,C$38,$C$12:$C$31,"C",$E$12:$E$31,"*") -> 0 | D41: =COUNTIFS($AO$12:$AO$31,C$38,$C$12:$C$31,"D",$E$12:$E$31,"*") -> 0 | E41: =COUNTIFS($AO$12:$AO$31,E$38,$C$12:$C$31,"C",$E$12:$E$31,"*") -> 0 | F41: =COUNTIFS($AO$12:$AO$31,E$38,$C$12:$C$31,"D",$E$12:$E$31,"*") -> 0 | I41: =COUNTIFS($AO$12:$AO$31,I$38,$C$12:$C$31,"C",$E$12:$E$31,"*") -> 1 | L41: =COUNTIFS($AO$12:$AO$31,I$38,$C$12:$C$31,"D",$E$12:$E$31,"*") -> 0 | O41: =COUNTIFS($AO$12:$AO$31,O$38,$C$12:$C$31,"C",$E$12:$E$31,"*") -> 0 | R41: =COUNTIFS($AO$12:$AO$31,O$38,$C$12:$C$31,"D",$E$12:$E$31,"*") -> 1 | U41: =COUNTIFS($AO$12:$AO$31,U$38,$C$12:$C$31,"C",$E$12:$E$31,"*") -> 0 | X41: =COUNTIFS($AO$12:$AO$31,U$38,$C$12:$C$31,"D",$E$12:$E$31,"*") -> 0 | AA41: =COUNTIFS($AO$12:$AO$31,AA$38,$C$12:$C$31,"C",$E$12:$E$31,"*") -> 0 | AD41: =COUNTIFS($AO$12:$AO$31,AA$38,$C$12:$C$31,"D",$E$12:$E$31,"*") -> 0 | AG41: =COUNTIFS($AO$12:$AO$31,AG$38,$C$12:$C$31,"C",$E$12:$E$31,"*") -> 0 | AJ41: =COUNTIFS($AO$12:$AO$31,AG$38,$C$12:$C$31,"D",$E$12:$E$31,"*") -> 0 | AL41: =COUNTIFS($AO$12:$AO$31,AL$38,$C$12:$C$31,"C",$E$12:$E$31,"*") -> 0 | AM41: =COUNTIFS($AO$12:$AO$31,AL$38,$C$12:$C$31,"D",$E$12:$E$31,"*") -> 0
B42: 常勤換算数 | C42: =IF($AK$3="４週",SUMIFS($AK$12:$AK$31,$AO$12:$AO$31,C38)/4/$AH$6,IF($AK$3="歴月",SUMIFS($AK$12:$AK$31,$AO$12:$AO$31,C38)/$AL$6,"記載する期間を選択してください")) -> #DIV/0! | E42: =IF($AK$3="４週",SUMIFS($AK$12:$AK$31,$AO$12:$AO$31,E38)/4/$AH$6,IF($AK$3="歴月",SUMIFS($AK$12:$AK$31,$AO$12:$AO$31,E38)/$AL$6,"記載する期間を選択してください")) -> #DIV/0! | I42: =IF($AK$3="４週",SUMIFS($AK$12:$AK$31,$AO$12:$AO$31,I38)/4/$AH$6,IF($AK$3="歴月",SUMIFS($AK$12:$AK$31,$AO$12:$AO$31,I38)/$AL$6,"記載する期間を選択してください")) -> #DIV/0! | O42: =IF($AK$3="４週",SUMIFS($AK$12:$AK$31,$AO$12:$AO$31,O38)/4/$AH$6,IF($AK$3="歴月",SUMIFS($AK$12:$AK$31,$AO$12:$AO$31,O38)/$AL$6,"記載する期間を選択してください")) -> #DIV/0! | U42: =IF($AK$3="４週",SUMIFS($AK$12:$AK$31,$AO$12:$AO$31,U38)/4/$AH$6,IF($AK$3="歴月",SUMIFS($AK$12:$AK$31,$AO$12:$AO$31,U38)/$AL$6,"記載する期間を選択してください")) -> #DIV/0! | AA42: =IF($AK$3="４週",SUMIFS($AK$12:$AK$31,$AO$12:$AO$31,AA38)/4/$AH$6,IF($AK$3="歴月",SUMIFS($AK$12:$AK$31,$AO$12:$AO$31,AA38)/$AL$6,"記載する期間を選択してください")) -> #DIV/0! | AG42: =IF($AK$3="４週",SUMIFS($AK$12:$AK$31,$AO$12:$AO$31,AG38)/4/$AH$6,IF($AK$3="歴月",SUMIFS($AK$12:$AK$31,$AO$12:$AO$31,AG38)/$AL$6,"記載する期間を選択してください")) -> #DIV/0! | AL42: =IF($AK$3="４週",SUMIFS($AK$12:$AK$31,$AO$12:$AO$31,AL38)/4/$AH$6,IF($AK$3="歴月",SUMIFS($AK$12:$AK$31,$AO$12:$AO$31,AL38)/$AL$6,"記載する期間を選択してください")) -> #DIV/0!
C43: 2 | E43: 3 | I43: 4 | O43: 5 | U43: 6 | AA43: 7 | AG43: 8 | AL43: 9
C44: =IF(VLOOKUP($AK$1,[5]選択肢!$A:$Z,C49,FALSE)=0,"-",VLOOKUP($AK$1,[5]選択肢!$A:$Z,C49,FALSE)) -> 看護職員 | E44: =IF(VLOOKUP($AK$1,[5]選択肢!$A:$Z,E49,FALSE)=0,"-",VLOOKUP($AK$1,[5]選択肢!$A:$Z,E49,FALSE)) -> その他職員
C45: 専従 | D45: 兼務 | E45: 専従 | F45: 兼務
B46: 常勤 | C46: =COUNTIFS($AO$11:$AO$30,C$44,$C$11:$C$30,"A",$E$11:$E$30,"*") -> 0 | D46: =COUNTIFS($AO$11:$AO$30,C$44,$C$11:$C$30,"B",$E$11:$E$30,"*") -> 0 | E46: =COUNTIFS($AO$11:$AO$30,E$44,$C$11:$C$30,"A",$E$11:$E$30,"*") -> 0 | F46: =COUNTIFS($AO$11:$AO$30,E$44,$C$11:$C$30,"B",$E$11:$E$30,"*") -> 1
...

Sheet 勤務形態一覧表（居宅訪問型児童発達支援）
A1: 従業者の勤務の体制及び勤務形態一覧表 | AI1: サービス種別 | AK1: 居宅訪問型児童発達支援
M2: 2024 | Q2: 年 | S2: 5 | U2: 月 | AI2: 事業所名
AI3: (1)記載する期間 | AK3: ４週
AI4: (2)予定/実績の別
AG5: (3)事業所における常勤の従業者が勤務すべき時間数 | AK5: 時間/週 | AM5: 時間/月
A7: No. | B7: (4)職種 | C7: (5)勤務形態 | D7: (6)資格 | E7: (7)氏名 | F7: (8) | AK7: (9)勤務時間数合計 | AL7: (10)週平均の勤務時間数 | AM7: (11)兼務状況 （兼務先／兼務する職務の内容）等
F8: 第１週 | M8: 第２週 | T8: 第３週 | AA8: 第４週 | AH8: 第５週
B9: ※選択肢にない職種については直接入力してください | F9: =DATE($M$2,$S$2,1) -> 45413 | G9: =DATE($M$2,$S$2,2) -> 45414 | H9: =DATE($M$2,$S$2,3) -> 45415 | I9: =DATE($M$2,$S$2,4) -> 45416 | J9: =DATE($M$2,$S$2,5) -> 45417 | K9: =DATE($M$2,$S$2,6) -> 45418 | L9: =DATE($M$2,$S$2,7) -> 45419 | M9: =DATE($M$2,$S$2,8) -> 45420 | N9: =DATE($M$2,$S$2,9) -> 45421 | O9: =DATE($M$2,$S$2,10) -> 45422 | P9: =DATE($M$2,$S$2,11) -> 45423 | Q9: =DATE($M$2,$S$2,12) -> 45424 | R9: =DATE($M$2,$S$2,13) -> 45425 | S9: =DATE($M$2,$S$2,14) -> 45426 | T9: =DATE($M$2,$S$2,15) -> 45427 | U9: =DATE($M$2,$S$2,16) -> 45428 | V9: =DATE($M$2,$S$2,17) -> 45429 | W9: =DATE($M$2,$S$2,18) -> 45430 | X9: =DATE($M$2,$S$2,19) -> 45431 | Y9: =DATE($M$2,$S$2,20) -> 45432 | Z9: =DATE($M$2,$S$2,21) -> 45433 | AA9: =DATE($M$2,$S$2,22) -> 45434 | AB9: =DATE($M$2,$S$2,23) -> 45435 | AC9: =DATE($M$2,$S$2,24) -> 45436 | AD9: =DATE($M$2,$S$2,25) -> 45437 | AE9: =DATE($M$2,$S$2,26) -> 45438 | AF9: =DATE($M$2,$S$2,27) -> 45439 | AG9: =DATE($M$2,$S$2,28) -> 45440 | AH9: =IF(DAY(EOMONTH(F9,0))<29,"",DATE($M$2,$S$2,29)) -> 45441 | AI9: =IF(DAY(EOMONTH(F9,0))<30,"",DATE($M$2,$S$2,30)) -> 45442 | AJ9: =IF(DAY(EOMONTH(F9,0))<31,"",DATE($M$2,$S$2,31)) -> 45443
F10: =DATE($M$2,$S$2,1) -> 45413 | G10: =DATE($M$2,$S$2,2) -> 45414 | H10: =DATE($M$2,$S$2,3) -> 45415 | I10: =DATE($M$2,$S$2,4) -> 45416 | J10: =DATE($M$2,$S$2,5) -> 45417 | K10: =DATE($M$2,$S$2,6) -> 45418 | L10: =DATE($M$2,$S$2,7) -> 45419 | M10: =DATE($M$2,$S$2,8) -> 45420 | N10: =DATE($M$2,$S$2,9) -> 45421 | O10: =DATE($M$2,$S$2,10) -> 45422 | P10: =DATE($M$2,$S$2,11) -> 45423 | Q10: =DATE($M$2,$S$2,12) -> 45424 | R10: =DATE($M$2,$S$2,13) -> 45425 | S10: =DATE($M$2,$S$2,14) -> 45426 | T10: =DATE($M$2,$S$2,15) -> 45427 | U10: =DATE($M$2,$S$2,16) -> 45428 | V10: =DATE($M$2,$S$2,17) -> 45429 | W10: =DATE($M$2,$S$2,18) -> 45430 | X10: =DATE($M$2,$S$2,19) -> 45431 | Y10: =DATE($M$2,$S$2,20) -> 45432 | Z10: =DATE($M$2,$S$2,21) -> 45433 | AA10: =DATE($M$2,$S$2,22) -> 45434 | AB10: =DATE($M$2,$S$2,23) -> 45435 | AC10: =DATE($M$2,$S$2,24) -> 45436 | AD10: =DATE($M$2,$S$2,25) -> 45437 | AE10: =DATE($M$2,$S$2,26) -> 45438 | AF10: =DATE($M$2,$S$2,27) -> 45439 | AG10: =DATE($M$2,$S$2,28) -> 45440 | AH10: =IF(DAY(EOMONTH(F10,0))<29,"",DATE($M$2,$S$2,29)) -> 45441 | AI10: =IF(DAY(EOMONTH(F10,0))<30,"",DATE($M$2,$S$2,30)) -> 45442 | AJ10: =IF(DAY(EOMONTH(F10,0))<31,"",DATE($M$2,$S$2,31)) -> 45443
A11: 1 | B11: 管理者 | C11: A | E11: A | AK11: =+SUM(F11:AJ11) -> 0 | AL11: =IF($AK$3="４週",AK11/4,AK11/(DAY(EOMONTH($F$9,0))/7)) -> 0
A12: 2 | B12: 児童発達支援管理責任者 | C12: B | E12: B | AK12: =+SUM(F12:AJ12) -> 0 | AL12: =IF($AK$3="４週",AK12/4,AK12/(DAY(EOMONTH($F$9,0))/7)) -> 0
A13: 3 | B13: 児童発達支援管理責任者 | C13: C | E13: C | AK13: =+SUM(F13:AJ13) -> 0 | AL13: =IF($AK$3="４週",AK13/4,AK13/(DAY(EOMONTH($F$9,0))/7)) -> 0
A14: 4 | B14: 訪問支援員 | C14: D | E14: D | AK14: =+SUM(F14:AJ14) -> 0 | AL14: =IF($AK$3="４週",AK14/4,AK14/(DAY(EOMONTH($F$9,0))/7)) -> 0
A15: 5 | AK15: =+SUM(F15:AJ15) -> 0 | AL15: =IF($AK$3="４週",AK15/4,AK15/(DAY(EOMONTH($F$9,0))/7)) -> 0
A16: 6 | AK16: =+SUM(F16:AJ16) -> 0 | AL16: =IF($AK$3="４週",AK16/4,AK16/(DAY(EOMONTH($F$9,0))/7)) -> 0
A17: 7 | AK17: =+SUM(F17:AJ17) -> 0 | AL17: =IF($AK$3="４週",AK17/4,AK17/(DAY(EOMONTH($F$9,0))/7)) -> 0
A18: 8 | AK18: =+SUM(F18:AJ18) -> 0 | AL18: =IF($AK$3="４週",AK18/4,AK18/(DAY(EOMONTH($F$9,0))/7)) -> 0
A19: 9 | AK19: =+SUM(F19:AJ19) -> 0 | AL19: =IF($AK$3="４週",AK19/4,AK19/(DAY(EOMONTH($F$9,0))/7)) -> 0
A20: 10 | AK20: =+SUM(F20:AJ20) -> 0 | AL20: =IF($AK$3="４週",AK20/4,AK20/(DAY(EOMONTH($F$9,0))/7)) -> 0
A21: 11 | AK21: =+SUM(F21:AJ21) -> 0 | AL21: =IF($AK$3="４週",AK21/4,AK21/(DAY(EOMONTH($F$9,0))/7)) -> 0
A22: 12 | AK22: =+SUM(F22:AJ22) -> 0 | AL22: =IF($AK$3="４週",AK22/4,AK22/(DAY(EOMONTH($F$9,0))/7)) -> 0
A23: 13 | AK23: =+SUM(F23:AJ23) -> 0 | AL23: =IF($AK$3="４週",AK23/4,AK23/(DAY(EOMONTH($F$9,0))/7)) -> 0
A24: 14 | AK24: =+SUM(F24:AJ24) -> 0 | AL24: =IF($AK$3="４週",AK24/4,AK24/(DAY(EOMONTH($F$9,0))/7)) -> 0
A25: 15 | AK25: =+SUM(F25:AJ25) -> 0 | AL25: =IF($AK$3="４週",AK25/4,AK25/(DAY(EOMONTH($F$9,0))/7)) -> 0
A26: 16 | AK26: =+SUM(F26:AJ26) -> 0 | AL26: =IF($AK$3="４週",AK26/4,AK26/(DAY(EOMONTH($F$9,0))/7)) -> 0
... A30: 20 | AK30: =+SUM(F30:AJ30) -> 0 | AL30: =IF($AK$3="４週",AK30/4,AK30/(DAY(EOMONTH($F$9,0))/7)) -> 0
A31: 合計 | F31: =+SUM(F11:F30) -> 0 | G31: =+SUM(G11:G30) -> 0 | H31: =+SUM(H11:H30) -> 0 | I31: =+SUM(I11:I30) -> 0 | J31: =+SUM(J11:J30) -> 0 | K31: =+SUM(K11:K30) -> 0 | L31: =+SUM(L11:L30) -> 0 | M31: =+SUM(M11:M30) -> 0 | ... AJ31: =+SUM(AJ11:AJ30) -> 0 | AK31: =+SUM(F31:AJ31) -> 0 | AL31: =IF($AK$3="４週",AK31/4,AK31/(DAY(EOMONTH($F$9,0))/7)) -> 0
A32: サービス提供時間
A36: ＜人員基準に関する実人数集計＞
C37: =IF(VLOOKUP($AK$1,[5]選択肢!$A$1:$J$32,C42,FALSE)=0,"-",VLOOKUP($AK$1,[5]選択肢!$A$1:$J$32,C42,FALSE)) -> 管理者 | E37: =IF(VLOOKUP($AK$1,[5]選択肢!$A$1:$J$32,E42,FALSE)=0,"-",VLOOKUP($AK$1,[5]選択肢!$A$1:$J$32,E42,FALSE)) -> 児童発達支援管理責任者 | I37: =IF(VLOOKUP($AK$1,[5]選択肢!$A$1:$J$32,I42,FALSE)=0,"-",VLOOKUP($AK$1,[5]選択肢!$A$1:$J$32,I42,FALSE)) -> 訪問支援員 | O37: =IF(VLOOKUP($AK$1,[5]選択肢!$A$1:$J$32,O42,FALSE)=0,"-",VLOOKUP($AK$1,[5]選択肢!$A$1:$J$32,O42,FALSE)) -> - | U37: =IF(VLOOKUP($AK$1,[5]選択肢!$A$1:$J$32,U42,FALSE)=0,"-",VLOOKUP($AK$1,[5]選択肢!$A$1:$J$32,U42,FALSE)) -> - | AA37: =IF(VLOOKUP($AK$1,[5]選択肢!$A$1:$J$32,AA42,FALSE)=0,"-",VLOOKUP($AK$1,[5]選択肢!$A$1:$J$32,AA42,FALSE)) -> - | AG37: =IF(VLOOKUP($AK$1,[5]選択肢!$A$1:$J$32,AG42,FALSE)=0,"-",VLOOKUP($AK$1,[5]選択肢!$A$1:$J$32,AG42,FALSE)) -> - | AL37: =IF(VLOOKUP($AK$1,[5]選択肢!$A$1:$J$32,AL42,FALSE)=0,"-",VLOOKUP($AK$1,[5]選択肢!$A$1:$J$32,AL42,FALSE)) -> -
C38: 専従 | D38: 兼務 | E38: 専従 | F38: 兼務 | I38: 専従 | L38: 兼務 | O38: 専従 | R38: 兼務 | U38: 専従 | X38: 兼務 | AA38: 専従 | AD38: 兼務 | AG38: 専従 | AJ38: 兼務 | AL38: 専従 | AM38: 兼務
B39: 常勤 | C39: =COUNTIFS($B$11:$B$30,C$37,$C$11:$C$30,"A",$E$11:$E$30,"*") -> 1 | D39: =COUNTIFS($B$11:$B$30,C$37,$C$11:$C$30,"B",$E$11:$E$30,"*") -> 0 | E39: =COUNTIFS($B$11:$B$30,E$37,$C$11:$C$30,"A",$E$11:$E$30,"*") -> 0 | F39: =COUNTIFS($B$11:$B$30,E$37,$C$11:$C$30,"B",$E$11:$E$30,"*") -> 1 | I39: =COUNTIFS($B$11:$B$30,I$37,$C$11:$C$30,"A",$E$11:$E$30,"*") -> 0 | L39: =COUNTIFS($B$11:$B$30,I$37,$C$11:$C$30,"B",$E$11:$E$30,"*") -> 0 | O39: =COUNTIFS($B$11:$B$30,O$37,$C$11:$C$30,"A",$E$11:$E$30,"*") -> 0 | R39: =COUNTIFS($B$11:$B$30,O$37,$C$11:$C$30,"B",$E$11:$E$30,"*") -> 0 | U39: =COUNTIFS($B$11:$B$30,U$37,$C$11:$C$30,"A",$E$11:$E$30,"*") -> 0 | X39: =COUNTIFS($B$11:$B$30,U$37,$C$11:$C$30,"B",$E$11:$E$30,"*") -> 0 | AA39: =COUNTIFS($B$11:$B$30,AA$37,$C$11:$C$30,"A",$E$11:$E$30,"*") -> 0 | AD39: =COUNTIFS($B$11:$B$30,AA$37,$C$11:$C$30,"B",$E$11:$E$30,"*") -> 0 | AG39: =COUNTIFS($B$11:$B$30,AG$37,$C$11:$C$30,"A",$E$11:$E$30,"*") -> 0 | AJ39: =COUNTIFS($B$11:$B$30,AG$37,$C$11:$C$30,"B",$E$11:$E$30,"*") -> 0 | AL39: =COUNTIFS($B$11:$B$30,AL$37,$C$11:$C$30,"A",$E$11:$E$30,"*") -> 0 | AM39: =COUNTIFS($B$11:$B$30,AL$37,$C$11:$C$30,"B",$E$11:$E$30,"*") -> 0
B40: 非常勤 | C40: =COUNTIFS($B$11:$B$30,C$37,$C$11:$C$30,"C",$E$11:$E$30,"*") -> 0 | D40: =COUNTIFS($B$11:$B$30,C$37,$C$11:$C$30,"D",$E$11:$E$30,"*") -> 0 | E40: =COUNTIFS($B$11:$B$30,E$37,$C$11:$C$30,"C",$E$11:$E$30,"*") -> 1 | F40: =COUNTIFS($B$11:$B$30,E$37,$C$11:$C$30,"D",$E$11:$E$30,"*") -> 0 | I40: =COUNTIFS($B$11:$B$30,I$37,$C$11:$C$30,"C",$E$11:$E$30,"*") -> 0 | L40: =COUNTIFS($B$11:$B$30,I$37,$C$11:$C$30,"D",$E$11:$E$30,"*") -> 1 | O40: =COUNTIFS($B$11:$B$30,O$37,$C$11:$C$30,"C",$E$11:$E$30,"*") -> 0 | R40: =COUNTIFS($B$11:$B$30,O$37,$C$11:$C$30,"D",$E$11:$E$30,"*") -> 0 | U40: =COUNTIFS($B$11:$B$30,U$37,$C$11:$C$30,"C",$E$11:$E$30,"*") -> 0 | X40: =COUNTIFS($B$11:$B$30,U$37,$C$11:$C$30,"D",$E$11:$E$30,"*") -> 0 | AA40: =COUNTIFS($B$11:$B$30,AA$37,$C$11:$C$30,"C",$E$11:$E$30,"*") -> 0 | AD40: =COUNTIFS($B$11:$B$30,AA$37,$C$11:$C$30,"D",$E$11:$E$30,"*") -> 0 | AG40: =COUNTIFS($B$11:$B$30,AG$37,$C$11:$C$30,"C",$E$11:$E$30,"*") -> 0 | AJ40: =COUNTIFS($B$11:$B$30,AG$37,$C$11:$C$30,"D",$E$11:$E$30,"*") -> 0 | AL40: =COUNTIFS($B$11:$B$30,AL$37,$C$11:$C$30,"C",$E$11:$E$30,"*") -> 0 | AM40: =COUNTIFS($B$11:$B$30,AL$37,$C$11:$C$30,"D",$E$11:$E$30,"*") -> 0
B41: 常勤換算数 | C41: =IF($AK$3="４週",SUMIFS($AK$11:$AK$30,$B$11:$B$30,C37)/4/$AH$5,IF($AK$3="歴月",SUMIFS($AK$11:$AK$30,$B$11:$B$30,C37)/$AL$5,"記載する期間を選択してください")) -> #DIV/0! | E41: =IF($AK$3="４週",SUMIFS($AK$11:$AK$30,$B$11:$B$30,E37)/4/$AH$5,IF($AK$3="歴月",SUMIFS($AK$11:$AK$30,$B$11:$B$30,E37)/$AL$5,"記載する期間を選択してください")) -> #DIV/0! | I41: =IF($AK$3="４週",SUMIFS($AK$11:$AK$30,$B$11:$B$30,I37)/4/$AH$5,IF($AK$3="歴月",SUMIFS($AK$11:$AK$30,$B$11:$B$30,I37)/$AL$5,"記載する期間を選択してください")) -> #DIV/0! | O41: =IF($AK$3="４週",SUMIFS($AK$11:$AK$30,$B$11:$B$30,O37)/4/$AH$5,IF($AK$3="歴月",SUMIFS($AK$11:$AK$30,$B$11:$B$30,O37)/$AL$5,"記載する期間を選択してください")) -> #DIV/0! | U41: =IF($AK$3="４週",SUMIFS($AK$11:$AK$30,$B$11:$B$30,U37)/4/$AH$5,IF($AK$3="歴月",SUMIFS($AK$11:$AK$30,$B$11:$B$30,U37)/$AL$5,"記載する期間を選択してください")) -> #DIV/0! | AA41: =IF($AK$3="４週",SUMIFS($AK$11:$AK$30,$B$11:$B$30,AA37)/4/$AH$5,IF($AK$3="歴月",SUMIFS($AK$11:$AK$30,$B$11:$B$30,AA37)/$AL$5,"記載する期間を選択してください")) -> #DIV/0! | AG41: =IF($AK$3="４週",SUMIFS($AK$11:$AK$30,$B$11:$B$30,AG37)/4/$AH$5,IF($AK$3="歴月",SUMIFS($AK$11:$AK$30,$B$11:$B$30,AG37)/$AL$5,"記載する期間を選択してください")) -> #DIV/0! | AL41: =IF($AK$3="４週",SUMIFS($AK$11:$AK$30,$B$11:$B$30,AL37)/4/$AH$5,IF($AK$3="歴月",SUMIFS($AK$11:$AK$30,$B$11:$B$30,AL37)/$AL$5,"記載する期間を選択してください")) -> #DIV/0!
C42: 2 | E42: 3 | I42: 4 | O42: 5 | U42: 6 | AA42: 7 | AG42: 8 | AL42: 9
A43: ・最初に「年月欄」「サービス種別」「事業所名」を入力してください。 | R43: 6 | X43: 7 | AD43: 8 | AJ43: 9
A44: (1) 「４週」・「暦月」のいずれかを選択してください。
A45: (2) 「予定」・「実績」のいずれかを選択してください。
A46: (3) 事業所における常勤の従業者が勤務すべき時間数を入力してください。
A47: (4) 従業者の職種を入力してください。
...

Sheet 勤務形態一覧表（保育所等訪問支援）
A1: 従業者の勤務の体制及び勤務形態一覧表 | AI1: サービス種別 | AK1: 保育所等訪問支援
M2: 2024 | Q2: 年 | S2: 5 | U2: 月 | AI2: 事業所名
AI3: (1)記載する期間 | AK3: ４週
AI4: (2)予定/実績の別
AG5: (3)事業所における常勤の従業者が勤務すべき時間数 | AK5: 時間/週 | AM5: 時間/月
A7: No. | B7: (4)職種 | C7: (5)勤務形態 | D7: (6)資格 | E7: (7)氏名 | F7: (8) | AK7: (9)勤務時間数合計 | AL7: (10)週平均の勤務時間数 | AM7: (11)兼務状況 （兼務先／兼務する職務の内容）等
F8: 第１週 | M8: 第２週 | T8: 第３週 | AA8: 第４週 | AH8: 第５週
B9: ※選択肢にない職種については直接入力してください | F9: =DATE($M$2,$S$2,1) -> 45413 | G9: =DATE($M$2,$S$2,2) -> 45414 | H9: =DATE($M$2,$S$2,3) -> 45415 | I9: =DATE($M$2,$S$2,4) -> 45416 | J9: =DATE($M$2,$S$2,5) -> 45417 | K9: =DATE($M$2,$S$2,6) -> 45418 | L9: =DATE($M$2,$S$2,7) -> 45419 | M9: =DATE($M$2,$S$2,8) -> 45420 | N9: =DATE($M$2,$S$2,9) -> 45421 | O9: =DATE($M$2,$S$2,10) -> 45422 | P9: =DATE($M$2,$S$2,11) -> 45423 | Q9: =DATE($M$2,$S$2,12) -> 45424 | R9: =DATE($M$2,$S$2,13) -> 45425 | S9: =DATE($M$2,$S$2,14) -> 45426 | T9: =DATE($M$2,$S$2,15) -> 45427 | U9: =DATE($M$2,$S$2,16) -> 45428 | V9: =DATE($M$2,$S$2,17) -> 45429 | W9: =DATE($M$2,$S$2,18) -> 45430 | X9: =DATE($M$2,$S$2,19) -> 45431 | Y9: =DATE($M$2,$S$2,20) -> 45432 | Z9: =DATE($M$2,$S$2,21) -> 45433 | AA9: =DATE($M$2,$S$2,22) -> 45434 | AB9: =DATE($M$2,$S$2,23) -> 45435 | AC9: =DATE($M$2,$S$2,24) -> 45436 | AD9: =DATE($M$2,$S$2,25) -> 45437 | AE9: =DATE($M$2,$S$2,26) -> 45438 | AF9: =DATE($M$2,$S$2,27) -> 45439 | AG9: =DATE($M$2,$S$2,28) -> 45440 | AH9: =IF(DAY(EOMONTH(F9,0))<29,"",DATE($M$2,$S$2,29)) -> 45441 | AI9: =IF(DAY(EOMONTH(F9,0))<30,"",DATE($M$2,$S$2,30)) -> 45442 | AJ9: =IF(DAY(EOMONTH(F9,0))<31,"",DATE($M$2,$S$2,31)) -> 45443
F10: =DATE($M$2,$S$2,1) -> 45413 | G10: =DATE($M$2,$S$2,2) -> 45414 | H10: =DATE($M$2,$S$2,3) -> 45415 | I10: =DATE($M$2,$S$2,4) -> 45416 | J10: =DATE($M$2,$S$2,5) -> 45417 | K10: =DATE($M$2,$S$2,6) -> 45418 | L10: =DATE($M$2,$S$2,7) -> 45419 | M10: =DATE($M$2,$S$2,8) -> 45420 | N10: =DATE($M$2,$S$2,9) -> 45421 | O10: =DATE($M$2,$S$2,10) -> 45422 | P10: =DATE($M$2,$S$2,11) -> 45423 | Q10: =DATE($M$2,$S$2,12) -> 45424 | R10: =DATE($M$2,$S$2,13) -> 45425 | S10: =DATE($M$2,$S$2,14) -> 45426 | T10: =DATE($M$2,$S$2,15) -> 45427 | U10: =DATE($M$2,$S$2,16) -> 45428 | V10: =DATE($M$2,$S$2,17) -> 45429 | W10: =DATE($M$2,$S$2,18) -> 45430 | X10: =DATE($M$2,$S$2,19) -> 45431 | Y10: =DATE($M$2,$S$2,20) -> 45432 | Z10: =DATE($M$2,$S$2,21) -> 45433 | AA10: =DATE($M$2,$S$2,22) -> 45434 | AB10: =DATE($M$2,$S$2,23) -> 45435 | AC10: =DATE($M$2,$S$2,24) -> 45436 | AD10: =DATE($M$2,$S$2,25) -> 45437 | AE10: =DATE($M$2,$S$2,26) -> 45438 | AF10: =DATE($M$2,$S$2,27) -> 45439 | AG10: =DATE($M$2,$S$2,28) -> 45440 | AH10: =IF(DAY(EOMONTH(F10,0))<29,"",DATE($M$2,$S$2,29)) -> 45441 | AI10: =IF(DAY(EOMONTH(F10,0))<30,"",DATE($M$2,$S$2,30)) -> 45442 | AJ10: =IF(DAY(EOMONTH(F10,0))<31,"",DATE($M$2,$S$2,31)) -> 45443
A11: 1 | B11: 管理者 | C11: A | E11: A | AK11: =+SUM(F11:AJ11) -> 0 | AL11: =IF($AK$3="４週",AK11/4,AK11/(DAY(EOMONTH($F$9,0))/7)) -> 0
A12: 2 | B12: 児童発達支援管理責任者 | C12: B | E12: B | AK12: =+SUM(F12:AJ12) -> 0 | AL12: =IF($AK$3="４週",AK12/4,AK12/(DAY(EOMONTH($F$9,0))/7)) -> 0
A13: 3 | B13: 児童発達支援管理責任者 | C13: C | E13: C | AK13: =+SUM(F13:AJ13) -> 0 | AL13: =IF($AK$3="４週",AK13/4,AK13/(DAY(EOMONTH($F$9,0))/7)) -> 0
A14: 4 | B14: 訪問支援員 | C14: D | E14: D | AK14: =+SUM(F14:AJ14) -> 0 | AL14: =IF($AK$3="４週",AK14/4,AK14/(DAY(EOMONTH($F$9,0))/7)) -> 0
A15: 5 | AK15: =+SUM(F15:AJ15) -> 0 | AL15: =IF($AK$3="４週",AK15/4,AK15/(DAY(EOMONTH($F$9,0))/7)) -> 0
A16: 6 | AK16: =+SUM(F16:AJ16) -> 0 | AL16: =IF($AK$3="４週",AK16/4,AK16/(DAY(EOMONTH($F$9,0))/7)) -> 0
A17: 7 | AK17: =+SUM(F17:AJ17) -> 0 | AL17: =IF($AK$3="４週",AK17/4,AK17/(DAY(EOMONTH($F$9,0))/7)) -> 0
A18: 8 | AK18: =+SUM(F18:AJ18) -> 0 | AL18: =IF($AK$3="４週",AK18/4,AK18/(DAY(EOMONTH($F$9,0))/7)) -> 0
A19: 9 | AK19: =+SUM(F19:AJ19) -> 0 | AL19: =IF($AK$3="４週",AK19/4,AK19/(DAY(EOMONTH($F$9,0))/7)) -> 0
A20: 10 | AK20: =+SUM(F20:AJ20) -> 0 | AL20: =IF($AK$3="４週",AK20/4,AK20/(DAY(EOMONTH($F$9,0))/7)) -> 0
A21: 11 | AK21: =+SUM(F21:AJ21) -> 0 | AL21: =IF($AK$3="４週",AK21/4,AK21/(DAY(EOMONTH($F$9,0))/7)) -> 0
A22: 12 | AK22: =+SUM(F22:AJ22) -> 0 | AL22: =IF($AK$3="４週",AK22/4,AK22/(DAY(EOMONTH($F$9,0))/7)) -> 0
A23: 13 | AK23: =+SUM(F23:AJ23) -> 0 | AL23: =IF($AK$3="４週",AK23/4,AK23/(DAY(EOMONTH($F$9,0))/7)) -> 0
A24: 14 | AK24: =+SUM(F24:AJ24) -> 0 | AL24: =IF($AK$3="４週",AK24/4,AK24/(DAY(EOMONTH($F$9,0))/7)) -> 0
A25: 15 | AK25: =+SUM(F25:AJ25) -> 0 | AL25: =IF($AK$3="４週",AK25/4,AK25/(DAY(EOMONTH($F$9,0))/7)) -> 0
A26: 16 | AK26: =+SUM(F26:AJ26) -> 0 | AL26: =IF($AK$3="４週",AK26/4,AK26/(DAY(EOMONTH($F$9,0))/7)) -> 0
... A30: 20 | AK30: =+SUM(F30:AJ30) -> 0 | AL30: =IF($AK$3="４週",AK30/4,AK30/(DAY(EOMONTH($F$9,0))/7)) -> 0
A31: 合計 | F31: =+SUM(F11:F30) -> 0 | G31: =+SUM(G11:G30) -> 0 | H31: =+SUM(H11:H30) -> 0 | I31: =+SUM(I11:I30) -> 0 | J31: =+SUM(J11:J30) -> 0 | K31: =+SUM(K11:K30) -> 0 | L31: =+SUM(L11:L30) -> 0 | M31: =+SUM(M11:M30) -> 0 | ... AJ31: =+SUM(AJ11:AJ30) -> 0 | AK31: =+SUM(F31:AJ31) -> 0 | AL31: =IF($AK$3="４週",AK31/4,AK31/(DAY(EOMONTH($F$9,0))/7)) -> 0
A32: サービス提供時間
A36: ＜人員基準に関する実人数集計＞
C37: =IF(VLOOKUP($AK$1,[5]選択肢!$A$1:$J$32,C42,FALSE)=0,"-",VLOOKUP($AK$1,[5]選択肢!$A$1:$J$32,C42,FALSE)) -> 管理者 | E37: =IF(VLOOKUP($AK$1,[5]選択肢!$A$1:$J$32,E42,FALSE)=0,"-",VLOOKUP($AK$1,[5]選択肢!$A$1:$J$32,E42,FALSE)) -> 児童発達支援管理責任者 | I37: =IF(VLOOKUP($AK$1,[5]選択肢!$A$1:$J$32,I42,FALSE)=0,"-",VLOOKUP($AK$1,[5]選択肢!$A$1:$J$32,I42,FALSE)) -> 訪問支援員 | O37: =IF(VLOOKUP($AK$1,[5]選択肢!$A$1:$J$32,O42,FALSE)=0,"-",VLOOKUP($AK$1,[5]選択肢!$A$1:$J$32,O42,FALSE)) -> - | U37: =IF(VLOOKUP($AK$1,[5]選択肢!$A$1:$J$32,U42,FALSE)=0,"-",VLOOKUP($AK$1,[5]選択肢!$A$1:$J$32,U42,FALSE)) -> - | AA37: =IF(VLOOKUP($AK$1,[5]選択肢!$A$1:$J$32,AA42,FALSE)=0,"-",VLOOKUP($AK$1,[5]選択肢!$A$1:$J$32,AA42,FALSE)) -> - | AG37: =IF(VLOOKUP($AK$1,[5]選択肢!$A$1:$J$32,AG42,FALSE)=0,"-",VLOOKUP($AK$1,[5]選択肢!$A$1:$J$32,AG42,FALSE)) -> - | AL37: =IF(VLOOKUP($AK$1,[5]選択肢!$A$1:$J$32,AL42,FALSE)=0,"-",VLOOKUP($AK$1,[5]選択肢!$A$1:$J$32,AL42,FALSE)) -> -
C38: 専従 | D38: 兼務 | E38: 専従 | F38: 兼務 | I38: 専従 | L38: 兼務 | O38: 専従 | R38: 兼務 | U38: 専従 | X38: 兼務 | AA38: 専従 | AD38: 兼務 | AG38: 専従 | AJ38: 兼務 | AL38: 専従 | AM38: 兼務
