Workbook
Name ___________kk29: #REF!
Name __________kk06: #REF!
Name __________kk29: #REF!
Name _________kk06: #REF!
Name _________kk29: #REF!
Name ________kk06: #REF!
Name ________kk29: #REF!
Name _______kk06: #REF!
Name _______kk29: #REF!
Name ______kk06: #REF!
Name ______kk29: #REF!
Name _____kk06: #REF!
Name _____kk29: #REF!
Name ____kk06: #REF!
Name ____kk1: #REF!
Name ____kk29: #REF!
Name ___kk06: #REF!
Name ___kk1: #REF!
Name ___kk29: #REF!
Name __kk06: #REF!
Name __kk1: #REF!
Name __kk29: #REF!
Name _kk06: #REF!
Name _kk1: #REF!
Name _kk1: #REF!
Name _kk2: #REF!
Name _kk29: #REF!
Name ▼選択してください。: #REF!
Name ▼選択してください。: #REF!
Name ▼選択してください。: #REF!
Name ②従業者の員数: #REF!
Name aa: #REF!
Name aaaaa: #REF!
Name as: #REF!
Name Avrg: #REF!
Name Avrg: #REF!
Name Avrg: #REF!
Name avrg1: #REF!
Name CSV_サービス情報: #REF!
Name CSV_サービス情報: #REF!
Name CSV_サービス情報: #REF!
Name CSV_口座振込依頼書: #REF!
Name CSV_口座振込依頼書: #REF!
Name CSV_口座振込依頼書: #REF!
Name CSV_施設種別: #REF!
Name CSV_追加情報: #REF!
Name CSV_追加情報: #REF!
Name CSV_追加情報: #REF!
Name CSV_付表１: #REF!
Name CSV_付表１: #REF!
Name CSV_付表１: #REF!
Name CSV_付表１＿１: #REF!
Name CSV_付表１＿１: #REF!
Name CSV_付表１＿２: #REF!
Name CSV_付表１＿２: #REF!
Name CSV_付表１＿２: #REF!
Name CSV_付表１０: #REF!
Name CSV_付表１０: #REF!
Name CSV_付表１０: #REF!
Name CSV_付表１０＿２: #REF!

Sheet 指定申請書確認表【印刷して必ず提出】
A1: 新規指定申請書確認表（障害児通所支援事業所）
J3: 【令和８年４月現在】
A4: 法人名 | E4: 事業所名 | I4: 確認者名 連絡先
A6: 様式名等 | D6: 大項目 | E6: 小項目 | F6: 記載時の留意事項 | K6: 確認欄
A7: まず最初に | D7: 法令遵守 | E7: 事前確認表 | F7: ＜全事業者対象＞ 指定予定日の前々月15日までに提出していますか？
E8: 事業所等に係る情報の公表 | F8: ＜すでに指定を受けている事業所がある場合＞ 児童福祉法（以下「法」という。）第33条の18により、指定障害児事業者等には事業所等に係る情報の公表が義務付けられています。ＷＡＭ-ＮＥＴの「障害福祉サービス等情報検索」ですでに指定を受けている全ての事業所の直近の情報を公表していますか？
E9: 業務管理体制の届出 | F9: ＜すでに指定を受けている事業所がある場合＞ 法第21条の５の26及び第24条の19の２により、指定障害児事業者等は業務管理体制の整備に関する事項の届出が義務付けられています。直近の内容で届け出ていることを確認しましたか？
A10: 様式第１号 指定申請書 | F10: 日付けは提出日になっていますか？
D11: 申請者（設置者） | E11: 名称及び主たる事務所の所在地 | F11: 法人の名称・所在地は「履歴事項全部証明書」の表記と同様になっていますか？（数字やハイフンは全角となっていますか）
D12: 指定を受けようとする事業所・施設の種類 | E12: 名称及び事業所（施設）の所在地 | F12: 事業所の名称及び住所は「運営規程」の表記と同様になっていますか？（数字やハイフンは全角となっていますか）郵便番号はハイフン無しの半角７桁で記入していますか？
E13: 主たる事業所名称 | F13: 主たる事業所名称は記載されていますか？ ※多機能型事業所の場合、主たる事業所に統一してください。
A14: 付表 | D14: 管理者・児童発達支援管理責任者 | F14: 管理者・児童発達支援管理責任者の氏名や住所は参考様式４の「経歴書」と相違ないですか？
D15: 設備 | F15: 最大定員＝定員 1人あたりの最小床面積＝指導訓練室の面積／定員（小数点第二位以下を切り捨て）
D16: 主な掲示事項 | E16: 営業日 | F16: 営業日は「運営規程」と相違ないですか？
E17: 利用定員 | F17: 記載もれはありませんか？
E18: 通常の事業の実施地域 | F18: 通常の事業の実施地域は「運営規定」と相違ないですか？
E19: 協力医療機関 | F19: 名称及び診療科名は、参考様式10の内容と相違ないですか？（機関名は正式な名称を記載していますか）
A20: 別紙２（その１）多機能型の場合 | D20: サービス種類 | F20: 児童発達支援→61 居宅訪問型児童発達支援→65 放課後等デイサービス→63 保育所等訪問支援→64 サービスコード（数字）で記載をしていますか
D21: 申請に係る事業所 | F21: 申請する事業所についての記載となっていますか？
D22: 多機能型の他の事業所 | F22: 当該事業所以外の多機能型としての事業所について記載していますか？
D23: 管理者・児童発達支援管理責任者 | F23: 管理者・児童発達支援管理責任者の氏名や住所等は記載されていますか？
D24: 主たる対象とする障害の種別 | F24: 運営規程の記載と相違ないですか？ 対象の障害に「１」を記載ください（〇ではなく）
A25: 別紙２（その２）多機能型の場合 | D25: 従業者の職種・員数 | F25: 多機能型として実施する全ての従業員の合計値を記載していますか？
F26: 従業者の職種で記載されている以外の従業員が配置されている場合、空欄に記載していますか？
A27: 口座振込（変更）依頼書 | D27: 振込先 | F27: 振込先は正確に記載されていますか（通帳の写し等と突合）？
D28: 委任状 | F28: 申請者と口座名義人が異なる場合は、申請者による委任を行っていますか？ ※異なる場合だけ右欄にチェックしてください。
A29: 定款、登記簿謄本 | D29: ※営利法人や特定非営利活動法人の場合 | F29: 「目的」又は「事業」に、「児童福祉法に基づく障害児通所支援事業」が明記されていますか？
D30: 登記事項証明（履歴事項全部証明書） | F30: 履歴事項全部証明書の原本は用意されていますか？ ※複数事業所を同時申請をする場合は、原本は１部で差支えありませんが、他の申請書には写しを必ず添付してください。
F31: 履歴事項全部証明書の原本は面接日から３か月以内のものになっていますか？
D32: ※法人等で申請までに定款又は寄付行為の変更手続きが終了していない場合 | F32: 変更認可前の定款等及び登記簿謄本（写しでも可）に加えて、当該事業を行う旨の内容が確認できる書類（理事会議事録等）は添付されていますか？
A33: 運営規程 ※右欄の大項目に記載の第○条は「運営規程（作成例）」に合わせているため、異なる場合があります。 | D33: 運営規程の確認① | F33: ウェブサイト「障害福祉情報サービスかながわ」の中にある「運営規程（作成例）」は参考にしましたか？
D34: 運営規程の確認② | F34: 「運営規程（作成例）」は最新のものを確認されましたか？
D35: 第３条（事業所の名称等） | F35: 「付表」の「名称」と「所在地」は相違ないですか？
D36: 第４条（従業者の職種、員数及び職務内容） | F36: 従業員の員数は「勤務形態一覧表」共に相違ないですか？
D37: 第５条（営業日及び営業時間等） | E37: 営業日 | F37: 営業日は「付表」と「勤務形態一覧表」共に相違ないですか？ ※行事等で営業日以外の日で営業を行う場合は、その旨も記載してください。
E38: 営業時間 | F38: 営業時間は「付表」と相違ないですか？
D39: 第５条（営業日及び営業時間等） | E39: 年間の休日 | F39: 当該事業所の基本の休日を記載していますか？ 例：土、日、祝日、年末年始（12月30日～１月３日） ※年間の休日について、「その他事業所が定める休日」としている場合は、当該事業所の年間スケジュール計画も添付してください。
D40: 第7条（主たる対象者） | F40: 「付表」及び「参考様式８（主たる対象を特定する理由等）」の「主たる対象者」と相違ないですか？
D41: 第10条（通常の事業の実施地域） | F41: 「付表」の「通常の事業の実施地域」と相違ないですか？ ※「周辺」「近隣」「一部」等地域があいまいな記載は不可となります。 ※神奈川県全域としている場合は訪問・送迎が可能か法人で再度確認をお願いします。
D42: 第14条（苦情解決） | F42: 項目の一つは「都道府県知事が行う報告若しくは～」の記載になっていますか？
D43: 第16条（その他運営に関する重要事項） | E43: 第１ | F43: 研修の回数は、「事業計画書（参考様式11）」と相違ありませんか？
E44: 第６ | F44: 「この規程に定める事項のほか、運営に関する重要事項は〇○法人と事業所の管理者～」の文中にある○○法人は申請法人名が記載されていますか？
D45: 附則 | F45: 事業開始年月日の記載になっていますか？
A46: 参考様式１ 事業所・施設の平面図 | D46: 平面図（既成の建築図面等を含む） ※既成の建築図面等の場合はＡ３又はＡ４に縮尺してください。 | F46: 複数の事業所（サービス）で同じ建物を使っている場合、事業で使う場所が分かるように色分け等していますか？
A47: 参考様式２ 居室面積等一覧表 | D47: 面積 | F47: 事業所の設備等の面積が記載されていますか？ ※平面図と相違ないですか？
A48: 参考様式３ 事業所の設備・備品等一覧表 | D48: 備品 | E48: 備品の品名及び数量 | F48: 備品の数量は記載されていますか？
F49: 鍵つき書庫、手指消毒、消防設備は記載されていますか？
A50: 事業所の外観及び内観の写真 | D50: 写真① | F50: 外観（建物の外観、看板）、内観（鍵つき書庫、手指消毒、消防設備を含む）の写真は用意できていますか？
D51: 写真② | F51: 内観の写真は物品の配置などを済ませて事業を開始できる状態の写真となっていますか？（教材や支援器具も）
D52: 写真③ | F52: 建物のどの部分の写真であるか分かるようになっていますか？
A53: 参考様式４ 管理者・児童発達支援管理責任者・相談支援専門員等の経歴書 | D53: 【管理者】（管理又は従事する事業所が複数の場合） ※兼務していない場合はチェック不要 | F53: 管理者の兼務は、当該事業所の他の職務、又は同一敷地内にある他の事業所の職務だけとなっていますか。また、当該事業所の管理業務に支障がないと認められる範囲内となっていますか？
D54: 【児童発達支援管理責任者】 ※兼務していない場合はチェック不要 | F54: 当該事業所の管理者以外で兼務はしていないですか？
D55: 氏名・住所 | F55: 氏名・〒・住所は「付表」と相違ないですか？
D56: 資格の種類 （児童発達支援管理責任者） | F56: 児童発達支援管理責任者の実務経験の要件上、資格が必要な場合、資格証の写しを添付していますか？
F57: 「資格取得年月日」は資格証の「登録年月日」の記載になっていますか？
A58: 参考様式５ 実務経験（見込）証明書 | D58: 印 | F58: 印は当該職員が雇用されていた法人印となっていますか？
D59: 業務期間 | F59: 業務期間は「経歴書」と相違はないですか？
D60: 業務に従事した日数 | F60: 日数の記載はしていますか？
D61: 業務内容 | F61: 職名は直接サービス提供職員時の職名で記載していますか？
D62: 児童発達支援管理責任者又は児童指導員（実務経験により任用資格を得た者）全員分を提出する必要があります。
D63: ※同一法人の事業所２か所以上に勤務した場合は、「事業所名」・「業務期間」・「日数」・「職種」・「業務内容（職名含む）」をそれぞれ項目を分けて記入していますか？
A64: サービス管理責任者等研修 | D64: 研修修了証等 | F64: ①サービス管理責任者等補足研修（相談支援従事者初任者研修の講義部分）、②サービス管理責任者等基礎研修、③サービス管理責任者等実践研修又はサービス管理責任者等更新研修の修了証の写しは提出していますか？
A65: 参考様式６ 利用者（入所者）又はその家族からの苦情を解決するために講ずる措置の概要 | D65: 措置の概要 | F65: 管理者の対応は明確に明記されていますか？ ※法人に苦情解決の内規があれば添付をお願いします。
A66: 従業者の体制及び勤務形態一覧表 | D66: 職種 | F66: 「職種」の欄で管理者・児童発達支援管理責任者・児童指導員等の職種が選択されていますか？
D67: 児童発達支援管理責任者 | F67: 児童発達支援管理責任者は直接サービス提供職員と兼務していませんか？
D68: 当該事業所・施設において常勤職員が１週間に勤務すべき時間数 | F68: 法人の就業規則に定められている常勤職員の１週間の時間数が入力されていますか？
D69: 兼務先 | F69: 「兼務状況」は記載されていますか？
D70: 直接支援以外の職員 | F70: 運転手・事務員・調理員等配置基準に無い職員は記載は不要です。（参考様式７に記載ください）
A71: 参考様式８ 主たる対象者を特定する理由等 | D71: 特定する理由 | F71: 特定する理由は客観的で具体的な理由となっていますか？
A72: 参考様式９ 誓約書 | D72: 申請者（法人）の名称、代表者の職名・氏名 | F72: 申請者（法人）の名称、代表者本人の職名・氏名は確認しましたか？
A73: 参考様式９別紙 役員等名簿 | D73: 申請者（法人）名 | F73: 申請者（法人）名は記載されていますか？
D74: 氏名等① | F74: 氏名、生年月日、役職名・呼称、住所、TEL、FAXの記載はされていますか？
D75: 氏名等② | F75: 管理者も記載されていますか？
A76: 参考様式10 協力医療機関の契約の内容 | D76: 契約の内容 | F76: 事前に協力医療機関の了解を得た上で、契約内容を記載していますか？ ※嘱託医契約ではありません。
F77: 緊急時の受入れについて、契約内容に含まれていますか？
F78: 当該事業所と協力医療機関間で契約書（協定書）を結んでいますか？ ※口頭での契約の場合は、契約内容を参考様式10に詳細に記載してください。
A79: 管理者誓約書 | D79: 管理者誓約書 | F79: 管理者名欄は自署していますか？
F80: 指定申請書提出時は管理者の立会いが必要です。
A81: 財産目録又は決算書 | D81: 財産目録又は決算書 | F81: 法人の「財産目録」又は「決算書」（直近のもの）の添付はしていますか？ 「財産目録」又は「決算書」がない場合は通帳の写しを添付していますか？ ※負債額が資産に比べ大きすぎていないか、ご確認ください。
A82: 参考様式11 事業計画書 | D82: 事業の内容 | F82: 一日のスケジュールやプログラムなど、具体的な支援内容が記載されていますか？ また、年間の事業計画や支援計画が具体的にわかる内容になっていますか？（サービスの一般的な内容では不可となります）。 ※パンフレット等もあれば添付してください。
D83: 研修計画 | F83: 「運営規程」中に記載されている研修頻度等と相違ないですか？具体的な研修内容が記載されていますか？
A84: 収支予算書 | D84: 収支予算書 | F84: サービス種類ごとに作成していますか？ （例 児童発達支援・放課後等デイサービスの収入を分けて作成）
F85: 事業開始年月日から起算して１年間で作成していますか？ 例：Ｒ２年７月１日指定希望の場合 ⇒ Ｒ２年７月～Ｒ３年6月
F86: 「収支予算書」は、事業計画を基に、申請事業に係る当該事業所の収支予算となっていますか？
A87: 社会保険及び労働保険への加入状況にかかる確認票 | F87: 社会保険・労働保険に加入している場合は、それを証明する書類を添付していますか？
A88: その他 | D88: 賠償責任保険証書 | F88: 不慮の事故に備えた、「賠償責任保険証書」の写し及び事故が発生した場合の補償の概要がわかる資料の写しを添付していますか？
A89: その他 | D89: 建物が賃貸の場合 | E89: 建物賃貸借契約書① | F89: 事業所の建物が賃貸の場合「建物賃貸借契約書」等の写しを添付していますか？
D90: 建物が賃貸の場合 | E90: 建物賃貸借契約書② | F90: 契約書の住所・期間・目的は当該事業所の申請と相違ありませんか？ ※賃貸借契約書住所は申請書類と相違がないかご確認ください。 ※期間は指定を希望している年月時点で賃貸物件を使用できる状態としてください。 ※賃貸借契約書内の目的と当該事業所の使用目的が合致しているかご確認ください。
E91: 建物賃貸借契約書③ | F91: 契約者が法人代表者となっていますか？
D92: 指定書送付用レターパックライト | F92: 郵便番号・住所は合っていますか？ 念のため追跡番号を下記にお控えください。 追跡番号：
A94: 児童福祉法に基づく指定障害児通所支援事業所等給付費算定に係る体制等に関する届出書
A95: 様式第１号 障害児（通所・入所）給付費算定に係る体制等に関する届出書 | F95: 日付けは提出日になっていますか？
D96: サービスの種類 | F96: 児童発達支援→61 居宅訪問型児童発達支援→65 放課後等デイサービス→63 保育所等訪問支援→64
A97: 別紙１ 障害児通所・入所給付費の算定に係る体制等状況一覧表 | D97: 地域区分 | F97: 別表から事業所所在地の地域区分を適切に記載していますか？
A98: 勤務形態一覧表（児童発達支援） | D98: 職種 | F98: 児童指導員、保育士の記載は適切にされていますか？
F99: 児童指導員、保育士等の有資格者は資格が確認できる書類を添付していますか？
D100: 勤務形態 | F100: 児童指導員、保育士のうち一人以上は常勤専従職員を配置していますか？
D101: 氏名 | F101: 申請に係る添付書類「勤務形態一覧表」と相違ないですか？
F102: 最低基準の職員配置を上段に、加配部分の職員を下段に記載していますか。 ＊営業時間を通じて基準上の職員数の配置が必要です。
A103: 勤務形態一覧表（放課後等デイサービス） | D103: 職種 | F103: 児童指導員、保育士の記載は適切にされていますか？
...

Sheet 口座振込依頼書
A1: 口座振込（変更）依頼書（兼 受領委任状）
A4: 神奈川県国民健康保険団体連合会理事長 殿
A6: 以下の口座に，次に掲げる介護給付費等の振込を依頼します。
U8: 令和 | AA8: 年 | AG8: 月 | AM8: 日
A11: 申請者（債権者） | C11: 法人名称 ( 開 設 者 ) | AG11: 届出印
C13: 郵便番号 | I13: 〒 | N13: -
C14: 事業所 所在地
C18: 代表者氏名
C20: 事業所名称
C22: 事業所番号
C24: 対象事業名
A27: 送付先 | C27: 郵便番号 | I27: 〒 | K27: =IF(#REF!="","",LEFT(#REF!,3)) -> #REF! | N27: - | O27: =IF(#REF!="","",RIGHT(#REF!,4)) -> #REF!
C28: 送付先住所 | I28: =IF(#REF!="","",#REF!) -> #REF!
I30: =IF(#REF!="","",#REF!) -> #REF!
C32: 宛名 | I32: =IF(#REF!="","",#REF!) -> #REF!
C34: 電話番号 | I34: =IF(#REF!="","",#REF!) -> #REF! | L34: =IF(I34="","","-") -> #REF! | M34: =IF(#REF!="","",#REF!) -> #REF! | P34: =IF(M34="","","-") -> #REF! | Q34: =IF(#REF!="","",#REF!) -> #REF!
A37: 振込先 | C37: 金融機関名 | Y37: 金 融 機 関 コ ー ド
C39: 支店名 | Y39: 支 店 コ ー ド
C41: 口座番号 | W41: 預金種目 | AC41: 1
C43: 口座名義人 | E43: ﾌﾘｶﾞﾅ
E45: 氏名
A49: 受領委任状
C50: 申請者（債権者）は，口座名義人（受任者）に，上記介護給付費等の受領に関する一切の権限を
C51: 委任します。
C52: =U8 -> 令和 | F52: =IF(X8<>"",X8,"") | I52: 年 | J52: =IF(AD8<>"",AD8,"") | M52: 月 | N52: =IF(AJ8<>"",AJ8,"") | Q52: 日
C54: 委任者 | I54: =IF(I18<>"",I18,"") | AK54: 印
I57: ※振込エラー防止のためどちらか一方にチェックをお願いします。
E58: 取扱金融機関の確認を以下に明記します。 | V58: ２枚目に通帳のコピーを添付します。
A60: 金 融 機 関 記 載 欄
I61: 上記口座が存在することを確認しました。
K63: 金融機関名
K65: 確認年月日 | AH65: ㊞
A69: 【振込先金融機関 通帳の写し添付様式】
U72: =$U$8 -> 令和 | AA72: 年 | AG72: 月 | AM72: 日
E75: 事業所名
E81: ※振込先金融機関の通帳の表面の名義人名の写し
D98: こちらに通帳の表面の写しを貼ってください。
E106: ※振込先金融機関の通帳の名義人名カタカナの写し
E123: こちらにカタカナ部分の写しを貼ってください。
T169: 指定年月日

Sheet 別紙１
V1: （別紙）
C3: 同一法人において既に指定を受けている事業等について | O3: 法人名
A5: 法律 | C5: サービスの種類 | G5: 事業所・施設名称 | N5: 指定年月日 | S5: 指定事業所番号
A7: 児童福祉法
A16: 障害者総合支援法
A25: 介護保険法

Sheet 別紙２（その１）
A1: 別紙２（その１）
C2: 障害児通所支援事業所に係る多機能型による
C3: 事業を実施する場合の記載事項(総括表) その１
V4: ※多機能型事業実施時は各付表とこの表を併せて提出してください。
AA5: ※受付番号
A7: 申請に係る事業所 | C7: サービス種類 | F7: フリガナ
F8: 名 称
F9: 所在地 | I9: 〒 | Q9: ←郵便番号を半角数字７桁で入力してください
F12: 連 絡 先 | I12: 電話番号 | W12: ＦＡＸ番号
A13: （注）多機能型による他の事業所については、下欄に記載すること。
A14: 多機能型の他の事業所Ⅰ | C14: サービス種類 | F14: フリガナ
F15: 名 称
F16: 所在地 | I16: 〒 | Q16: ←郵便番号を半角数字７桁で入力してください | W16: 0
F19: 連 絡 先 | I19: 電話番号 | W19: ＦＡＸ番号
A20: 多機能型の他の事業所Ⅱ | C20: サービス種類 | F20: フリガナ
F21: 名 称
F22: 所在地 | I22: 〒 | Q22: ←郵便番号を半角数字７桁で入力してください
F25: 連 絡 先 | I25: 電話番号 | W25: ＦＡＸ番号
A26: 多機能型の他の事業所Ⅲ | C26: サービス種類 | F26: フリガナ
F27: 名 称
F28: 所在地 | I28: 〒 | Q28: ←郵便番号を半角数字７桁で入力してください
F31: 連 絡 先 | I31: 電話番号 | W31: ＦＡＸ番号
A32: 多機能型の他の事業所Ⅳ | C32: サービス種類 | F32: フリガナ
F33: 名 称
F34: 所在地 | I34: 〒 | Q34: ←郵便番号を半角数字７桁で入力してください
F37: 連 絡 先 | I37: 電話番号 | W37: ＦＡＸ番号
A38: 管理者 | C38: ﾌﾘｶﾞﾅ
C39: 氏 名
C40: 住 所 | I40: 〒 | Q40: ←郵便番号を半角数字７桁で入力してください
C43: 他の事業所又は施設の従業者との兼務（兼務の場合記入） | O43: 事業所等の名称
O44: 兼務する職種
O45: 勤務時間
A46: 児童発達支援管理責任者 | C46: ﾌﾘｶﾞﾅ
C47: 氏 名
C48: 住 所 | I48: 〒 | Q48: ←郵便番号を半角数字７桁で入力してください
A51: 主たる対象とする障害の種類 | I51: 無し | M51: 知的 | Q51: 身体 | U51: 重心 | Y51: 難聴 | AC51: 盲ろうあ
A54: 実施事業 | M54: 児童発達支援 | Q54: 放課後等デイ | U54: 居宅訪問型児童発達支援 | Y54: 保育所等訪問支援
I56: 単位の有無 | M56: 2 | Q56: 2
A57: 定員 | D57: 合計 | I57: 単位①
I58: 単位②
I59: 単位③
I60: 単位④

Sheet 別紙（その２）
A1: 別紙２（その２）
Q4: ※多機能型事業実施時は各付表とこの表を併せて提出してください。
AA5: ※受付番号
A7: 従 業 者 の 職 種 ・ 員 数
G8: 児童発達支援管理責任者 | K8: 医師 （嘱託医含む） | O8: 看護師 | S8: 児童指導員 | W8: 保育士 | AA8: 指導員
G10: 専従 | I10: ※兼務 | K10: 専従 | M10: ※兼務 | O10: 専従 | Q10: ※兼務 | S10: 専従 | U10: ※兼務 | W10: 専従 | Y10: ※兼務 | AA10: 専従 | AC10: ※兼務
A11: 合計 | B11: 従業者数 | D11: 常勤（人）
D12: 非常勤（人）
B13: 常勤換算後の人数（人）
B14: 基準上の必要人数（人）
G15: 理学療法士又は作業療法士 | K15: 言語聴覚士 | O15: 機能訓練担当職員 | S15: 訪問支援員 | W15: 栄養士 | AA15: 調理員
G17: 専従 | I17: ※兼務 | K17: 専従 | M17: ※兼務 | O17: 専従 | Q17: ※兼務 | S17: 専従 | U17: ※兼務 | W17: 専従 | Y17: ※兼務 | AA17: 専従 | AC17: ※兼務
A18: 合計 | B18: 従業者数 | D18: 常勤（人）
D19: 非常勤（人）
B20: 常勤換算後の人数（人）
B21: 基準上の必要人数（人）
G24: 専従 | I24: ※兼務 | K24: 専従 | M24: ※兼務 | O24: 専従 | Q24: ※兼務 | S24: 専従 | U24: ※兼務 | W24: 専従 | Y24: ※兼務 | AA24: 専従 | AC24: ※兼務
A25: 合計 | B25: 従業者数 | D25: 常勤（人）
D26: 非常勤（人）
B27: 常勤換算後の人数（人）
B28: 基準上の必要人数（人）
A29: （備考）
A30: １．「受付番号」「基準上の必要人数」欄には、記載しないでください。
A31: ２．記入欄が不足する場合は、適宜欄を設けて記載するか又は別葉に記載した書類を添付してください。

Sheet 勤務形態一覧表（児童発達支援・放課後デイサービス）
A1: 従業者の勤務の体制及び勤務形態一覧表 | AI1: サービス種別 | AK1: 児童発達支援・放課後等デイサービス
M2: 2024 | Q2: 年 | S2: 4 | U2: 月 | AI2: 事業所名
AI3: (1)記載する期間 | AK3: ４週
AI4: (2)予定/実績の別
AI5: (2)-2 定員
AG6: (3)事業所における常勤の従業者が勤務すべき時間数 | AK6: 時間/週 | AM6: 時間/月
A8: No. | B8: (4)職種 | C8: (5)勤務形態 | D8: (6)資格 | E8: (7)氏名 | F8: (8) | AK8: (9)勤務時間数合計 | AL8: (10)週平均の勤務時間数 | AM8: (11)兼務状況 （兼務先／兼務する職務の内容）等
F9: 第１週 | M9: 第２週 | T9: 第３週 | AA9: 第４週 | AH9: 第５週
B10: ※選択肢にない職種については直接入力してください | F10: =DATE($M$2,$S$2,1) -> 45383 | G10: =DATE($M$2,$S$2,2) -> 45384 | H10: =DATE($M$2,$S$2,3) -> 45385 | I10: =DATE($M$2,$S$2,4) -> 45386 | J10: =DATE($M$2,$S$2,5) -> 45387 | K10: =DATE($M$2,$S$2,6) -> 45388 | L10: =DATE($M$2,$S$2,7) -> 45389 | M10: =DATE($M$2,$S$2,8) -> 45390 | N10: =DATE($M$2,$S$2,9) -> 45391 | O10: =DATE($M$2,$S$2,10) -> 45392 | P10: =DATE($M$2,$S$2,11) -> 45393 | Q10: =DATE($M$2,$S$2,12) -> 45394 | R10: =DATE($M$2,$S$2,13) -> 45395 | S10: =DATE($M$2,$S$2,14) -> 45396 | T10: =DATE($M$2,$S$2,15) -> 45397 | U10: =DATE($M$2,$S$2,16) -> 45398 | V10: =DATE($M$2,$S$2,17) -> 45399 | W10: =DATE($M$2,$S$2,18) -> 45400 | X10: =DATE($M$2,$S$2,19) -> 45401 | Y10: =DATE($M$2,$S$2,20) -> 45402 | Z10: =DATE($M$2,$S$2,21) -> 45403 | AA10: =DATE($M$2,$S$2,22) -> 45404 | AB10: =DATE($M$2,$S$2,23) -> 45405 | AC10: =DATE($M$2,$S$2,24) -> 45406 | AD10: =DATE($M$2,$S$2,25) -> 45407 | AE10: =DATE($M$2,$S$2,26) -> 45408 | AF10: =DATE($M$2,$S$2,27) -> 45409 | AG10: =DATE($M$2,$S$2,28) -> 45410 | AH10: =IF(DAY(EOMONTH(F10,0))<29,"",DATE($M$2,$S$2,29)) -> 45411 | AI10: =IF(DAY(EOMONTH(F10,0))<30,"",DATE($M$2,$S$2,30)) -> 45412 | AJ10: =IF(DAY(EOMONTH(F10,0))<31,"",DATE($M$2,$S$2,31))
F11: =DATE($M$2,$S$2,1) -> 45383 | G11: =DATE($M$2,$S$2,2) -> 45384 | H11: =DATE($M$2,$S$2,3) -> 45385 | I11: =DATE($M$2,$S$2,4) -> 45386 | J11: =DATE($M$2,$S$2,5) -> 45387 | K11: =DATE($M$2,$S$2,6) -> 45388 | L11: =DATE($M$2,$S$2,7) -> 45389 | M11: =DATE($M$2,$S$2,8) -> 45390 | N11: =DATE($M$2,$S$2,9) -> 45391 | O11: =DATE($M$2,$S$2,10) -> 45392 | P11: =DATE($M$2,$S$2,11) -> 45393 | Q11: =DATE($M$2,$S$2,12) -> 45394 | R11: =DATE($M$2,$S$2,13) -> 45395 | S11: =DATE($M$2,$S$2,14) -> 45396 | T11: =DATE($M$2,$S$2,15) -> 45397 | U11: =DATE($M$2,$S$2,16) -> 45398 | V11: =DATE($M$2,$S$2,17) -> 45399 | W11: =DATE($M$2,$S$2,18) -> 45400 | X11: =DATE($M$2,$S$2,19) -> 45401 | Y11: =DATE($M$2,$S$2,20) -> 45402 | Z11: =DATE($M$2,$S$2,21) -> 45403 | AA11: =DATE($M$2,$S$2,22) -> 45404 | AB11: =DATE($M$2,$S$2,23) -> 45405 | AC11: =DATE($M$2,$S$2,24) -> 45406 | AD11: =DATE($M$2,$S$2,25) -> 45407 | AE11: =DATE($M$2,$S$2,26) -> 45408 | AF11: =DATE($M$2,$S$2,27) -> 45409 | AG11: =DATE($M$2,$S$2,28) -> 45410 | AH11: =IF(DAY(EOMONTH(F11,0))<29,"",DATE($M$2,$S$2,29)) -> 45411 | AI11: =IF(DAY(EOMONTH(F11,0))<30,"",DATE($M$2,$S$2,30)) -> 45412 | AJ11: =IF(DAY(EOMONTH(F11,0))<31,"",DATE($M$2,$S$2,31))
A12: 1 | B12: 管理者 | C12: A | E12: A | AK12: =+SUM(F12:AJ12) -> 0 | AL12: =IF($AK$3="４週",AK12/4,AK12/(DAY(EOMONTH($F$10,0))/7)) -> 0 | AO12: =IF(B12="","",IF(ISERROR(MATCH(B12,$C$39:$AM$39,0)),"その他職員",B12)) -> 管理者
A13: 2 | B13: 児童発達支援管理責任者 | C13: B | E13: B | AK13: =+SUM(F13:AJ13) -> 0 | AL13: =IF($AK$3="４週",AK13/4,AK13/(DAY(EOMONTH($F$10,0))/7)) -> 0 | AO13: =IF(B13="","",IF(ISERROR(MATCH(B13,$C$39:$AM$39,0)),"その他職員",B13)) -> 児童発達支援管理責任者
A14: 3 | B14: 児童指導員 | C14: C | E14: C | AK14: =+SUM(F14:AJ14) -> 0 | AL14: =IF($AK$3="４週",AK14/4,AK14/(DAY(EOMONTH($F$10,0))/7)) -> 0 | AO14: =IF(B14="","",IF(ISERROR(MATCH(B14,$C$39:$AM$39,0)),"その他職員",B14)) -> 児童指導員
A15: 4 | B15: 保育士 | C15: D | E15: D | AK15: =+SUM(F15:AJ15) -> 0 | AL15: =IF($AK$3="４週",AK15/4,AK15/(DAY(EOMONTH($F$10,0))/7)) -> 0 | AO15: =IF(B15="","",IF(ISERROR(MATCH(B15,$C$39:$AM$39,0)),"その他職員",B15)) -> 保育士
A16: 5 | B16: その他職員 | C16: A | E16: E | AK16: =+SUM(F16:AJ16) -> 0 | AL16: =IF($AK$3="４週",AK16/4,AK16/(DAY(EOMONTH($F$10,0))/7)) -> 0 | AO16: =IF(B16="","",IF(ISERROR(MATCH(B16,$C$39:$AM$39,0)),"その他職員",B16)) -> その他職員
A17: 6 | AK17: =+SUM(F17:AJ17) -> 0 | AL17: =IF($AK$3="４週",AK17/4,AK17/(DAY(EOMONTH($F$10,0))/7)) -> 0 | AO17: =IF(B17="","",IF(ISERROR(MATCH(B17,$C$39:$AM$39,0)),"その他職員",B17))
A18: 7 | AK18: =+SUM(F18:AJ18) -> 0 | AL18: =IF($AK$3="４週",AK18/4,AK18/(DAY(EOMONTH($F$10,0))/7)) -> 0 | AO18: =IF(B18="","",IF(ISERROR(MATCH(B18,$C$39:$AM$39,0)),"その他職員",B18))
A19: 8 | AK19: =+SUM(F19:AJ19) -> 0 | AL19: =IF($AK$3="４週",AK19/4,AK19/(DAY(EOMONTH($F$10,0))/7)) -> 0 | AO19: =IF(B19="","",IF(ISERROR(MATCH(B19,$C$39:$AM$39,0)),"その他職員",B19))
A20: 9 | AK20: =+SUM(F20:AJ20) -> 0 | AL20: =IF($AK$3="４週",AK20/4,AK20/(DAY(EOMONTH($F$10,0))/7)) -> 0 | AO20: =IF(B20="","",IF(ISERROR(MATCH(B20,$C$39:$AM$39,0)),"その他職員",B20))
A21: 10 | AK21: =+SUM(F21:AJ21) -> 0 | AL21: =IF($AK$3="４週",AK21/4,AK21/(DAY(EOMONTH($F$10,0))/7)) -> 0 | AO21: =IF(B21="","",IF(ISERROR(MATCH(B21,$C$39:$AM$39,0)),"その他職員",B21))
A22: 11 | AK22: =+SUM(F22:AJ22) -> 0 | AL22: =IF($AK$3="４週",AK22/4,AK22/(DAY(EOMONTH($F$10,0))/7)) -> 0 | AO22: =IF(B22="","",IF(ISERROR(MATCH(B22,$C$39:$AM$39,0)),"その他職員",B22))
A23: 12 | AK23: =+SUM(F23:AJ23) -> 0 | AL23: =IF($AK$3="４週",AK23/4,AK23/(DAY(EOMONTH($F$10,0))/7)) -> 0 | AO23: =IF(B23="","",IF(ISERROR(MATCH(B23,$C$39:$AM$39,0)),"その他職員",B23))
A24: 13 | AK24: =+SUM(F24:AJ24) -> 0 | AL24: =IF($AK$3="４週",AK24/4,AK24/(DAY(EOMONTH($F$10,0))/7)) -> 0 | AO24: =IF(B24="","",IF(ISERROR(MATCH(B24,$C$39:$AM$39,0)),"その他職員",B24))
A25: 14 | AK25: =+SUM(F25:AJ25) -> 0 | AL25: =IF($AK$3="４週",AK25/4,AK25/(DAY(EOMONTH($F$10,0))/7)) -> 0 | AO25: =IF(B25="","",IF(ISERROR(MATCH(B25,$C$39:$AM$39,0)),"その他職員",B25))
A26: 15 | AK26: =+SUM(F26:AJ26) -> 0 | AL26: =IF($AK$3="４週",AK26/4,AK26/(DAY(EOMONTH($F$10,0))/7)) -> 0 | AO26: =IF(B26="","",IF(ISERROR(MATCH(B26,$C$39:$AM$39,0)),"その他職員",B26))
A27: 16 | AK27: =+SUM(F27:AJ27) -> 0 | AL27: =IF($AK$3="４週",AK27/4,AK27/(DAY(EOMONTH($F$10,0))/7)) -> 0 | AO27: =IF(B27="","",IF(ISERROR(MATCH(B27,$C$39:$AM$39,0)),"その他職員",B27))
A28: 17 | AK28: =+SUM(F28:AJ28) -> 0 | AL28: =IF($AK$3="４週",AK28/4,AK28/(DAY(EOMONTH($F$10,0))/7)) -> 0 | AO28: =IF(B28="","",IF(ISERROR(MATCH(B28,$C$39:$AM$39,0)),"その他職員",B28))
... A31: 20 | AK31: =+SUM(F31:AJ31) -> 0 | AL31: =IF($AK$3="４週",AK31/4,AK31/(DAY(EOMONTH($F$10,0))/7)) -> 0 | AO31: =IF(B31="","",IF(ISERROR(MATCH(B31,$C$39:$AM$39,0)),"その他職員",B31))
A32: 合計 | F32: =+SUM(F12:F31) -> 0 | G32: =+SUM(G12:G31) -> 0 | H32: =+SUM(H12:H31) -> 0 | I32: =+SUM(I12:I31) -> 0 | J32: =+SUM(J12:J31) -> 0 | K32: =+SUM(K12:K31) -> 0 | L32: =+SUM(L12:L31) -> 0 | M32: =+SUM(M12:M31) -> 0 | ... AJ32: =+SUM(AJ12:AJ31) -> 0 | AK32: =+SUM(F32:AJ32) -> 0 | AL32: =IF($AK$3="４週",AK32/4,AK32/(DAY(EOMONTH($F$10,0))/7)) -> 0
A33: サービス提供時間
A38: ＜人員基準に関する実人数集計＞ ※手入力いただいたものはすべて「その他職員」にまとめられます。
C39: =IF(VLOOKUP($AK$1,[5]選択肢!$A$1:$J$32,C44,FALSE)=0,"-",VLOOKUP($AK$1,[5]選択肢!$A$1:$J$32,C44,FALSE)) -> 管理者 | E39: =IF(VLOOKUP($AK$1,[5]選択肢!$A$1:$J$32,E44,FALSE)=0,"-",VLOOKUP($AK$1,[5]選択肢!$A$1:$J$32,E44,FALSE)) -> 児童発達支援管理責任者 | I39: =IF(VLOOKUP($AK$1,[5]選択肢!$A$1:$J$32,I44,FALSE)=0,"-",VLOOKUP($AK$1,[5]選択肢!$A$1:$J$32,I44,FALSE)) -> 児童指導員 | O39: =IF(VLOOKUP($AK$1,[5]選択肢!$A$1:$J$32,O44,FALSE)=0,"-",VLOOKUP($AK$1,[5]選択肢!$A$1:$J$32,O44,FALSE)) -> 保育士 | U39: =IF(VLOOKUP($AK$1,[5]選択肢!$A$1:$J$32,U44,FALSE)=0,"-",VLOOKUP($AK$1,[5]選択肢!$A$1:$J$32,U44,FALSE)) -> 機能訓練担当職員 | AA39: =IF(VLOOKUP($AK$1,[5]選択肢!$A$1:$J$32,AA44,FALSE)=0,"-",VLOOKUP($AK$1,[5]選択肢!$A$1:$J$32,AA44,FALSE)) -> 看護職員 | AG39: =IF(VLOOKUP($AK$1,[5]選択肢!$A$1:$J$32,AG44,FALSE)=0,"-",VLOOKUP($AK$1,[5]選択肢!$A$1:$J$32,AG44,FALSE)) -> その他職員 | AL39: =IF(VLOOKUP($AK$1,[5]選択肢!$A$1:$J$32,AL44,FALSE)=0,"-",VLOOKUP($AK$1,[5]選択肢!$A$1:$J$32,AL44,FALSE)) -> -
C40: 専従 | D40: 兼務 | E40: 専従 | F40: 兼務 | I40: 専従 | L40: 兼務 | O40: 専従 | R40: 兼務 | U40: 専従 | X40: 兼務 | AA40: 専従 | AD40: 兼務 | AG40: 専従 | AJ40: 兼務 | AL40: 専従 | AM40: 兼務
B41: 常勤 | C41: =COUNTIFS($AO$12:$AO$31,C$39,$C$12:$C$31,"A",$E$12:$E$31,"*") -> 1 | D41: =COUNTIFS($AO$12:$AO$31,C$39,$C$12:$C$31,"B",$E$12:$E$31,"*") -> 0 | E41: =COUNTIFS($AO$12:$AO$31,E$39,$C$12:$C$31,"A",$E$12:$E$31,"*") -> 0 | F41: =COUNTIFS($AO$12:$AO$31,E$39,$C$12:$C$31,"B",$E$12:$E$31,"*") -> 1 | I41: =COUNTIFS($AO$12:$AO$31,I$39,$C$12:$C$31,"A",$E$12:$E$31,"*") -> 0 | L41: =COUNTIFS($AO$12:$AO$31,I$39,$C$12:$C$31,"B",$E$12:$E$31,"*") -> 0 | O41: =COUNTIFS($AO$12:$AO$31,O$39,$C$12:$C$31,"A",$E$12:$E$31,"*") -> 0 | R41: =COUNTIFS($AO$12:$AO$31,O$39,$C$12:$C$31,"B",$E$12:$E$31,"*") -> 0 | U41: =COUNTIFS($AO$12:$AO$31,U$39,$C$12:$C$31,"A",$E$12:$E$31,"*") -> 0 | X41: =COUNTIFS($AO$12:$AO$31,U$39,$C$12:$C$31,"B",$E$12:$E$31,"*") -> 0 | AA41: =COUNTIFS($AO$12:$AO$31,AA$39,$C$12:$C$31,"A",$E$12:$E$31,"*") -> 0 | AD41: =COUNTIFS($AO$12:$AO$31,AA$39,$C$12:$C$31,"B",$E$12:$E$31,"*") -> 0 | AG41: =COUNTIFS($AO$12:$AO$31,AG$39,$C$12:$C$31,"A",$E$12:$E$31,"*") -> 1 | AJ41: =COUNTIFS($AO$12:$AO$31,AG$39,$C$12:$C$31,"B",$E$12:$E$31,"*") -> 0 | AL41: =COUNTIFS($AO$12:$AO$31,AL$39,$C$12:$C$31,"A",$E$12:$E$31,"*") -> 0 | AM41: =COUNTIFS($AO$12:$AO$31,AL$39,$C$12:$C$31,"B",$E$12:$E$31,"*") -> 0
B42: 非常勤 | C42: =COUNTIFS($AO$12:$AO$31,C$39,$C$12:$C$31,"C",$E$12:$E$31,"*") -> 0 | D42: =COUNTIFS($AO$12:$AO$31,C$39,$C$12:$C$31,"D",$E$12:$E$31,"*") -> 0 | E42: =COUNTIFS($AO$12:$AO$31,E$39,$C$12:$C$31,"C",$E$12:$E$31,"*") -> 0 | F42: =COUNTIFS($AO$12:$AO$31,E$39,$C$12:$C$31,"D",$E$12:$E$31,"*") -> 0 | I42: =COUNTIFS($AO$12:$AO$31,I$39,$C$12:$C$31,"C",$E$12:$E$31,"*") -> 1 | L42: =COUNTIFS($AO$12:$AO$31,I$39,$C$12:$C$31,"D",$E$12:$E$31,"*") -> 0 | O42: =COUNTIFS($AO$12:$AO$31,O$39,$C$12:$C$31,"C",$E$12:$E$31,"*") -> 0 | R42: =COUNTIFS($AO$12:$AO$31,O$39,$C$12:$C$31,"D",$E$12:$E$31,"*") -> 1 | U42: =COUNTIFS($AO$12:$AO$31,U$39,$C$12:$C$31,"C",$E$12:$E$31,"*") -> 0 | X42: =COUNTIFS($AO$12:$AO$31,U$39,$C$12:$C$31,"D",$E$12:$E$31,"*") -> 0 | AA42: =COUNTIFS($AO$12:$AO$31,AA$39,$C$12:$C$31,"C",$E$12:$E$31,"*") -> 0 | AD42: =COUNTIFS($AO$12:$AO$31,AA$39,$C$12:$C$31,"D",$E$12:$E$31,"*") -> 0 | AG42: =COUNTIFS($AO$12:$AO$31,AG$39,$C$12:$C$31,"C",$E$12:$E$31,"*") -> 0 | AJ42: =COUNTIFS($AO$12:$AO$31,AG$39,$C$12:$C$31,"D",$E$12:$E$31,"*") -> 0 | AL42: =COUNTIFS($AO$12:$AO$31,AL$39,$C$12:$C$31,"C",$E$12:$E$31,"*") -> 0 | AM42: =COUNTIFS($AO$12:$AO$31,AL$39,$C$12:$C$31,"D",$E$12:$E$31,"*") -> 0
B43: 常勤換算数 | C43: =IF($AK$3="４週",SUMIFS($AK$12:$AK$31,$AO$12:$AO$31,C39)/4/$AH$6,IF($AK$3="歴月",SUMIFS($AK$12:$AK$31,$AO$12:$AO$31,C39)/$AL$6,"記載する期間を選択してください")) -> #DIV/0! | E43: =IF($AK$3="４週",SUMIFS($AK$12:$AK$31,$AO$12:$AO$31,E39)/4/$AH$6,IF($AK$3="歴月",SUMIFS($AK$12:$AK$31,$AO$12:$AO$31,E39)/$AL$6,"記載する期間を選択してください")) -> #DIV/0! | I43: =IF($AK$3="４週",SUMIFS($AK$12:$AK$31,$AO$12:$AO$31,I39)/4/$AH$6,IF($AK$3="歴月",SUMIFS($AK$12:$AK$31,$AO$12:$AO$31,I39)/$AL$6,"記載する期間を選択してください")) -> #DIV/0! | O43: =IF($AK$3="４週",SUMIFS($AK$12:$AK$31,$AO$12:$AO$31,O39)/4/$AH$6,IF($AK$3="歴月",SUMIFS($AK$12:$AK$31,$AO$12:$AO$31,O39)/$AL$6,"記載する期間を選択してください")) -> #DIV/0! | U43: =IF($AK$3="４週",SUMIFS($AK$12:$AK$31,$AO$12:$AO$31,U39)/4/$AH$6,IF($AK$3="歴月",SUMIFS($AK$12:$AK$31,$AO$12:$AO$31,U39)/$AL$6,"記載する期間を選択してください")) -> #DIV/0! | AA43: =IF($AK$3="４週",SUMIFS($AK$12:$AK$31,$AO$12:$AO$31,AA39)/4/$AH$6,IF($AK$3="歴月",SUMIFS($AK$12:$AK$31,$AO$12:$AO$31,AA39)/$AL$6,"記載する期間を選択してください")) -> #DIV/0! | AG43: =IF($AK$3="４週",SUMIFS($AK$12:$AK$31,$AO$12:$AO$31,AG39)/4/$AH$6,IF($AK$3="歴月",SUMIFS($AK$12:$AK$31,$AO$12:$AO$31,AG39)/$AL$6,"記載する期間を選択してください")) -> #DIV/0! | AL43: =IF($AK$3="４週",SUMIFS($AK$12:$AK$31,$AO$12:$AO$31,AL39)/4/$AH$6,IF($AK$3="歴月",SUMIFS($AK$12:$AK$31,$AO$12:$AO$31,AL39)/$AL$6,"記載する期間を選択してください")) -> #DIV/0!
C44: 2 | E44: 3 | I44: 4 | O44: 5 | U44: 6 | AA44: 7 | AG44: 8 | AL44: 9
A45: ・最初に「年月欄」「サービス種別」「事業所名」を入力してください。 | R45: 6 | X45: 7 | AD45: 8 | AJ45: 9
A46: (1) 「４週」・「暦月」のいずれかを選択してください。
A47: (2) 「予定」・「実績」のいずれかを選択してください。
A48: (2) -2 定員数を入力してください。
A49: (3) 事業所における常勤の従業者が勤務すべき時間数を入力してください。
A50: (4) 従業者の職種を入力してください。
A51: 記入の順序は、職種ごとにまとめてください。
A52: (5) 従業者の勤務形態について、下記のうち該当する区分の記号を入力してください。
B53: 記号 | C53: 区分
B54: A | C54: 常勤で専従
B55: B | C55: 常勤で兼務
B56: C | C56: 非常勤で専従
B57: D | C57: 非常勤で兼務
B58: （注）常勤・非常勤の区分について
B59: 当該事業所における勤務時間が、当該事業所において定められている常勤の従業者が勤務すべき時間数に達していることをいいます。雇用の形態は考慮しません。
B60: （例えば、常勤者は週に40時間勤務することとされた事業所であれば、非正規雇用であっても、週40時間勤務する従業者は常勤扱いとなります。）
A61: (6) 従業者の保有する資格を入力してください。
A62: 保有資格を全て記入するのではなく、人員基準・加配加算上、求められる資格等を入力してください。
A63: ※選択した資格及び研修に関して、必要に応じて、資格証又は研修修了証等の写しを添付資料として提出してください。
A64: (7) 従業者の氏名を記入してください。
A65: (8) 申請する事業に係る従業者（管理者を含む。）の1ヶ月分の勤務時間を入力してください。
A66: (9) 常勤の職員の休暇等については、その期間が暦年で１月を超えるものでない限り、常勤換算の計算上は勤務したものとみなすことができます。
B67: その場合、勤務時間欄には「休」と記入し、勤務時間の合計に含めてください（非常勤職員の休暇等は常勤換算の計算に含めることはできません）。
B68: ※指定基準の確認に際しては、４週分の入力で差し支えありません。
A69: (10) 従業者ごとに、合計勤務時間数を入力してください。
A70: ※ 入力することができる時間数は、当該事業所において常勤の従業者が勤務すべき勤務時間数を上限とします。
A71: (11) 従業者ごとに、週平均の勤務時間数を入力してください。
A72: (12) 申請する事業所以外の事業所・施設との兼務がある場合は、兼務先の事業所・施設の名称、兼務する職務の内容について記入してください。
A73: 同一事業所内の兼務についても兼務する職務の内容を記入してください。
A74: その他、特記事項欄としてもご活用ください。
A75: （13)本表には計算式を設定していますが、結果に誤りがないかご確認ください。
A76: （14) 必要項目を満たしていれば、各事業所で使用するシフト表等をもって代替書類として差し支えありません。

Sheet 勤務形態一覧表（児童発達支援・主として重症心身障害児）
A1: 従業者の勤務の体制及び勤務形態一覧表 | AI1: サービス種別 | AK1: 児童発達支援・主として重症心身障害児を対象とする場合
M2: 2024 | Q2: 年 | S2: 5 | U2: 月 | AI2: 事業所名
AI3: (1)記載する期間 | AK3: ４週
AI4: (2)予定/実績の別
AI5: (2)-2 定員
AG6: (3)事業所における常勤の従業者が勤務すべき時間数 | AK6: 時間/週 | AM6: 時間/月
A8: No. | B8: (4)職種 | C8: (5)勤務形態 | D8: (6)資格 | E8: (7)氏名 | F8: (8) | AK8: (9)勤務時間数合計 | AL8: (10)週平均の勤務時間数 | AM8: (11)兼務状況 （兼務先／兼務する職務の内容）等
F9: 第１週 | M9: 第２週 | T9: 第３週 | AA9: 第４週 | AH9: 第５週
B10: ※選択肢にない職種については直接入力してください | F10: =DATE($M$2,$S$2,1) -> 45413 | G10: =DATE($M$2,$S$2,2) -> 45414 | H10: =DATE($M$2,$S$2,3) -> 45415 | I10: =DATE($M$2,$S$2,4) -> 45416 | J10: =DATE($M$2,$S$2,5) -> 45417 | K10: =DATE($M$2,$S$2,6) -> 45418 | L10: =DATE($M$2,$S$2,7) -> 45419 | M10: =DATE($M$2,$S$2,8) -> 45420 | N10: =DATE($M$2,$S$2,9) -> 45421 | O10: =DATE($M$2,$S$2,10) -> 45422 | P10: =DATE($M$2,$S$2,11) -> 45423 | Q10: =DATE($M$2,$S$2,12) -> 45424 | R10: =DATE($M$2,$S$2,13) -> 45425 | S10: =DATE($M$2,$S$2,14) -> 45426 | T10: =DATE($M$2,$S$2,15) -> 45427 | U10: =DATE($M$2,$S$2,16) -> 45428 | V10: =DATE($M$2,$S$2,17) -> 45429 | W10: =DATE($M$2,$S$2,18) -> 45430 | X10: =DATE($M$2,$S$2,19) -> 45431 | Y10: =DATE($M$2,$S$2,20) -> 45432 | Z10: =DATE($M$2,$S$2,21) -> 45433 | AA10: =DATE($M$2,$S$2,22) -> 45434 | AB10: =DATE($M$2,$S$2,23) -> 45435 | AC10: =DATE($M$2,$S$2,24) -> 45436 | AD10: =DATE($M$2,$S$2,25) -> 45437 | AE10: =DATE($M$2,$S$2,26) -> 45438 | AF10: =DATE($M$2,$S$2,27) -> 45439 | AG10: =DATE($M$2,$S$2,28) -> 45440 | AH10: =IF(DAY(EOMONTH(F10,0))<29,"",DATE($M$2,$S$2,29)) -> 45441 | AI10: =IF(DAY(EOMONTH(F10,0))<30,"",DATE($M$2,$S$2,30)) -> 45442 | AJ10: =IF(DAY(EOMONTH(F10,0))<31,"",DATE($M$2,$S$2,31)) -> 45443
F11: =DATE($M$2,$S$2,1) -> 45413 | G11: =DATE($M$2,$S$2,2) -> 45414 | H11: =DATE($M$2,$S$2,3) -> 45415 | I11: =DATE($M$2,$S$2,4) -> 45416 | J11: =DATE($M$2,$S$2,5) -> 45417 | K11: =DATE($M$2,$S$2,6) -> 45418 | L11: =DATE($M$2,$S$2,7) -> 45419 | M11: =DATE($M$2,$S$2,8) -> 45420 | N11: =DATE($M$2,$S$2,9) -> 45421 | O11: =DATE($M$2,$S$2,10) -> 45422 | P11: =DATE($M$2,$S$2,11) -> 45423 | Q11: =DATE($M$2,$S$2,12) -> 45424 | R11: =DATE($M$2,$S$2,13) -> 45425 | S11: =DATE($M$2,$S$2,14) -> 45426 | T11: =DATE($M$2,$S$2,15) -> 45427 | U11: =DATE($M$2,$S$2,16) -> 45428 | V11: =DATE($M$2,$S$2,17) -> 45429 | W11: =DATE($M$2,$S$2,18) -> 45430 | X11: =DATE($M$2,$S$2,19) -> 45431 | Y11: =DATE($M$2,$S$2,20) -> 45432 | Z11: =DATE($M$2,$S$2,21) -> 45433 | AA11: =DATE($M$2,$S$2,22) -> 45434 | AB11: =DATE($M$2,$S$2,23) -> 45435 | AC11: =DATE($M$2,$S$2,24) -> 45436 | AD11: =DATE($M$2,$S$2,25) -> 45437 | AE11: =DATE($M$2,$S$2,26) -> 45438 | AF11: =DATE($M$2,$S$2,27) -> 45439 | AG11: =DATE($M$2,$S$2,28) -> 45440 | AH11: =IF(DAY(EOMONTH(F11,0))<29,"",DATE($M$2,$S$2,29)) -> 45441 | AI11: =IF(DAY(EOMONTH(F11,0))<30,"",DATE($M$2,$S$2,30)) -> 45442 | AJ11: =IF(DAY(EOMONTH(F11,0))<31,"",DATE($M$2,$S$2,31)) -> 45443
A12: 1 | B12: 管理者 | C12: A | E12: A | AK12: =+SUM(F12:AJ12) -> 0 | AL12: =IF($AK$3="４週",AK12/4,AK12/(DAY(EOMONTH($F$10,0))/7)) -> 0 | AO12: =IF(B12="","",IF(ISERROR(MATCH(B12,$C$37:$AM$37,0)),"その他職員",B12)) -> 管理者
A13: 2 | B13: 児童発達支援管理責任者 | C13: B | E13: B | AK13: =+SUM(F13:AJ13) -> 0 | AL13: =IF($AK$3="４週",AK13/4,AK13/(DAY(EOMONTH($F$10,0))/7)) -> 0 | AO13: =IF(B13="","",IF(ISERROR(MATCH(B13,$C$37:$AM$37,0)),"その他職員",B13)) -> 児童発達支援管理責任者
A14: 3 | B14: 嘱託医 | C14: C | E14: C | AK14: =+SUM(F14:AJ14) -> 0 | AL14: =IF($AK$3="４週",AK14/4,AK14/(DAY(EOMONTH($F$10,0))/7)) -> 0 | AO14: =IF(B14="","",IF(ISERROR(MATCH(B14,$C$37:$AM$37,0)),"その他職員",B14)) -> 嘱託医
A15: 4 | B15: 児童指導員 | C15: D | E15: D | AK15: =+SUM(F15:AJ15) -> 0 | AL15: =IF($AK$3="４週",AK15/4,AK15/(DAY(EOMONTH($F$10,0))/7)) -> 0 | AO15: =IF(B15="","",IF(ISERROR(MATCH(B15,$C$37:$AM$37,0)),"その他職員",B15)) -> 児童指導員
A16: 5 | B16: その他職員 | C16: B | E16: E | AK16: =+SUM(F16:AJ16) -> 0 | AL16: =IF($AK$3="４週",AK16/4,AK16/(DAY(EOMONTH($F$10,0))/7)) -> 0 | AO16: =IF(B16="","",IF(ISERROR(MATCH(B16,$C$37:$AM$37,0)),"その他職員",B16)) -> その他職員
A17: 6 | AK17: =+SUM(F17:AJ17) -> 0 | AL17: =IF($AK$3="４週",AK17/4,AK17/(DAY(EOMONTH($F$10,0))/7)) -> 0 | AO17: =IF(B17="","",IF(ISERROR(MATCH(B17,$C$37:$AM$37,0)),"その他職員",B17))
A18: 7 | AK18: =+SUM(F18:AJ18) -> 0 | AL18: =IF($AK$3="４週",AK18/4,AK18/(DAY(EOMONTH($F$10,0))/7)) -> 0 | AO18: =IF(B18="","",IF(ISERROR(MATCH(B18,$C$37:$AM$37,0)),"その他職員",B18))
A19: 8 | AK19: =+SUM(F19:AJ19) -> 0 | AL19: =IF($AK$3="４週",AK19/4,AK19/(DAY(EOMONTH($F$10,0))/7)) -> 0 | AO19: =IF(B19="","",IF(ISERROR(MATCH(B19,$C$37:$AM$37,0)),"その他職員",B19))
A20: 9 | AK20: =+SUM(F20:AJ20) -> 0 | AL20: =IF($AK$3="４週",AK20/4,AK20/(DAY(EOMONTH($F$10,0))/7)) -> 0 | AO20: =IF(B20="","",IF(ISERROR(MATCH(B20,$C$37:$AM$37,0)),"その他職員",B20))
A21: 10 | AK21: =+SUM(F21:AJ21) -> 0 | AL21: =IF($AK$3="４週",AK21/4,AK21/(DAY(EOMONTH($F$10,0))/7)) -> 0 | AO21: =IF(B21="","",IF(ISERROR(MATCH(B21,$C$37:$AM$37,0)),"その他職員",B21))
A22: 11 | AK22: =+SUM(F22:AJ22) -> 0 | AL22: =IF($AK$3="４週",AK22/4,AK22/(DAY(EOMONTH($F$10,0))/7)) -> 0 | AO22: =IF(B22="","",IF(ISERROR(MATCH(B22,$C$37:$AM$37,0)),"その他職員",B22))
A23: 12 | AK23: =+SUM(F23:AJ23) -> 0 | AL23: =IF($AK$3="４週",AK23/4,AK23/(DAY(EOMONTH($F$10,0))/7)) -> 0 | AO23: =IF(B23="","",IF(ISERROR(MATCH(B23,$C$37:$AM$37,0)),"その他職員",B23))
A24: 13 | AK24: =+SUM(F24:AJ24) -> 0 | AL24: =IF($AK$3="４週",AK24/4,AK24/(DAY(EOMONTH($F$10,0))/7)) -> 0 | AO24: =IF(B24="","",IF(ISERROR(MATCH(B24,$C$37:$AM$37,0)),"その他職員",B24))
A25: 14 | AK25: =+SUM(F25:AJ25) -> 0 | AL25: =IF($AK$3="４週",AK25/4,AK25/(DAY(EOMONTH($F$10,0))/7)) -> 0 | AO25: =IF(B25="","",IF(ISERROR(MATCH(B25,$C$37:$AM$37,0)),"その他職員",B25))
A26: 15 | AK26: =+SUM(F26:AJ26) -> 0 | AL26: =IF($AK$3="４週",AK26/4,AK26/(DAY(EOMONTH($F$10,0))/7)) -> 0 | AO26: =IF(B26="","",IF(ISERROR(MATCH(B26,$C$37:$AM$37,0)),"その他職員",B26))
A27: 16 | AK27: =+SUM(F27:AJ27) -> 0 | AL27: =IF($AK$3="４週",AK27/4,AK27/(DAY(EOMONTH($F$10,0))/7)) -> 0 | AO27: =IF(B27="","",IF(ISERROR(MATCH(B27,$C$37:$AM$37,0)),"その他職員",B27))
A28: 17 | AK28: =+SUM(F28:AJ28) -> 0 | AL28: =IF($AK$3="４週",AK28/4,AK28/(DAY(EOMONTH($F$10,0))/7)) -> 0 | AO28: =IF(B28="","",IF(ISERROR(MATCH(B28,$C$37:$AM$37,0)),"その他職員",B28))
... A31: 20 | AK31: =+SUM(F31:AJ31) -> 0 | AL31: =IF($AK$3="４週",AK31/4,AK31/(DAY(EOMONTH($F$10,0))/7)) -> 0 | AO31: =IF(B31="","",IF(ISERROR(MATCH(B31,$C$37:$AM$37,0)),"その他職員",B31))
A32: 合計 | F32: =+SUM(F12:F31) -> 0 | G32: =+SUM(G12:G31) -> 0 | H32: =+SUM(H12:H31) -> 0 | I32: =+SUM(I12:I31) -> 0 | J32: =+SUM(J12:J31) -> 0 | K32: =+SUM(K12:K31) -> 0 | L32: =+SUM(L12:L31) -> 0 | M32: =+SUM(M12:M31) -> 0 | ... AJ32: =+SUM(AJ12:AJ31) -> 0 | AK32: =+SUM(F32:AJ32) -> 0 | AL32: =IF($AK$3="４週",AK32/4,AK32/(DAY(EOMONTH($F$10,0))/7)) -> 0
A33: サービス提供時間
A36: ＜人員基準に関する実人数集計＞ ※手入力いただいたものはすべて「その他職員」にまとめられます。
C37: =IF(VLOOKUP($AK$1,[5]選択肢!$A$1:$J$32,C42,FALSE)=0,"-",VLOOKUP($AK$1,[5]選択肢!$A$1:$J$32,C42,FALSE)) -> 管理者 | E37: =IF(VLOOKUP($AK$1,[5]選択肢!$A$1:$J$32,E42,FALSE)=0,"-",VLOOKUP($AK$1,[5]選択肢!$A$1:$J$32,E42,FALSE)) -> 児童発達支援管理責任者 | I37: =IF(VLOOKUP($AK$1,[5]選択肢!$A$1:$J$32,I42,FALSE)=0,"-",VLOOKUP($AK$1,[5]選択肢!$A$1:$J$32,I42,FALSE)) -> 嘱託医 | O37: =IF(VLOOKUP($AK$1,[5]選択肢!$A$1:$J$32,O42,FALSE)=0,"-",VLOOKUP($AK$1,[5]選択肢!$A$1:$J$32,O42,FALSE)) -> 看護職員 | U37: =IF(VLOOKUP($AK$1,[5]選択肢!$A$1:$J$32,U42,FALSE)=0,"-",VLOOKUP($AK$1,[5]選択肢!$A$1:$J$32,U42,FALSE)) -> 児童指導員 | AA37: =IF(VLOOKUP($AK$1,[5]選択肢!$A$1:$J$32,AA42,FALSE)=0,"-",VLOOKUP($AK$1,[5]選択肢!$A$1:$J$32,AA42,FALSE)) -> 保育士 | AG37: =IF(VLOOKUP($AK$1,[5]選択肢!$A$1:$J$32,AG42,FALSE)=0,"-",VLOOKUP($AK$1,[5]選択肢!$A$1:$J$32,AG42,FALSE)) -> 機能訓練担当職員 | AL37: =IF(VLOOKUP($AK$1,[5]選択肢!$A$1:$J$32,AL42,FALSE)=0,"-",VLOOKUP($AK$1,[5]選択肢!$A$1:$J$32,AL42,FALSE)) -> その他職員
C38: 専従 | D38: 兼務 | E38: 専従 | F38: 兼務 | I38: 専従 | L38: 兼務 | O38: 専従 | R38: 兼務 | U38: 専従 | X38: 兼務 | AA38: 専従 | AD38: 兼務 | AG38: 専従 | AJ38: 兼務 | AL38: 専従 | AM38: 兼務
B39: 常勤 | C39: =COUNTIFS($AO$12:$AO$31,C$37,$C$12:$C$31,"A",$E$12:$E$31,"*") -> 1 | D39: =COUNTIFS($AO$12:$AO$31,C$37,$C$12:$C$31,"B",$E$12:$E$31,"*") -> 0 | E39: =COUNTIFS($AO$12:$AO$31,E$37,$C$12:$C$31,"A",$E$12:$E$31,"*") -> 0 | F39: =COUNTIFS($AO$12:$AO$31,E$37,$C$12:$C$31,"B",$E$12:$E$31,"*") -> 1 | I39: =COUNTIFS($AO$12:$AO$31,I$37,$C$12:$C$31,"A",$E$12:$E$31,"*") -> 0 | L39: =COUNTIFS($AO$12:$AO$31,I$37,$C$12:$C$31,"B",$E$12:$E$31,"*") -> 0 | O39: =COUNTIFS($AO$12:$AO$31,O$37,$C$12:$C$31,"A",$E$12:$E$31,"*") -> 0 | R39: =COUNTIFS($AO$12:$AO$31,O$37,$C$12:$C$31,"B",$E$12:$E$31,"*") -> 0 | U39: =COUNTIFS($AO$12:$AO$31,U$37,$C$12:$C$31,"A",$E$12:$E$31,"*") -> 0 | X39: =COUNTIFS($AO$12:$AO$31,U$37,$C$12:$C$31,"B",$E$12:$E$31,"*") -> 0 | AA39: =COUNTIFS($AO$12:$AO$31,AA$37,$C$12:$C$31,"A",$E$12:$E$31,"*") -> 0 | AD39: =COUNTIFS($AO$12:$AO$31,AA$37,$C$12:$C$31,"B",$E$12:$E$31,"*") -> 0 | AG39: =COUNTIFS($AO$12:$AO$31,AG$37,$C$12:$C$31,"A",$E$12:$E$31,"*") -> 0 | AJ39: =COUNTIFS($AO$12:$AO$31,AG$37,$C$12:$C$31,"B",$E$12:$E$31,"*") -> 0 | AL39: =COUNTIFS($AO$12:$AO$31,AL$37,$C$12:$C$31,"A",$E$12:$E$31,"*") -> 0 | AM39: =COUNTIFS($AO$12:$AO$31,AL$37,$C$12:$C$31,"B",$E$12:$E$31,"*") -> 1
B40: 非常勤 | C40: =COUNTIFS($AO$12:$AO$31,C$37,$C$12:$C$31,"C",$E$12:$E$31,"*") -> 0 | D40: =COUNTIFS($AO$12:$AO$31,C$37,$C$12:$C$31,"D",$E$12:$E$31,"*") -> 0 | E40: =COUNTIFS($AO$12:$AO$31,E$37,$C$12:$C$31,"C",$E$12:$E$31,"*") -> 0 | F40: =COUNTIFS($AO$12:$AO$31,E$37,$C$12:$C$31,"D",$E$12:$E$31,"*") -> 0 | I40: =COUNTIFS($AO$12:$AO$31,I$37,$C$12:$C$31,"C",$E$12:$E$31,"*") -> 1 | L40: =COUNTIFS($AO$12:$AO$31,I$37,$C$12:$C$31,"D",$E$12:$E$31,"*") -> 0 | O40: =COUNTIFS($AO$12:$AO$31,O$37,$C$12:$C$31,"C",$E$12:$E$31,"*") -> 0 | R40: =COUNTIFS($AO$12:$AO$31,O$37,$C$12:$C$31,"D",$E$12:$E$31,"*") -> 0 | U40: =COUNTIFS($AO$12:$AO$31,U$37,$C$12:$C$31,"C",$E$12:$E$31,"*") -> 0 | X40: =COUNTIFS($AO$12:$AO$31,U$37,$C$12:$C$31,"D",$E$12:$E$31,"*") -> 1 | AA40: =COUNTIFS($AO$12:$AO$31,AA$37,$C$12:$C$31,"C",$E$12:$E$31,"*") -> 0 | AD40: =COUNTIFS($AO$12:$AO$31,AA$37,$C$12:$C$31,"D",$E$12:$E$31,"*") -> 0 | AG40: =COUNTIFS($AO$12:$AO$31,AG$37,$C$12:$C$31,"C",$E$12:$E$31,"*") -> 0 | AJ40: =COUNTIFS($AO$12:$AO$31,AG$37,$C$12:$C$31,"D",$E$12:$E$31,"*") -> 0 | AL40: =COUNTIFS($AO$12:$AO$31,AL$37,$C$12:$C$31,"C",$E$12:$E$31,"*") -> 0 | AM40: =COUNTIFS($AO$12:$AO$31,AL$37,$C$12:$C$31,"D",$E$12:$E$31,"*") -> 0
B41: 常勤換算数 | C41: =IF($AK$3="４週",SUMIFS($AK$12:$AK$31,$AO$12:$AO$31,C37)/4/$AH$6,IF($AK$3="歴月",SUMIFS($AK$12:$AK$31,$AO$12:$AO$31,C37)/$AL$6,"記載する期間を選択してください")) -> #DIV/0! | E41: =IF($AK$3="４週",SUMIFS($AK$12:$AK$31,$AO$12:$AO$31,E37)/4/$AH$6,IF($AK$3="歴月",SUMIFS($AK$12:$AK$31,$AO$12:$AO$31,E37)/$AL$6,"記載する期間を選択してください")) -> #DIV/0! | I41: =IF($AK$3="４週",SUMIFS($AK$12:$AK$31,$AO$12:$AO$31,I37)/4/$AH$6,IF($AK$3="歴月",SUMIFS($AK$12:$AK$31,$AO$12:$AO$31,I37)/$AL$6,"記載する期間を選択してください")) -> #DIV/0! | O41: =IF($AK$3="４週",SUMIFS($AK$12:$AK$31,$AO$12:$AO$31,O37)/4/$AH$6,IF($AK$3="歴月",SUMIFS($AK$12:$AK$31,$AO$12:$AO$31,O37)/$AL$6,"記載する期間を選択してください")) -> #DIV/0! | U41: =IF($AK$3="４週",SUMIFS($AK$12:$AK$31,$AO$12:$AO$31,U37)/4/$AH$6,IF($AK$3="歴月",SUMIFS($AK$12:$AK$31,$AO$12:$AO$31,U37)/$AL$6,"記載する期間を選択してください")) -> #DIV/0! | AA41: =IF($AK$3="４週",SUMIFS($AK$12:$AK$31,$AO$12:$AO$31,AA37)/4/$AH$6,IF($AK$3="歴月",SUMIFS($AK$12:$AK$31,$AO$12:$AO$31,AA37)/$AL$6,"記載する期間を選択してください")) -> #DIV/0! | AG41: =IF($AK$3="４週",SUMIFS($AK$12:$AK$31,$AO$12:$AO$31,AG37)/4/$AH$6,IF($AK$3="歴月",SUMIFS($AK$12:$AK$31,$AO$12:$AO$31,AG37)/$AL$6,"記載する期間を選択してください")) -> #DIV/0! | AL41: =IF($AK$3="４週",SUMIFS($AK$12:$AK$31,$AO$12:$AO$31,AL37)/4/$AH$6,IF($AK$3="歴月",SUMIFS($AK$12:$AK$31,$AO$12:$AO$31,AL37)/$AL$6,"記載する期間を選択してください")) -> #DIV/0!
C42: 2 | E42: 3 | I42: 4 | O42: 5 | U42: 6 | AA42: 7 | AG42: 8 | AL42: 9
A43: ・最初に「年月欄」「サービス種別」「事業所名」を入力してください。 | R43: 6 | X43: 7 | AD43: 8 | AJ43: 9
A44: (1) 「４週」・「暦月」のいずれかを選択してください。
A45: (2) 「予定」・「実績」のいずれかを選択してください。
A46: (2) -2 定員数を入力してください。
A47: (3) 事業所における常勤の従業者が勤務すべき時間数を入力してください。
A48: (4) 従業者の職種を入力してください。
A49: 記入の順序は、職種ごとにまとめてください。
A50: (5) 従業者の勤務形態について、下記のうち該当する区分の記号を入力してください。
B51: 記号 | C51: 区分
B52: A | C52: 常勤で専従
B53: B | C53: 常勤で兼務
B54: C | C54: 非常勤で専従
B55: D | C55: 非常勤で兼務
B56: （注）常勤・非常勤の区分について
B57: 当該事業所における勤務時間が、当該事業所において定められている常勤の従業者が勤務すべき時間数に達していることをいいます。雇用の形態は考慮しません。
B58: （例えば、常勤者は週に40時間勤務することとされた事業所であれば、非正規雇用であっても、週40時間勤務する従業者は常勤扱いとなります。）
A59: (6) 従業者の保有する資格を入力してください。
A60: 保有資格を全て記入するのではなく、人員基準・加配加算上、求められる資格等を入力してください。
A61: ※選択した資格及び研修に関して、必要に応じて、資格証又は研修修了証等の写しを添付資料として提出してください。
A62: (7) 従業者の氏名を記入してください。
A63: (8) 申請する事業に係る従業者（管理者を含む。）の1ヶ月分の勤務時間を入力してください。
A64: (9) 常勤の職員の休暇等については、その期間が暦年で１月を超えるものでない限り、常勤換算の計算上は勤務したものとみなすことができます。
B65: その場合、勤務時間欄には「休」と記入し、勤務時間の合計に含めてください（非常勤職員の休暇等は常勤換算の計算に含めることはできません）。
B66: ※指定基準の確認に際しては、４週分の入力で差し支えありません。
A67: (10) 従業者ごとに、合計勤務時間数を入力してください。
A68: ※ 入力することができる時間数は、当該事業所において常勤の従業者が勤務すべき勤務時間数を上限とします。
A69: (11) 従業者ごとに、週平均の勤務時間数を入力してください。
A70: (12) 申請する事業所以外の事業所・施設との兼務がある場合は、兼務先の事業所・施設の名称、兼務する職務の内容について記入してください。
A71: 同一事業所内の兼務についても兼務する職務の内容を記入してください。
A72: その他、特記事項欄としてもご活用ください。
A73: （13)本表には計算式を設定していますが、結果に誤りがないかご確認ください。
A74: （14) 必要項目を満たしていれば、各事業所で使用するシフト表等をもって代替書類として差し支えありません。

Sheet 勤務形態一覧表（児童発達支援センター）
A1: 従業者の勤務の体制及び勤務形態一覧表 | AI1: サービス種別 | AK1: 児童発達支援・児童発達支援センターであるもの
M2: 2024 | Q2: 年 | S2: 5 | U2: 月 | AI2: 事業所名
AI3: (1)記載する期間 | AK3: ４週
AI4: (2)予定/実績の別
AI5: (2)-2 定員
AG6: (3)事業所における常勤の従業者が勤務すべき時間数 | AK6: 時間/週 | AM6: 時間/月
A8: No. | B8: (4)職種 | C8: (5)勤務形態 | D8: (6)資格 | E8: (7)氏名 | F8: (8) | AK8: (9)勤務時間数合計 | AL8: (10)週平均の勤務時間数 | AM8: (11)兼務状況 （兼務先／兼務する職務の内容）等
F9: 第１週 | M9: 第２週 | T9: 第３週 | AA9: 第４週 | AH9: 第５週
B10: ※選択肢にない職種については直接入力してください | F10: =DATE($M$2,$S$2,1) -> 45413 | G10: =DATE($M$2,$S$2,2) -> 45414 | H10: =DATE($M$2,$S$2,3) -> 45415 | I10: =DATE($M$2,$S$2,4) -> 45416 | J10: =DATE($M$2,$S$2,5) -> 45417 | K10: =DATE($M$2,$S$2,6) -> 45418 | L10: =DATE($M$2,$S$2,7) -> 45419 | M10: =DATE($M$2,$S$2,8) -> 45420 | N10: =DATE($M$2,$S$2,9) -> 45421 | O10: =DATE($M$2,$S$2,10) -> 45422 | P10: =DATE($M$2,$S$2,11) -> 45423 | Q10: =DATE($M$2,$S$2,12) -> 45424 | R10: =DATE($M$2,$S$2,13) -> 45425 | S10: =DATE($M$2,$S$2,14) -> 45426 | T10: =DATE($M$2,$S$2,15) -> 45427 | U10: =DATE($M$2,$S$2,16) -> 45428 | V10: =DATE($M$2,$S$2,17) -> 45429 | W10: =DATE($M$2,$S$2,18) -> 45430 | X10: =DATE($M$2,$S$2,19) -> 45431 | Y10: =DATE($M$2,$S$2,20) -> 45432 | Z10: =DATE($M$2,$S$2,21) -> 45433 | AA10: =DATE($M$2,$S$2,22) -> 45434 | AB10: =DATE($M$2,$S$2,23) -> 45435 | AC10: =DATE($M$2,$S$2,24) -> 45436 | AD10: =DATE($M$2,$S$2,25) -> 45437 | AE10: =DATE($M$2,$S$2,26) -> 45438 | AF10: =DATE($M$2,$S$2,27) -> 45439 | AG10: =DATE($M$2,$S$2,28) -> 45440 | AH10: =IF(DAY(EOMONTH(F10,0))<29,"",DATE($M$2,$S$2,29)) -> 45441 | AI10: =IF(DAY(EOMONTH(F10,0))<30,"",DATE($M$2,$S$2,30)) -> 45442 | AJ10: =IF(DAY(EOMONTH(F10,0))<31,"",DATE($M$2,$S$2,31)) -> 45443
F11: =DATE($M$2,$S$2,1) -> 45413 | G11: =DATE($M$2,$S$2,2) -> 45414 | H11: =DATE($M$2,$S$2,3) -> 45415 | I11: =DATE($M$2,$S$2,4) -> 45416 | J11: =DATE($M$2,$S$2,5) -> 45417 | K11: =DATE($M$2,$S$2,6) -> 45418 | L11: =DATE($M$2,$S$2,7) -> 45419 | M11: =DATE($M$2,$S$2,8) -> 45420 | N11: =DATE($M$2,$S$2,9) -> 45421 | O11: =DATE($M$2,$S$2,10) -> 45422 | P11: =DATE($M$2,$S$2,11) -> 45423 | Q11: =DATE($M$2,$S$2,12) -> 45424 | R11: =DATE($M$2,$S$2,13) -> 45425 | S11: =DATE($M$2,$S$2,14) -> 45426 | T11: =DATE($M$2,$S$2,15) -> 45427 | U11: =DATE($M$2,$S$2,16) -> 45428 | V11: =DATE($M$2,$S$2,17) -> 45429 | W11: =DATE($M$2,$S$2,18) -> 45430 | X11: =DATE($M$2,$S$2,19) -> 45431 | Y11: =DATE($M$2,$S$2,20) -> 45432 | Z11: =DATE($M$2,$S$2,21) -> 45433 | AA11: =DATE($M$2,$S$2,22) -> 45434 | AB11: =DATE($M$2,$S$2,23) -> 45435 | AC11: =DATE($M$2,$S$2,24) -> 45436 | AD11: =DATE($M$2,$S$2,25) -> 45437 | AE11: =DATE($M$2,$S$2,26) -> 45438 | AF11: =DATE($M$2,$S$2,27) -> 45439 | AG11: =DATE($M$2,$S$2,28) -> 45440 | AH11: =IF(DAY(EOMONTH(F11,0))<29,"",DATE($M$2,$S$2,29)) -> 45441 | AI11: =IF(DAY(EOMONTH(F11,0))<30,"",DATE($M$2,$S$2,30)) -> 45442 | AJ11: =IF(DAY(EOMONTH(F11,0))<31,"",DATE($M$2,$S$2,31)) -> 45443
A12: 1 | B12: 管理者 | C12: A | E12: A | AK12: =+SUM(F12:AJ12) -> 0 | AL12: =IF($AK$3="４週",AK12/4,AK12/(DAY(EOMONTH($F$10,0))/7)) -> 0 | AO12: =IF(B12="","",IF(ISERROR(MATCH(B12,$C$38:$AM$38,0)),"その他職員",B12)) -> 管理者
A13: 2 | B13: 児童発達支援管理責任者 | C13: B | E13: B | AK13: =+SUM(F13:AJ13) -> 0 | AL13: =IF($AK$3="４週",AK13/4,AK13/(DAY(EOMONTH($F$10,0))/7)) -> 0 | AO13: =IF(B13="","",IF(ISERROR(MATCH(B13,$C$38:$AM$38,0)),"その他職員",B13)) -> 児童発達支援管理責任者
A14: 3 | B14: 嘱託医 | C14: C | E14: C | AK14: =+SUM(F14:AJ14) -> 0 | AL14: =IF($AK$3="４週",AK14/4,AK14/(DAY(EOMONTH($F$10,0))/7)) -> 0 | AO14: =IF(B14="","",IF(ISERROR(MATCH(B14,$C$38:$AM$38,0)),"その他職員",B14)) -> 嘱託医
A15: 4 | B15: 児童指導員 | C15: D | E15: D | AK15: =+SUM(F15:AJ15) -> 0 | AL15: =IF($AK$3="４週",AK15/4,AK15/(DAY(EOMONTH($F$10,0))/7)) -> 0 | AO15: =IF(B15="","",IF(ISERROR(MATCH(B15,$C$38:$AM$38,0)),"その他職員",B15)) -> 児童指導員
A16: 5 | B16: その他職員 | C16: B | E16: E | AK16: =+SUM(F16:AJ16) -> 0 | AL16: =IF($AK$3="４週",AK16/4,AK16/(DAY(EOMONTH($F$10,0))/7)) -> 0 | AO16: =IF(B16="","",IF(ISERROR(MATCH(B16,$C$38:$AM$38,0)),"その他職員",B16)) -> その他職員
A17: 6 | AK17: =+SUM(F17:AJ17) -> 0 | AL17: =IF($AK$3="４週",AK17/4,AK17/(DAY(EOMONTH($F$10,0))/7)) -> 0 | AO17: =IF(B17="","",IF(ISERROR(MATCH(B17,$C$38:$AM$38,0)),"その他職員",B17))
A18: 7 | AK18: =+SUM(F18:AJ18) -> 0 | AL18: =IF($AK$3="４週",AK18/4,AK18/(DAY(EOMONTH($F$10,0))/7)) -> 0 | AO18: =IF(B18="","",IF(ISERROR(MATCH(B18,$C$38:$AM$38,0)),"その他職員",B18))
A19: 8 | AK19: =+SUM(F19:AJ19) -> 0 | AL19: =IF($AK$3="４週",AK19/4,AK19/(DAY(EOMONTH($F$10,0))/7)) -> 0 | AO19: =IF(B19="","",IF(ISERROR(MATCH(B19,$C$38:$AM$38,0)),"その他職員",B19))
A20: 9 | AK20: =+SUM(F20:AJ20) -> 0 | AL20: =IF($AK$3="４週",AK20/4,AK20/(DAY(EOMONTH($F$10,0))/7)) -> 0 | AO20: =IF(B20="","",IF(ISERROR(MATCH(B20,$C$38:$AM$38,0)),"その他職員",B20))
A21: 10 | AK21: =+SUM(F21:AJ21) -> 0 | AL21: =IF($AK$3="４週",AK21/4,AK21/(DAY(EOMONTH($F$10,0))/7)) -> 0 | AO21: =IF(B21="","",IF(ISERROR(MATCH(B21,$C$38:$AM$38,0)),"その他職員",B21))
A22: 11 | AK22: =+SUM(F22:AJ22) -> 0 | AL22: =IF($AK$3="４週",AK22/4,AK22/(DAY(EOMONTH($F$10,0))/7)) -> 0 | AO22: =IF(B22="","",IF(ISERROR(MATCH(B22,$C$38:$AM$38,0)),"その他職員",B22))
A23: 12 | AK23: =+SUM(F23:AJ23) -> 0 | AL23: =IF($AK$3="４週",AK23/4,AK23/(DAY(EOMONTH($F$10,0))/7)) -> 0 | AO23: =IF(B23="","",IF(ISERROR(MATCH(B23,$C$38:$AM$38,0)),"その他職員",B23))
A24: 13 | AK24: =+SUM(F24:AJ24) -> 0 | AL24: =IF($AK$3="４週",AK24/4,AK24/(DAY(EOMONTH($F$10,0))/7)) -> 0 | AO24: =IF(B24="","",IF(ISERROR(MATCH(B24,$C$38:$AM$38,0)),"その他職員",B24))
A25: 14 | AK25: =+SUM(F25:AJ25) -> 0 | AL25: =IF($AK$3="４週",AK25/4,AK25/(DAY(EOMONTH($F$10,0))/7)) -> 0 | AO25: =IF(B25="","",IF(ISERROR(MATCH(B25,$C$38:$AM$38,0)),"その他職員",B25))
A26: 15 | AK26: =+SUM(F26:AJ26) -> 0 | AL26: =IF($AK$3="４週",AK26/4,AK26/(DAY(EOMONTH($F$10,0))/7)) -> 0 | AO26: =IF(B26="","",IF(ISERROR(MATCH(B26,$C$38:$AM$38,0)),"その他職員",B26))
A27: 16 | AK27: =+SUM(F27:AJ27) -> 0 | AL27: =IF($AK$3="４週",AK27/4,AK27/(DAY(EOMONTH($F$10,0))/7)) -> 0 | AO27: =IF(B27="","",IF(ISERROR(MATCH(B27,$C$38:$AM$38,0)),"その他職員",B27))
A28: 17 | AK28: =+SUM(F28:AJ28) -> 0 | AL28: =IF($AK$3="４週",AK28/4,AK28/(DAY(EOMONTH($F$10,0))/7)) -> 0 | AO28: =IF(B28="","",IF(ISERROR(MATCH(B28,$C$38:$AM$38,0)),"その他職員",B28))
... A31: 20 | AK31: =+SUM(F31:AJ31) -> 0 | AL31: =IF($AK$3="４週",AK31/4,AK31/(DAY(EOMONTH($F$10,0))/7)) -> 0 | AO31: =IF(B31="","",IF(ISERROR(MATCH(B31,$C$38:$AM$38,0)),"その他職員",B31))
A32: 合計 | F32: =+SUM(F12:F31) -> 0 | G32: =+SUM(G12:G31) -> 0 | H32: =+SUM(H12:H31) -> 0 | I32: =+SUM(I12:I31) -> 0 | J32: =+SUM(J12:J31) -> 0 | K32: =+SUM(K12:K31) -> 0 | L32: =+SUM(L12:L31) -> 0 | M32: =+SUM(M12:M31) -> 0 | ... AJ32: =+SUM(AJ12:AJ31) -> 0 | AK32: =+SUM(F32:AJ32) -> 0 | AL32: =IF($AK$3="４週",AK32/4,AK32/(DAY(EOMONTH($F$10,0))/7)) -> 0
A33: サービス提供時間
A37: ＜人員基準に関する実人数集計＞
C38: =IF(VLOOKUP($AK$1,[5]選択肢!$A$1:$J$32,C43,FALSE)=0,"-",VLOOKUP($AK$1,[5]選択肢!$A$1:$J$32,C43,FALSE)) -> 管理者 | E38: =IF(VLOOKUP($AK$1,[5]選択肢!$A$1:$J$32,E43,FALSE)=0,"-",VLOOKUP($AK$1,[5]選択肢!$A$1:$J$32,E43,FALSE)) -> 児童発達支援管理責任者 | I38: =IF(VLOOKUP($AK$1,[5]選択肢!$A$1:$J$32,I43,FALSE)=0,"-",VLOOKUP($AK$1,[5]選択肢!$A$1:$J$32,I43,FALSE)) -> 嘱託医 | O38: =IF(VLOOKUP($AK$1,[5]選択肢!$A$1:$J$32,O43,FALSE)=0,"-",VLOOKUP($AK$1,[5]選択肢!$A$1:$J$32,O43,FALSE)) -> 児童指導員 | U38: =IF(VLOOKUP($AK$1,[5]選択肢!$A$1:$J$32,U43,FALSE)=0,"-",VLOOKUP($AK$1,[5]選択肢!$A$1:$J$32,U43,FALSE)) -> 保育士 | AA38: =IF(VLOOKUP($AK$1,[5]選択肢!$A$1:$J$32,AA43,FALSE)=0,"-",VLOOKUP($AK$1,[5]選択肢!$A$1:$J$32,AA43,FALSE)) -> 栄養士 | AG38: =IF(VLOOKUP($AK$1,[5]選択肢!$A$1:$J$32,AG43,FALSE)=0,"-",VLOOKUP($AK$1,[5]選択肢!$A$1:$J$32,AG43,FALSE)) -> 調理員 | AL38: =IF(VLOOKUP($AK$1,[5]選択肢!$A$1:$J$32,AL43,FALSE)=0,"-",VLOOKUP($AK$1,[5]選択肢!$A$1:$J$32,AL43,FALSE)) -> 機能訓練担当職員
C39: 専従 | D39: 兼務 | E39: 専従 | F39: 兼務 | I39: 専従 | L39: 兼務 | O39: 専従 | R39: 兼務 | U39: 専従 | X39: 兼務 | AA39: 専従 | AD39: 兼務 | AG39: 専従 | AJ39: 兼務 | AL39: 専従 | AM39: 兼務
B40: 常勤 | C40: =COUNTIFS($AO$12:$AO$31,C$38,$C$12:$C$31,"A",$E$12:$E$31,"*") -> 1 | D40: =COUNTIFS($AO$12:$AO$31,C$38,$C$12:$C$31,"B",$E$12:$E$31,"*") -> 0 | E40: =COUNTIFS($AO$12:$AO$31,E$38,$C$12:$C$31,"A",$E$12:$E$31,"*") -> 0 | F40: =COUNTIFS($AO$12:$AO$31,E$38,$C$12:$C$31,"B",$E$12:$E$31,"*") -> 1 | I40: =COUNTIFS($AO$12:$AO$31,I$38,$C$12:$C$31,"A",$E$12:$E$31,"*") -> 0 | L40: =COUNTIFS($AO$12:$AO$31,I$38,$C$12:$C$31,"B",$E$12:$E$31,"*") -> 0 | O40: =COUNTIFS($AO$12:$AO$31,O$38,$C$12:$C$31,"A",$E$12:$E$31,"*") -> 0 | R40: =COUNTIFS($AO$12:$AO$31,O$38,$C$12:$C$31,"B",$E$12:$E$31,"*") -> 0 | U40: =COUNTIFS($AO$12:$AO$31,U$38,$C$12:$C$31,"A",$E$12:$E$31,"*") -> 0 | X40: =COUNTIFS($AO$12:$AO$31,U$38,$C$12:$C$31,"B",$E$12:$E$31,"*") -> 0 | AA40: =COUNTIFS($AO$12:$AO$31,AA$38,$C$12:$C$31,"A",$E$12:$E$31,"*") -> 0 | AD40: =COUNTIFS($AO$12:$AO$31,AA$38,$C$12:$C$31,"B",$E$12:$E$31,"*") -> 0 | AG40: =COUNTIFS($AO$12:$AO$31,AG$38,$C$12:$C$31,"A",$E$12:$E$31,"*") -> 0 | AJ40: =COUNTIFS($AO$12:$AO$31,AG$38,$C$12:$C$31,"B",$E$12:$E$31,"*") -> 0 | AL40: =COUNTIFS($AO$12:$AO$31,AL$38,$C$12:$C$31,"A",$E$12:$E$31,"*") -> 0 | AM40: =COUNTIFS($AO$12:$AO$31,AL$38,$C$12:$C$31,"B",$E$12:$E$31,"*") -> 0
B41: 非常勤 | C41: =COUNTIFS($AO$12:$AO$31,C$38,$C$12:$C$31,"C",$E$12:$E$31,"*") -> 0 | D41: =COUNTIFS($AO$12:$AO$31,C$38,$C$12:$C$31,"D",$E$12:$E$31,"*") -> 0 | E41: =COUNTIFS($AO$12:$AO$31,E$38,$C$12:$C$31,"C",$E$12:$E$31,"*") -> 0 | F41: =COUNTIFS($AO$12:$AO$31,E$38,$C$12:$C$31,"D",$E$12:$E$31,"*") -> 0 | I41: =COUNTIFS($AO$12:$AO$31,I$38,$C$12:$C$31,"C",$E$12:$E$31,"*") -> 1 | L41: =COUNTIFS($AO$12:$AO$31,I$38,$C$12:$C$31,"D",$E$12:$E$31,"*") -> 0 | O41: =COUNTIFS($AO$12:$AO$31,O$38,$C$12:$C$31,"C",$E$12:$E$31,"*") -> 0 | R41: =COUNTIFS($AO$12:$AO$31,O$38,$C$12:$C$31,"D",$E$12:$E$31,"*") -> 1 | U41: =COUNTIFS($AO$12:$AO$31,U$38,$C$12:$C$31,"C",$E$12:$E$31,"*") -> 0 | X41: =COUNTIFS($AO$12:$AO$31,U$38,$C$12:$C$31,"D",$E$12:$E$31,"*") -> 0 | AA41: =COUNTIFS($AO$12:$AO$31,AA$38,$C$12:$C$31,"C",$E$12:$E$31,"*") -> 0 | AD41: =COUNTIFS($AO$12:$AO$31,AA$38,$C$12:$C$31,"D",$E$12:$E$31,"*") -> 0 | AG41: =COUNTIFS($AO$12:$AO$31,AG$38,$C$12:$C$31,"C",$E$12:$E$31,"*") -> 0 | AJ41: =COUNTIFS($AO$12:$AO$31,AG$38,$C$12:$C$31,"D",$E$12:$E$31,"*") -> 0 | AL41: =COUNTIFS($AO$12:$AO$31,AL$38,$C$12:$C$31,"C",$E$12:$E$31,"*") -> 0 | AM41: =COUNTIFS($AO$12:$AO$31,AL$38,$C$12:$C$31,"D",$E$12:$E$31,"*") -> 0
B42: 常勤換算数 | C42: =IF($AK$3="４週",SUMIFS($AK$12:$AK$31,$AO$12:$AO$31,C38)/4/$AH$6,IF($AK$3="歴月",SUMIFS($AK$12:$AK$31,$AO$12:$AO$31,C38)/$AL$6,"記載する期間を選択してください")) -> #DIV/0! | E42: =IF($AK$3="４週",SUMIFS($AK$12:$AK$31,$AO$12:$AO$31,E38)/4/$AH$6,IF($AK$3="歴月",SUMIFS($AK$12:$AK$31,$AO$12:$AO$31,E38)/$AL$6,"記載する期間を選択してください")) -> #DIV/0! | I42: =IF($AK$3="４週",SUMIFS($AK$12:$AK$31,$AO$12:$AO$31,I38)/4/$AH$6,IF($AK$3="歴月",SUMIFS($AK$12:$AK$31,$AO$12:$AO$31,I38)/$AL$6,"記載する期間を選択してください")) -> #DIV/0! | O42: =IF($AK$3="４週",SUMIFS($AK$12:$AK$31,$AO$12:$AO$31,O38)/4/$AH$6,IF($AK$3="歴月",SUMIFS($AK$12:$AK$31,$AO$12:$AO$31,O38)/$AL$6,"記載する期間を選択してください")) -> #DIV/0! | U42: =IF($AK$3="４週",SUMIFS($AK$12:$AK$31,$AO$12:$AO$31,U38)/4/$AH$6,IF($AK$3="歴月",SUMIFS($AK$12:$AK$31,$AO$12:$AO$31,U38)/$AL$6,"記載する期間を選択してください")) -> #DIV/0! | AA42: =IF($AK$3="４週",SUMIFS($AK$12:$AK$31,$AO$12:$AO$31,AA38)/4/$AH$6,IF($AK$3="歴月",SUMIFS($AK$12:$AK$31,$AO$12:$AO$31,AA38)/$AL$6,"記載する期間を選択してください")) -> #DIV/0! | AG42: =IF($AK$3="４週",SUMIFS($AK$12:$AK$31,$AO$12:$AO$31,AG38)/4/$AH$6,IF($AK$3="歴月",SUMIFS($AK$12:$AK$31,$AO$12:$AO$31,AG38)/$AL$6,"記載する期間を選択してください")) -> #DIV/0! | AL42: =IF($AK$3="４週",SUMIFS($AK$12:$AK$31,$AO$12:$AO$31,AL38)/4/$AH$6,IF($AK$3="歴月",SUMIFS($AK$12:$AK$31,$AO$12:$AO$31,AL38)/$AL$6,"記載する期間を選択してください")) -> #DIV/0!
C43: 2 | E43: 3 | I43: 4 | O43: 5 | U43: 6 | AA43: 7 | AG43: 8 | AL43: 9
C44: =IF(VLOOKUP($AK$1,[5]選択肢!$A:$Z,C49,FALSE)=0,"-",VLOOKUP($AK$1,[5]選択肢!$A:$Z,C49,FALSE)) -> 看護職員 | E44: =IF(VLOOKUP($AK$1,[5]選択肢!$A:$Z,E49,FALSE)=0,"-",VLOOKUP($AK$1,[5]選択肢!$A:$Z,E49,FALSE)) -> その他職員
C45: 専従 | D45: 兼務 | E45: 専従 | F45: 兼務
B46: 常勤 | C46: =COUNTIFS($AO$11:$AO$30,C$44,$C$11:$C$30,"A",$E$11:$E$30,"*") -> 0 | D46: =COUNTIFS($AO$11:$AO$30,C$44,$C$11:$C$30,"B",$E$11:$E$30,"*") -> 0 | E46: =COUNTIFS($AO$11:$AO$30,E$44,$C$11:$C$30,"A",$E$11:$E$30,"*") -> 0 | F46: =COUNTIFS($AO$11:$AO$30,E$44,$C$11:$C$30,"B",$E$11:$E$30,"*") -> 1
B47: 非常勤 | C47: =COUNTIFS($AO$11:$AO$30,C$44,$C$11:$C$30,"C",$E$11:$E$30,"*") -> 0 | D47: =COUNTIFS($AO$11:$AO$30,C$44,$C$11:$C$30,"D",$E$11:$E$30,"*") -> 0 | E47: =COUNTIFS($AO$11:$AO$30,E$44,$C$11:$C$30,"C",$E$11:$E$30,"*") -> 0 | F47: =COUNTIFS($AO$11:$AO$30,E$44,$C$11:$C$30,"D",$E$11:$E$30,"*") -> 0
B48: 常勤換算数 | C48: =IF($AK$3="４週",SUMIFS($AK$12:$AK$31,$AO$12:$AO$31,C44)/4/$AH$6,IF($AK$3="歴月",SUMIFS($AK$12:$AK$31,$AO$12:$AO$31,C44)/$AL$6,"記載する期間を選択してください")) -> #DIV/0! | E48: =IF($AK$3="４週",SUMIFS($AK$12:$AK$31,$AO$12:$AO$31,E44)/4/$AH$6,IF($AK$3="歴月",SUMIFS($AK$12:$AK$31,$AO$12:$AO$31,E44)/$AL$6,"記載する期間を選択してください")) -> #DIV/0!
C49: 10 | E49: =C49+1 -> 11
A50: ・最初に「年月欄」「サービス種別」「事業所名」を入力してください。 | R50: 6 | X50: 7 | AD50: 8 | AJ50: 9
A51: (1) 「４週」・「暦月」のいずれかを選択してください。
A52: (2) 「予定」・「実績」のいずれかを選択してください。
A53: (2) -2 定員数を入力してください。
A54: (3) 事業所における常勤の従業者が勤務すべき時間数を入力してください。
A55: (4) 従業者の職種を入力してください。
A56: 記入の順序は、職種ごとにまとめてください。
A57: (5) 従業者の勤務形態について、下記のうち該当する区分の記号を入力してください。
B58: 記号 | C58: 区分
B59: A | C59: 常勤で専従
B60: B | C60: 常勤で兼務
B61: C | C61: 非常勤で専従
B62: D | C62: 非常勤で兼務
B63: （注）常勤・非常勤の区分について
B64: 当該事業所における勤務時間が、当該事業所において定められている常勤の従業者が勤務すべき時間数に達していることをいいます。雇用の形態は考慮しません。
B65: （例えば、常勤者は週に40時間勤務することとされた事業所であれば、非正規雇用であっても、週40時間勤務する従業者は常勤扱いとなります。）
A66: (6) 従業者の保有する資格を入力してください。
A67: 保有資格を全て記入するのではなく、人員基準・加配加算上、求められる資格等を入力してください。
A68: ※選択した資格及び研修に関して、必要に応じて、資格証又は研修修了証等の写しを添付資料として提出してください。
A69: (7) 従業者の氏名を記入してください。
A70: (8) 申請する事業に係る従業者（管理者を含む。）の1ヶ月分の勤務時間を入力してください。
A71: (9) 常勤の職員の休暇等については、その期間が暦年で１月を超えるものでない限り、常勤換算の計算上は勤務したものとみなすことができます。
B72: その場合、勤務時間欄には「休」と記入し、勤務時間の合計に含めてください（非常勤職員の休暇等は常勤換算の計算に含めることはできません）。
B73: ※指定基準の確認に際しては、４週分の入力で差し支えありません。
A74: (10) 従業者ごとに、合計勤務時間数を入力してください。
A75: ※ 入力することができる時間数は、当該事業所において常勤の従業者が勤務すべき勤務時間数を上限とします。
A76: (11) 従業者ごとに、週平均の勤務時間数を入力してください。
A77: (12) 申請する事業所以外の事業所・施設との兼務がある場合は、兼務先の事業所・施設の名称、兼務する職務の内容について記入してください。
A78: 同一事業所内の兼務についても兼務する職務の内容を記入してください。
A79: その他、特記事項欄としてもご活用ください。
A80: （13)本表には計算式を設定していますが、結果に誤りがないかご確認ください。
A81: （14) 必要項目を満たしていれば、各事業所で使用するシフト表等をもって代替書類として差し支えありません。

Sheet 勤務形態一覧表（居宅訪問型児童発達支援）
A1: 従業者の勤務の体制及び勤務形態一覧表 | AI1: サービス種別 | AK1: 居宅訪問型児童発達支援
M2: 2024 | Q2: 年 | S2: 5 | U2: 月 | AI2: 事業所名
AI3: (1)記載する期間 | AK3: ４週
AI4: (2)予定/実績の別
AG5: (3)事業所における常勤の従業者が勤務すべき時間数 | AK5: 時間/週 | AM5: 時間/月
A7: No. | B7: (4)職種 | C7: (5)勤務形態 | D7: (6)資格 | E7: (7)氏名 | F7: (8) | AK7: (9)勤務時間数合計 | AL7: (10)週平均の勤務時間数 | AM7: (11)兼務状況 （兼務先／兼務する職務の内容）等
F8: 第１週 | M8: 第２週 | T8: 第３週 | AA8: 第４週 | AH8: 第５週
B9: ※選択肢にない職種については直接入力してください | F9: =DATE($M$2,$S$2,1) -> 45413 | G9: =DATE($M$2,$S$2,2) -> 45414 | H9: =DATE($M$2,$S$2,3) -> 45415 | I9: =DATE($M$2,$S$2,4) -> 45416 | J9: =DATE($M$2,$S$2,5) -> 45417 | K9: =DATE($M$2,$S$2,6) -> 45418 | L9: =DATE($M$2,$S$2,7) -> 45419 | M9: =DATE($M$2,$S$2,8) -> 45420 | N9: =DATE($M$2,$S$2,9) -> 45421 | O9: =DATE($M$2,$S$2,10) -> 45422 | P9: =DATE($M$2,$S$2,11) -> 45423 | Q9: =DATE($M$2,$S$2,12) -> 45424 | R9: =DATE($M$2,$S$2,13) -> 45425 | S9: =DATE($M$2,$S$2,14) -> 45426 | T9: =DATE($M$2,$S$2,15) -> 45427 | U9: =DATE($M$2,$S$2,16) -> 45428 | V9: =DATE($M$2,$S$2,17) -> 45429 | W9: =DATE($M$2,$S$2,18) -> 45430 | X9: =DATE($M$2,$S$2,19) -> 45431 | Y9: =DATE($M$2,$S$2,20) -> 45432 | Z9: =DATE($M$2,$S$2,21) -> 45433 | AA9: =DATE($M$2,$S$2,22) -> 45434 | AB9: =DATE($M$2,$S$2,23) -> 45435 | AC9: =DATE($M$2,$S$2,24) -> 45436 | AD9: =DATE($M$2,$S$2,25) -> 45437 | AE9: =DATE($M$2,$S$2,26) -> 45438 | AF9: =DATE($M$2,$S$2,27) -> 45439 | AG9: =DATE($M$2,$S$2,28) -> 45440 | AH9: =IF(DAY(EOMONTH(F9,0))<29,"",DATE($M$2,$S$2,29)) -> 45441 | AI9: =IF(DAY(EOMONTH(F9,0))<30,"",DATE($M$2,$S$2,30)) -> 45442 | AJ9: =IF(DAY(EOMONTH(F9,0))<31,"",DATE($M$2,$S$2,31)) -> 45443
F10: =DATE($M$2,$S$2,1) -> 45413 | G10: =DATE($M$2,$S$2,2) -> 45414 | H10: =DATE($M$2,$S$2,3) -> 45415 | I10: =DATE($M$2,$S$2,4) -> 45416 | J10: =DATE($M$2,$S$2,5) -> 45417 | K10: =DATE($M$2,$S$2,6) -> 45418 | L10: =DATE($M$2,$S$2,7) -> 45419 | M10: =DATE($M$2,$S$2,8) -> 45420 | N10: =DATE($M$2,$S$2,9) -> 45421 | O10: =DATE($M$2,$S$2,10) -> 45422 | P10: =DATE($M$2,$S$2,11) -> 45423 | Q10: =DATE($M$2,$S$2,12) -> 45424 | R10: =DATE($M$2,$S$2,13) -> 45425 | S10: =DATE($M$2,$S$2,14) -> 45426 | T10: =DATE($M$2,$S$2,15) -> 45427 | U10: =DATE($M$2,$S$2,16) -> 45428 | V10: =DATE($M$2,$S$2,17) -> 45429 | W10: =DATE($M$2,$S$2,18) -> 45430 | X10: =DATE($M$2,$S$2,19) -> 45431 | Y10: =DATE($M$2,$S$2,20) -> 45432 | Z10: =DATE($M$2,$S$2,21) -> 45433 | AA10: =DATE($M$2,$S$2,22) -> 45434 | AB10: =DATE($M$2,$S$2,23) -> 45435 | AC10: =DATE($M$2,$S$2,24) -> 45436 | AD10: =DATE($M$2,$S$2,25) -> 45437 | AE10: =DATE($M$2,$S$2,26) -> 45438 | AF10: =DATE($M$2,$S$2,27) -> 45439 | AG10: =DATE($M$2,$S$2,28) -> 45440 | AH10: =IF(DAY(EOMONTH(F10,0))<29,"",DATE($M$2,$S$2,29)) -> 45441 | AI10: =IF(DAY(EOMONTH(F10,0))<30,"",DATE($M$2,$S$2,30)) -> 45442 | AJ10: =IF(DAY(EOMONTH(F10,0))<31,"",DATE($M$2,$S$2,31)) -> 45443
A11: 1 | B11: 管理者 | C11: A | E11: A | AK11: =+SUM(F11:AJ11) -> 0 | AL11: =IF($AK$3="４週",AK11/4,AK11/(DAY(EOMONTH($F$9,0))/7)) -> 0
A12: 2 | B12: 児童発達支援管理責任者 | C12: B | E12: B | AK12: =+SUM(F12:AJ12) -> 0 | AL12: =IF($AK$3="４週",AK12/4,AK12/(DAY(EOMONTH($F$9,0))/7)) -> 0
A13: 3 | B13: 児童発達支援管理責任者 | C13: C | E13: C | AK13: =+SUM(F13:AJ13) -> 0 | AL13: =IF($AK$3="４週",AK13/4,AK13/(DAY(EOMONTH($F$9,0))/7)) -> 0
A14: 4 | B14: 訪問支援員 | C14: D | E14: D | AK14: =+SUM(F14:AJ14) -> 0 | AL14: =IF($AK$3="４週",AK14/4,AK14/(DAY(EOMONTH($F$9,0))/7)) -> 0
A15: 5 | AK15: =+SUM(F15:AJ15) -> 0 | AL15: =IF($AK$3="４週",AK15/4,AK15/(DAY(EOMONTH($F$9,0))/7)) -> 0
A16: 6 | AK16: =+SUM(F16:AJ16) -> 0 | AL16: =IF($AK$3="４週",AK16/4,AK16/(DAY(EOMONTH($F$9,0))/7)) -> 0
A17: 7 | AK17: =+SUM(F17:AJ17) -> 0 | AL17: =IF($AK$3="４週",AK17/4,AK17/(DAY(EOMONTH($F$9,0))/7)) -> 0
A18: 8 | AK18: =+SUM(F18:AJ18) -> 0 | AL18: =IF($AK$3="４週",AK18/4,AK18/(DAY(EOMONTH($F$9,0))/7)) -> 0
A19: 9 | AK19: =+SUM(F19:AJ19) -> 0 | AL19: =IF($AK$3="４週",AK19/4,AK19/(DAY(EOMONTH($F$9,0))/7)) -> 0
A20: 10 | AK20: =+SUM(F20:AJ20) -> 0 | AL20: =IF($AK$3="４週",AK20/4,AK20/(DAY(EOMONTH($F$9,0))/7)) -> 0
A21: 11 | AK21: =+SUM(F21:AJ21) -> 0 | AL21: =IF($AK$3="４週",AK21/4,AK21/(DAY(EOMONTH($F$9,0))/7)) -> 0
A22: 12 | AK22: =+SUM(F22:AJ22) -> 0 | AL22: =IF($AK$3="４週",AK22/4,AK22/(DAY(EOMONTH($F$9,0))/7)) -> 0
A23: 13 | AK23: =+SUM(F23:AJ23) -> 0 | AL23: =IF($AK$3="４週",AK23/4,AK23/(DAY(EOMONTH($F$9,0))/7)) -> 0
A24: 14 | AK24: =+SUM(F24:AJ24) -> 0 | AL24: =IF($AK$3="４週",AK24/4,AK24/(DAY(EOMONTH($F$9,0))/7)) -> 0
A25: 15 | AK25: =+SUM(F25:AJ25) -> 0 | AL25: =IF($AK$3="４週",AK25/4,AK25/(DAY(EOMONTH($F$9,0))/7)) -> 0
A26: 16 | AK26: =+SUM(F26:AJ26) -> 0 | AL26: =IF($AK$3="４週",AK26/4,AK26/(DAY(EOMONTH($F$9,0))/7)) -> 0
... A30: 20 | AK30: =+SUM(F30:AJ30) -> 0 | AL30: =IF($AK$3="４週",AK30/4,AK30/(DAY(EOMONTH($F$9,0))/7)) -> 0
A31: 合計 | F31: =+SUM(F11:F30) -> 0 | G31: =+SUM(G11:G30) -> 0 | H31: =+SUM(H11:H30) -> 0 | I31: =+SUM(I11:I30) -> 0 | J31: =+SUM(J11:J30) -> 0 | K31: =+SUM(K11:K30) -> 0 | L31: =+SUM(L11:L30) -> 0 | M31: =+SUM(M11:M30) -> 0 | ... AJ31: =+SUM(AJ11:AJ30) -> 0 | AK31: =+SUM(F31:AJ31) -> 0 | AL31: =IF($AK$3="４週",AK31/4,AK31/(DAY(EOMONTH($F$9,0))/7)) -> 0
A32: サービス提供時間
A36: ＜人員基準に関する実人数集計＞
C37: =IF(VLOOKUP($AK$1,[5]選択肢!$A$1:$J$32,C42,FALSE)=0,"-",VLOOKUP($AK$1,[5]選択肢!$A$1:$J$32,C42,FALSE)) -> 管理者 | E37: =IF(VLOOKUP($AK$1,[5]選択肢!$A$1:$J$32,E42,FALSE)=0,"-",VLOOKUP($AK$1,[5]選択肢!$A$1:$J$32,E42,FALSE)) -> 児童発達支援管理責任者 | I37: =IF(VLOOKUP($AK$1,[5]選択肢!$A$1:$J$32,I42,FALSE)=0,"-",VLOOKUP($AK$1,[5]選択肢!$A$1:$J$32,I42,FALSE)) -> 訪問支援員 | O37: =IF(VLOOKUP($AK$1,[5]選択肢!$A$1:$J$32,O42,FALSE)=0,"-",VLOOKUP($AK$1,[5]選択肢!$A$1:$J$32,O42,FALSE)) -> - | U37: =IF(VLOOKUP($AK$1,[5]選択肢!$A$1:$J$32,U42,FALSE)=0,"-",VLOOKUP($AK$1,[5]選択肢!$A$1:$J$32,U42,FALSE)) -> - | AA37: =IF(VLOOKUP($AK$1,[5]選択肢!$A$1:$J$32,AA42,FALSE)=0,"-",VLOOKUP($AK$1,[5]選択肢!$A$1:$J$32,AA42,FALSE)) -> - | AG37: =IF(VLOOKUP($AK$1,[5]選択肢!$A$1:$J$32,AG42,FALSE)=0,"-",VLOOKUP($AK$1,[5]選択肢!$A$1:$J$32,AG42,FALSE)) -> - | AL37: =IF(VLOOKUP($AK$1,[5]選択肢!$A$1:$J$32,AL42,FALSE)=0,"-",VLOOKUP($AK$1,[5]選択肢!$A$1:$J$32,AL42,FALSE)) -> -
C38: 専従 | D38: 兼務 | E38: 専従 | F38: 兼務 | I38: 専従 | L38: 兼務 | O38: 専従 | R38: 兼務 | U38: 専従 | X38: 兼務 | AA38: 専従 | AD38: 兼務 | AG38: 専従 | AJ38: 兼務 | AL38: 専従 | AM38: 兼務
B39: 常勤 | C39: =COUNTIFS($B$11:$B$30,C$37,$C$11:$C$30,"A",$E$11:$E$30,"*") -> 1 | D39: =COUNTIFS($B$11:$B$30,C$37,$C$11:$C$30,"B",$E$11:$E$30,"*") -> 0 | E39: =COUNTIFS($B$11:$B$30,E$37,$C$11:$C$30,"A",$E$11:$E$30,"*") -> 0 | F39: =COUNTIFS($B$11:$B$30,E$37,$C$11:$C$30,"B",$E$11:$E$30,"*") -> 1 | I39: =COUNTIFS($B$11:$B$30,I$37,$C$11:$C$30,"A",$E$11:$E$30,"*") -> 0 | L39: =COUNTIFS($B$11:$B$30,I$37,$C$11:$C$30,"B",$E$11:$E$30,"*") -> 0 | O39: =COUNTIFS($B$11:$B$30,O$37,$C$11:$C$30,"A",$E$11:$E$30,"*") -> 0 | R39: =COUNTIFS($B$11:$B$30,O$37,$C$11:$C$30,"B",$E$11:$E$30,"*") -> 0 | U39: =COUNTIFS($B$11:$B$30,U$37,$C$11:$C$30,"A",$E$11:$E$30,"*") -> 0 | X39: =COUNTIFS($B$11:$B$30,U$37,$C$11:$C$30,"B",$E$11:$E$30,"*") -> 0 | AA39: =COUNTIFS($B$11:$B$30,AA$37,$C$11:$C$30,"A",$E$11:$E$30,"*") -> 0 | AD39: =COUNTIFS($B$11:$B$30,AA$37,$C$11:$C$30,"B",$E$11:$E$30,"*") -> 0 | AG39: =COUNTIFS($B$11:$B$30,AG$37,$C$11:$C$30,"A",$E$11:$E$30,"*") -> 0 | AJ39: =COUNTIFS($B$11:$B$30,AG$37,$C$11:$C$30,"B",$E$11:$E$30,"*") -> 0 | AL39: =COUNTIFS($B$11:$B$30,AL$37,$C$11:$C$30,"A",$E$11:$E$30,"*") -> 0 | AM39: =COUNTIFS($B$11:$B$30,AL$37,$C$11:$C$30,"B",$E$11:$E$30,"*") -> 0
B40: 非常勤 | C40: =COUNTIFS($B$11:$B$30,C$37,$C$11:$C$30,"C",$E$11:$E$30,"*") -> 0 | D40: =COUNTIFS($B$11:$B$30,C$37,$C$11:$C$30,"D",$E$11:$E$30,"*") -> 0 | E40: =COUNTIFS($B$11:$B$30,E$37,$C$11:$C$30,"C",$E$11:$E$30,"*") -> 1 | F40: =COUNTIFS($B$11:$B$30,E$37,$C$11:$C$30,"D",$E$11:$E$30,"*") -> 0 | I40: =COUNTIFS($B$11:$B$30,I$37,$C$11:$C$30,"C",$E$11:$E$30,"*") -> 0 | L40: =COUNTIFS($B$11:$B$30,I$37,$C$11:$C$30,"D",$E$11:$E$30,"*") -> 1 | O40: =COUNTIFS($B$11:$B$30,O$37,$C$11:$C$30,"C",$E$11:$E$30,"*") -> 0 | R40: =COUNTIFS($B$11:$B$30,O$37,$C$11:$C$30,"D",$E$11:$E$30,"*") -> 0 | U40: =COUNTIFS($B$11:$B$30,U$37,$C$11:$C$30,"C",$E$11:$E$30,"*") -> 0 | X40: =COUNTIFS($B$11:$B$30,U$37,$C$11:$C$30,"D",$E$11:$E$30,"*") -> 0 | AA40: =COUNTIFS($B$11:$B$30,AA$37,$C$11:$C$30,"C",$E$11:$E$30,"*") -> 0 | AD40: =COUNTIFS($B$11:$B$30,AA$37,$C$11:$C$30,"D",$E$11:$E$30,"*") -> 0 | AG40: =COUNTIFS($B$11:$B$30,AG$37,$C$11:$C$30,"C",$E$11:$E$30,"*") -> 0 | AJ40: =COUNTIFS($B$11:$B$30,AG$37,$C$11:$C$30,"D",$E$11:$E$30,"*") -> 0 | AL40: =COUNTIFS($B$11:$B$30,AL$37,$C$11:$C$30,"C",$E$11:$E$30,"*") -> 0 | AM40: =COUNTIFS($B$11:$B$30,AL$37,$C$11:$C$30,"D",$E$11:$E$30,"*") -> 0
B41: 常勤換算数 | C41: =IF($AK$3="４週",SUMIFS($AK$11:$AK$30,$B$11:$B$30,C37)/4/$AH$5,IF($AK$3="歴月",SUMIFS($AK$11:$AK$30,$B$11:$B$30,C37)/$AL$5,"記載する期間を選択してください")) -> #DIV/0! | E41: =IF($AK$3="４週",SUMIFS($AK$11:$AK$30,$B$11:$B$30,E37)/4/$AH$5,IF($AK$3="歴月",SUMIFS($AK$11:$AK$30,$B$11:$B$30,E37)/$AL$5,"記載する期間を選択してください")) -> #DIV/0! | I41: =IF($AK$3="４週",SUMIFS($AK$11:$AK$30,$B$11:$B$30,I37)/4/$AH$5,IF($AK$3="歴月",SUMIFS($AK$11:$AK$30,$B$11:$B$30,I37)/$AL$5,"記載する期間を選択してください")) -> #DIV/0! | O41: =IF($AK$3="４週",SUMIFS($AK$11:$AK$30,$B$11:$B$30,O37)/4/$AH$5,IF($AK$3="歴月",SUMIFS($AK$11:$AK$30,$B$11:$B$30,O37)/$AL$5,"記載する期間を選択してください")) -> #DIV/0! | U41: =IF($AK$3="４週",SUMIFS($AK$11:$AK$30,$B$11:$B$30,U37)/4/$AH$5,IF($AK$3="歴月",SUMIFS($AK$11:$AK$30,$B$11:$B$30,U37)/$AL$5,"記載する期間を選択してください")) -> #DIV/0! | AA41: =IF($AK$3="４週",SUMIFS($AK$11:$AK$30,$B$11:$B$30,AA37)/4/$AH$5,IF($AK$3="歴月",SUMIFS($AK$11:$AK$30,$B$11:$B$30,AA37)/$AL$5,"記載する期間を選択してください")) -> #DIV/0! | AG41: =IF($AK$3="４週",SUMIFS($AK$11:$AK$30,$B$11:$B$30,AG37)/4/$AH$5,IF($AK$3="歴月",SUMIFS($AK$11:$AK$30,$B$11:$B$30,AG37)/$AL$5,"記載する期間を選択してください")) -> #DIV/0! | AL41: =IF($AK$3="４週",SUMIFS($AK$11:$AK$30,$B$11:$B$30,AL37)/4/$AH$5,IF($AK$3="歴月",SUMIFS($AK$11:$AK$30,$B$11:$B$30,AL37)/$AL$5,"記載する期間を選択してください")) -> #DIV/0!
C42: 2 | E42: 3 | I42: 4 | O42: 5 | U42: 6 | AA42: 7 | AG42: 8 | AL42: 9
A43: ・最初に「年月欄」「サービス種別」「事業所名」を入力してください。 | R43: 6 | X43: 7 | AD43: 8 | AJ43: 9
A44: (1) 「４週」・「暦月」のいずれかを選択してください。
A45: (2) 「予定」・「実績」のいずれかを選択してください。
A46: (3) 事業所における常勤の従業者が勤務すべき時間数を入力してください。
A47: (4) 従業者の職種を入力してください。
A48: 記入の順序は、職種ごとにまとめてください。
A49: (5) 従業者の勤務形態について、下記のうち該当する区分の記号を入力してください。
B50: 記号 | C50: 区分
B51: A | C51: 常勤で専従
B52: B | C52: 常勤で兼務
B53: C | C53: 非常勤で専従
B54: D | C54: 非常勤で兼務
B55: （注）常勤・非常勤の区分について
B56: 当該事業所における勤務時間が、当該事業所において定められている常勤の従業者が勤務すべき時間数に達していることをいいます。雇用の形態は考慮しません。
B57: （例えば、常勤者は週に40時間勤務することとされた事業所であれば、非正規雇用であっても、週40時間勤務する従業者は常勤扱いとなります。）
A58: (6) 従業者の保有する資格を入力してください。
A59: 保有資格を全て記入するのではなく、人員基準上、求められる資格等を入力してください。
A60: ※選択した資格及び研修に関して、必要に応じて、資格証又は研修修了証等の写しを添付資料として提出してください。
A61: (7) 従業者の氏名を記入してください。
A62: (8) 申請する事業に係る従業者（管理者を含む。）の1ヶ月分の勤務時間を入力してください。
A63: (9) 常勤の職員の休暇等については、その期間が暦年で１月を超えるものでない限り、常勤換算の計算上は勤務したものとみなすことができます。
B64: その場合、勤務時間欄には「休」と記入し、勤務時間の合計に含めてください（非常勤職員の休暇等は常勤換算の計算に含めることはできません）。
B65: ※指定基準の確認に際しては、４週分の入力で差し支えありません。
A66: (10) 従業者ごとに、合計勤務時間数を入力してください。
A67: ※ 入力することができる時間数は、当該事業所において常勤の従業者が勤務すべき勤務時間数を上限とします。
A68: (11) 従業者ごとに、週平均の勤務時間数を入力してください。
A69: (12) 申請する事業所以外の事業所・施設との兼務がある場合は、兼務先の事業所・施設の名称、兼務する職務の内容について記入してください。
A70: 同一事業所内の兼務についても兼務する職務の内容を記入してください。
A71: その他、特記事項欄としてもご活用ください。
A72: （13)本表には計算式を設定していますが、結果に誤りがないかご確認ください。
A73: （14) 必要項目を満たしていれば、各事業所で使用するシフト表等をもって代替書類として差し支えありません。

Sheet 勤務形態一覧表（保育所等訪問支援）
A1: 従業者の勤務の体制及び勤務形態一覧表 | AI1: サービス種別 | AK1: 保育所等訪問支援
M2: 2024 | Q2: 年 | S2: 5 | U2: 月 | AI2: 事業所名
AI3: (1)記載する期間 | AK3: ４週
AI4: (2)予定/実績の別
AG5: (3)事業所における常勤の従業者が勤務すべき時間数 | AK5: 時間/週 | AM5: 時間/月
A7: No. | B7: (4)職種 | C7: (5)勤務形態 | D7: (6)資格 | E7: (7)氏名 | F7: (8) | AK7: (9)勤務時間数合計 | AL7: (10)週平均の勤務時間数 | AM7: (11)兼務状況 （兼務先／兼務する職務の内容）等
F8: 第１週 | M8: 第２週 | T8: 第３週 | AA8: 第４週 | AH8: 第５週
B9: ※選択肢にない職種については直接入力してください | F9: =DATE($M$2,$S$2,1) -> 45413 | G9: =DATE($M$2,$S$2,2) -> 45414 | H9: =DATE($M$2,$S$2,3) -> 45415 | I9: =DATE($M$2,$S$2,4) -> 45416 | J9: =DATE($M$2,$S$2,5) -> 45417 | K9: =DATE($M$2,$S$2,6) -> 45418 | L9: =DATE($M$2,$S$2,7) -> 45419 | M9: =DATE($M$2,$S$2,8) -> 45420 | N9: =DATE($M$2,$S$2,9) -> 45421 | O9: =DATE($M$2,$S$2,10) -> 45422 | P9: =DATE($M$2,$S$2,11) -> 45423 | Q9: =DATE($M$2,$S$2,12) -> 45424 | R9: =DATE($M$2,$S$2,13) -> 45425 | S9: =DATE($M$2,$S$2,14) -> 45426 | T9: =DATE($M$2,$S$2,15) -> 45427 | U9: =DATE($M$2,$S$2,16) -> 45428 | V9: =DATE($M$2,$S$2,17) -> 45429 | W9: =DATE($M$2,$S$2,18) -> 45430 | X9: =DATE($M$2,$S$2,19) -> 45431 | Y9: =DATE($M$2,$S$2,20) -> 45432 | Z9: =DATE($M$2,$S$2,21) -> 45433 | AA9: =DATE($M$2,$S$2,22) -> 45434 | AB9: =DATE($M$2,$S$2,23) -> 45435 | AC9: =DATE($M$2,$S$2,24) -> 45436 | AD9: =DATE($M$2,$S$2,25) -> 45437 | AE9: =DATE($M$2,$S$2,26) -> 45438 | AF9: =DATE($M$2,$S$2,27) -> 45439 | AG9: =DATE($M$2,$S$2,28) -> 45440 | AH9: =IF(DAY(EOMONTH(F9,0))<29,"",DATE($M$2,$S$2,29)) -> 45441 | AI9: =IF(DAY(EOMONTH(F9,0))<30,"",DATE($M$2,$S$2,30)) -> 45442 | AJ9: =IF(DAY(EOMONTH(F9,0))<31,"",DATE($M$2,$S$2,31)) -> 45443
F10: =DATE($M$2,$S$2,1) -> 45413 | G10: =DATE($M$2,$S$2,2) -> 45414 | H10: =DATE($M$2,$S$2,3) -> 45415 | I10: =DATE($M$2,$S$2,4) -> 45416 | J10: =DATE($M$2,$S$2,5) -> 45417 | K10: =DATE($M$2,$S$2,6) -> 45418 | L10: =DATE($M$2,$S$2,7) -> 45419 | M10: =DATE($M$2,$S$2,8) -> 45420 | N10: =DATE($M$2,$S$2,9) -> 45421 | O10: =DATE($M$2,$S$2,10) -> 45422 | P10: =DATE($M$2,$S$2,11) -> 45423 | Q10: =DATE($M$2,$S$2,12) -> 45424 | R10: =DATE($M$2,$S$2,13) -> 45425 | S10: =DATE($M$2,$S$2,14) -> 45426 | T10: =DATE($M$2,$S$2,15) -> 45427 | U10: =DATE($M$2,$S$2,16) -> 45428 | V10: =DATE($M$2,$S$2,17) -> 45429 | W10: =DATE($M$2,$S$2,18) -> 45430 | X10: =DATE($M$2,$S$2,19) -> 45431 | Y10: =DATE($M$2,$S$2,20) -> 45432 | Z10: =DATE($M$2,$S$2,21) -> 45433 | AA10: =DATE($M$2,$S$2,22) -> 45434 | AB10: =DATE($M$2,$S$2,23) -> 45435 | AC10: =DATE($M$2,$S$2,24) -> 45436 | AD10: =DATE($M$2,$S$2,25) -> 45437 | AE10: =DATE($M$2,$S$2,26) -> 45438 | AF10: =DATE($M$2,$S$2,27) -> 45439 | AG10: =DATE($M$2,$S$2,28) -> 45440 | AH10: =IF(DAY(EOMONTH(F10,0))<29,"",DATE($M$2,$S$2,29)) -> 45441 | AI10: =IF(DAY(EOMONTH(F10,0))<30,"",DATE($M$2,$S$2,30)) -> 45442 | AJ10: =IF(DAY(EOMONTH(F10,0))<31,"",DATE($M$2,$S$2,31)) -> 45443
A11: 1 | B11: 管理者 | C11: A | E11: A | AK11: =+SUM(F11:AJ11) -> 0 | AL11: =IF($AK$3="４週",AK11/4,AK11/(DAY(EOMONTH($F$9,0))/7)) -> 0
A12: 2 | B12: 児童発達支援管理責任者 | C12: B | E12: B | AK12: =+SUM(F12:AJ12) -> 0 | AL12: =IF($AK$3="４週",AK12/4,AK12/(DAY(EOMONTH($F$9,0))/7)) -> 0
A13: 3 | B13: 児童発達支援管理責任者 | C13: C | E13: C | AK13: =+SUM(F13:AJ13) -> 0 | AL13: =IF($AK$3="４週",AK13/4,AK13/(DAY(EOMONTH($F$9,0))/7)) -> 0
A14: 4 | B14: 訪問支援員 | C14: D | E14: D | AK14: =+SUM(F14:AJ14) -> 0 | AL14: =IF($AK$3="４週",AK14/4,AK14/(DAY(EOMONTH($F$9,0))/7)) -> 0
A15: 5 | AK15: =+SUM(F15:AJ15) -> 0 | AL15: =IF($AK$3="４週",AK15/4,AK15/(DAY(EOMONTH($F$9,0))/7)) -> 0
A16: 6 | AK16: =+SUM(F16:AJ16) -> 0 | AL16: =IF($AK$3="４週",AK16/4,AK16/(DAY(EOMONTH($F$9,0))/7)) -> 0
A17: 7 | AK17: =+SUM(F17:AJ17) -> 0 | AL17: =IF($AK$3="４週",AK17/4,AK17/(DAY(EOMONTH($F$9,0))/7)) -> 0
A18: 8 | AK18: =+SUM(F18:AJ18) -> 0 | AL18: =IF($AK$3="４週",AK18/4,AK18/(DAY(EOMONTH($F$9,0))/7)) -> 0
A19: 9 | AK19: =+SUM(F19:AJ19) -> 0 | AL19: =IF($AK$3="４週",AK19/4,AK19/(DAY(EOMONTH($F$9,0))/7)) -> 0
A20: 10 | AK20: =+SUM(F20:AJ20) -> 0 | AL20: =IF($AK$3="４週",AK20/4,AK20/(DAY(EOMONTH($F$9,0))/7)) -> 0
A21: 11 | AK21: =+SUM(F21:AJ21) -> 0 | AL21: =IF($AK$3="４週",AK21/4,AK21/(DAY(EOMONTH($F$9,0))/7)) -> 0
A22: 12 | AK22: =+SUM(F22:AJ22) -> 0 | AL22: =IF($AK$3="４週",AK22/4,AK22/(DAY(EOMONTH($F$9,0))/7)) -> 0
A23: 13 | AK23: =+SUM(F23:AJ23) -> 0 | AL23: =IF($AK$3="４週",AK23/4,AK23/(DAY(EOMONTH($F$9,0))/7)) -> 0
A24: 14 | AK24: =+SUM(F24:AJ24) -> 0 | AL24: =IF($AK$3="４週",AK24/4,AK24/(DAY(EOMONTH($F$9,0))/7)) -> 0
A25: 15 | AK25: =+SUM(F25:AJ25) -> 0 | AL25: =IF($AK$3="４週",AK25/4,AK25/(DAY(EOMONTH($F$9,0))/7)) -> 0
A26: 16 | AK26: =+SUM(F26:AJ26) -> 0 | AL26: =IF($AK$3="４週",AK26/4,AK26/(DAY(EOMONTH($F$9,0))/7)) -> 0
... A30: 20 | AK30: =+SUM(F30:AJ30) -> 0 | AL30: =IF($AK$3="４週",AK30/4,AK30/(DAY(EOMONTH($F$9,0))/7)) -> 0
A31: 合計 | F31: =+SUM(F11:F30) -> 0 | G31: =+SUM(G11:G30) -> 0 | H31: =+SUM(H11:H30) -> 0 | I31: =+SUM(I11:I30) -> 0 | J31: =+SUM(J11:J30) -> 0 | K31: =+SUM(K11:K30) -> 0 | L31: =+SUM(L11:L30) -> 0 | M31: =+SUM(M11:M30) -> 0 | ... AJ31: =+SUM(AJ11:AJ30) -> 0 | AK31: =+SUM(F31:AJ31) -> 0 | AL31: =IF($AK$3="４週",AK31/4,AK31/(DAY(EOMONTH($F$9,0))/7)) -> 0
A32: サービス提供時間
A36: ＜人員基準に関する実人数集計＞
C37: =IF(VLOOKUP($AK$1,[5]選択肢!$A$1:$J$32,C42,FALSE)=0,"-",VLOOKUP($AK$1,[5]選択肢!$A$1:$J$32,C42,FALSE)) -> 管理者 | E37: =IF(VLOOKUP($AK$1,[5]選択肢!$A$1:$J$32,E42,FALSE)=0,"-",VLOOKUP($AK$1,[5]選択肢!$A$1:$J$32,E42,FALSE)) -> 児童発達支援管理責任者 | I37: =IF(VLOOKUP($AK$1,[5]選択肢!$A$1:$J$32,I42,FALSE)=0,"-",VLOOKUP($AK$1,[5]選択肢!$A$1:$J$32,I42,FALSE)) -> 訪問支援員 | O37: =IF(VLOOKUP($AK$1,[5]選択肢!$A$1:$J$32,O42,FALSE)=0,"-",VLOOKUP($AK$1,[5]選択肢!$A$1:$J$32,O42,FALSE)) -> - | U37: =IF(VLOOKUP($AK$1,[5]選択肢!$A$1:$J$32,U42,FALSE)=0,"-",VLOOKUP($AK$1,[5]選択肢!$A$1:$J$32,U42,FALSE)) -> - | AA37: =IF(VLOOKUP($AK$1,[5]選択肢!$A$1:$J$32,AA42,FALSE)=0,"-",VLOOKUP($AK$1,[5]選択肢!$A$1:$J$32,AA42,FALSE)) -> - | AG37: =IF(VLOOKUP($AK$1,[5]選択肢!$A$1:$J$32,AG42,FALSE)=0,"-",VLOOKUP($AK$1,[5]選択肢!$A$1:$J$32,AG42,FALSE)) -> - | AL37: =IF(VLOOKUP($AK$1,[5]選択肢!$A$1:$J$32,AL42,FALSE)=0,"-",VLOOKUP($AK$1,[5]選択肢!$A$1:$J$32,AL42,FALSE)) -> -
C38: 専従 | D38: 兼務 | E38: 専従 | F38: 兼務 | I38: 専従 | L38: 兼務 | O38: 専従 | R38: 兼務 | U38: 専従 | X38: 兼務 | AA38: 専従 | AD38: 兼務 | AG38: 専従 | AJ38: 兼務 | AL38: 専従 | AM38: 兼務
B39: 常勤 | C39: =COUNTIFS($B$11:$B$30,C$37,$C$11:$C$30,"A",$E$11:$E$30,"*") -> 1 | D39: =COUNTIFS($B$11:$B$30,C$37,$C$11:$C$30,"B",$E$11:$E$30,"*") -> 0 | E39: =COUNTIFS($B$11:$B$30,E$37,$C$11:$C$30,"A",$E$11:$E$30,"*") -> 0 | F39: =COUNTIFS($B$11:$B$30,E$37,$C$11:$C$30,"B",$E$11:$E$30,"*") -> 1 | I39: =COUNTIFS($B$11:$B$30,I$37,$C$11:$C$30,"A",$E$11:$E$30,"*") -> 0 | L39: =COUNTIFS($B$11:$B$30,I$37,$C$11:$C$30,"B",$E$11:$E$30,"*") -> 0 | O39: =COUNTIFS($B$11:$B$30,O$37,$C$11:$C$30,"A",$E$11:$E$30,"*") -> 0 | R39: =COUNTIFS($B$11:$B$30,O$37,$C$11:$C$30,"B",$E$11:$E$30,"*") -> 0 | U39: =COUNTIFS($B$11:$B$30,U$37,$C$11:$C$30,"A",$E$11:$E$30,"*") -> 0 | X39: =COUNTIFS($B$11:$B$30,U$37,$C$11:$C$30,"B",$E$11:$E$30,"*") -> 0 | AA39: =COUNTIFS($B$11:$B$30,AA$37,$C$11:$C$30,"A",$E$11:$E$30,"*") -> 0 | AD39: =COUNTIFS($B$11:$B$30,AA$37,$C$11:$C$30,"B",$E$11:$E$30,"*") -> 0 | AG39: =COUNTIFS($B$11:$B$30,AG$37,$C$11:$C$30,"A",$E$11:$E$30,"*") -> 0 | AJ39: =COUNTIFS($B$11:$B$30,AG$37,$C$11:$C$30,"B",$E$11:$E$30,"*") -> 0 | AL39: =COUNTIFS($B$11:$B$30,AL$37,$C$11:$C$30,"A",$E$11:$E$30,"*") -> 0 | AM39: =COUNTIFS($B$11:$B$30,AL$37,$C$11:$C$30,"B",$E$11:$E$30,"*") -> 0
B40: 非常勤 | C40: =COUNTIFS($B$11:$B$30,C$37,$C$11:$C$30,"C",$E$11:$E$30,"*") -> 0 | D40: =COUNTIFS($B$11:$B$30,C$37,$C$11:$C$30,"D",$E$11:$E$30,"*") -> 0 | E40: =COUNTIFS($B$11:$B$30,E$37,$C$11:$C$30,"C",$E$11:$E$30,"*") -> 1 | F40: =COUNTIFS($B$11:$B$30,E$37,$C$11:$C$30,"D",$E$11:$E$30,"*") -> 0 | I40: =COUNTIFS($B$11:$B$30,I$37,$C$11:$C$30,"C",$E$11:$E$30,"*") -> 0 | L40: =COUNTIFS($B$11:$B$30,I$37,$C$11:$C$30,"D",$E$11:$E$30,"*") -> 1 | O40: =COUNTIFS($B$11:$B$30,O$37,$C$11:$C$30,"C",$E$11:$E$30,"*") -> 0 | R40: =COUNTIFS($B$11:$B$30,O$37,$C$11:$C$30,"D",$E$11:$E$30,"*") -> 0 | U40: =COUNTIFS($B$11:$B$30,U$37,$C$11:$C$30,"C",$E$11:$E$30,"*") -> 0 | X40: =COUNTIFS($B$11:$B$30,U$37,$C$11:$C$30,"D",$E$11:$E$30,"*") -> 0 | AA40: =COUNTIFS($B$11:$B$30,AA$37,$C$11:$C$30,"C",$E$11:$E$30,"*") -> 0 | AD40: =COUNTIFS($B$11:$B$30,AA$37,$C$11:$C$30,"D",$E$11:$E$30,"*") -> 0 | AG40: =COUNTIFS($B$11:$B$30,AG$37,$C$11:$C$30,"C",$E$11:$E$30,"*") -> 0 | AJ40: =COUNTIFS($B$11:$B$30,AG$37,$C$11:$C$30,"D",$E$11:$E$30,"*") -> 0 | AL40: =COUNTIFS($B$11:$B$30,AL$37,$C$11:$C$30,"C",$E$11:$E$30,"*") -> 0 | AM40: =COUNTIFS($B$11:$B$30,AL$37,$C$11:$C$30,"D",$E$11:$E$30,"*") -> 0
B41: 常勤換算数 | C41: =IF($AK$3="４週",SUMIFS($AK$11:$AK$30,$B$11:$B$30,C37)/4/$AH$5,IF($AK$3="歴月",SUMIFS($AK$11:$AK$30,$B$11:$B$30,C37)/$AL$5,"記載する期間を選択してください")) -> #DIV/0! | E41: =IF($AK$3="４週",SUMIFS($AK$11:$AK$30,$B$11:$B$30,E37)/4/$AH$5,IF($AK$3="歴月",SUMIFS($AK$11:$AK$30,$B$11:$B$30,E37)/$AL$5,"記載する期間を選択してください")) -> #DIV/0! | I41: =IF($AK$3="４週",SUMIFS($AK$11:$AK$30,$B$11:$B$30,I37)/4/$AH$5,IF($AK$3="歴月",SUMIFS($AK$11:$AK$30,$B$11:$B$30,I37)/$AL$5,"記載する期間を選択してください")) -> #DIV/0! | O41: =IF($AK$3="４週",SUMIFS($AK$11:$AK$30,$B$11:$B$30,O37)/4/$AH$5,IF($AK$3="歴月",SUMIFS($AK$11:$AK$30,$B$11:$B$30,O37)/$AL$5,"記載する期間を選択してください")) -> #DIV/0! | U41: =IF($AK$3="４週",SUMIFS($AK$11:$AK$30,$B$11:$B$30,U37)/4/$AH$5,IF($AK$3="歴月",SUMIFS($AK$11:$AK$30,$B$11:$B$30,U37)/$AL$5,"記載する期間を選択してください")) -> #DIV/0! | AA41: =IF($AK$3="４週",SUMIFS($AK$11:$AK$30,$B$11:$B$30,AA37)/4/$AH$5,IF($AK$3="歴月",SUMIFS($AK$11:$AK$30,$B$11:$B$30,AA37)/$AL$5,"記載する期間を選択してください")) -> #DIV/0! | AG41: =IF($AK$3="４週",SUMIFS($AK$11:$AK$30,$B$11:$B$30,AG37)/4/$AH$5,IF($AK$3="歴月",SUMIFS($AK$11:$AK$30,$B$11:$B$30,AG37)/$AL$5,"記載する期間を選択してください")) -> #DIV/0! | AL41: =IF($AK$3="４週",SUMIFS($AK$11:$AK$30,$B$11:$B$30,AL37)/4/$AH$5,IF($AK$3="歴月",SUMIFS($AK$11:$AK$30,$B$11:$B$30,AL37)/$AL$5,"記載する期間を選択してください")) -> #DIV/0!
C42: 2 | E42: 3 | I42: 4 | O42: 5 | U42: 6 | AA42: 7 | AG42: 8 | AL42: 9
A43: ・最初に「年月欄」「サービス種別」「事業所名」を入力してください。 | R43: 6 | X43: 7 | AD43: 8 | AJ43: 9
A44: (1) 「４週」・「暦月」のいずれかを選択してください。
A45: (2) 「予定」・「実績」のいずれかを選択してください。
A46: (3) 事業所における常勤の従業者が勤務すべき時間数を入力してください。
A47: (4) 従業者の職種を入力してください。
A48: 記入の順序は、職種ごとにまとめてください。
A49: (5) 従業者の勤務形態について、下記のうち該当する区分の記号を入力してください。
B50: 記号 | C50: 区分
B51: A | C51: 常勤で専従
B52: B | C52: 常勤で兼務
B53: C | C53: 非常勤で専従
B54: D | C54: 非常勤で兼務
B55: （注）常勤・非常勤の区分について
B56: 当該事業所における勤務時間が、当該事業所において定められている常勤の従業者が勤務すべき時間数に達していることをいいます。雇用の形態は考慮しません。
B57: （例えば、常勤者は週に40時間勤務することとされた事業所であれば、非正規雇用であっても、週40時間勤務する従業者は常勤扱いとなります。）
A58: (6) 従業者の保有する資格を入力してください。
A59: 保有資格を全て記入するのではなく、人員基準上、求められる資格等を入力してください。
A60: ※選択した資格及び研修に関して、必要に応じて、資格証又は研修修了証等の写しを添付資料として提出してください。
A61: (7) 従業者の氏名を記入してください。
A62: (8) 申請する事業に係る従業者（管理者を含む。）の1ヶ月分の勤務時間を入力してください。
A63: (9) 常勤の職員の休暇等については、その期間が暦年で１月を超えるものでない限り、常勤換算の計算上は勤務したものとみなすことができます。
B64: その場合、勤務時間欄には「休」と記入し、勤務時間の合計に含めてください（非常勤職員の休暇等は常勤換算の計算に含めることはできません）。
B65: ※指定基準の確認に際しては、４週分の入力で差し支えありません。
A66: (10) 従業者ごとに、合計勤務時間数を入力してください。
A67: ※ 入力することができる時間数は、当該事業所において常勤の従業者が勤務すべき勤務時間数を上限とします。
A68: (11) 従業者ごとに、週平均の勤務時間数を入力してください。
A69: (12) 申請する事業所以外の事業所・施設との兼務がある場合は、兼務先の事業所・施設の名称、兼務する職務の内容について記入してください。
A70: 同一事業所内の兼務についても兼務する職務の内容を記入してください。
A71: その他、特記事項欄としてもご活用ください。
A72: （13)本表には計算式を設定していますが、結果に誤りがないかご確認ください。
A73: （14) 必要項目を満たしていれば、各事業所で使用するシフト表等をもって代替書類として差し支えありません。

Sheet 勤務形態一覧表（福祉型障害児入所施設）
A1: 従業者の勤務の体制及び勤務形態一覧表 | AI1: サービス種別 | AK1: 福祉型障害児入所施設
M2: 2024 | Q2: 年 | S2: 5 | U2: 月 | AI2: 事業所名
AI3: (1)記載する期間 | AK3: ４週
AI4: (2)予定/実績の別
AG5: (3)事業所における常勤の従業者が勤務すべき時間数 | AK5: 時間/週 | AM5: 時間/月
A7: No. | B7: (4)職種 | C7: (5)勤務形態 | D7: (6)資格 | E7: (7)氏名 | F7: (8) | AK7: (9)勤務時間数合計 | AL7: (10)週平均の勤務時間数 | AM7: (11)兼務状況 （兼務先／兼務する職務の内容）等
F8: 第１週 | M8: 第２週 | T8: 第３週 | AA8: 第４週 | AH8: 第５週
B9: ※選択肢にない職種については直接入力してください | F9: =DATE($M$2,$S$2,1) -> 45413 | G9: =DATE($M$2,$S$2,2) -> 45414 | H9: =DATE($M$2,$S$2,3) -> 45415 | I9: =DATE($M$2,$S$2,4) -> 45416 | J9: =DATE($M$2,$S$2,5) -> 45417 | K9: =DATE($M$2,$S$2,6) -> 45418 | L9: =DATE($M$2,$S$2,7) -> 45419 | M9: =DATE($M$2,$S$2,8) -> 45420 | N9: =DATE($M$2,$S$2,9) -> 45421 | O9: =DATE($M$2,$S$2,10) -> 45422 | P9: =DATE($M$2,$S$2,11) -> 45423 | Q9: =DATE($M$2,$S$2,12) -> 45424 | R9: =DATE($M$2,$S$2,13) -> 45425 | S9: =DATE($M$2,$S$2,14) -> 45426 | T9: =DATE($M$2,$S$2,15) -> 45427 | U9: =DATE($M$2,$S$2,16) -> 45428 | V9: =DATE($M$2,$S$2,17) -> 45429 | W9: =DATE($M$2,$S$2,18) -> 45430 | X9: =DATE($M$2,$S$2,19) -> 45431 | Y9: =DATE($M$2,$S$2,20) -> 45432 | Z9: =DATE($M$2,$S$2,21) -> 45433 | AA9: =DATE($M$2,$S$2,22) -> 45434 | AB9: =DATE($M$2,$S$2,23) -> 45435 | AC9: =DATE($M$2,$S$2,24) -> 45436 | AD9: =DATE($M$2,$S$2,25) -> 45437 | AE9: =DATE($M$2,$S$2,26) -> 45438 | AF9: =DATE($M$2,$S$2,27) -> 45439 | AG9: =DATE($M$2,$S$2,28) -> 45440 | AH9: =IF(DAY(EOMONTH(F9,0))<29,"",DATE($M$2,$S$2,29)) -> 45441 | AI9: =IF(DAY(EOMONTH(F9,0))<30,"",DATE($M$2,$S$2,30)) -> 45442 | AJ9: =IF(DAY(EOMONTH(F9,0))<31,"",DATE($M$2,$S$2,31)) -> 45443
F10: =DATE($M$2,$S$2,1) -> 45413 | G10: =DATE($M$2,$S$2,2) -> 45414 | H10: =DATE($M$2,$S$2,3) -> 45415 | I10: =DATE($M$2,$S$2,4) -> 45416 | J10: =DATE($M$2,$S$2,5) -> 45417 | K10: =DATE($M$2,$S$2,6) -> 45418 | L10: =DATE($M$2,$S$2,7) -> 45419 | M10: =DATE($M$2,$S$2,8) -> 45420 | N10: =DATE($M$2,$S$2,9) -> 45421 | O10: =DATE($M$2,$S$2,10) -> 45422 | P10: =DATE($M$2,$S$2,11) -> 45423 | Q10: =DATE($M$2,$S$2,12) -> 45424 | R10: =DATE($M$2,$S$2,13) -> 45425 | S10: =DATE($M$2,$S$2,14) -> 45426 | T10: =DATE($M$2,$S$2,15) -> 45427 | U10: =DATE($M$2,$S$2,16) -> 45428 | V10: =DATE($M$2,$S$2,17) -> 45429 | W10: =DATE($M$2,$S$2,18) -> 45430 | X10: =DATE($M$2,$S$2,19) -> 45431 | Y10: =DATE($M$2,$S$2,20) -> 45432 | Z10: =DATE($M$2,$S$2,21) -> 45433 | AA10: =DATE($M$2,$S$2,22) -> 45434 | AB10: =DATE($M$2,$S$2,23) -> 45435 | AC10: =DATE($M$2,$S$2,24) -> 45436 | AD10: =DATE($M$2,$S$2,25) -> 45437 | AE10: =DATE($M$2,$S$2,26) -> 45438 | AF10: =DATE($M$2,$S$2,27) -> 45439 | AG10: =DATE($M$2,$S$2,28) -> 45440 | AH10: =IF(DAY(EOMONTH(F10,0))<29,"",DATE($M$2,$S$2,29)) -> 45441 | AI10: =IF(DAY(EOMONTH(F10,0))<30,"",DATE($M$2,$S$2,30)) -> 45442 | AJ10: =IF(DAY(EOMONTH(F10,0))<31,"",DATE($M$2,$S$2,31)) -> 45443
A11: 1 | B11: 管理者 | C11: A | E11: A | AK11: =+SUM(F11:AJ11) -> 0 | AL11: =IF($AK$3="４週",AK11/4,AK11/(DAY(EOMONTH($F$9,0))/7)) -> 0
A12: 2 | B12: 児童発達支援管理責任者 | C12: B | E12: B | AK12: =+SUM(F12:AJ12) -> 0 | AL12: =IF($AK$3="４週",AK12/4,AK12/(DAY(EOMONTH($F$9,0))/7)) -> 0
A13: 3 | B13: 児童発達支援管理責任者 | C13: C | E13: C | AK13: =+SUM(F13:AJ13) -> 0 | AL13: =IF($AK$3="４週",AK13/4,AK13/(DAY(EOMONTH($F$9,0))/7)) -> 0
A14: 4 | B14: 医師 | C14: D | E14: D | AK14: =+SUM(F14:AJ14) -> 0 | AL14: =IF($AK$3="４週",AK14/4,AK14/(DAY(EOMONTH($F$9,0))/7)) -> 0
A15: 5 | B15: 心理担当職員 | C15: C | E15: B | AK15: =+SUM(F15:AJ15) -> 0 | AL15: =IF($AK$3="４週",AK15/4,AK15/(DAY(EOMONTH($F$9,0))/7)) -> 0
A16: 6 | AK16: =+SUM(F16:AJ16) -> 0 | AL16: =IF($AK$3="４週",AK16/4,AK16/(DAY(EOMONTH($F$9,0))/7)) -> 0
A17: 7 | AK17: =+SUM(F17:AJ17) -> 0 | AL17: =IF($AK$3="４週",AK17/4,AK17/(DAY(EOMONTH($F$9,0))/7)) -> 0
A18: 8 | AK18: =+SUM(F18:AJ18) -> 0 | AL18: =IF($AK$3="４週",AK18/4,AK18/(DAY(EOMONTH($F$9,0))/7)) -> 0
A19: 9 | AK19: =+SUM(F19:AJ19) -> 0 | AL19: =IF($AK$3="４週",AK19/4,AK19/(DAY(EOMONTH($F$9,0))/7)) -> 0
A20: 10 | AK20: =+SUM(F20:AJ20) -> 0 | AL20: =IF($AK$3="４週",AK20/4,AK20/(DAY(EOMONTH($F$9,0))/7)) -> 0
A21: 11 | AK21: =+SUM(F21:AJ21) -> 0 | AL21: =IF($AK$3="４週",AK21/4,AK21/(DAY(EOMONTH($F$9,0))/7)) -> 0
A22: 12 | AK22: =+SUM(F22:AJ22) -> 0 | AL22: =IF($AK$3="４週",AK22/4,AK22/(DAY(EOMONTH($F$9,0))/7)) -> 0
A23: 13 | AK23: =+SUM(F23:AJ23) -> 0 | AL23: =IF($AK$3="４週",AK23/4,AK23/(DAY(EOMONTH($F$9,0))/7)) -> 0
A24: 14 | AK24: =+SUM(F24:AJ24) -> 0 | AL24: =IF($AK$3="４週",AK24/4,AK24/(DAY(EOMONTH($F$9,0))/7)) -> 0
A25: 15 | AK25: =+SUM(F25:AJ25) -> 0 | AL25: =IF($AK$3="４週",AK25/4,AK25/(DAY(EOMONTH($F$9,0))/7)) -> 0
A26: 16 | AK26: =+SUM(F26:AJ26) -> 0 | AL26: =IF($AK$3="４週",AK26/4,AK26/(DAY(EOMONTH($F$9,0))/7)) -> 0
A27: 17 | AK27: =+SUM(F27:AJ27) -> 0 | AL27: =IF($AK$3="４週",AK27/4,AK27/(DAY(EOMONTH($F$9,0))/7)) -> 0
... A30: 20 | AK30: =+SUM(F30:AJ30) -> 0 | AL30: =IF($AK$3="４週",AK30/4,AK30/(DAY(EOMONTH($F$9,0))/7)) -> 0
A31: 合計 | F31: =+SUM(F11:F30) -> 0 | G31: =+SUM(G11:G30) -> 0 | H31: =+SUM(H11:H30) -> 0 | I31: =+SUM(I11:I30) -> 0 | J31: =+SUM(J11:J30) -> 0 | K31: =+SUM(K11:K30) -> 0 | L31: =+SUM(L11:L30) -> 0 | M31: =+SUM(M11:M30) -> 0 | ... AJ31: =+SUM(AJ11:AJ30) -> 0 | AK31: =+SUM(F31:AJ31) -> 0 | AL31: =IF($AK$3="４週",AK31/4,AK31/(DAY(EOMONTH($F$9,0))/7)) -> 0
A32: サービス提供時間
A36: ＜主な対象者及び障害児の数＞
B37: 主な対象者の区分 | L37: 障害児の数
B38: 主として盲ろうあ児を入所させる福祉型障害児入所施設 | L38: 30
A40: ＜人員に関する基準＞
A41: 区分 | C41: 看護職員 | E41: 児童指導員及び保育士
A42: 必要な配置数 | C42: =ROUNDDOWN(IF(B38="主として知的障害のある児童を入所させる福祉型障害児入所施設",L38/20,IF(B38="主として肢体不自由のある児童を入所させる福祉型障害児入所施設",1,"0")),1) -> 0 | E42: =ROUNDDOWN(IF(B38="主として知的障害のある児童を入所させる福祉型障害児入所施設",IF(L38<=30,L38/4+1,L38/4),IF(B38="主として肢体不自由のある児童を入所させる福祉型障害児入所施設",L38/3.5,IF(B38="主として盲ろうあ児を入所させる福祉型障害児入所施設",IF(L38<=35,L38/4+1,L38/4),0))),1) -> 8.5
A44: ＜人員基準に関する実人数集計＞
C45: =IF(VLOOKUP($AK$1,[5]選択肢!$A$1:$J$32,C50,FALSE)=0,"-",VLOOKUP($AK$1,[5]選択肢!$A$1:$J$32,C50,FALSE)) -> 管理者 | E45: =IF(VLOOKUP($AK$1,[5]選択肢!$A$1:$J$32,E50,FALSE)=0,"-",VLOOKUP($AK$1,[5]選択肢!$A$1:$J$32,E50,FALSE)) -> 児童発達支援管理責任者 | I45: =IF(VLOOKUP($AK$1,[5]選択肢!$A$1:$J$32,I50,FALSE)=0,"-",VLOOKUP($AK$1,[5]選択肢!$A$1:$J$32,I50,FALSE)) -> 医師 | O45: =IF(VLOOKUP($AK$1,[5]選択肢!$A$1:$J$32,O50,FALSE)=0,"-",VLOOKUP($AK$1,[5]選択肢!$A$1:$J$32,O50,FALSE)) -> 看護職員 | U45: =IF(VLOOKUP($AK$1,[5]選択肢!$A$1:$J$32,U50,FALSE)=0,"-",VLOOKUP($AK$1,[5]選択肢!$A$1:$J$32,U50,FALSE)) -> 児童指導員 | AA45: =IF(VLOOKUP($AK$1,[5]選択肢!$A$1:$J$32,AA50,FALSE)=0,"-",VLOOKUP($AK$1,[5]選択肢!$A$1:$J$32,AA50,FALSE)) -> 保育士 | AG45: =IF(VLOOKUP($AK$1,[5]選択肢!$A$1:$J$32,AG50,FALSE)=0,"-",VLOOKUP($AK$1,[5]選択肢!$A$1:$J$32,AG50,FALSE)) -> 栄養士 | AL45: =IF(VLOOKUP($AK$1,[5]選択肢!$A$1:$J$32,AL50,FALSE)=0,"-",VLOOKUP($AK$1,[5]選択肢!$A$1:$J$32,AL50,FALSE)) -> 調理員
C46: 専従 | D46: 兼務 | E46: 専従 | F46: 兼務 | I46: 専従 | L46: 兼務 | O46: 専従 | R46: 兼務 | U46: 専従 | X46: 兼務 | AA46: 専従 | AD46: 兼務 | AG46: 専従 | AJ46: 兼務 | AL46: 専従 | AM46: 兼務
B47: 常勤 | C47: =COUNTIFS($B$11:$B$30,C$45,$C$11:$C$30,"A",$E$11:$E$30,"*") -> 1 | D47: =COUNTIFS($B$11:$B$30,C$45,$C$11:$C$30,"B",$E$11:$E$30,"*") -> 0 | E47: =COUNTIFS($B$11:$B$30,E$45,$C$11:$C$30,"A",$E$11:$E$30,"*") -> 0 | F47: =COUNTIFS($B$11:$B$30,E$45,$C$11:$C$30,"B",$E$11:$E$30,"*") -> 1 | I47: =COUNTIFS($B$11:$B$30,I$45,$C$11:$C$30,"A",$E$11:$E$30,"*") -> 0 | L47: =COUNTIFS($B$11:$B$30,I$45,$C$11:$C$30,"B",$E$11:$E$30,"*") -> 0 | O47: =COUNTIFS($B$11:$B$30,O$45,$C$11:$C$30,"A",$E$11:$E$30,"*") -> 0 | R47: =COUNTIFS($B$11:$B$30,O$45,$C$11:$C$30,"B",$E$11:$E$30,"*") -> 0 | U47: =COUNTIFS($B$11:$B$30,U$45,$C$11:$C$30,"A",$E$11:$E$30,"*") -> 0 | X47: =COUNTIFS($B$11:$B$30,U$45,$C$11:$C$30,"B",$E$11:$E$30,"*") -> 0 | AA47: =COUNTIFS($B$11:$B$30,AA$45,$C$11:$C$30,"A",$E$11:$E$30,"*") -> 0 | AD47: =COUNTIFS($B$11:$B$30,AA$45,$C$11:$C$30,"B",$E$11:$E$30,"*") -> 0 | AG47: =COUNTIFS($B$11:$B$30,AG$45,$C$11:$C$30,"A",$E$11:$E$30,"*") -> 0 | AJ47: =COUNTIFS($B$11:$B$30,AG$45,$C$11:$C$30,"B",$E$11:$E$30,"*") -> 0 | AL47: =COUNTIFS($B$11:$B$30,AL$45,$C$11:$C$30,"A",$E$11:$E$30,"*") -> 0 | AM47: =COUNTIFS($B$11:$B$30,AL$45,$C$11:$C$30,"B",$E$11:$E$30,"*") -> 0
B48: 非常勤 | C48: =COUNTIFS($B$11:$B$30,C$45,$C$11:$C$30,"C",$E$11:$E$30,"*") -> 0 | D48: =COUNTIFS($B$11:$B$30,C$45,$C$11:$C$30,"D",$E$11:$E$30,"*") -> 0 | E48: =COUNTIFS($B$11:$B$30,E$45,$C$11:$C$30,"C",$E$11:$E$30,"*") -> 1 | F48: =COUNTIFS($B$11:$B$30,E$45,$C$11:$C$30,"D",$E$11:$E$30,"*") -> 0 | I48: =COUNTIFS($B$11:$B$30,I$45,$C$11:$C$30,"C",$E$11:$E$30,"*") -> 0 | L48: =COUNTIFS($B$11:$B$30,I$45,$C$11:$C$30,"D",$E$11:$E$30,"*") -> 1 | O48: =COUNTIFS($B$11:$B$30,O$45,$C$11:$C$30,"C",$E$11:$E$30,"*") -> 0 | R48: =COUNTIFS($B$11:$B$30,O$45,$C$11:$C$30,"D",$E$11:$E$30,"*") -> 0 | U48: =COUNTIFS($B$11:$B$30,U$45,$C$11:$C$30,"C",$E$11:$E$30,"*") -> 0 | X48: =COUNTIFS($B$11:$B$30,U$45,$C$11:$C$30,"D",$E$11:$E$30,"*") -> 0 | AA48: =COUNTIFS($B$11:$B$30,AA$45,$C$11:$C$30,"C",$E$11:$E$30,"*") -> 0 | AD48: =COUNTIFS($B$11:$B$30,AA$45,$C$11:$C$30,"D",$E$11:$E$30,"*") -> 0 | AG48: =COUNTIFS($B$11:$B$30,AG$45,$C$11:$C$30,"C",$E$11:$E$30,"*") -> 0 | AJ48: =COUNTIFS($B$11:$B$30,AG$45,$C$11:$C$30,"D",$E$11:$E$30,"*") -> 0 | AL48: =COUNTIFS($B$11:$B$30,AL$45,$C$11:$C$30,"C",$E$11:$E$30,"*") -> 0 | AM48: =COUNTIFS($B$11:$B$30,AL$45,$C$11:$C$30,"D",$E$11:$E$30,"*") -> 0
B49: 常勤換算数 | C49: =IF($AK$3="４週",SUMIFS($AK$11:$AK$30,$B$11:$B$30,C45)/4/$AH$5,IF($AK$3="歴月",SUMIFS($AK$11:$AK$30,$B$11:$B$30,C45)/$AL$5,"記載する期間を選択してください")) -> #DIV/0! | E49: =IF($AK$3="４週",SUMIFS($AK$11:$AK$30,$B$11:$B$30,E45)/4/$AH$5,IF($AK$3="歴月",SUMIFS($AK$11:$AK$30,$B$11:$B$30,E45)/$AL$5,"記載する期間を選択してください")) -> #DIV/0! | I49: =IF($AK$3="４週",SUMIFS($AK$11:$AK$30,$B$11:$B$30,I45)/4/$AH$5,IF($AK$3="歴月",SUMIFS($AK$11:$AK$30,$B$11:$B$30,I45)/$AL$5,"記載する期間を選択してください")) -> #DIV/0! | O49: =IF($AK$3="４週",SUMIFS($AK$11:$AK$30,$B$11:$B$30,O45)/4/$AH$5,IF($AK$3="歴月",SUMIFS($AK$11:$AK$30,$B$11:$B$30,O45)/$AL$5,"記載する期間を選択してください")) -> #DIV/0! | U49: =IF($AK$3="４週",SUMIFS($AK$11:$AK$30,$B$11:$B$30,U45)/4/$AH$5,IF($AK$3="歴月",SUMIFS($AK$11:$AK$30,$B$11:$B$30,U45)/$AL$5,"記載する期間を選択してください")) -> #DIV/0! | AA49: =IF($AK$3="４週",SUMIFS($AK$11:$AK$30,$B$11:$B$30,AA45)/4/$AH$5,IF($AK$3="歴月",SUMIFS($AK$11:$AK$30,$B$11:$B$30,AA45)/$AL$5,"記載する期間を選択してください")) -> #DIV/0! | AG49: =IF($AK$3="４週",SUMIFS($AK$11:$AK$30,$B$11:$B$30,AG45)/4/$AH$5,IF($AK$3="歴月",SUMIFS($AK$11:$AK$30,$B$11:$B$30,AG45)/$AL$5,"記載する期間を選択してください")) -> #DIV/0! | AL49: =IF($AK$3="４週",SUMIFS($AK$11:$AK$30,$B$11:$B$30,AL45)/4/$AH$5,IF($AK$3="歴月",SUMIFS($AK$11:$AK$30,$B$11:$B$30,AL45)/$AL$5,"記載する期間を選択してください")) -> #DIV/0!
C50: 2 | E50: 3 | I50: 4 | O50: 5 | U50: 6 | AA50: 7 | AG50: 8 | AL50: 9
C51: =IF(VLOOKUP($AK$1,[5]選択肢!$A:$Z,C56,FALSE)=0,"-",VLOOKUP($AK$1,[5]選択肢!$A:$Z,C56,FALSE)) -> 心理担当職員 | E51: =IF(VLOOKUP($AK$1,[5]選択肢!$A:$Z,E56,FALSE)=0,"-",VLOOKUP($AK$1,[5]選択肢!$A:$Z,E56,FALSE)) -> -
C52: 専従 | D52: 兼務 | E52: 専従 | F52: 兼務
B53: 常勤 | C53: =COUNTIFS($B$11:$B$30,C$51,$C$11:$C$30,"A",$E$11:$E$30,"*") -> 0 | D53: =COUNTIFS($B$11:$B$30,C$51,$C$11:$C$30,"B",$E$11:$E$30,"*") -> 0 | E53: =COUNTIFS($B$11:$B$30,E$59,$C$11:$C$30,"A",$E$11:$E$30,"*") -> 0 | F53: =COUNTIFS($B$11:$B$30,E$59,$C$11:$C$30,"B",$E$11:$E$30,"*") -> 0
B54: 非常勤 | C54: =COUNTIFS($B$11:$B$30,C$51,$C$11:$C$30,"C",$E$11:$E$30,"*") -> 1 | D54: =COUNTIFS($B$11:$B$30,C$51,$C$11:$C$30,"D",$E$11:$E$30,"*") -> 0 | E54: =COUNTIFS($B$11:$B$30,E$59,$C$11:$C$30,"C",$E$11:$E$30,"*") -> 0 | F54: =COUNTIFS($B$11:$B$30,E$59,$C$11:$C$30,"D",$E$11:$E$30,"*") -> 0
B55: 常勤換算数 | C55: =IF($AK$3="４週",SUMIFS($AK$11:$AK$30,$B$11:$B$30,C51)/4/$AH$5,IF($AK$3="歴月",SUMIFS($AK$11:$AK$30,$B$11:$B$30,C51)/$AL$5,"記載する期間を選択してください")) -> #DIV/0! | E55: =IF($AK$3="４週",SUMIFS($AK$11:$AK$30,$B$11:$B$30,E51)/4/$AH$5,IF($AK$3="歴月",SUMIFS($AK$11:$AK$30,$B$11:$B$30,E51)/$AL$5,"記載する期間を選択してください")) -> #DIV/0!
C56: 10 | E56: =C56+1 -> 11
A57: ・最初に「年月欄」「サービス種別」「事業所名」を入力してください。 | R57: 6 | X57: 7 | AD57: 8 | AJ57: 9
A58: (1) 「４週」・「暦月」のいずれかを選択してください。
A59: (2) 「予定」・「実績」のいずれかを選択してください。
A60: (3) 事業所における常勤の従業者が勤務すべき時間数を入力してください。
A61: (4) 従業者の職種を入力してください。
A62: 記入の順序は、職種ごとにまとめてください。
A63: (5) 従業者の勤務形態について、下記のうち該当する区分の記号を入力してください。
B64: 記号 | C64: 区分
B65: A | C65: 常勤で専従
B66: B | C66: 常勤で兼務
B67: C | C67: 非常勤で専従
B68: D | C68: 非常勤で兼務
B69: （注）常勤・非常勤の区分について
B70: 当該事業所における勤務時間が、当該事業所において定められている常勤の従業者が勤務すべき時間数に達していることをいいます。雇用の形態は考慮しません。
B71: （例えば、常勤者は週に40時間勤務することとされた事業所であれば、非正規雇用であっても、週40時間勤務する従業者は常勤扱いとなります。）
A72: (6) 従業者の保有する資格を入力してください。
A73: 保有資格を全て記入するのではなく、人員基準・加配加算上、求められる資格等を入力してください。
A74: ※選択した資格及び研修に関して、必要に応じて、資格証又は研修修了証等の写しを添付資料として提出してください。
A75: (7) 従業者の氏名を記入してください。
A76: (8) 申請する事業に係る従業者（管理者を含む。）の1ヶ月分の勤務時間を入力してください。
A77: (9) 常勤の職員の休暇等については、その期間が暦年で１月を超えるものでない限り、常勤換算の計算上は勤務したものとみなすことができます。
B78: その場合、勤務時間欄には「休」と記入し、勤務時間の合計に含めてください（非常勤職員の休暇等は常勤換算の計算に含めることはできません）。
B79: ※指定基準の確認に際しては、４週分の入力で差し支えありません。
A80: (10) 従業者ごとに、合計勤務時間数を入力してください。
A81: ※ 入力することができる時間数は、当該事業所において常勤の従業者が勤務すべき勤務時間数を上限とします。
A82: (11) 従業者ごとに、週平均の勤務時間数を入力してください。
A83: (12) 申請する事業所以外の事業所・施設との兼務がある場合は、兼務先の事業所・施設の名称、兼務する職務の内容について記入してください。
A84: 同一事業所内の兼務についても兼務する職務の内容を記入してください。
A85: その他、特記事項欄としてもご活用ください。
A86: （13)本表には計算式を設定していますが、結果に誤りがないかご確認ください。
A87: （14) 必要項目を満たしていれば、各事業所で使用するシフト表等をもって代替書類として差し支えありません。

Sheet 勤務形態一覧表（医療型障害児入所施設）
A1: 従業者の勤務の体制及び勤務形態一覧表 | AI1: サービス種別 | AK1: 医療型障害児入所施設
M2: 2024 | Q2: 年 | S2: 5 | U2: 月 | AI2: 事業所名
AI3: (1)記載する期間 | AK3: ４週
AI4: (2)予定/実績の別
AG5: (3)事業所における常勤の従業者が勤務すべき時間数 | AK5: 時間/週 | AM5: 時間/月
A7: No. | B7: (4)職種 | C7: (5)勤務形態 | D7: (6)資格 | E7: (7)氏名 | F7: (8) | AK7: (9)勤務時間数合計 | AL7: (10)週平均の勤務時間数 | AM7: (11)兼務状況 （兼務先／兼務する職務の内容）等
F8: 第１週 | M8: 第２週 | T8: 第３週 | AA8: 第４週 | AH8: 第５週
B9: ※選択肢にない職種については直接入力してください | F9: =DATE($M$2,$S$2,1) -> 45413 | G9: =DATE($M$2,$S$2,2) -> 45414 | H9: =DATE($M$2,$S$2,3) -> 45415 | I9: =DATE($M$2,$S$2,4) -> 45416 | J9: =DATE($M$2,$S$2,5) -> 45417 | K9: =DATE($M$2,$S$2,6) -> 45418 | L9: =DATE($M$2,$S$2,7) -> 45419 | M9: =DATE($M$2,$S$2,8) -> 45420 | N9: =DATE($M$2,$S$2,9) -> 45421 | O9: =DATE($M$2,$S$2,10) -> 45422 | P9: =DATE($M$2,$S$2,11) -> 45423 | Q9: =DATE($M$2,$S$2,12) -> 45424 | R9: =DATE($M$2,$S$2,13) -> 45425 | S9: =DATE($M$2,$S$2,14) -> 45426 | T9: =DATE($M$2,$S$2,15) -> 45427 | U9: =DATE($M$2,$S$2,16) -> 45428 | V9: =DATE($M$2,$S$2,17) -> 45429 | W9: =DATE($M$2,$S$2,18) -> 45430 | X9: =DATE($M$2,$S$2,19) -> 45431 | Y9: =DATE($M$2,$S$2,20) -> 45432 | Z9: =DATE($M$2,$S$2,21) -> 45433 | AA9: =DATE($M$2,$S$2,22) -> 45434 | AB9: =DATE($M$2,$S$2,23) -> 45435 | AC9: =DATE($M$2,$S$2,24) -> 45436 | AD9: =DATE($M$2,$S$2,25) -> 45437 | AE9: =DATE($M$2,$S$2,26) -> 45438 | AF9: =DATE($M$2,$S$2,27) -> 45439 | AG9: =DATE($M$2,$S$2,28) -> 45440 | AH9: =IF(DAY(EOMONTH(F9,0))<29,"",DATE($M$2,$S$2,29)) -> 45441 | AI9: =IF(DAY(EOMONTH(F9,0))<30,"",DATE($M$2,$S$2,30)) -> 45442 | AJ9: =IF(DAY(EOMONTH(F9,0))<31,"",DATE($M$2,$S$2,31)) -> 45443
F10: =DATE($M$2,$S$2,1) -> 45413 | G10: =DATE($M$2,$S$2,2) -> 45414 | H10: =DATE($M$2,$S$2,3) -> 45415 | I10: =DATE($M$2,$S$2,4) -> 45416 | J10: =DATE($M$2,$S$2,5) -> 45417 | K10: =DATE($M$2,$S$2,6) -> 45418 | L10: =DATE($M$2,$S$2,7) -> 45419 | M10: =DATE($M$2,$S$2,8) -> 45420 | N10: =DATE($M$2,$S$2,9) -> 45421 | O10: =DATE($M$2,$S$2,10) -> 45422 | P10: =DATE($M$2,$S$2,11) -> 45423 | Q10: =DATE($M$2,$S$2,12) -> 45424 | R10: =DATE($M$2,$S$2,13) -> 45425 | S10: =DATE($M$2,$S$2,14) -> 45426 | T10: =DATE($M$2,$S$2,15) -> 45427 | U10: =DATE($M$2,$S$2,16) -> 45428 | V10: =DATE($M$2,$S$2,17) -> 45429 | W10: =DATE($M$2,$S$2,18) -> 45430 | X10: =DATE($M$2,$S$2,19) -> 45431 | Y10: =DATE($M$2,$S$2,20) -> 45432 | Z10: =DATE($M$2,$S$2,21) -> 45433 | AA10: =DATE($M$2,$S$2,22) -> 45434 | AB10: =DATE($M$2,$S$2,23) -> 45435 | AC10: =DATE($M$2,$S$2,24) -> 45436 | AD10: =DATE($M$2,$S$2,25) -> 45437 | AE10: =DATE($M$2,$S$2,26) -> 45438 | AF10: =DATE($M$2,$S$2,27) -> 45439 | AG10: =DATE($M$2,$S$2,28) -> 45440 | AH10: =IF(DAY(EOMONTH(F10,0))<29,"",DATE($M$2,$S$2,29)) -> 45441 | AI10: =IF(DAY(EOMONTH(F10,0))<30,"",DATE($M$2,$S$2,30)) -> 45442 | AJ10: =IF(DAY(EOMONTH(F10,0))<31,"",DATE($M$2,$S$2,31)) -> 45443
A11: 1 | B11: 児童発達支援管理責任者 | C11: A | E11: A | AK11: =+SUM(F11:AJ11) -> 0 | AL11: =IF($AK$3="４週",AK11/4,AK11/(DAY(EOMONTH($F$9,0))/7)) -> 0
A12: 2 | B12: 医師 | C12: B | E12: B | AK12: =+SUM(F12:AJ12) -> 0 | AL12: =IF($AK$3="４週",AK12/4,AK12/(DAY(EOMONTH($F$9,0))/7)) -> 0
A13: 3 | B13: 看護職員 | C13: C | E13: C | AK13: =+SUM(F13:AJ13) -> 0 | AL13: =IF($AK$3="４週",AK13/4,AK13/(DAY(EOMONTH($F$9,0))/7)) -> 0
A14: 4 | B14: 医師 | C14: D | E14: D | AK14: =+SUM(F14:AJ14) -> 0 | AL14: =IF($AK$3="４週",AK14/4,AK14/(DAY(EOMONTH($F$9,0))/7)) -> 0
A15: 5 | AK15: =+SUM(F15:AJ15) -> 0 | AL15: =IF($AK$3="４週",AK15/4,AK15/(DAY(EOMONTH($F$9,0))/7)) -> 0
A16: 6 | AK16: =+SUM(F16:AJ16) -> 0 | AL16: =IF($AK$3="４週",AK16/4,AK16/(DAY(EOMONTH($F$9,0))/7)) -> 0
A17: 7 | AK17: =+SUM(F17:AJ17) -> 0 | AL17: =IF($AK$3="４週",AK17/4,AK17/(DAY(EOMONTH($F$9,0))/7)) -> 0
A18: 8 | AK18: =+SUM(F18:AJ18) -> 0 | AL18: =IF($AK$3="４週",AK18/4,AK18/(DAY(EOMONTH($F$9,0))/7)) -> 0
A19: 9 | AK19: =+SUM(F19:AJ19) -> 0 | AL19: =IF($AK$3="４週",AK19/4,AK19/(DAY(EOMONTH($F$9,0))/7)) -> 0
A20: 10 | AK20: =+SUM(F20:AJ20) -> 0 | AL20: =IF($AK$3="４週",AK20/4,AK20/(DAY(EOMONTH($F$9,0))/7)) -> 0
A21: 11 | AK21: =+SUM(F21:AJ21) -> 0 | AL21: =IF($AK$3="４週",AK21/4,AK21/(DAY(EOMONTH($F$9,0))/7)) -> 0
A22: 12 | AK22: =+SUM(F22:AJ22) -> 0 | AL22: =IF($AK$3="４週",AK22/4,AK22/(DAY(EOMONTH($F$9,0))/7)) -> 0
A23: 13 | AK23: =+SUM(F23:AJ23) -> 0 | AL23: =IF($AK$3="４週",AK23/4,AK23/(DAY(EOMONTH($F$9,0))/7)) -> 0
A24: 14 | AK24: =+SUM(F24:AJ24) -> 0 | AL24: =IF($AK$3="４週",AK24/4,AK24/(DAY(EOMONTH($F$9,0))/7)) -> 0
A25: 15 | AK25: =+SUM(F25:AJ25) -> 0 | AL25: =IF($AK$3="４週",AK25/4,AK25/(DAY(EOMONTH($F$9,0))/7)) -> 0
A26: 16 | AK26: =+SUM(F26:AJ26) -> 0 | AL26: =IF($AK$3="４週",AK26/4,AK26/(DAY(EOMONTH($F$9,0))/7)) -> 0
... A30: 20 | AK30: =+SUM(F30:AJ30) -> 0 | AL30: =IF($AK$3="４週",AK30/4,AK30/(DAY(EOMONTH($F$9,0))/7)) -> 0
A31: 合計 | F31: =+SUM(F11:F30) -> 0 | G31: =+SUM(G11:G30) -> 0 | H31: =+SUM(H11:H30) -> 0 | I31: =+SUM(I11:I30) -> 0 | J31: =+SUM(J11:J30) -> 0 | K31: =+SUM(K11:K30) -> 0 | L31: =+SUM(L11:L30) -> 0 | M31: =+SUM(M11:M30) -> 0 | ... AJ31: =+SUM(AJ11:AJ30) -> 0 | AK31: =+SUM(F31:AJ31) -> 0 | AL31: =IF($AK$3="４週",AK31/4,AK31/(DAY(EOMONTH($F$9,0))/7)) -> 0
A32: サービス提供時間
A36: ＜主な対象者及び障害児の数＞
B37: 主な対象者の区分 | L37: 障害児である乳幼児の数 | P37: 障害児である少年の数 | T37: 障害児の数
B38: 主として知的障害のある児童を入所させる福祉型障害児入所施設 | L38: 30 | P38: 30 | T38: =SUM(L38:S38) -> 60
A40: ＜人員に関する基準＞
A41: 区分 | C41: 児童指導員及び保育士
A42: 必要な配置数 | C42: =ROUNDDOWN(IF(B38="主として知的障害のある児童を入所させる福祉型障害児入所施設",T38/6.7,IF(B38="主として肢体不自由のある児童を入所させる福祉型障害児入所施設",L38/10+P38/20,0)),1) -> 8.9
A44: ＜人員基準に関する実人数集計＞
C45: =IF(VLOOKUP($AK$1,[5]選択肢!$A$1:$J$32,C50,FALSE)=0,"-",VLOOKUP($AK$1,[5]選択肢!$A$1:$J$32,C50,FALSE)) -> 児童発達支援管理責任者 | E45: =IF(VLOOKUP($AK$1,[5]選択肢!$A$1:$J$32,E50,FALSE)=0,"-",VLOOKUP($AK$1,[5]選択肢!$A$1:$J$32,E50,FALSE)) -> 医師 | I45: =IF(VLOOKUP($AK$1,[5]選択肢!$A$1:$J$32,I50,FALSE)=0,"-",VLOOKUP($AK$1,[5]選択肢!$A$1:$J$32,I50,FALSE)) -> 看護職員 | O45: =IF(VLOOKUP($AK$1,[5]選択肢!$A$1:$J$32,O50,FALSE)=0,"-",VLOOKUP($AK$1,[5]選択肢!$A$1:$J$32,O50,FALSE)) -> 児童指導員 | U45: =IF(VLOOKUP($AK$1,[5]選択肢!$A$1:$J$32,U50,FALSE)=0,"-",VLOOKUP($AK$1,[5]選択肢!$A$1:$J$32,U50,FALSE)) -> 保育士 | AA45: =IF(VLOOKUP($AK$1,[5]選択肢!$A$1:$J$32,AA50,FALSE)=0,"-",VLOOKUP($AK$1,[5]選択肢!$A$1:$J$32,AA50,FALSE)) -> 心理担当職員 | AG45: =IF(VLOOKUP($AK$1,[5]選択肢!$A$1:$J$32,AG50,FALSE)=0,"-",VLOOKUP($AK$1,[5]選択肢!$A$1:$J$32,AG50,FALSE)) -> 理学療法士又は作業療法士 | AL45: =IF(VLOOKUP($AK$1,[5]選択肢!$A$1:$J$32,AL50,FALSE)=0,"-",VLOOKUP($AK$1,[5]選択肢!$A$1:$J$32,AL50,FALSE)) -> 職業指導員
C46: 専従 | D46: 兼務 | E46: 専従 | F46: 兼務 | I46: 専従 | L46: 兼務 | O46: 専従 | R46: 兼務 | U46: 専従 | X46: 兼務 | AA46: 専従 | AD46: 兼務 | AG46: 専従 | AJ46: 兼務 | AL46: 専従 | AM46: 兼務
B47: 常勤 | C47: =COUNTIFS($B$11:$B$30,C$45,$C$11:$C$30,"A",$E$11:$E$30,"*") -> 1 | D47: =COUNTIFS($B$11:$B$30,C$45,$C$11:$C$30,"B",$E$11:$E$30,"*") -> 0 | E47: =COUNTIFS($B$11:$B$30,E$45,$C$11:$C$30,"A",$E$11:$E$30,"*") -> 0 | F47: =COUNTIFS($B$11:$B$30,E$45,$C$11:$C$30,"B",$E$11:$E$30,"*") -> 1 | I47: =COUNTIFS($B$11:$B$30,I$45,$C$11:$C$30,"A",$E$11:$E$30,"*") -> 0 | L47: =COUNTIFS($B$11:$B$30,I$45,$C$11:$C$30,"B",$E$11:$E$30,"*") -> 0 | O47: =COUNTIFS($B$11:$B$30,O$45,$C$11:$C$30,"A",$E$11:$E$30,"*") -> 0 | R47: =COUNTIFS($B$11:$B$30,O$45,$C$11:$C$30,"B",$E$11:$E$30,"*") -> 0 | U47: =COUNTIFS($B$11:$B$30,U$45,$C$11:$C$30,"A",$E$11:$E$30,"*") -> 0 | X47: =COUNTIFS($B$11:$B$30,U$45,$C$11:$C$30,"B",$E$11:$E$30,"*") -> 0 | AA47: =COUNTIFS($B$11:$B$30,AA$45,$C$11:$C$30,"A",$E$11:$E$30,"*") -> 0 | AD47: =COUNTIFS($B$11:$B$30,AA$45,$C$11:$C$30,"B",$E$11:$E$30,"*") -> 0 | AG47: =COUNTIFS($B$11:$B$30,AG$45,$C$11:$C$30,"A",$E$11:$E$30,"*") -> 0 | AJ47: =COUNTIFS($B$11:$B$30,AG$45,$C$11:$C$30,"B",$E$11:$E$30,"*") -> 0 | AL47: =COUNTIFS($B$11:$B$30,AL$45,$C$11:$C$30,"A",$E$11:$E$30,"*") -> 0 | AM47: =COUNTIFS($B$11:$B$30,AL$45,$C$11:$C$30,"B",$E$11:$E$30,"*") -> 0
B48: 非常勤 | C48: =COUNTIFS($B$11:$B$30,C$45,$C$11:$C$30,"C",$E$11:$E$30,"*") -> 0 | D48: =COUNTIFS($B$11:$B$30,C$45,$C$11:$C$30,"D",$E$11:$E$30,"*") -> 0 | E48: =COUNTIFS($B$11:$B$30,E$45,$C$11:$C$30,"C",$E$11:$E$30,"*") -> 0 | F48: =COUNTIFS($B$11:$B$30,E$45,$C$11:$C$30,"D",$E$11:$E$30,"*") -> 1 | I48: =COUNTIFS($B$11:$B$30,I$45,$C$11:$C$30,"C",$E$11:$E$30,"*") -> 1 | L48: =COUNTIFS($B$11:$B$30,I$45,$C$11:$C$30,"D",$E$11:$E$30,"*") -> 0 | O48: =COUNTIFS($B$11:$B$30,O$45,$C$11:$C$30,"C",$E$11:$E$30,"*") -> 0 | R48: =COUNTIFS($B$11:$B$30,O$45,$C$11:$C$30,"D",$E$11:$E$30,"*") -> 0 | U48: =COUNTIFS($B$11:$B$30,U$45,$C$11:$C$30,"C",$E$11:$E$30,"*") -> 0 | X48: =COUNTIFS($B$11:$B$30,U$45,$C$11:$C$30,"D",$E$11:$E$30,"*") -> 0 | AA48: =COUNTIFS($B$11:$B$30,AA$45,$C$11:$C$30,"C",$E$11:$E$30,"*") -> 0 | AD48: =COUNTIFS($B$11:$B$30,AA$45,$C$11:$C$30,"D",$E$11:$E$30,"*") -> 0 | AG48: =COUNTIFS($B$11:$B$30,AG$45,$C$11:$C$30,"C",$E$11:$E$30,"*") -> 0 | AJ48: =COUNTIFS($B$11:$B$30,AG$45,$C$11:$C$30,"D",$E$11:$E$30,"*") -> 0 | AL48: =COUNTIFS($B$11:$B$30,AL$45,$C$11:$C$30,"C",$E$11:$E$30,"*") -> 0 | AM48: =COUNTIFS($B$11:$B$30,AL$45,$C$11:$C$30,"D",$E$11:$E$30,"*") -> 0
B49: 常勤換算数 | C49: =IF($AK$3="４週",SUMIFS($AK$11:$AK$30,$B$11:$B$30,C45)/4/$AH$5,IF($AK$3="歴月",SUMIFS($AK$11:$AK$30,$B$11:$B$30,C45)/$AL$5,"記載する期間を選択してください")) -> #DIV/0! | E49: =IF($AK$3="４週",SUMIFS($AK$11:$AK$30,$B$11:$B$30,E45)/4/$AH$5,IF($AK$3="歴月",SUMIFS($AK$11:$AK$30,$B$11:$B$30,E45)/$AL$5,"記載する期間を選択してください")) -> #DIV/0! | I49: =IF($AK$3="４週",SUMIFS($AK$11:$AK$30,$B$11:$B$30,I45)/4/$AH$5,IF($AK$3="歴月",SUMIFS($AK$11:$AK$30,$B$11:$B$30,I45)/$AL$5,"記載する期間を選択してください")) -> #DIV/0! | O49: =IF($AK$3="４週",SUMIFS($AK$11:$AK$30,$B$11:$B$30,O45)/4/$AH$5,IF($AK$3="歴月",SUMIFS($AK$11:$AK$30,$B$11:$B$30,O45)/$AL$5,"記載する期間を選択してください")) -> #DIV/0! | U49: =IF($AK$3="４週",SUMIFS($AK$11:$AK$30,$B$11:$B$30,U45)/4/$AH$5,IF($AK$3="歴月",SUMIFS($AK$11:$AK$30,$B$11:$B$30,U45)/$AL$5,"記載する期間を選択してください")) -> #DIV/0! | AA49: =IF($AK$3="４週",SUMIFS($AK$11:$AK$30,$B$11:$B$30,AA45)/4/$AH$5,IF($AK$3="歴月",SUMIFS($AK$11:$AK$30,$B$11:$B$30,AA45)/$AL$5,"記載する期間を選択してください")) -> #DIV/0! | AG49: =IF($AK$3="４週",SUMIFS($AK$11:$AK$30,$B$11:$B$30,AG45)/4/$AH$5,IF($AK$3="歴月",SUMIFS($AK$11:$AK$30,$B$11:$B$30,AG45)/$AL$5,"記載する期間を選択してください")) -> #DIV/0! | AL49: =IF($AK$3="４週",SUMIFS($AK$11:$AK$30,$B$11:$B$30,AL45)/4/$AH$5,IF($AK$3="歴月",SUMIFS($AK$11:$AK$30,$B$11:$B$30,AL45)/$AL$5,"記載する期間を選択してください")) -> #DIV/0!
C50: 2 | E50: 3 | I50: 4 | O50: 5 | U50: 6 | AA50: 7 | AG50: 8 | AL50: 9
A51: ・最初に「年月欄」「サービス種別」「事業所名」を入力してください。 | R51: 6 | X51: 7 | AD51: 8 | AJ51: 9
A52: (1) 「４週」・「暦月」のいずれかを選択してください。
A53: (2) 「予定」・「実績」のいずれかを選択してください。
A54: (3) 事業所における常勤の従業者が勤務すべき時間数を入力してください。
A55: (4) 従業者の職種を入力してください。
A56: 記入の順序は、職種ごとにまとめてください。
A57: (5) 従業者の勤務形態について、下記のうち該当する区分の記号を入力してください。
B58: 記号 | C58: 区分
B59: A | C59: 常勤で専従
B60: B | C60: 常勤で兼務
B61: C | C61: 非常勤で専従
B62: D | C62: 非常勤で兼務
B63: （注）常勤・非常勤の区分について
B64: 当該事業所における勤務時間が、当該事業所において定められている常勤の従業者が勤務すべき時間数に達していることをいいます。雇用の形態は考慮しません。
B65: （例えば、常勤者は週に40時間勤務することとされた事業所であれば、非正規雇用であっても、週40時間勤務する従業者は常勤扱いとなります。）
A66: (6) 従業者の保有する資格を入力してください。
A67: 保有資格を全て記入するのではなく、人員基準・加配加算上、求められる資格等を入力してください。
A68: ※選択した資格及び研修に関して、必要に応じて、資格証又は研修修了証等の写しを添付資料として提出してください。
A69: (7) 従業者の氏名を記入してください。
A70: (8) 申請する事業に係る従業者（管理者を含む。）の1ヶ月分の勤務時間を入力してください。
A71: (9) 常勤の職員の休暇等については、その期間が暦年で１月を超えるものでない限り、常勤換算の計算上は勤務したものとみなすことができます。
B72: その場合、勤務時間欄には「休」と記入し、勤務時間の合計に含めてください（非常勤職員の休暇等は常勤換算の計算に含めることはできません）。
B73: ※指定基準の確認に際しては、４週分の入力で差し支えありません。
A74: (10) 従業者ごとに、合計勤務時間数を入力してください。
A75: ※ 入力することができる時間数は、当該事業所において常勤の従業者が勤務すべき勤務時間数を上限とします。
A76: (11) 従業者ごとに、週平均の勤務時間数を入力してください。
A77: (12) 申請する事業所以外の事業所・施設との兼務がある場合は、兼務先の事業所・施設の名称、兼務する職務の内容について記入してください。
A78: 同一事業所内の兼務についても兼務する職務の内容を記入してください。
A79: その他、特記事項欄としてもご活用ください。
A80: （13)本表には計算式を設定していますが、結果に誤りがないかご確認ください。
A81: （14) 必要項目を満たしていれば、各事業所で使用するシフト表等をもって代替書類として差し支えありません。

Sheet 参考様式1
B3: 参考様式１ | F3: 事業所・施設の平面図
C5: 事業所の名称
C8: 建物の名称 | R8: 選択してください | T8: 選択してください
C9: 構造概要 | E9: 構造 | G9: 建築年月 | H9: 選択してください | I9: 年 | J9: 月 | R9: 昭和 | T9: 有り
C10: 事業所の共用の有無 | E10: 選択してください | R10: 平成 | T10: 無し
L15: Ｎ
B30: （備考）１ | C30: 各室、区画の用途及び面積を記載し、他の事業や施設と共用する場合は、その旨を記載し色分けする等わかりやすく表示してください。
B31: 2 | C31: 既製の平面図がある場合にはそれを添付してください。（その場合、Ａ３に縮尺の上、折り込んでください。）
B32: 3 | C32: 療養介護事業所、共同生活介護、共同生活援助、短期入所事業所、障害者支援施設においては既製の平面図を添付して下さい。短期入所事業所で、併設事業所の場合は、本体施設の平面図を添付してください。
B33: 4 | C33: 事業所の外観及び内部（各室、区画）の写真を添付してください。
B34: 5 | C34: 多機能型、従たる事業所や複数の共同生活住居がある場合は、それぞれの位置関係がわかる地図等を添付してください。

Sheet 参考様式2
B2: 参考様式２ | G2: 居室面積等一覧表
C4: 事業所の名称
C5: サービスの種類
C7: 設置階 | E7: 1 | F7: 階 | I7: 2 | J7: 階 | N7: 階 | R7: 階 | T7: 合 計
B8: 種類 | D8: 室数 | E8: 面積 | G8: 備考 | H8: 室数 | I8: 面積 | K8: 備考 | L8: 室数 | M8: 面積 | O8: 備考 | P8: 室数 | Q8: 面積 | S8: 備考 | T8: 室数 | U8: 面積 | V8: 備考
B9: 居室 | C9: １室の定員 | F9: 一人あたり | J9: 一人あたり | N9: 一人あたり | R9: 一人あたり
F10: （ ） | J10: （ ） | N10: （ ） | R10: （ ）
F11: （ ） | J11: （ ） | N11: （ ） | R11: （ ）
F12: （ ） | J12: （ ） | N12: （ ） | R12: （ ）
F13: （ ） | J13: （ ） | N13: （ ） | R13: （ ）
F14: （ ） | J14: （ ） | N14: （ ） | R14: （ ）
F15: （ ） | J15: （ ） | N15: （ ） | R15: （ ）
F16: （ ） | J16: （ ） | N16: （ ） | R16: （ ）
F17: （ ） | J17: （ ） | N17: （ ） | R17: （ ）
B18: 居室以外
B29: 片廊下幅 | D29: （最も狭い個所） | G29: ｍ | H29: （最も狭い個所） | K29: ｍ | L29: （最も狭い個所） | O29: ｍ | P29: （最も狭い個所） | S29: ｍ
B30: 中廊下幅 | G30: ｍ | K30: ｍ | O30: ｍ | S30: ｍ
B31: 共用する事業所・施設名
B33: 備考１ | C33: 設備基準で定められた設備等について、設置階ごとに記載してください。
B34: ２ | C34: 居室については、「1室の定員」ごとに分けて記入してください。また、同じ定員でも面積に異なる居室がある場合には、それぞれの居室ごとに分けて記入してください。
B35: ３ | C35: 「1人あたりの面積」の算出が必要な設備は、面積欄の（ ）内に記入してください。（算出にあたっては小数点以下第二位を切捨て）
B36: ４ | C36: 部屋の種類ごとにまとめて、合計の室数、面積を記入してください。
B37: ５ | C37: 他の事業所、施設と共用がある場合は、備考欄に「共用」と記入し、「共用する事業所・施設名」欄に正式名称を記入し、共用先の当該部分の平面図を添付してください。
C38: （様式１で添付されている場合は省略可）
B39: ６ | C39: 同一の事業所又は施設の他の設備と兼用している場合は「備考欄」に「○○室と兼用」と記載してください。

Sheet 参考様式3
A3: 参考様式３ | D3: 事業所・施設の設備・備品等一覧表
B6: 事業所の名称
B7: サービスの種類
A9: 設備の概要 | C9: 設備基準上適合すべき項目についての状況 | G9: 備品の品名及び数量 | J9: 適合の適否
A12: サービス提供上配慮すべき設備の概要
A36: 非常災害設備等
A52: 備考 １ | B52: 申請するサービスの種類に関して、基準省令で定められた設備基準上適合すべき項目のうち、「居室面積等一覧表」（参考様式２）に記載された項目以外の事項について記載してください。
A53: 2 | B53: 「適合の可否」欄には何も記載しないでください。

Sheet 参考様式4
A3: 参考様式４ | D3: 管 理 者
D4: 児童発達支援管理責任者 | H4: 経 歴 書
A7: 事業所の名称
A8: サービスの種類
A9: （管理又は従事する事業所が複数の場合はその全てを記載してください。）
B10: 事業の名称
B11: サービスの種類
A13: フリガナ | H13: 生年月日
A14: 氏 名
A15: 住 所 | B15: (自宅） | C15: （〒 ）
A16: 電話番号 | B16: (自宅）
A17: 主な職歴
A18: 期間 | D18: 勤務先 | I18: 職務内容
A27: 職務に関する資格
A28: 資格の種類 | F28: 資格取得年月日
A38: 備考（研修等の受講の状況等）
A52: 備考 | B52: 管理者、児童発達支援管理責任者のいずれかを○印で囲ってください。
B53: 管理者、児童発達支援管理責任者についてそれぞれ別葉で提出してください。（兼務の場合は1枚で可）

Sheet 参考様式5
A2: 参考様式５
A3: 実 務 経 験 (見 込) 証 明 書
C6: 神奈川県 | D6: 知事 様 | J6: 令和 年 月 日
E8: 所在地
E9: 名称
E10: 代表者氏名 | J10: 印
E11: 電話番号
A13: 下記の者の実務経験は、以下のとおりであることを証明します。
A15: 氏 名 | G15: (生年月日 年 月 日）
A16: 現 住 所
A17: 施設又は事業所名
D18: 施設・事業所の種別（ ）
A19: 業 務 期 間
D20: 年 月 日 ～ 年 月 日（ 年 月間）
A21: 上記のうち業務に従事した日数 | D21: 日
A22: 業 務 内 容 | D22: 職種( ）
A26: （注） | B26: １． | C26: 見込証明でない場合は、表題の（見込）を二重線で消すこと。
B27: ２． | C27: 施設又は事業所名欄には、知的障害者更生施設等の種別も記入すること。
B28: ３． | C28: 業務期間欄は、実務経験被証明者が要援護者に対する直接的な援助を行っていた期間（見込においては援助を行うと見込まれる期間）を記入すること。（産休・育休・療養休暇や長期研修期間等は業務期間となりません）
B29: ４． | C29: 業務内容欄は、看護師、生活指導員等の職名を記入し、業務内容について、老人デイサービス事業における○○業務、○○実施要綱の○○事業の○○業務等具体的に記入すること。
B31: ５． | C31: 証明内容を訂正する場合は、二重線で消した上、証明者（代表者）の印を押すこと。

Sheet 参考様式６
A1: 参考様式６
A3: 利用者(入所者)又はその家族からの苦情を解決するために講ずる措置の概要
A5: 事業所名
A6: 指定障害福祉サービス等の種類
A8: 措 置 の 概 要
A9: １ 利用者(入所者)又はその家族からの相談又は苦情等に対応する常設の窓口(連絡先)、担当者
A11: ２ 円滑かつ迅速に苦情を解決するための処理体制・手順
A13: ※具体的な対応方針
A15: ３ その他参考事項

Sheet 参考様式８
A1: 参考様式８
A3: 指定障害福祉サービス等の主たる対象者を特定する理由等
B5: 事業所名
B6: 指定障害福祉サービス等の種類
A9: １ 申請に係る指定障害福祉サービス等の主たる対象者
A10: 身体障害児 ・ 知的障害児 ・ 発達障害児 ・ 精神障害児 ・ 難病
A11: ２ 主たる対象者を１のとおり特定する理由
A13: ３ 今後における主たる対象者の拡充の予定
A14: (１)拡充予定の有無 | C14: ( 有り ・ 無し )
A15: (２)拡充予定の内容及び予定時期
A17: (３)拡充のための方策

Sheet 参考様式９
A1: 参考様式９
A2: 誓 約 書
H4: 年 | J4: 月 | L4: 日
A5: 神奈川県 | C5: 知事 殿
A7: 申請者 | D7: （名称）
D9: （代表者の職名・氏名）
A13: 申請者が別紙のいずれにも該当しない者であることを誓約します。
C15: 別紙①： 障害福祉サービス事業者向け
C16: 別紙②： 障害者支援施設向け
C17: 別紙③： 一般相談支援事業者向け
C18: 別紙④： 特定相談支援事業者向け
C19: 別紙⑤： 障害児通所支援事業者向け
C20: 別紙⑥： 障害児入所施設向け
C21: 別紙⑦： 障害児相談支援事業者向け
B22: 注 該当する種別に○を付けてください。

Sheet 別紙⑤
B1: （別紙⑤： 障害児通所支援事業者向け）
C2: 児童福祉法第２１条の５の１５第３項
B4: 一 | C4: 申請者が都道府県の条例で定める者でないとき。
B5: 二 | C5: 当該申請に係る障害児通所支援事業所の従業者の知識及び技能並びに人員が、第二十一条の五の十九第一項の都道府県の条例で定める基準を満たしていないとき。
B6: 三 | C6: 申請者が、第二十一条の五の十九第二項の都道府県の条例で定める指定通所支援の事業の設備及び運営に関する基準に従つて適正な障害児通所支援事業の運営をすることができないと認められるとき。
B7: 四 | C7: 申請者が禁錮以上の刑に処せられ、その執行を終わり、又は執行を受けることがなくなるまでの者であるとき。
B8: 五 | C8: 申請者が、この法律その他国民の保健医療若しくは福祉に関する法律で政令で定めるものの規定により罰金の刑に処せられ、その執行を終わり、又は執行を受けることがなくなるまでの者であるとき。
B9: 五の二 | C9: 申請者が、労働に関する法律の規定であつて政令で定めるものにより罰金の刑に処せられ、その執行を終わり、又は執行を受けることがなくなるまでの者であるとき。
B10: 六 | C10: 申請者が、第二十一条の五の二十四第一項又は第三十三条の十八第六項の規定により指定を取り消され、その取消しの日から起算して五年を経過しない者（当該指定を取り消された者が法人である場合においては、当該取消しの処分に係る行政手続法第十五条の規定による通知があつた日前六十日以内に当該法人の役員又はその障害児通所支援事業所を管理する者その他の政令で定める使用人（以下この条及び第二十一条の五の二十四第一項第十一号において「役員等」という。）であつた者で当該取消しの日から起算して五年を経過しないものを含み、当該指定を取り消された者が法人でない場合においては、当該通知があつた日前六十日以内に当該者の管理者であつた者で当該取消しの日から起算して五年を経過しないものを含む。）であるとき。ただし、当該指定の取消しが、指定障害児通所支援事業者の指定の取消しのうち当該指定の取消しの処分の理由となつた事実及び当該事実の発生を防止するための当該指定障害児通所支援事業者による業務管理体制の整備についての取組の状況その他の当該事実に関して当該指定障害児通所支援事業者が有していた責任の程度を考慮して、この号本文に規定する指定の取消しに該当しないこととすることが相当であると認められるものとして内閣府令で定めるものに該当する場合を除く。
B11: 七 | C11: 申請者と密接な関係を有する者（申請者（法人に限る。以下この号において同じ。）の株式の所有その他の事由を通じて当該申請者の事業を実質的に支配し、若しくはその事業に重要な影響を与える関係にある者として内閣府令で定めるもの（以下この号において「申請者の親会社等」という。）、申請者の親会社等が株式の所有その他の事由を通じてその事業を実質的に支配し、若しくはその事業に重要な影響を与える関係にある者として内閣府令で定めるもの又は当該申請者が株式の所有その他の事由を通じてその事業を実質的に支配し、若しくはその事業に重要な影響を与える関係にある者として内閣府令で定めるもののうち、当該申請者と内閣府令で定める密接な関係を有する法人をいう。）が、第二十一条の五の二十四第一項又は第三十三条の十八第六項の規定により指定を取り消され、その取消しの日から起算して五年を経過していないとき。ただし、当該指定の取消しが、指定障害児通所支援事業者の指定の取消しのうち当該指定の取消しの処分の理由となつた事実及び当該事実の発生を防止するための当該指定障害児通所支援事業者による業務管理体制の整備についての取組の状況その他の当該事実に関して当該指定障害児通所支援事業者が有していた責任の程度を考慮して、この号本文に規定する指定の取消しに該当しないこととすることが相当であると認められるものとして内閣府令で定めるものに該当する場合を除く。
B12: 八 | C12: 削除
B13: 九 | C13: 申請者が、第二十一条の五の二十四第一項又は第三十三条の十八第六項の規定による指定の取消しの処分に係る行政手続法第十五条の規定による通知があつた日から当該処分をする日又は処分をしないことを決定する日までの間に第二十一条の五の二十第四項の規定による事業の廃止の届出をした者（当該事業の廃止について相当の理由がある者を除く。）で、当該届出の日から起算して五年を経過しないものであるとき。
B14: 十 | C14: 申請者が、第二十一条の五の二十二第一項の規定による検査が行われた日から聴聞決定予定日（当該検査の結果に基づき第二十一条の五の二十四第一項の規定による指定の取消しの処分に係る聴聞を行うか否かの決定をすることが見込まれる日として内閣府令で定めるところにより都道府県知事が当該申請者に当該検査が行われた日から十日以内に特定の日を通知した場合における当該特定の日をいう。）までの間に第二十一条の五の二十第四項の規定による事業の廃止の届出をした者（当該事業の廃止について相当の理由がある者を除く。）で、当該届出の日から起算して五年を経過しないものであるとき。
B15: 十一 | C15: 第九号に規定する期間内に第二十一条の五の二十第四項の規定による事業の廃止の届出があつた場合において、申請者が、同号の通知の日前六十日以内に当該事業の廃止の届出に係る法人（当該事業の廃止について相当の理由がある法人を除く。）の役員等又は当該届出に係る法人でない者（当該事業の廃止について相当の理由がある者を除く。）の管理者であつた者で、当該届出の日から起算して五年を経過しないものであるとき。
... B18: 十四 | C18: 申請者が、法人でない者で、その管理者が第四号から第六号まで又は第九号から第十二号までのいずれかに該当する者であるとき。

Sheet 別紙⑥
B1: （別紙⑥： 障害児入所施設向け）
C2: 児童福祉法第２４条の９第３項において準用する同法第21条の５の15第３項
B4: 一 | C4: 申請者が都道府県の条例で定める者でないとき。
B5: 二 | C5: 当該申請に係る障害児入所施設（第四十二条に規定する障害児入所施設をいう。以下この項において同じ。）の従業者の知識及び技能並びに人員が、第二十四条の十二第一項の都道府県の条例で定める基準を満たしていないとき。
B6: 三 | C6: 申請者が、第二十四条の十二第二項の都道府県の条例で定める指定障害児入所施設等の設備及び運営に関する基準に従つて適正な障害児入所施設の運営をすることができないと認められるとき。
B7: 四 | C7: 申請者が禁錮以上の刑に処せられ、その執行を終わり、又は執行を受けることがなくなるまでの者であるとき。
B8: 五 | C8: 申請者が、この法律その他国民の保健医療若しくは福祉に関する法律で政令で定めるものの規定により罰金の刑に処せられ、その執行を終わり、又は執行を受けることがなくなるまでの者であるとき。
B9: 五の二 | C9: 申請者が、労働に関する法律の規定であつて政令で定めるものにより罰金の刑に処せられ、その執行を終わり、又は執行を受けることがなくなるまでの者であるとき。
B10: 六 | C10: 申請者が、第二十四条の十七又は第三十三条の十八第六項の規定により指定を取り消され、その取消しの日から起算して五年を経過しない者（当該指定を取り消された者が法人である場合においては、当該取消しの処分に係る行政手続法第十五条の規定による通知があつた日前六十日以内に当該法人の役員又はその障害児入所施設を管理する者（以下この条において「役員等」という。）であつた者で当該取消しの日から起算して五年を経過しないものを含み、当該指定を取り消された者が法人でない場合においては、当該通知があつた日前六十日以内に当該者の管理者であつた者で当該取消しの日から起算して五年を経過しないものを含む。）であるとき。ただし、当該指定の取消しが、指定障害児入所施設（第二十四条の二第一項に規定する指定障害児入所施設をいう。）の指定の取消しのうち当該指定の取消しの処分の理由となつた事実及び当該事実の発生を防止するための当該指定障害児入所施設の設置者による業務管理体制の整備についての取組の状況その他の当該事実に関して当該指定障害児入所施設の設置者が有していた責任の程度を考慮して、この号本文に規定する指定の取消しに該当しないこととすることが相当であると認められるものとして内閣府令で定めるものに該当する場合を除く。
B11: 九 | C11: 申請者が、第二十四条の十七又は第三十三条の十八第六項の規定による指定の取消しの処分に係る行政手続法第十五条の規定による通知があつた日から当該処分をする日又は処分をしないことを決定する日までの間に第二十四条の十四の規定による指定の辞退をした者（当該指定の辞退について相当の理由がある者を除く。）で、当該辞退の日から起算して五年を経過しないものであるとき。
B12: 十 | C12: 申請者が、第二十四条の十五第一項の規定による検査が行われた日から聴聞決定予定日（当該検査の結果に基づき第二十四条の十七の規定による指定の取消しの処分に係る聴聞を行うか否かの決定をすることが見込まれる日として内閣府令で定めるところにより都道府県知事が当該申請者に当該検査が行われた日から十日以内に特定の日を通知した場合における当該特定の日をいう。）までの間に第二十四条の十四の規定による指定の辞退をした者（当該指定の辞退について相当の理由がある者を除く。）で、当該辞退の日から起算して五年を経過しないものであるとき。
B13: 十一 | C13: 第九号に規定する期間内に第二十四条の十四の規定による指定の辞退があつた場合において、申請者が、同号の通知の日前六十日以内に当該指定の辞退に係る法人（当該指定の辞退について相当の理由がある法人を除く。）の役員等又は当該辞退に係る法人でない者（当該指定の辞退について相当の理由がある者を除く。）の管理者であつた者で、当該辞退の日から起算して五年を経過しないものであるとき。
B14: 十二 | C14: 申請者が、指定の申請前五年以内に障害児入所支援に関し不正又は著しく不当な行為をした者であるとき。
B15: 十三 | C15: 申請者が、法人で、その役員等のうちに第四号から第六号まで又は第九号から前号までのいずれかに該当する者のあるものであるとき。
B16: 十四 | C16: 申請者が、法人でない者で、その管理者が第四号から第六号まで又は第九号から第十二号までのいずれかに該当する者であるとき。

Sheet 参考様式9別紙
A1: 参考様式9別紙
A2: 役 員 等 名 簿
I4: 申請者（法人）名 | M4: （ ）
A5: （ふりがな） | E5: 生年月日 | J5: 住 所
A6: 氏 名 | E6: 役職名・呼称 | J6: TEL | N6: e-mail
A37: 注 | B37: 当該法人の役員（業務を執行する社員、取締役、執行役又はこれらに準ずる者をいい、相談役、顧問その他いかなる名称を有する者であるかを問わず、法人に対し業務を執行する社員、取締役、執行役又はこれらに準ずる者と同等以上の支配力を有するものと認められる者を含む。）及び事業所を管理する者について記入してください。

Sheet 参考様式10
A1: 参考様式10（障害児入所施設（医療型を除く）
C2: 協力医療機関との契約の内容
A4: 事業所の名称
A5: サービスの種類
A7: 協力医療機関の名称
A8: 所在地
A9: 診療科目
A10: 事業所・施設からの距離 | D10: km | E10: （徒歩 分 車 分）
A11: 契約の内容
A42: 備考 | B42: 「契約の内容」は、契約書の写し等の添付でもかまいません。

Sheet 管理者誓約書（通所）
A1: 指定障害児通所支援事業所 管理者誓約書
A5: 「指定障害児通所支援の事業等の人員、設備及び運営に関する基準等を定める条例（平成25年神奈川県条例第7号）」の規定に従い、運営に関する基準を遵守し、当指定障害児通所支援事業の管理者の責務を適正に果たすことを誓約します。
F10: 令和 年 月 日
A13: 神奈川県知事 | C13: 様
D16: 事業者名（開設法人名）
D19: 代表者氏名
D22: 事業所名
D25: 管理者氏名
A32: 指定障害児通所支援の事業等の人員、設備及び運営に関する基準等を定める条例【抜粋】
A33: （管理者の責務）
A34: 第37条 指定児童発達支援事業所の管理者は、当該指定児童発達支援事業所の従業者及び業務の管理その他の管理を、一元的に行わなければならない。
A37: ２ 指定児童発達支援事業所の管理者は、当該指定児童発達支援事業所の従業者にこの節の規定を遵守させるため必要な指揮命令を行うものとする。
A40: （医療型児童発達支援、放課後等デイサービス、保育所等訪問支援においても準用）

Sheet 管理者誓約書（入所）
A1: 指定障害児入所施設 管理者誓約書
A5: 「指定障害児入所施設等の人員、設備及び運営に関する基準等を定める条例（平成25年神奈川県条例第8号）」の規定に従い、運営に関する基準を遵守し、当指定障害児入所施設の管理者の責務を適正に果たすことを誓約します。
A10: 令和 年 月 日
A13: 神奈川県知事 | C13: 様
D16: 事業者名（開設法人名）
D19: 代表者氏名
D22: 事業所名
D25: 管理者氏名
A32: 指定障害児入所施設等の人員、設備及び運営に関する基準等を定める条例【抜粋】
A34: （管理者による管理等）
A35: 第34条
A36: （第1項 略）
A37: ２ 指定福祉型障害児入所施設の管理者は、当該指定福祉型障害児入所施設の従業者及び業務の管理その他の管理を、一元的に行わなければならない。
A39: ３ 指定福祉型障害児入所施設の管理者は、当該福祉型障害児入所施設の従業者にこの節の規定を遵守させるために必要な指揮命令を行うものとする。
A42: （医療型障害児入所施設においても準用）

Sheet 参考様式11
A1: 参考様式11
A3: 事 業 計 画 書
B5: 事業所名又は施設名
B6: サービス種類
A8: 項 目 | D8: 内 容
A10: １ 事業の内容
A27: ２ 事業開始年月日
A29: ３ 従業者等の人員
A39: ４ 利用者の定員
A44: ５ 研修計画
A50: ６ その他
A54: ※事業計画書は、当該事業所の年間事業計画を作成してください。

Sheet 参考様式16 共生型サービス技術的支援の概要
A1: 参考様式16 | B1: 共生型サービス提供に必要な関係施設からの技術的支援の概要
A3: 事業所の名称
A4: サービスの種類
A6: 支援を受ける施設のサービス種類
A7: 支援を受ける施設の名称
A8: 所在地
A9: 連携支援の概要

Sheet 別紙・加入状況確認票（社会保険及び労働保険）
O1: 【別紙】
A2: 社会福祉事業等の事業所用
A3: 社会保険及び労働保険への加入状況にかかる確認票
A5: 貴事業所の現状等について、下記の項目に回答してください。
A6: Ⅰ．現在、厚生年金保険・健康保険に加入していますか。 （該当する番号に○を付してください。また、必要事項をご記入ください。）
B7: 加入状況
A8: 1 | B8: 加入している。 →下記のいずれかの書類の写しを提出してください。（提示も可）
B9: ●保険料の領収証書 ●社会保険料納入証明書
B10: ●社会保険料納入確認書
B11: ●健康保険・厚生年金保険資格取得確認および標準報酬決定通知書
B12: ●健康保険・厚生年金保険適用通知書
B13: ※上記書類を所持していない場合には事業所整理記号を下記に記載するのみで可。
B14: （本社等にて加入手続が行われている場合も事業所整理記号を下記に記載するのみで可。）
A17: 2 | B17: 現在、加入手続中である。
A18: 3 | B18: 今後、加入手続を行う。
B19: （申請から３ヶ月以内に適用要件（法人事業所または従業員５人以上の個人事業所）に該当する予定の場合を含む。）
B20: 令和（ ）年（ ）月頃に手続予定。（申請から３ヶ月以内の年月をご記入ください。）
A21: 4 | B21: 適用要件に該当しない。（個人事業所（法人ではない事業所）であって従業員が４名以下の場合。申請から３ヶ月以内に適用要件に該当する予定がない。）
A22: 5 | B22: 適用要件に該当するか不明である。
B23: （個人事業所（法人ではない事業所）であって、正社員と、正社員以外で１週間の所定労働時間及び１ヶ月の所定労働日数が同じ事業所で同様の業務に従事している正社員の４分の３以上である者との合計が５人以上か不明な場合。）
A25: Ⅱ．現在、労働者災害補償保険・雇用保険に加入していますか。 （該当する番号に○を付してください。また、必要事項をご記入ください。）
B26: 加入状況
A27: 1 | B27: 加入している。 →下記のいずれかの書類の写しを提出してください。（提示も可）
B28: ●労働保険概算・確定保険料申告書
B29: ●納付書・領収証等 ●保険関係成立届
B30: ※上記書類を所持していない場合には労働保険番号を下記に記載するのみで可。
B31: （本社等にて加入手続が行われている場合も労働保険番号を下記に記載するのみで可。）
M32: －
A34: 2 | B34: 現在、加入手続中である。
A35: 3 | B35: 今後、加入手続を行う。（申請から３ヶ月以内に従業員（パート・アルバイトを含む）を雇う予定がある場合を含む。） 令和（ ）年（ ）月頃に手続予定。（申請から３ヶ月以内の年月をご記入ください。）
A36: 4 | B36: 適用要件に該当しない。（事業主・役員・同居の親族のみで経営、従業員（パート・アルバイトを含む）がいない、申請から３ヶ月以内に従業員を雇う予定がない。）
A38: 回答年月日 令和 年 月 日
A39: 事 業 所 名 称
A40: 事業所 所在地
A41: 会社等法人番号
A42: 電 話 番 号
A44: ※ 事業主の皆様には、全ての法令を遵守していただきたいと考えています。社会保険・労働保険の適用が確認できない場合は、厚生労働省からの依頼に基づき、厚生労働省に情報提供いたします。
A45: ※ 社会保険・労働保険の適用促進以外の目的では使用いたしません。

Sheet <削除しないでください>選択肢
A1: ！申請するサービス類型を選択してください | B1: 職種① | C1: 職種② | D1: 職種③ | E1: 職種④ | F1: 職種⑤ | G1: 職種⑥ | H1: 職種⑦ | I1: 職種⑧ | J1: 職種⑨ | K1: 職種⑩
A2: 居宅介護 | B2: 管理者 | C2: サービス提供責任者 | D2: 従業者
A3: 重度訪問介護 | B3: 管理者 | C3: サービス提供責任者 | D3: 従業者
A4: 同行援護 | B4: 管理者 | C4: サービス提供責任者 | D4: 従業者
A5: 行動援護 | B5: 管理者 | C5: サービス提供責任者 | D5: 従業者
A6: 療養介護 | B6: 管理者 | C6: サービス管理責任者 | D6: 医師 | E6: 看護職員 | F6: 生活支援員
A7: 生活介護 | B7: 管理者 | C7: サービス管理責任者 | D7: 医師 | E7: 看護職員 | F7: 理学療法士 | G7: 作業療法士 | H7: 言語聴覚士 | I7: 生活支援員
A8: 短期入所・併設型 | B8: 管理者 | C8: 生活支援員
A9: 短期入所・空床利用型 | B9: 管理者 | C9: 生活支援員
A10: 短期入所・単独型 | B10: 管理者 | C10: 生活支援員
A11: 重度障害者等包括支援 | B11: 管理者 | C11: サービス提供責任者 | D11: 従業者
A12: 共同生活援助・介護サービス包括型 | B12: 管理者 | C12: サービス管理責任者 | D12: 世話人 | E12: 生活支援員
A13: 共同生活援助・外部サービス利用型 | B13: 管理者 | C13: サービス管理責任者 | D13: 世話人
A14: 共同生活援助・日中サービス支援型 | B14: 管理者 | C14: サービス管理責任者 | D14: 世話人 | E14: 生活支援員 | F14: 夜間支援従事者
A15: 障害者支援施設 | B15: 管理者 | C15: サービス管理責任者 | D15: 医師 | E15: 看護職員 | F15: 理学療法士 | G15: 作業療法士 | H15: 言語聴覚士 | I15: 就労支援員 | J15: 職業指導員 | K15: 生活支援員
A16: 機能訓練 | B16: 管理者 | C16: サービス管理責任者 | D16: 看護職員 | E16: 理学療法士 | F16: 作業療法士 | G16: 言語聴覚士 | H16: 生活支援員
A17: 生活訓練 | B17: 管理者 | C17: サービス管理責任者 | D17: 地域移行支援員 | E17: 生活支援員
A18: 就労選択支援 | B18: 管理者 | C18: 就労選択支援員
A19: 就労移行支援 | B19: 管理者 | C19: サービス管理責任者 | D19: 就労支援員 | E19: 職業指導員 | F19: 生活支援員
A20: 認定指定就労移行支援 | B20: 管理者 | C20: サービス管理責任者 | D20: 職業指導員 | E20: 生活支援員
A21: 就労継続支援Ａ型・Ｂ型 | B21: 管理者 | C21: サービス管理責任者 | D21: 職業指導員 | E21: 生活支援員
A22: 一般相談支援事業 | B22: 管理者 | C22: 従業者
A23: 就労定着支援 | B23: 管理者 | C23: サービス管理責任者 | D23: 就労定着支援員
A24: 自立生活援助 | B24: 管理者 | C24: サービス管理責任者 | D24: 地域生活支援員
A25: 特定相談支援・障害児相談支援 | B25: 管理者 | C25: 相談支援専門員 | D25: 相談支援員
A26: 児童発達支援・放課後等デイサービス | B26: 管理者 | C26: 児童発達支援管理責任者 | D26: 児童指導員 | E26: 保育士 | F26: 機能訓練担当職員 | G26: 看護職員 | H26: その他職員
A27: 児童発達支援・主として重症心身障害児を対象とする場合 | B27: 管理者 | C27: 児童発達支援管理責任者 | D27: 嘱託医 | E27: 看護職員 | F27: 児童指導員 | G27: 保育士 | H27: 機能訓練担当職員 | I27: その他職員
A28: 児童発達支援・児童発達支援センターであるもの | B28: 管理者 | C28: 児童発達支援管理責任者 | D28: 嘱託医 | E28: 児童指導員 | F28: 保育士 | G28: 栄養士 | H28: 調理員 | I28: 機能訓練担当職員 | J28: 看護職員 | K28: その他職員
A29: 保育所等訪問支援 | B29: 管理者 | C29: 児童発達支援管理責任者 | D29: 訪問支援員
A30: 居宅訪問型児童発達支援 | B30: 管理者 | C30: 児童発達支援管理責任者 | D30: 訪問支援員
A31: 福祉型障害児入所施設 | B31: 管理者 | C31: 児童発達支援管理責任者 | D31: 医師 | E31: 看護職員 | F31: 児童指導員 | G31: 保育士 | H31: 栄養士 | I31: 調理員 | J31: 心理担当職員
A32: 医療型障害児入所施設 | B32: 児童発達支援管理責任者 | C32: 医師 | D32: 看護職員 | E32: 児童指導員 | F32: 保育士 | G32: 心理担当職員 | H32: 理学療法士又は作業療法士 | I32: 職業指導員
