Workbook

Sheet 調査票 (ホーム①）)
A1: 【様式】
A3: 回答送付先
A4: shisetsu-2@pref.kanagawa.jp
A6: 【障害者グループホームに関する状況調査について】
F8: 法人名
F9: 担当課名
F10: 御担当者名
F11: 電話
F12: Ｅメールアドレス
A15: 1 ホームの名称
A18: ２ 世話人配置、障害支援区分、入居者数、定員の現況
B21: グループホーム等運営費補助に関して、制度の仕組みや補助内容、補助水準、加算メニュー等について御意見があれば自由に記載をお願いします。
B22: （※ 補助金交付要綱等参考となる資料がございましたら、御恵与ください。）
B24: 定員（数字を記入）
C25: 名
B26: 利用者の人数（数字を記入）
C27: 名
B28: 現行の世話人配置（該当に〇を記入）
B29: ４：１ | D29: ５：１ | F29: ６：１
B30: 利用者の支援区分（人数を数字で記入）
B31: 区分１ | D31: 区分２ | F31: 区分３ | H31: 区分４
B32: 区分５ | D32: 区分６
A34: ２ 職員配置の状況
C35: 人数： | E35: 名（数字を記入）
B37: （内訳） | D37: 常勤 | E37: 非常勤 | F37: 兼務
B38: 管理者
B39: サービス管理責任者
B40: 世話人
B41: 生活支援員
B43: （加算の状況）
B44: 日中支援加算 | F44: 円
B45: 夜間支援等体制加算 | F45: 円
B46: 医療連携体制加算 | F46: 円
B47: 自立生活支援加算 | F47: 円
A49: 3 | B49: 常勤、非常勤職員に係る人件費
B50: 別紙「積算シート」に記載してくださるようお願いします。
A57: 4 | B57: その他
B58: 貴事業所において、県が実施する支援策等についてのご要望等があれば ご意見をお願いします。
A63: ４ その他、今後必要と思われる仕組み等について
B64: その他、必要と思われる仕組み等、ご自由に記入ください。
...

Sheet 調査票 (ホーム②）) 
A1: 【様式】
A3: 回答送付先
A4: shisetsu-2@pref.kanagawa.jp
A6: 【障害者グループホームに関する状況調査について】
A11: 1 ホームの名称
A14: ２ 世話人配置、障害支援区分、入居者数、定員の現況
B17: グループホーム等運営費補助に関して、制度の仕組みや補助内容、補助水準、加算メニュー等について御意見があれば自由に記載をお願いします。
B18: （※ 補助金交付要綱等参考となる資料がございましたら、御恵与ください。）
B20: 定員（数字を記入）
C21: 名
B22: 利用者の人数（数字を記入）
C23: 名
B24: 現行の世話人配置（該当に〇を記入）
B25: ４：１ | D25: ５：１ | F25: ６：１
B26: 利用者の支援区分（人数を数字で記入）
B27: 区分１ | D27: 区分２ | F27: 区分３ | H27: 区分４
B28: 区分５ | D28: 区分６
A30: ２ 職員配置の状況
C31: 人数： | E31: 名（数字を記入）
B33: （内訳） | D33: 常勤 | E33: 非常勤 | F33: 兼務
B34: 管理者
B35: サービス管理責任者
B36: 世話人
B37: 生活支援員
B39: （加算の状況）
B40: 日中支援加算 | F40: 円
B41: 夜間支援等体制加算 | F41: 円
B42: 医療連携体制加算 | F42: 円
B43: 自立生活支援加算 | F43: 円
A45: 3 | B45: 常勤、非常勤職員に係る人件費
B46: 別紙「積算シート」に記載してくださるようお願いします。
A53: 4 | B53: その他
B54: 貴事業所において、県が実施する支援策等についてのご要望等があれば ご意見をお願いします。
A59: ４ その他、今後必要と思われる仕組み等について
B60: その他、必要と思われる仕組み等、ご自由に記入ください。
A63: ※ 御協力ありがとうございました。

Sheet 調査票 (ホーム③）) 
A1: 【様式】
A3: 回答送付先
A4: shisetsu-2@pref.kanagawa.jp
A6: 【障害者グループホームに関する状況調査について】
A11: 1 ホームの名称
A14: ２ 世話人配置、障害支援区分、入居者数、定員の現況
B17: グループホーム等運営費補助に関して、制度の仕組みや補助内容、補助水準、加算メニュー等について御意見があれば自由に記載をお願いします。
B18: （※ 補助金交付要綱等参考となる資料がございましたら、御恵与ください。）
B20: 定員（数字を記入）
C21: 名
B22: 利用者の人数（数字を記入）
C23: 名
B24: 現行の世話人配置（該当に〇を記入）
B25: ４：１ | D25: ５：１ | F25: ６：１
B26: 利用者の支援区分（人数を数字で記入）
B27: 区分１ | D27: 区分２ | F27: 区分３ | H27: 区分４
B28: 区分５ | D28: 区分６
A30: ２ 職員配置の状況
C31: 人数： | E31: 名（数字を記入）
B33: （内訳） | D33: 常勤 | E33: 非常勤 | F33: 兼務
B34: 管理者
B35: サービス管理責任者
B36: 世話人
B37: 生活支援員
B39: （加算の状況）
B40: 日中支援加算 | F40: 円
B41: 夜間支援等体制加算 | F41: 円
B42: 医療連携体制加算 | F42: 円
B43: 自立生活支援加算 | F43: 円
A45: 3 | B45: 常勤、非常勤職員に係る人件費
B46: 別紙「積算シート」に記載してくださるようお願いします。
A53: 4 | B53: その他
B54: 貴事業所において、県が実施する支援策等についてのご要望等があれば ご意見をお願いします。
A59: ４ その他、今後必要と思われる仕組み等について
B60: その他、必要と思われる仕組み等、ご自由に記入ください。
A63: ※ 御協力ありがとうございました。

Sheet 調査票 (ホーム④）)  
A1: 【様式】
A3: 回答送付先
A4: shisetsu-2@pref.kanagawa.jp
A6: 【障害者グループホームに関する状況調査について】
A11: 1 ホームの名称
A14: ２ 世話人配置、障害支援区分、入居者数、定員の現況
B17: グループホーム等運営費補助に関して、制度の仕組みや補助内容、補助水準、加算メニュー等について御意見があれば自由に記載をお願いします。
B18: （※ 補助金交付要綱等参考となる資料がございましたら、御恵与ください。）
B20: 定員（数字を記入）
C21: 名
B22: 利用者の人数（数字を記入）
C23: 名
B24: 現行の世話人配置（該当に〇を記入）
B25: ４：１ | D25: ５：１ | F25: ６：１
B26: 利用者の支援区分（人数を数字で記入）
B27: 区分１ | D27: 区分２ | F27: 区分３ | H27: 区分４
B28: 区分５ | D28: 区分６
A30: ２ 職員配置の状況
C31: 人数： | E31: 名（数字を記入）
B33: （内訳） | D33: 常勤 | E33: 非常勤 | F33: 兼務
B34: 管理者
B35: サービス管理責任者
B36: 世話人
B37: 生活支援員
B39: （加算の状況）
B40: 日中支援加算 | F40: 円
B41: 夜間支援等体制加算 | F41: 円
B42: 医療連携体制加算 | F42: 円
B43: 自立生活支援加算 | F43: 円
A45: 3 | B45: 常勤、非常勤職員に係る人件費
B46: 別紙「積算シート」に記載してくださるようお願いします。
A53: 4 | B53: その他
B54: 貴事業所において、県が実施する支援策等についてのご要望等があれば ご意見をお願いします。
A59: ４ その他、今後必要と思われる仕組み等について
B60: その他、必要と思われる仕組み等、ご自由に記入ください。
A63: ※ 御協力ありがとうございました。

Sheet 調査票 (ホーム⑤）)  
A1: 【様式】
A3: 回答送付先
A4: shisetsu-2@pref.kanagawa.jp
A6: 【障害者グループホームに関する状況調査について】
A11: 1 ホームの名称
A14: ２ 世話人配置、障害支援区分、入居者数、定員の現況
B17: グループホーム等運営費補助に関して、制度の仕組みや補助内容、補助水準、加算メニュー等について御意見があれば自由に記載をお願いします。
B18: （※ 補助金交付要綱等参考となる資料がございましたら、御恵与ください。）
B20: 定員（数字を記入）
C21: 名
B22: 利用者の人数（数字を記入）
C23: 名
B24: 現行の世話人配置（該当に〇を記入）
B25: ４：１ | D25: ５：１ | F25: ６：１
B26: 利用者の支援区分（人数を数字で記入）
B27: 区分１ | D27: 区分２ | F27: 区分３ | H27: 区分４
B28: 区分５ | D28: 区分６
A30: ２ 職員配置の状況
C31: 人数： | E31: 名（数字を記入）
B33: （内訳） | D33: 常勤 | E33: 非常勤 | F33: 兼務
B34: 管理者
B35: サービス管理責任者
B36: 世話人
B37: 生活支援員
B39: （加算の状況）
B40: 日中支援加算 | F40: 円
B41: 夜間支援等体制加算 | F41: 円
B42: 医療連携体制加算 | F42: 円
B43: 自立生活支援加算 | F43: 円
A45: 3 | B45: 常勤、非常勤職員に係る人件費
B46: 別紙「積算シート」に記載してくださるようお願いします。
A53: 4 | B53: その他
B54: 貴事業所において、県が実施する支援策等についてのご要望等があれば ご意見をお願いします。
A59: ４ その他、今後必要と思われる仕組み等について
B60: その他、必要と思われる仕組み等、ご自由に記入ください。
A63: ※ 御協力ありがとうございました。

Sheet 事業所　転記シート（ホームが６つ以上のときは行追加）
C12: 調査票 転記シート（ホームが６つ以上ある場合、行を追加してください）
B14: 項番 | C14: 基本情報 | I14: Ⅰ 世話人配置、障害支援区分、入居者、定員 | O14: 利用者の支援区分 | U14: 職員の配置状況 | AH14: その他の意見
C15: 法人名 | D15: 担当課名 | E15: ご担当者名 | F15: 電話 | G15: Ｅメール | H15: ホーム名 | I15: 定員 | J15: 利用者の人数 | K15: 4：1 | L15: 5:1 | M15: 6:1 | N15: 利用者の支援区分 | O15: 区分１ | P15: 区分２ | Q15: 区分３ | R15: 区分４ | S15: 区分５ | T15: 区分６ | U15: 人数 | V15: 管理者 常勤 | W15: 管理者兼務 | X15: サビ管 常勤 | Y15: サビ管 非常勤 | Z15: サビ管 兼務 | AA15: 世話人 常勤 | AB15: 世話人 非常勤 | AC15: 世話人 兼務 | AD15: 生活支援員 常勤 | AE15: 生活支援員 非常勤 | AG15: 支援員 兼務 | AH15: 県が実施する支援策等についての要望等
B16: 1 | C16: ='調査票 (ホーム①）)'!H8:I8 -> #VALUE! | D16: ='調査票 (ホーム①）)'!H9:I9 -> #VALUE! | E16: ='調査票 (ホーム①）)'!H10:I10 -> #VALUE! | F16: ='調査票 (ホーム①）)'!H11:I11 -> #VALUE! | G16: ='調査票 (ホーム①）)'!H12:I12 -> #VALUE! | H16: ='調査票 (ホーム①）)'!B16:F16 -> #VALUE! | I16: ='調査票 (ホーム①）)'!B25 -> 0 | J16: ='調査票 (ホーム①）)'!B27 -> 0 | K16: ='調査票 (ホーム①）)'!C29 -> 0 | L16: ='調査票 (ホーム①）)'!E29 -> 0 | M16: ='調査票 (ホーム①）)'!G29 -> 0 | O16: ='調査票 (ホーム①）)'!C31 -> 0 | P16: ='調査票 (ホーム①）)'!E31 -> 0 | Q16: ='調査票 (ホーム①）)'!G31 -> 0 | R16: ='調査票 (ホーム①）)'!I31 -> 0 | S16: ='調査票 (ホーム①）)'!C32 -> 0 | T16: ='調査票 (ホーム①）)'!E32 -> 0 | U16: ='調査票 (ホーム①）)'!D35 -> 0 | V16: ='調査票 (ホーム①）)'!D38 -> 0 | W16: ='調査票 (ホーム①）)'!F38 -> 0 | X16: ='調査票 (ホーム①）)'!D39 -> 0 | Y16: ='調査票 (ホーム①）)'!E39 -> 0 | Z16: ='調査票 (ホーム①）)'!F39 -> 0 | AA16: ='調査票 (ホーム①）)'!D40 -> 0 | AB16: ='調査票 (ホーム①）)'!E40 -> 0 | AC16: ='調査票 (ホーム①）)'!F40 -> 0 | AD16: ='調査票 (ホーム①）)'!D41 -> 0 | AE16: ='調査票 (ホーム①）)'!E41 -> 0 | AG16: ='調査票 (ホーム①）)'!F41 -> 0 | AH16: ='調査票 (ホーム①）)'!B59:I59 -> #VALUE!
B17: 2 | H17: ='調査票 (ホーム②）) '!B12:F12 -> #VALUE! | I17: ='調査票 (ホーム②）) '!B21 -> 0 | J17: ='調査票 (ホーム②）) '!B23 -> 0 | K17: ='調査票 (ホーム②）) '!C25 -> 0 | L17: ='調査票 (ホーム②）) '!E25 -> 0 | M17: ='調査票 (ホーム②）) '!G25 -> 0 | O17: ='調査票 (ホーム②）) '!C27 -> 0 | P17: ='調査票 (ホーム②）) '!E27 -> 0 | Q17: ='調査票 (ホーム②）) '!G27 -> 0 | R17: ='調査票 (ホーム②）) '!I27 -> 0 | S17: ='調査票 (ホーム②）) '!C28 -> 0 | T17: ='調査票 (ホーム②）) '!E28 -> 0 | U17: ='調査票 (ホーム②）) '!D31 -> 0 | V17: ='調査票 (ホーム②）) '!D34 -> 0 | W17: ='調査票 (ホーム②）) '!F34 -> 0 | X17: ='調査票 (ホーム②）) '!D35 -> 0 | Y17: ='調査票 (ホーム②）) '!E35 -> 0 | Z17: ='調査票 (ホーム②）) '!F35 -> 0 | AA17: ='調査票 (ホーム②）) '!D36 -> 0 | AB17: ='調査票 (ホーム②）) '!E36 -> 0 | AC17: ='調査票 (ホーム②）) '!F36 -> 0 | AD17: ='調査票 (ホーム②）) '!D37 -> 0 | AE17: ='調査票 (ホーム②）) '!E37 -> 0 | AG17: ='調査票 (ホーム②）) '!F37 -> 0 | AH17: ='調査票 (ホーム②）) '!B55:I55 -> #VALUE!
B18: 3 | H18: ='調査票 (ホーム③）) '!B12:F12 -> #VALUE! | I18: ='調査票 (ホーム③）) '!B21 -> 0 | J18: ='調査票 (ホーム③）) '!B23 -> 0 | K18: ='調査票 (ホーム③）) '!C25 -> 0 | L18: ='調査票 (ホーム③）) '!E25 -> 0 | M18: ='調査票 (ホーム③）) '!G25 -> 0 | O18: ='調査票 (ホーム③）) '!C27 -> 0 | P18: ='調査票 (ホーム③）) '!E27 -> 0 | Q18: ='調査票 (ホーム③）) '!G27 -> 0 | R18: ='調査票 (ホーム③）) '!I27 -> 0 | S18: ='調査票 (ホーム③）) '!C28 -> 0 | T18: ='調査票 (ホーム③）) '!E28 -> 0 | U18: ='調査票 (ホーム③）) '!D31 -> 0 | V18: ='調査票 (ホーム③）) '!D34 -> 0 | W18: ='調査票 (ホーム③）) '!F34 -> 0 | X18: ='調査票 (ホーム③）) '!F34 -> 0 | Y18: ='調査票 (ホーム③）) '!E35 -> 0 | Z18: ='調査票 (ホーム③）) '!F35 -> 0 | AA18: ='調査票 (ホーム③）) '!D36 -> 0 | AB18: ='調査票 (ホーム③）) '!E36 -> 0 | AC18: ='調査票 (ホーム③）) '!F36 -> 0 | AD18: ='調査票 (ホーム③）) '!D37 -> 0 | AE18: ='調査票 (ホーム③）) '!E37 -> 0 | AG18: ='調査票 (ホーム③）) '!F37 -> 0 | AH18: ='調査票 (ホーム③）) '!B55:I55 -> #VALUE!
B19: 4 | H19: ='調査票 (ホーム④）) '!B12:F12 -> #VALUE! | I19: ='調査票 (ホーム④）) '!B21 -> 0 | J19: ='調査票 (ホーム④）) '!B23 -> 0 | K19: ='調査票 (ホーム④）) '!C25 -> 0 | L19: ='調査票 (ホーム④）) '!E25 -> 0 | M19: ='調査票 (ホーム④）) '!G25 -> 0 | O19: ='調査票 (ホーム④）) '!C27 -> 0 | P19: ='調査票 (ホーム④）) '!E27 -> 0 | Q19: ='調査票 (ホーム④）) '!G27 -> 0 | R19: ='調査票 (ホーム④）) '!I27 -> 0 | S19: ='調査票 (ホーム④）) '!C28 -> 0 | T19: ='調査票 (ホーム④）) '!E28 -> 0 | U19: ='調査票 (ホーム④）) '!D31 -> 0 | V19: ='調査票 (ホーム④）) '!D34 -> 0 | W19: ='調査票 (ホーム④）) '!F34 -> 0 | X19: ='調査票 (ホーム④）) '!D35 -> 0 | Y19: ='調査票 (ホーム④）) '!E35 -> 0 | Z19: ='調査票 (ホーム④）) '!F35 -> 0 | AA19: ='調査票 (ホーム④）) '!D36 -> 0 | AB19: ='調査票 (ホーム④）) '!E36 -> 0 | AC19: ='調査票 (ホーム④）) '!F36 -> 0 | AD19: ='調査票 (ホーム④）) '!D37 -> 0 | AE19: ='調査票 (ホーム④）) '!E37 -> 0 | AG19: ='調査票 (ホーム④）) '!F37 -> 0 | AH19: ='調査票 (ホーム④）) '!B55:I55 -> #VALUE!
B20: 5 | H20: ='調査票 (ホーム⑤）) '!B12:F12 -> #VALUE! | I20: ='調査票 (ホーム⑤）) '!B21 -> 0 | J20: ='調査票 (ホーム⑤）) '!B23 -> 0 | K20: ='調査票 (ホーム⑤）) '!C25 -> 0 | L20: ='調査票 (ホーム⑤）) '!E25 -> 0 | M20: ='調査票 (ホーム⑤）) '!G25 -> 0 | O20: ='調査票 (ホーム⑤）) '!C27 -> 0 | P20: ='調査票 (ホーム⑤）) '!E27 -> 0 | Q20: ='調査票 (ホーム⑤）) '!G27 -> 0 | R20: ='調査票 (ホーム⑤）) '!I27 -> 0 | S20: ='調査票 (ホーム⑤）) '!C28 -> 0 | T20: ='調査票 (ホーム⑤）) '!E28 -> 0 | U20: ='調査票 (ホーム⑤）) '!D31 -> 0 | V20: ='調査票 (ホーム⑤）) '!D34 -> 0 | W20: ='調査票 (ホーム⑤）) '!F34 -> 0 | X20: ='調査票 (ホーム⑤）) '!D35 -> 0 | Y20: ='調査票 (ホーム⑤）) '!E35 -> 0 | Z20: ='調査票 (ホーム⑤）) '!F35 -> 0 | AA20: ='調査票 (ホーム⑤）) '!D36 -> 0 | AB20: ='調査票 (ホーム⑤）) '!E36 -> 0 | AC20: ='調査票 (ホーム⑤）) '!F36 -> 0 | AD20: ='調査票 (ホーム⑤）) '!D37 -> 0 | AE20: ='調査票 (ホーム⑤）) '!E37 -> 0 | AG20: ='調査票 (ホーム⑤）) '!F37 -> 0 | AH20: ='調査票 (ホーム⑤）) '!B55:I55 -> #VALUE!
B21: 6
B22: 7
B23: 8
B24: 9
B25: 10
B26: 11
B27: 12
B28: 13

Sheet 集計表
E1: 1 | G1: 2
A2: 都道府県名 | B2: 担当課名 | C2: 担当者名 | D2: 電話 | E2: 運営費補助 | F2: 制度概要・創設理由 | G2: 重度補助 | H2: 制度概要
A3: =#REF! -> #REF! | B3: =#REF! -> #REF! | C3: =#REF! -> #REF! | D3: =#REF! -> #REF! | E3: =#REF! -> #REF! | F3: =#REF! -> #REF! | G3: =#REF! -> #REF! | H3: =#REF! -> #REF!
