Workbook
Name 愛知県: 事業所向け!$BG$9:$BG$188
Name 愛媛県: 事業所向け!$BV$9:$BV$189
Name 茨城県: 事業所向け!$AR$9:$AR$188
Name 岡山県: 事業所向け!$BQ$9:$BQ$188
Name 沖縄県: 事業所向け!$CE$9:$CE$188
Name 岩手県: 事業所向け!$AM$9:$AM$188
Name 岐阜県: 事業所向け!$BE$9:$BE$188
Name 宮崎県: 事業所向け!$CC$9:$CC$188
Name 宮城県: 事業所向け!$AN$9:$AN$188
Name 京都府: 事業所向け!$BJ$9:$BJ$188
Name 熊本県: 事業所向け!$CA$9:$CA$188
Name 群馬県: 事業所向け!$AT$9:$AT$188
Name 広島県: 事業所向け!$BR$9:$BR$188
Name 香川県: 事業所向け!$BU$9:$BU$188
Name 高知県: 事業所向け!$BW$9:$BW$188
Name 佐賀県: 事業所向け!$BY$9:$BY$188
Name 埼玉県: 事業所向け!$AU$9:$AU$188
Name 三重県: 事業所向け!$BH$9:$BH$188
Name 山形県: 事業所向け!$AP$9:$AP$188
Name 山口県: 事業所向け!$BS$9:$BS$188
Name 山梨県: 事業所向け!$BC$9:$BC$188
Name 滋賀県: 事業所向け!$BI$9:$BI$188
Name 鹿児島県: 事業所向け!$CD$9:$CD$188
Name 秋田県: 事業所向け!$AO$9:$AO$188
Name 新潟県: 事業所向け!$AY$9:$AY$188
Name 神奈川県: 事業所向け!$AX$9:$AX$188
Name 青森県: 事業所向け!$AL$9:$AL$188
Name 静岡県: 事業所向け!$BF$9:$BF$188
Name 石川県: 事業所向け!$BA$9:$BA$188
Name 千葉県: 事業所向け!$AV$9:$AV$188
Name 大阪府: 事業所向け!$BK$9:$BK$188
Name 大分県: 事業所向け!$CB$9:$CB$188
Name 長崎県: 事業所向け!$BZ$9:$BZ$188
Name 長野県: 事業所向け!$BD$9:$BD$188
Name 鳥取県: 事業所向け!$BO$9:$BO$188
Name 島根県: 事業所向け!$BP$9:$BP$188
Name 東京都: 事業所向け!$AW$9:$AW$188
Name 徳島県: 事業所向け!$BT$9:$BT$188
Name 栃木県: 事業所向け!$AS$9:$AS$188
Name 奈良県: 事業所向け!$BM$9:$BM$188
Name 富山県: 事業所向け!$AZ$9:$AZ$188
Name 福井県: 事業所向け!$BB$9:$BB$188
Name 福岡県: 事業所向け!$BX$9:$BX$188
Name 福島県: 事業所向け!$AQ$9:$AQ$188
Name 兵庫県: 事業所向け!$BL$9:$BL$188
Name 北海道: 事業所向け!$AK$9:$AK$188
Name 和歌山県: 事業所向け!$BN$9:$BN$188

Sheet 事業所向け
A1: （別添２）
A2: 同行援護従業者養成研修実施計画書（平成28年10月１日時点）
A3: ＜ 事業所 入力用 ＞
A6: 事業所名 | P6: 所在市町村名（ﾘｽﾄ選択） | Q6: 神奈川県
A8: 担当者名 | J8: ＴＥＬ | R8: ＭＡＩＬ | AK8: 北海道 | AL8: 青森県 | AM8: 岩手県 | AN8: 宮城県 | AO8: 秋田県 | AP8: 山形県 | AQ8: 福島県 | AR8: 茨城県 | AS8: 栃木県 | AT8: 群馬県 | AU8: 埼玉県 | AV8: 千葉県 | AW8: 東京都 | AX8: 神奈川県 | AY8: 新潟県 | AZ8: 富山県 | BA8: 石川県 | BB8: 福井県 | BC8: 山梨県 | BD8: 長野県 | BE8: 岐阜県 | BF8: 静岡県 | BG8: 愛知県 | BH8: 三重県 | BI8: 滋賀県 | BJ8: 京都府 | BK8: 大阪府 | BL8: 兵庫県 | BM8: 奈良県 | BN8: 和歌山県 | BO8: 鳥取県 | BP8: 島根県 | BQ8: 岡山県 | BR8: 広島県 | BS8: 山口県 | BT8: 徳島県 | BU8: 香川県 | BV8: 愛媛県 | BW8: 高知県 | BX8: 福岡県 | BY8: 佐賀県 | BZ8: 長崎県 | CA8: 熊本県 | CB8: 大分県 | CC8: 宮崎県 | CD8: 鹿児島県 | CE8: 沖縄県
AK10: 夕張市 | AL10: 青森市 | AM10: 盛岡市 | AN10: 仙台市 | AO10: 秋田市 | AP10: 山形市 | AQ10: 福島市 | AR10: 水戸市 | AS10: 宇都宮市 | AT10: 前橋市 | AU10: さいたま市 | AV10: 千葉市 | AW10: 千代田区 | AX10: 横浜市 | AY10: 新潟市 | AZ10: 富山市 | BA10: 金沢市 | BB10: 福井市 | BC10: 甲府市 | BD10: 長野市 | BE10: 岐阜市 | BF10: 静岡市 | BG10: 名古屋市 | BH10: 津市 | BI10: 大津市 | BJ10: 京都市 | BK10: 大阪市 | BL10: 神戸市 | BM10: 奈良市 | BN10: 和歌山市 | BO10: 鳥取市 | BP10: 松江市 | BQ10: 岡山市 | BR10: 広島市 | BS10: 下関市 | BT10: 徳島市 | BU10: 高松市 | BV10: 松山市 | BW10: 高知市 | BX10: 北九州市 | BY10: 佐賀市 | BZ10: 長崎市 | CA10: 熊本市 | CB10: 大分市 | CC10: 宮崎市 | CD10: 鹿児島市 | CE10: 那覇市
C11: 本調査は、厚生労働省社会・援護局障害保健福祉部障害福祉課からの依頼に基づき、貴事業所の従業者の保有資格の状況等について調査するものです。 平成２８年１０月１日時点の状況について、水色の欄に人数等をお答え下さい。 | AK11: 岩見沢市 | AL11: 弘前市 | AM11: 宮古市 | AN11: 石巻市 | AO11: 能代市 | AP11: 米沢市 | AQ11: 会津若松市 | AR11: 日立市 | AS11: 足利市 | AT11: 高崎市 | AU11: 川越市 | AV11: 銚子市 | AW11: 中央区 | AX11: 川崎市 | AY11: 長岡市 | AZ11: 高岡市 | BA11: 七尾市 | BB11: 敦賀市 | BC11: 富士吉田市 | BD11: 松本市 | BE11: 大垣市 | BF11: 浜松市 | BG11: 豊橋市 | BH11: 四日市市 | BI11: 彦根市 | BJ11: 福知山市 | BK11: 堺市 | BL11: 姫路市 | BM11: 大和高田市 | BN11: 海南市 | BO11: 米子市 | BP11: 浜田市 | BQ11: 倉敷市 | BR11: 呉市 | BS11: 宇部市 | BT11: 鳴門市 | BU11: 丸亀市 | BV11: 今治市 | BW11: 室戸市 | BX11: 福岡市 | BY11: 唐津市 | BZ11: 佐世保市 | CA11: 宇土市 | CB11: 別府市 | CC11: 都城市 | CD11: 鹿屋市 | CE11: 宜野湾市
C12: ※ 入力途中にエラーメッセージが生じることがありますが、内訳等を正しく入力すると無くなります。 | AK12: 美唄市 | AL12: 八戸市 | AM12: 大船渡市 | AN12: 塩竈市 | AO12: 横手市 | AP12: 鶴岡市 | AQ12: 郡山市 | AR12: 土浦市 | AS12: 栃木市 | AT12: 桐生市 | AU12: 熊谷市 | AV12: 市川市 | AW12: 港区 | AX12: 相模原市 | AY12: 三条市 | AZ12: 魚津市 | BA12: 小松市 | BB12: 小浜市 | BC12: 都留市 | BD12: 上田市 | BE12: 高山市 | BF12: 沼津市 | BG12: 岡崎市 | BH12: 伊勢市 | BI12: 長浜市 | BJ12: 舞鶴市 | BK12: 高槻市 | BL12: 尼崎市 | BM12: 大和郡山市 | BN12: 橋本市 | BO12: 倉吉市 | BP12: 出雲市 | BQ12: 津山市 | BR12: 竹原市 | BS12: 山口市 | BT12: 小松島市 | BU12: 坂出市 | BV12: 宇和島市 | BW12: 安芸市 | BX12: 大牟田市 | BY12: 鳥栖市 | BZ12: 島原市 | CA12: 宇城市 | CB12: 中津市 | CC12: 延岡市 | CD12: 枕崎市 | CE12: 石垣市
AK13: 芦別市 | AL13: 黒石市 | AM13: 花巻市 | AN13: 気仙沼市 | AO13: 大館市 | AP13: 酒田市 | AQ13: いわき市 | AR13: 古河市 | AS13: 佐野市 | AT13: 伊勢崎市 | AU13: 川口市 | AV13: 船橋市 | AW13: 新宿区 | AX13: 横須賀市 | AY13: 柏崎市 | AZ13: 氷見市 | BA13: 輪島市 | BB13: 大野市 | BC13: 山梨市 | BD13: 岡谷市 | BE13: 多治見市 | BF13: 熱海市 | BG13: 一宮市 | BH13: 松阪市 | BI13: 近江八幡市 | BJ13: 綾部市 | BK13: 東大阪市 | BL13: 明石市 | BM13: 天理市 | BN13: 有田市 | BO13: 境港市 | BP13: 益田市 | BQ13: 玉野市 | BR13: 三原市 | BS13: 萩市 | BT13: 阿南市 | BU13: 善通寺市 | BV13: 八幡浜市 | BW13: 南国市 | BX13: 久留米市 | BY13: 多久市 | BZ13: 諌早市 | CA13: 美里町 | CB13: 日田市 | CC13: 日南市 | CD13: 阿久根市 | CE13: 浦添市
D14: 提出期日 | E14: 平成28年10月31日(月) | N14: 提出先メールアドレス | O14: jigyou.city@pref.kanagawa.jp | AK14: 赤平市 | AL14: 五所川原市 | AM14: 北上市 | AN14: 白石市 | AO14: 男鹿市 | AP14: 新庄市 | AQ14: 白河市 | AR14: 石岡市 | AS14: 鹿沼市 | AT14: 太田市 | AU14: 行田市 | AV14: 館山市 | AW14: 文京区 | AX14: 平塚市 | AY14: 新発田市 | AZ14: 滑川市 | BA14: 珠洲市 | BB14: 勝山市 | BC14: 大月市 | BD14: 飯田市 | BE14: 関市 | BF14: 三島市 | BG14: 瀬戸市 | BH14: 桑名市 | BI14: 草津市 | BJ14: 宇治市 | BK14: 岸和田市 | BL14: 西宮市 | BM14: 橿原市 | BN14: 御坊市 | BO14: 岩美町 | BP14: 大田市 | BQ14: 笠岡市 | BR14: 尾道市 | BS14: 防府市 | BT14: 吉野川市 | BU14: 観音寺市 | BV14: 新居浜市 | BW14: 土佐市 | BX14: 直方市 | BY14: 伊万里市 | BZ14: 大村市 | CA14: 荒尾市 | CB14: 佐伯市 | CC14: 小林市 | CD14: 出水市 | CE14: 名護市
AK15: 三笠市 | AL15: 十和田市 | AM15: 久慈市 | AN15: 名取市 | AO15: 湯沢市 | AP15: 寒河江市 | AQ15: 須賀川市 | AR15: 結城市 | AS15: 日光市 | AT15: 沼田市 | AU15: 秩父市 | AV15: 木更津市 | AW15: 台東区 | AX15: 鎌倉市 | AY15: 小千谷市 | AZ15: 黒部市 | BA15: 加賀市 | BB15: 鯖江市 | BC15: 韮崎市 | BD15: 諏訪市 | BE15: 中津川市 | BF15: 富士宮市 | BG15: 半田市 | BH15: 鈴鹿市 | BI15: 守山市 | BJ15: 宮津市 | BK15: 豊中市 | BL15: 洲本市 | BM15: 桜井市 | BN15: 田辺市 | BO15: 八頭町 | BP15: 安来市 | BQ15: 井原市 | BR15: 福山市 | BS15: 下松市 | BT15: 阿波市 | BU15: 東かがわ市 | BV15: 西条市 | BW15: 須崎市 | BX15: 飯塚市 | BY15: 武雄市 | BZ15: 平戸市 | CA15: 玉名市 | CB15: 臼杵市 | CC15: 日向市 | CD15: 指宿市 | CE15: 糸満市
C16: 問い合わせ先 神奈川県障害福祉課事業支援グループ 岡崎 TEL 045-210-4717 | AK16: 滝川市 | AL16: 三沢市 | AM16: 遠野市 | AN16: 角田市 | AO16: 鹿角市 | AP16: 上山市 | AQ16: 喜多方市 | AR16: 龍ヶ崎市 | AS16: 小山市 | AT16: 館林市 | AU16: 所沢市 | AV16: 松戸市 | AW16: 墨田区 | AX16: 藤沢市 | AY16: 加茂市 | AZ16: 砺波市 | BA16: 羽咋市 | BB16: あわら市 | BC16: 南アルプス市 | BD16: 須坂市 | BE16: 美濃市 | BF16: 伊東市 | BG16: 春日井市 | BH16: 名張市 | BI16: 栗東市 | BJ16: 亀岡市 | BK16: 池田市 | BL16: 芦屋市 | BM16: 五條市 | BN16: 新宮市 | BO16: 若桜町 | BP16: 江津市 | BQ16: 総社市 | BR16: 府中市 | BS16: 岩国市 | BT16: 美馬市 | BU16: さぬき市 | BV16: 大洲市 | BW16: 宿毛市 | BX16: 田川市 | BY16: 鹿島市 | BZ16: 松浦市 | CA16: 玉東町 | CB16: 津久見市 | CC16: 串間市 | CD16: 西之表市 | CE16: 沖縄市
AK17: 砂川市 | AL17: むつ市 | AM17: 一関市 | AN17: 多賀城市 | AO17: 由利本荘市 | AP17: 村山市 | AQ17: 相馬市 | AR17: 下妻市 | AS17: 真岡市 | AT17: 渋川市 | AU17: 飯能市 | AV17: 野田市 | AW17: 江東区 | AX17: 小田原市 | AY17: 十日町市 | AZ17: 小矢部市 | BA17: かほく市 | BB17: 越前市 | BC17: 甲斐市 | BD17: 小諸市 | BE17: 瑞浪市 | BF17: 島田市 | BG17: 豊川市 | BH17: 尾鷲市 | BI17: 甲賀市 | BJ17: 城陽市 | BK17: 吹田市 | BL17: 伊丹市 | BM17: 御所市 | BN17: 紀の川市 | BO17: 智頭町 | BP17: 雲南市 | BQ17: 高梁市 | BR17: 三次市 | BS17: 光市 | BT17: 三好市 | BU17: 三豊市 | BV17: 伊予市 | BW17: 土佐清水市 | BX17: 柳川市 | BY17: 小城市 | BZ17: 対馬市 | CA17: 和水町 | CB17: 竹田市 | CC17: 西都市 | CD17: 垂水市 | CE17: 豊見城市
AK18: 歌志内市 | AL18: つがる市 | AM18: 陸前高田市 | AN18: 岩沼市 | AO18: 潟上市 | AP18: 長井市 | AQ18: 二本松市 | AR18: 常総市 | AS18: 大田原市 | AT18: 藤岡市 | AU18: 加須市 | AV18: 茂原市 | AW18: 品川区 | AX18: 茅ヶ崎市 | AY18: 見附市 | AZ18: 南砺市 | BA18: 白山市 | BB18: 坂井市 | BC18: 笛吹市 | BD18: 伊那市 | BE18: 羽島市 | BF18: 富士市 | BG18: 津島市 | BH18: 亀山市 | BI18: 野洲市 | BJ18: 向日市 | BK18: 泉大津市 | BL18: 相生市 | BM18: 生駒市 | BN18: 岩出市 | BO18: 湯梨浜町 | BP18: 奥出雲町 | BQ18: 新見市 | BR18: 庄原市 | BS18: 長門市 | BT18: 勝浦町 | BU18: 土庄町 | BV18: 四国中央市 | BW18: 四万十市 | BX18: 八女市 | BY18: 嬉野市 | BZ18: 壱岐市 | CA18: 南関町 | CB18: 豊後高田市 | CC18: えびの市 | CD18: 薩摩川内市 | CE18: うるま市
AK19: 深川市 | AL19: 平川市 | AM19: 釜石市 | AN19: 登米市 | AO19: 大仙市 | AP19: 天童市 | AQ19: 田村市 | AR19: 常陸太田市 | AS19: 矢板市 | AT19: 富岡市 | AU19: 本庄市 | AV19: 成田市 | AW19: 目黒区 | AX19: 逗子市 | AY19: 村上市 | AZ19: 射水市 | BA19: 能美市 | BB19: 永平寺町 | BC19: 北杜市 | BD19: 駒ケ根市 | BE19: 恵那市 | BF19: 磐田市 | BG19: 碧南市 | BH19: 鳥羽市 | BI19: 湖南市 | BJ19: 長岡京市 | BK19: 貝塚市 | BL19: 豊岡市 | BM19: 香芝市 | BN19: 紀美野町 | BO19: 琴浦町 | BP19: 飯南町 | BQ19: 備前市 | BR19: 大竹市 | BS19: 柳井市 | BT19: 上勝町 | BU19: 小豆島町 | BV19: 西予市 | BW19: 香南市 | BX19: 筑後市 | BY19: 神埼市 | BZ19: 五島市 | CA19: 長洲町 | CB19: 杵築市 | CC19: 三股町 | CD19: 日置市 | CE19: 宮古島市
B20: Ｑ１．事業所における従業者及びサービス提供責任者の人数等について教えて下さい。 | AK20: 南幌町 | AL20: 平内町 | AM20: 二戸市 | AN20: 栗原市 | AO20: 北秋田市 | AP20: 東根市 | AQ20: 南相馬市 | AR20: 高萩市 | AS20: 那須塩原市 | AT20: 安中市 | AU20: 東松山市 | AV20: 佐倉市 | AW20: 大田区 | AX20: 三浦市 | AY20: 燕市 | AZ20: 舟橋村 | BA20: 川北町 | BB20: 池田町 | BC20: 上野原市 | BD20: 中野市 | BE20: 美濃加茂市 | BF20: 焼津市 | BG20: 刈谷市 | BH20: 熊野市 | BI20: 高島市 | BJ20: 八幡市 | BK20: 守口市 | BL20: 加古川市 | BM20: 葛城市 | BN20: かつらぎ町 | BO20: 北栄町 | BP20: 川本町 | BQ20: 瀬戸内市 | BR20: 東広島市 | BS20: 美祢市 | BT20: 佐那河内村 | BU20: 三木町 | BV20: 東温市 | BW20: 香美市 | BX20: 大川市 | BY20: 吉野ヶ里町 | BZ20: 西海市 | CA20: 山鹿市 | CB20: 宇佐市 | CC20: 高原町 | CD20: 曽於市 | CE20: 南城市
AK21: 奈井江町 | AL21: 今別町 | AM21: 八幡平市 | AN21: 東松島市 | AO21: にかほ市 | AP21: 尾花沢市 | AQ21: 伊達市 | AR21: 北茨城市 | AS21: さくら市 | AT21: みどり市 | AU21: 春日部市 | AV21: 東金市 | AW21: 世田谷区 | AX21: 秦野市 | AY21: 糸魚川市 | AZ21: 上市町 | BA21: 野々市市 | BB21: 南越前町 | BC21: 甲州市 | BD21: 大町市 | BE21: 土岐市 | BF21: 掛川市 | BG21: 豊田市 | BH21: いなべ市 | BI21: 東近江市 | BJ21: 京田辺市 | BK21: 枚方市 | BL21: たつの市 | BM21: 宇陀市 | BN21: 九度山町 | BO21: 三朝町 | BP21: 美郷町 | BQ21: 赤磐市 | BR21: 廿日市市 | BS21: 周南市 | BT21: 石井町 | BU21: 直島町 | BV21: 上島町 | BW21: 東洋町 | BX21: 行橋市 | BY21: 基山町 | BZ21: 雲仙市 | CA21: 菊池市 | CB21: 豊後大野市 | CC21: 国富町 | CD21: 霧島市 | CE21: 国頭村
D22: 常勤（人） | E22: =I22+I24 -> 0 | F22: ⇒ そのうち、 | H22: 男 | I22: =N22+P22+R22+T22+V22 -> 0 | J22: ⇒ そのうち、 | L22: （ | M22: 20～29歳 | O22: 30～39歳 | Q22: 40～49歳 | S22: 50～59歳 | U22: 60歳以上 | W22: ） | Z22: =E22-I22-I24 -> 0 | AA22: =I22-N22-P22-R22-T22-V22 -> 0 | AB22: =I24-N24-P24-R24-T24-V24 -> 0 | AK22: 上砂川町 | AL22: 蓬田村 | AM22: 奥州市 | AN22: 大崎市 | AO22: 仙北市 | AP22: 南陽市 | AQ22: 本宮市 | AR22: 笠間市 | AS22: 那須烏山市 | AT22: 榛東村 | AU22: 狭山市 | AV22: 旭市 | AW22: 渋谷区 | AX22: 厚木市 | AY22: 妙高市 | AZ22: 立山町 | BA22: 津幡町 | BB22: 越前町 | BC22: 中央市 | BD22: 飯山市 | BE22: 各務原市 | BF22: 藤枝市 | BG22: 安城市 | BH22: 志摩市 | BI22: 米原市 | BJ22: 京丹後市 | BK22: 茨木市 | BL22: 赤穂市 | BM22: 山添村 | BN22: 高野町 | BO22: 日吉津村 | BP22: 邑南町 | BQ22: 真庭市 | BR22: 安芸高田市 | BS22: 山陽小野田市 | BT22: 神山町 | BU22: 宇多津町 | BV22: 久万高原町 | BW22: 芸西村 | BX22: 豊前市 | BY22: 上峰町 | BZ22: 南島原市 | CA22: 合志市 | CB22: 由布市 | CC22: 綾町 | CD22: いちき串木野市 | CE22: 大宜味村
AK23: 由仁町 | AL23: 外ヶ浜町 | AM23: 雫石町 | AN23: 蔵王町 | AO23: 小坂町 | AP23: 山辺町 | AQ23: 桑折町 | AR23: 取手市 | AS23: 下野市 | AT23: 吉岡町 | AU23: 羽生市 | AV23: 習志野市 | AW23: 中野区 | AX23: 大和市 | AY23: 五泉市 | AZ23: 入善町 | BA23: 内灘町 | BB23: 美浜町 | BC23: 市川三郷町 | BD23: 茅野市 | BE23: 可児市 | BF23: 御殿場市 | BG23: 西尾市 | BH23: 伊賀市 | BI23: 日野町 | BJ23: 南丹市 | BK23: 八尾市 | BL23: 西脇市 | BM23: 十津川村 | BN23: 湯浅町 | BO23: 大山町 | BP23: 津和野町 | BQ23: 美作市 | BR23: 江田島市 | BS23: 周防大島町 | BT23: 那賀町 | BU23: 綾川町 | BV23: 松前町 | BW23: 本山町 | BX23: 中間市 | BY23: みやき町 | BZ23: 長与町 | CA23: 大津町 | CB23: 国東市 | CC23: 高鍋町 | CD23: 南さつま市 | CE23: 東村
H24: 女 | I24: =N24+P24+R24+T24+V24 -> 0 | J24: ⇒ そのうち、 | L24: （ | M24: 20～29歳 | O24: 30～39歳 | Q24: 40～49歳 | S24: 50～59歳 | U24: 60歳以上 | W24: ） | AK24: 長沼町 | AL24: 鰺ヶ沢町 | AM24: 葛巻町 | AN24: 七ヶ宿町 | AO24: 上小阿仁村 | AP24: 中山町 | AQ24: 国見町 | AR24: 牛久市 | AS24: 上三川町 | AT24: 上野村 | AU24: 鴻巣市 | AV24: 柏市 | AW24: 杉並区 | AX24: 伊勢原市 | AY24: 上越市 | AZ24: 朝日町 | BA24: 志賀町 | BB24: 高浜町 | BC24: 富士川町 | BD24: 塩尻市 | BE24: 山県市 | BF24: 袋井市 | BG24: 蒲郡市 | BH24: 木曽岬町 | BI24: 竜王町 | BJ24: 木津川市 | BK24: 泉佐野市 | BL24: 宝塚市 | BM24: 平群町 | BN24: 広川町 | BO24: 南部町 | BP24: 吉賀町 | BQ24: 浅口市 | BR24: 府中町 | BS24: 和木町 | BT24: 牟岐町 | BU24: 琴平町 | BV24: 砥部町 | BW24: 大豊町 | BX24: 小郡市 | BY24: 玄海町 | BZ24: 時津町 | CA24: 菊陽町 | CB24: 姫島村 | CC24: 新富町 | CD24: 志布志市 | CE24: 今帰仁村
AK25: 栗山町 | AL25: 深浦町 | AM25: 岩手町 | AN25: 大河原町 | AO25: 藤里町 | AP25: 河北町 | AQ25: 川俣町 | AR25: つくば市 | AS25: 益子町 | AT25: 神流町 | AU25: 深谷市 | AV25: 勝浦市 | AW25: 豊島区 | AX25: 海老名市 | AY25: 阿賀野市 | BA25: 宝達志水町 | BB25: おおい町 | BC25: 早川町 | BD25: 佐久市 | BE25: 瑞穂市 | BF25: 下田市 | BG25: 犬山市 | BH25: 東員町 | BI25: 愛荘町 | BJ25: 大山崎町 | BK25: 富田林市 | BL25: 三木市 | BM25: 三郷町 | BN25: 有田川町 | BO25: 伯耆町 | BP25: 海士町 | BQ25: 和気町 | BR25: 海田町 | BS25: 上関町 | BT25: 美波町 | BU25: 多度津町 | BV25: 内子町 | BW25: 土佐町 | BX25: 筑紫野市 | BY25: 有田町 | BZ25: 東彼杵町 | CA25: 阿蘇市 | CB25: 日出町 | CC25: 西米良村 | CD25: 奄美市 | CE25: 本部町
D26: 非常勤（人） | E26: =I26+I28 -> 0 | F26: ⇒ そのうち、 | H26: 男 | I26: =N26+P26+R26+T26+V26 -> 0 | J26: ⇒ そのうち、 | L26: （ | M26: 20～29歳 | O26: 30～39歳 | Q26: 40～49歳 | S26: 50～59歳 | U26: 60歳以上 | W26: ） | Z26: =E26-I26-I28 -> 0 | AA26: =I26-N26-P26-R26-T26-V26 -> 0 | AB26: =I28-N28-P28-R28-T28-V28 -> 0 | AK26: 月形町 | AL26: 西目屋村 | AM26: 滝沢村 | AN26: 村田町 | AO26: 三種町 | AP26: 西川町 | AQ26: 大玉村 | AR26: ひたちなか市 | AS26: 茂木町 | AT26: 下仁田町 | AU26: 上尾市 | AV26: 市原市 | AW26: 北区 | AX26: 座間市 | AY26: 佐渡市 | BA26: 中能登町 | BB26: 若狭町 | BC26: 身延町 | BD26: 千曲市 | BE26: 飛騨市 | BF26: 裾野市 | BG26: 常滑市 | BH26: 菰野町 | BI26: 豊郷町 | BJ26: 久御山町 | BK26: 寝屋川市 | BL26: 高砂市 | BM26: 斑鳩町 | BN26: 美浜町 | BO26: 日南町 | BP26: 西ノ島町 | BQ26: 早島町 | BR26: 熊野町 | BS26: 田布施町 | BT26: 海陽町 | BU26: まんのう町 | BV26: 伊方町 | BW26: 大川村 | BX26: 春日市 | BY26: 大町町 | BZ26: 川棚町 | CA26: 南小国町 | CB26: 九重町 | CC26: 木城町 | CD26: 南九州市 | CE26: 恩納村
AK27: 浦臼町 | AL27: 藤崎町 | AM27: 滝沢市 | AN27: 柴田町 | AO27: 八峰町 | AP27: 朝日町 | AQ27: 鏡石町 | AR27: 鹿嶋市 | AS27: 市貝町 | AT27: 南牧村 | AU27: 草加市 | AV27: 流山市 | AW27: 荒川区 | AX27: 南足柄市 | AY27: 魚沼市 | BA27: 穴水町 | BC27: 南部町 | BD27: 東御市 | BE27: 本巣市 | BF27: 湖西市 | BG27: 江南市 | BH27: 朝日町 | BI27: 甲良町 | BJ27: 井手町 | BK27: 河内長野市 | BL27: 川西市 | BM27: 安堵町 | BN27: 日高町 | BO27: 日野町 | BP27: 知夫村 | BQ27: 里庄町 | BR27: 坂町 | BS27: 平生町 | BT27: 松茂町 | BV27: 松野町 | BW27: いの町 | BX27: 大野城市 | BY27: 江北町 | BZ27: 波佐見町 | CA27: 小国町 | CB27: 玖珠町 | CC27: 川南町 | CD27: 伊佐市 | CE27: 宜野座村
H28: 女 | I28: =N28+P28+R28+T28+V28 -> 0 | J28: ⇒ そのうち、 | L28: （ | M28: 20～29歳 | O28: 30～39歳 | Q28: 40～49歳 | S28: 50～59歳 | U28: 60歳以上 | W28: ） | AK28: 新十津川町 | AL28: 大鰐町 | AM28: 紫波町 | AN28: 川崎町 | AO28: 五城目町 | AP28: 大江町 | AQ28: 天栄村 | AR28: 潮来市 | AS28: 芳賀町 | AT28: 甘楽町 | AU28: 越谷市 | AV28: 八千代市 | AW28: 板橋区 | AX28: 綾瀬市 | AY28: 南魚沼市 | BA28: 能登町 | BC28: 昭和町 | BD28: 安曇野市 | BE28: 郡上市 | BF28: 伊豆市 | BG28: 小牧市 | BH28: 川越町 | BI28: 多賀町 | BJ28: 宇治田原町 | BK28: 松原市 | BL28: 小野市 | BM28: 川西町 | BN28: 由良町 | BO28: 江府町 | BP28: 隠岐の島町 | BQ28: 矢掛町 | BR28: 安芸太田町 | BS28: 阿武町 | BT28: 北島町 | BV28: 鬼北町 | BW28: 仁淀川町 | BX28: 宗像市 | BY28: 白石町 | BZ28: 小値賀町 | CA28: 産山村 | CC28: 都農町 | CD28: 姶良市 | CE28: 金武町
AK29: 妹背牛町 | AL29: 田舎館村 | AM29: 矢巾町 | AN29: 丸森町 | AO29: 八郎潟町 | AP29: 大石田町 | AQ29: 下郷町 | AR29: 守谷市 | AS29: 壬生町 | AT29: 中之条町 | AU29: 蕨市 | AV29: 我孫子市 | AW29: 練馬区 | AX29: 葉山町 | AY29: 胎内市 | BC29: 道志村 | BD29: 小海町 | BE29: 下呂市 | BF29: 御前崎市 | BG29: 稲沢市 | BH29: 多気町 | BJ29: 笠置町 | BK29: 大東市 | BL29: 三田市 | BM29: 三宅町 | BN29: 印南町 | BQ29: 新庄村 | BR29: 北広島町 | BT29: 藍住町 | BV29: 愛南町 | BW29: 中土佐町 | BX29: 太宰府市 | BY29: 太良町 | BZ29: 佐々町 | CA29: 高森町 | CC29: 門川町 | CD29: 三島村 | CE29: 伊江村
AK30: 秩父別町 | AL30: 板柳町 | AM30: 西和賀町 | AN30: 亘理町 | AO30: 井川町 | AP30: 金山町 | AQ30: 檜枝岐村 | AR30: 常陸大宮市 | AS30: 野木町 | AT30: 長野原町 | AU30: 戸田市 | AV30: 鴨川市 | AW30: 足立区 | AX30: 寒川町 | AY30: 聖籠町 | BC30: 西桂町 | BD30: 佐久穂町 | BE30: 海津市 | BF30: 菊川市 | BG30: 新城市 | BH30: 明和町 | BJ30: 和束町 | BK30: 和泉市 | BL30: 加西市 | BM30: 田原本町 | BN30: みなべ町 | BQ30: 鏡野町 | BR30: 大崎上島町 | BT30: 板野町 | BW30: 佐川町 | BX30: 古賀市 | BZ30: 新上五島町 | CA30: 西原村 | CC30: 諸塚村 | CD30: 十島村 | CE30: 読谷村
AK31: 雨竜町 | AL31: 鶴田町 | AM31: 金ケ崎町 | AN31: 山元町 | AO31: 大潟村 | AP31: 最上町 | AQ31: 只見町 | AR31: 那珂市 | AS31: 岩舟町 | AT31: 嬬恋村 | AU31: 入間市 | AV31: 鎌ケ谷市 | AW31: 葛飾区 | AX31: 大磯町 | AY31: 弥彦村 | BC31: 忍野村 | BD31: 川上村 | BE31: 岐南町 | BF31: 伊豆の国市 | BG31: 東海市 | BH31: 大台町 | BJ31: 精華町 | BK31: 箕面市 | BL31: 篠山市 | BM31: 曽爾村 | BN31: 日高川町 | BQ31: 勝央町 | BR31: 世羅町 | BT31: 上板町 | BW31: 越知町 | BX31: 福津市 | CA31: 南阿蘇村 | CC31: 椎葉村 | CD31: さつま町 | CE31: 嘉手納町
B32: Ｑ２．従業者（サービス提供責任者は除く）は、現在どの資格で何名従事していますか。保有資格別の人数を記載して下さい。なお、 保有資格が重複する場合、左の欄に優先して計上し、二重計上はしないようにして下さい。【前年度調査のＱ１】 | AK32: 北竜町 | AL32: 中泊町 | AM32: 平泉町 | AN32: 松島町 | AO32: 美郷町 | AP32: 舟形町 | AQ32: 南会津町 | AR32: 筑西市 | AS32: 塩谷町 | AT32: 草津町 | AU32: 朝霞市 | AV32: 君津市 | AW32: 江戸川区 | AX32: 二宮町 | AY32: 田上町 | BC32: 山中湖村 | BD32: 南牧村 | BE32: 笠松町 | BF32: 牧之原市 | BG32: 大府市 | BH32: 玉城町 | BJ32: 南山城村 | BK32: 柏原市 | BL32: 養父市 | BM32: 御杖村 | BN32: 白浜町 | BQ32: 奈義町 | BR32: 神石高原町 | BT32: つるぎ町 | BW32: 梼原町 | BX32: うきは市 | CA32: 御船町 | CC32: 美郷町 | CD32: 長島町 | CE32: 北谷町
AK33: 沼田町 | AL33: 野辺地町 | AM33: 住田町 | AN33: 七ヶ浜町 | AO33: 羽後町 | AP33: 真室川町 | AQ33: 北塩原村 | AR33: 坂東市 | AS33: 高根沢町 | AT33: 高山村 | AU33: 志木市 | AV33: 富津市 | AW33: 八王子市 | AX33: 中井町 | AY33: 阿賀町 | BC33: 富士河口湖町 | BD33: 南相木村 | BE33: 養老町 | BF33: 東伊豆町 | BG33: 知多市 | BH33: 度会町 | BJ33: 京丹波町 | BK33: 羽曳野市 | BL33: 丹波市 | BM33: 高取町 | BN33: 上富田町 | BQ33: 西粟倉村 | BT33: 東みよし町 | BW33: 日高村 | BX33: 宮若市 | CA33: 嘉島町 | CC33: 高千穂町 | CD33: 湧水町 | CE33: 八重瀬町
E34: 同行援護従業者養成研修 | L34: ➂初任者研修課程修了者等 （※１）、基礎研修課程修了 者等（※２）及び視覚障害者 外出介護従業者養成研修 修了者であって、視覚障害を 有する身体障害者又は障害児 の福祉に関する事業（直接 処遇に限る。）に１年以上 従事した経験を有する者 | Q34: ➃国立障害者 ﾘﾊﾋﾞﾘﾃｰｼｮﾝｾﾝﾀｰ 学院視覚障害学科 修了者等 | T34: ⑤平成28年10月1日 時点において、 実務経験が１年 に満たず、かつ、 ➀、➁、➃の 研修未受講者 | AK34: 札幌市 | AL34: 七戸町 | AM34: 大槌町 | AN34: 利府町 | AO34: 東成瀬村 | AP34: 大蔵村 | AQ34: 西会津町 | AR34: 稲敷市 | AS34: 那須町 | AT34: 東吾妻町 | AU34: 和光市 | AV34: 浦安市 | AW34: 立川市 | AX34: 大井町 | AY34: 出雲崎町 | BC34: 鳴沢村 | BD34: 北相木村 | BE34: 垂井町 | BF34: 河津町 | BG34: 知立市 | BH34: 大紀町 | BJ34: 伊根町 | BK34: 門真市 | BL34: 南あわじ市 | BM34: 明日香村 | BN34: すさみ町 | BQ34: 久米南町 | BW34: 津野町 | BX34: 嘉麻市 | CA34: 益城町 | CC34: 日之影町 | CD34: 大崎町 | CE34: 北中城村
E35: ①うち応用課程 及びこれに相当 する研修課程 修了者 | I35: ②うち一般課程 及びこれに 相当する研修 課程修了者 | AK35: 江別市 | AL35: 六戸町 | AM35: 山田町 | AN35: 大和町 | AP35: 鮭川村 | AQ35: 磐梯町 | AR35: かすみがうら市 | AS35: 那珂川町 | AT35: 片品村 | AU35: 新座市 | AV35: 四街道市 | AW35: 武蔵野市 | AX35: 松田町 | AY35: 湯沢町 | BC35: 小菅村 | BD35: 軽井沢町 | BE35: 関ヶ原町 | BF35: 南伊豆町 | BG35: 尾張旭市 | BH35: 南伊勢町 | BJ35: 与謝野町 | BK35: 摂津市 | BL35: 朝来市 | BM35: 上牧町 | BN35: 那智勝浦町 | BQ35: 美咲町 | BW35: 四万十町 | BX35: 朝倉市 | CA35: 甲佐町 | CC35: 五ヶ瀬町 | CD35: 東串良町 | CE35: 中城村
C36: 常勤（人） | Z36: =E22-E36-I36-L36-Q36-T36-E62-H62-L62-Q62 -> 0 | AK36: 千歳市 | AL36: 横浜町 | AM36: 岩泉町 | AN36: 大郷町 | AP36: 戸沢村 | AQ36: 猪苗代町 | AR36: 桜川市 | AT36: 川場村 | AU36: 桶川市 | AV36: 袖ケ浦市 | AW36: 三鷹市 | AX36: 山北町 | AY36: 津南町 | BC36: 丹波山村 | BD36: 御代田町 | BE36: 神戸町 | BF36: 松崎町 | BG36: 高浜市 | BH36: 紀北町 | BK36: 高石市 | BL36: 淡路市 | BM36: 王寺町 | BN36: 太地町 | BQ36: 吉備中央町 | BW36: 大月町 | BX36: みやま市 | CA36: 山都町 | CD36: 錦江町 | CE36: 西原町
E37: =IF(Z36=0,"","↑ Ｑ１の人数と、Ｑ２・Ｑ４の各項目の人数の合計が一致していません") | AK37: 恵庭市 | AL37: 東北町 | AM37: 田野畑村 | AN37: 富谷町 | AP37: 高畠町 | AQ37: 会津坂下町 | AR37: 神栖市 | AT37: 昭和村 | AU37: 久喜市 | AV37: 八街市 | AW37: 青梅市 | AX37: 開成町 | AY37: 刈羽村 | BD37: 立科町 | BE37: 輪之内町 | BF37: 西伊豆町 | BG37: 岩倉市 | BH37: 御浜町 | BK37: 藤井寺市 | BL37: 宍粟市 | BM37: 広陵町 | BN37: 古座川町 | BW37: 三原村 | BX37: 糸島市 | CA37: 八代市 | CD37: 南大隅町 | CE37: 与那原町
C38: 非常勤（人） | Z38: =E26-E38-I38-L38-Q38-T38-E64-H64-L64-Q64 -> 0 | AK38: 北広島市 | AL38: 六ヶ所村 | AM38: 普代村 | AN38: 大衡村 | AP38: 川西町 | AQ38: 湯川村 | AR38: 行方市 | AT38: みなかみ町 | AU38: 北本市 | AV38: 印西市 | AW38: 府中市 | AX38: 箱根町 | AY38: 関川村 | BD38: 長和町 | BE38: 安八町 | BF38: 函南町 | BG38: 豊明市 | BH38: 紀宝町 | BK38: 泉南市 | BL38: 加東市 | BM38: 河合町 | BN38: 北山村 | BW38: 黒潮町 | BX38: 那珂川町 | CA38: 氷川町 | CD38: 肝付町 | CE38: 南風原町
E39: =IF(Z38=0,"","↑ Ｑ１の人数と、Ｑ２・Ｑ４の各項目の人数の合計が一致していません") | AK39: 石狩市 | AL39: おいらせ町 | AM39: 軽米町 | AN39: 色麻町 | AP39: 小国町 | AQ39: 柳津町 | AR39: 鉾田市 | AT39: 玉村町 | AU39: 八潮市 | AV39: 白井市 | AW39: 昭島市 | AX39: 真鶴町 | AY39: 粟島浦村 | BD39: 青木村 | BE39: 揖斐川町 | BF39: 清水町 | BG39: 日進市 | BK39: 四條畷市 | BL39: 猪名川町 | BM39: 吉野町 | BN39: 串本町 | BW39: 田野町 | BX39: 宇美町 | CA39: 水俣市 | CD39: 中種子町 | CE39: 渡嘉敷村
D40: （※１）介護福祉士、実務者研修修了者、居宅介護職員初任者研修課程修了者（旧１・2級ヘルパーを含む）等。 | AK40: 当別町 | AL40: 大間町 | AM40: 野田村 | AN40: 加美町 | AP40: 白鷹町 | AQ40: 三島町 | AR40: つくばみらい市 | AT40: 板倉町 | AU40: 富士見市 | AV40: 富里市 | AW40: 調布市 | AX40: 湯河原町 | BD40: 下諏訪町 | BE40: 大野町 | BF40: 長泉町 | BG40: 田原市 | BK40: 交野市 | BL40: 多可町 | BM40: 大淀町 | BW40: 安田町 | BX40: 篠栗町 | CA40: 芦北町 | CD40: 南種子町 | CE40: 座間味村
D41: （※２）障害者居宅介護従業者基礎研修課程修了者（旧3級ヘルパーを含む）等。 | AK41: 新篠津村 | AL41: 東通村 | AM41: 九戸村 | AN41: 涌谷町 | AP41: 飯豊町 | AQ41: 金山町 | AR41: 小美玉市 | AT41: 明和町 | AU41: 三郷市 | AV41: 南房総市 | AW41: 町田市 | AX41: 愛川町 | BD41: 富士見町 | BE41: 池田町 | BF41: 小山町 | BG41: 愛西市 | BK41: 大阪狭山市 | BL41: 稲美町 | BM41: 下市町 | BW41: 奈半利町 | BX41: 志免町 | CA41: 津奈木町 | CD41: 屋久島町 | CE41: 粟国村
D42: ※ その他の研修を修了された方について、その研修が上記のいずれかに相当する研修かわからない場合は都道府県へお問い合わせください。 | AK42: 小樽市 | AL42: 風間浦村 | AM42: 洋野町 | AN42: 美里町 | AP42: 三川町 | AQ42: 昭和村 | AR42: 茨城町 | AT42: 千代田町 | AU42: 蓮田市 | AV42: 匝瑳市 | AW42: 小金井市 | AX42: 清川村 | BD42: 原村 | BE42: 北方町 | BF42: 吉田町 | BG42: 清須市 | BK42: 阪南市 | BL42: 播磨町 | BM42: 黒滝村 | BW42: 北川村 | BX42: 須恵町 | CA42: 人吉市 | CD42: 大和村 | CE42: 渡名喜村
AK43: 島牧村 | AL43: 佐井村 | AM43: 一戸町 | AN43: 女川町 | AP43: 庄内町 | AQ43: 会津美里町 | AR43: 大洗町 | AT43: 大泉町 | AU43: 坂戸市 | AV43: 香取市 | AW43: 小平市 | BD43: 辰野町 | BE43: 坂祝町 | BF43: 川根本町 | BG43: 北名古屋市 | BK43: 島本町 | BL43: 神河町 | BM43: 天川村 | BW43: 馬路村 | BX43: 新宮町 | CA43: 錦町 | CD43: 宇検村 | CE43: 南大東村
AK44: 寿都町 | AL44: 三戸町 | AN44: 南三陸町 | AP44: 遊佐町 | AQ44: 西郷村 | AR44: 城里町 | AT44: 邑楽町 | AU44: 幸手市 | AV44: 山武市 | AW44: 日野市 | BD44: 箕輪町 | BE44: 富加町 | BF44: 森町 | BG44: 弥富市 | BK44: 豊能町 | BL44: 市川町 | BM44: 野迫川村 | BX44: 久山町 | CA44: あさぎり町 | CD44: 瀬戸内町 | CE44: 北大東村
...

Sheet 自治体編集用
A1: (1) | B1: (2) | C1: (3) | D1: (4) | E1: (5) | F1: (6) | G1: (7) | H1: (8) | I1: (9) | J1: (10) | K1: (11) | L1: (12) | M1: (13) | N1: (14) | O1: (15) | P1: (16) | Q1: (17) | R1: (18) | S1: (19) | T1: (20) | U1: (21) | V1: (22) | W1: (23) | X1: (24) | Y1: (25) | Z1: (26) | AA1: (27) | AB1: (28) | AC1: (29) | AD1: (30) | AE1: (31) | AF1: (32) | AG1: (33) | AH1: (34) | AI1: (35) | AJ1: (36) | AK1: (37) | AL1: (38) | AM1: (39) | AN1: (40) | AO1: (41) | AP1: (42) | AQ1: (43) | AR1: (44) | AS1: (45) | AT1: (46) | AU1: (47) | AV1: (48) | AW1: (49) | AX1: (50) | AY1: (51) | AZ1: (52) | BA1: (53) | BB1: (54) | BC1: (55) | BD1: (56) | BE1: (57) | BF1: (58) | BG1: (59) | BH1: (60)
A2: 所在地 | C2: 事業所名 | D2: Ｑ１．従業員の人数等 | X2: Ｑ２．従業者の保有資格別人数 | AH2: Ｑ３．研修修了が見込まれる人数（従業者） | AN2: Ｑ４．サービス提供責任者の保有資格別人数 | AV2: Ｑ５．研修修了が見込まれる人数（サービス提供責任者） | BB2: Ｑ６．今後の展望 | BF2: Ｑ６．ＳＱ１ | BG2: Ｑ６．ＳＱ２ | BH2: Ｑ７
D3: 常勤 | N3: 非常勤 | X3: 常勤 | AC3: 非常勤 | AH3: 常勤 | AK3: 非常勤 | AN3: 常勤 | AR3: 非常勤 | AV3: 常勤 | AY3: 非常勤 | BB3: 現行 | BC3: 拡大 | BD3: 縮小 | BE3: 廃止
D4: 男 | I4: 女 | N4: 男 | S4: 女 | X4: 研修一般課程修了 | Z4: ➂旧研修修了等 | AA4: ➃ﾘﾊ学院修了 | AB4: ⑤未受講者 | AC4: 研修一般課程修了 | AE4: ➂旧研修修了等 | AF4: ➃ﾘﾊ学院修了 | AG4: ⑤未受講者 | AH4: ➀研修修了 | AI4: 研修未修了 | AK4: ➀研修修了 | AL4: 研修未修了 | AN4: 同行援護従業者養成研修 | AP4: ➂国リハ修了 | AQ4: ➃移動支援３年従事 | AR4: 同行援護従業者養成研修 | AT4: ➂ﾘﾊ学院修了 | AU4: ➃移動支援３年従事 | AV4: 研修修了 | AW4: 研修未修了 | AX4: ﾘﾊ学院修了 | AY4: 研修修了 | AZ4: 研修未修了 | BA4: ﾘﾊ学院修了
D5: 20～29歳 | E5: 30～39歳 | F5: 40～49歳 | G5: 50～59歳 | H5: 60歳以上 | I5: 20～29歳 | J5: 30～39歳 | K5: 40～49歳 | L5: 50～59歳 | M5: 60歳以上 | N5: 20～29歳 | O5: 30～39歳 | P5: 40～49歳 | Q5: 50～59歳 | R5: 60歳以上 | S5: 20～29歳 | T5: 30～39歳 | U5: 40～49歳 | V5: 50～59歳 | W5: 60歳以上 | X5: ➀相当研修 | Y5: ➁応用課程 | AC5: ➀相当研修 | AD5: ➁応用課程 | AI5: ➁実務あり | AJ5: ➂実務なし | AL5: ➁実務あり | AM5: ➂実務なし | AN5: ➀修了 | AO5: ➁未修了 | AR5: ➀修了 | AS5: ➁未修了
A6: =事業所向け!Q6 -> 神奈川県 | B6: =事業所向け!T6 -> 0 | C6: =事業所向け!D6 -> 0 | D6: =事業所向け!N22 -> 0 | E6: =事業所向け!P22 -> 0 | F6: =事業所向け!R22 -> 0 | G6: =事業所向け!T22 -> 0 | H6: =事業所向け!V22 -> 0 | I6: =事業所向け!N24 -> 0 | J6: =事業所向け!P24 -> 0 | K6: =事業所向け!R24 -> 0 | L6: =事業所向け!T24 -> 0 | M6: =事業所向け!V24 -> 0 | N6: =事業所向け!N26 -> 0 | O6: =事業所向け!P26 -> 0 | P6: =事業所向け!R26 -> 0 | Q6: =事業所向け!T26 -> 0 | R6: =事業所向け!V26 -> 0 | S6: =事業所向け!N28 -> 0 | T6: =事業所向け!P28 -> 0 | U6: =事業所向け!R28 -> 0 | V6: =事業所向け!T28 -> 0 | W6: =事業所向け!V28 -> 0 | X6: =事業所向け!E36 -> 0 | Y6: =事業所向け!I36 -> 0 | Z6: =事業所向け!L36 -> 0 | AA6: =事業所向け!Q36 -> 0 | AB6: =事業所向け!T36 -> 0 | AC6: =事業所向け!E38 -> 0 | AD6: =事業所向け!I38 -> 0 | AE6: =事業所向け!L38 -> 0 | AF6: =事業所向け!Q38 -> 0 | AG6: =事業所向け!T38 -> 0 | AH6: =事業所向け!H50 -> 0 | AI6: =事業所向け!L50 -> 0 | AJ6: =事業所向け!P50 -> 0 | AK6: =事業所向け!H52 -> 0 | AL6: =事業所向け!L52 -> 0 | AM6: =事業所向け!P52 -> 0 | AN6: =事業所向け!E62 -> 0 | AO6: =事業所向け!H62 -> 0 | AP6: =事業所向け!L62 -> 0 | AQ6: =事業所向け!Q62 -> 0 | AR6: =事業所向け!E64 -> 0 | AS6: =事業所向け!H64 -> 0 | AT6: =事業所向け!L64 -> 0 | AU6: =事業所向け!Q64 -> 0 | AV6: =事業所向け!H74 -> 0 | AW6: =事業所向け!L74 -> 0 | AX6: =事業所向け!P74 -> 0 | AY6: =事業所向け!H76 -> 0 | AZ6: =事業所向け!L76 -> 0 | BA6: =事業所向け!P76 -> 0 | BB6: =事業所向け!G84 -> 0 | BC6: =事業所向け!S84 -> 0 | BD6: =事業所向け!G86 -> 0 | BE6: =事業所向け!S86 -> 0 | BF6: =事業所向け!D90 -> 0 | BG6: =事業所向け!D93 -> 0 | BH6: =事業所向け!C98 -> 0
