Workbook
Name Avrg: #REF!
Name CSV_サービス情報: #REF!
Name CSV_口座振込依頼書: #REF!
Name CSV_追加情報: #REF!
Name CSV_付表１: #REF!
Name CSV_付表１＿２: #REF!
Name CSV_付表１０: #REF!
Name CSV_付表１０＿２: #REF!
Name CSV_付表１１: #REF!
Name CSV_付表１１＿２: #REF!
Name CSV_付表１２: #REF!
Name CSV_付表１２＿２: #REF!
Name CSV_付表１３その１: #REF!
Name CSV_付表１３その２: #REF!
Name CSV_付表１４: #REF!
Name CSV_付表２: #REF!
Name CSV_付表３: #REF!
Name CSV_付表３＿２: #REF!
Name CSV_付表４: #REF!
Name CSV_付表５: #REF!
Name CSV_付表６: #REF!
Name CSV_付表７: #REF!
Name CSV_付表８その１: #REF!
Name CSV_付表８その２: #REF!
Name CSV_付表８その３: #REF!
Name CSV_付表９: #REF!
Name CSV_付表９＿２: #REF!
Name CSV_様式第１号: #REF!
Name houjin: #REF!
Name houjin: #REF!
Name houjin: #REF!
Name houjin: #REF!
Name houjin: #REF!
Name houjin: #REF!
Name houjin: #REF!
Name houjin: #REF!
Name houjin: #REF!
Name houjin: #REF!
Name houjin: #REF!
Name houjin: #REF!
Name houjin: #REF!
Name houjin: #REF!
Name jigyoumeishou: #REF!
Name jigyoumeishou: #REF!
Name jigyoumeishou: #REF!
Name jigyoumeishou: #REF!
Name jigyoumeishou: #REF!
Name jigyoumeishou: #REF!
Name jigyoumeishou: #REF!
Name jigyoumeishou: #REF!
Name jigyoumeishou: #REF!
Name jigyoumeishou: #REF!
Name jigyoumeishou: #REF!
Name jigyoumeishou: #REF!
Name jigyoumeishou: #REF!
Name jigyoumeishou: #REF!
Name kanagawaken: #REF!
Name kanagawaken: #REF!
Name kanagawaken: #REF!
Name kanagawaken: #REF!

Sheet 様式第１号
B2: ＊次のいずれかを選択し、下の申請書に必要事項を入力してください。 | Z2: ※神奈川県使用欄
B4: 申請する事業所(施設）の種類 | N4: 1 | O4: 3 | Z4: 事業所番号
B5: 申請者の法人の種類 | N5: 1 | Z5: サービス種類 | AA5: 52
B6: 申請する事業の種類 | L6: 1 | N6: 1 | O6: 1
Z7: 異動区分
Z8: 異動年月日
B9: （様式第１号） | W9: 1
Q10: ※受付番号 | Z10: 支払方法
Q11: ※指定市町村番号 | Z11: 社福・A型減免 | AA11: FALSE
E12: 指定特定相談支援事業所 | M12: 指定申請書
Q13: 41988
B14: （申請先） | H14: （申請者）
B15: 川崎市長 | I15: 所 在 地 | L15: 川崎市川崎区宮本町１－○－○
I17: 名 称 | L17: 社会福祉法人かわさき福祉会 | U17: 印
I18: 代表者氏名 | L18: 理事長 川崎 太郎
B20: 障害者の日常生活及び社会生活を総合的に支援するための法律 | O20: に規定する
B21: 指定特定相談支援事業所 | G21: に係る指定を受けたいので、下記のとおり、関係書類を添えて申請します。
B23: 申請者（設置者） | C23: ﾌ ﾘ ｶﾞ ﾅ | G23: ｼｬｶｲﾌｸｼﾎｳｼﾞﾝｶﾜｻｷﾌｸｼｶｲ
C24: 名 称 | G24: 社会福祉法人かわさき福祉会
C25: 主たる事務所の 所在地 | G25: 〒 | H25: 210-※※※※ | L25: ←郵便番号を半角数字７桁で記載してください
G26: 川崎市川崎区宮本町１－○－○
C28: 連絡先 | G28: 電話番号 | J28: 044-200-※※※※ | O28: ＦＡＸ番号 | R28: 044-200-※※※※
C29: 法人の種類 | G29: 社会福祉法人（社協以外） | O29: 法人所轄庁
C30: 代表者 | E30: 役 職 | G30: 理事長
E31: 氏 名 | G31: 川崎 太郎
E32: 住 所 | G32: 〒 | H32: 211-※※※※ | L32: ←郵便番号を半角数字７桁で記載してください
G33: 川崎市中原区下新城１－○－○
B35: 指定を受けようとする 事業所・施設の種類 | C35: ﾌ ﾘ ｶﾞ ﾅ | G35: ｿｳﾀﾞﾝｼｴﾝｼﾞｷﾞｮｳｼｮﾏﾙﾏﾙｶﾜｻｷ
C36: 名 称 | G36: 相談支援事業所○○かわさき
C37: 事業所（施設） の所在地 | G37: 〒 | H37: 211-※※※※ | L37: ※事業所(施設)所在地市町村番号 | T37: ※級地区分
G38: 川崎市中原区上小田中２－○－○
C40: 事業等の種類 | G40: 指定特定相談支援事業所
G41: 計画相談支援 | M41: 指定申請をする事業等の 事業開始予定年月日 | S41: 付表 | T41: 備考
M42: 42005 | S42: 1
B43: 主たる事業所名称 | G43: 相談支援事業所○○かわさき
B44: 同一の法律において既に 指定を受けている場合 | G44: サービスの種類 | P44: 事業所番号
G45: 事業所名称
B46: 指定有効開始年月日 | G46: 42005 | L46: 指定有効終了年月日 | Q46: 44196
B47: 指定更新申請中区分 | G47: 2
B48: 効力停止開始年月 | L48: 効力停止終了年月日
...

Sheet 口座振込依頼書
A1: 口座振込（変更）依頼書（兼 受領委任状）
A4: 神奈川県国民健康保険団体連合会理事長 殿
A6: 以下の口座に，次に掲げる介護給付費等の振込を依頼します。
U8: 平成 | X8: 26 | AA8: 年 | AD8: 12 | AG8: 月 | AJ8: 15 | AM8: 日
A11: 申請者（債権者） | C11: 法人名称 | I11: =[2]【記入例】様式第１号!G24 -> 社会福祉法人かわさき福祉会
C13: 郵便番号 | I13: 〒 | K13: =[2]【記入例】様式第１号!H25 -> 210-※※※※ | R13: ←郵便番号を半角数字７桁で入力してください。
C14: 所在地 | I14: =[2]【記入例】様式第１号!G26 -> 川崎市川崎区宮本町１－○－○
I16: =IF([3]様式第１号!G27<>"",[3]様式第１号!G27,"")
C18: 代表者氏名 | I18: =[2]【記入例】様式第１号!G31 -> 川崎 太郎 | AK18: 印
C20: 事業所名称 | I20: =[2]【記入例】様式第１号!G36 -> 相談支援事業所○○かわさき
C22: 事業所番号 | I22: =IF([3]様式第１号!AA4<>"",[3]様式第１号!AA4,"")
C24: 対象事業名 | I24: =[3]様式第１号!AA5 -> 52 | K24: =[3]様式第１号!G41 -> 計画相談支援
A27: 送付先 | C27: 郵便番号 | I27: 〒 | K27: #REF! | N27: - | O27: #REF!
C28: 送付先住所 | I28: #REF!
I30: #REF!
C32: 宛名 | I32: #REF!
C34: 電話番号 | I34: #REF! | L34: #REF! | M34: #REF! | P34: #REF! | Q34: #REF!
A37: 振込先 | C37: 金融機関名 | I37: ○○銀行 | Y37: 金融機関コード | AH37: ※※※※
C39: 店舗名 | I39: ××支店 | Y39: 店舗コード | AH39: ※※※
C41: 口座番号 | I41: ※※※※※※※※ | W41: 預金種別 | AC41: 1
C43: 名義人 | E43: ﾌﾘｶﾞﾅ | I43: ﾌｸ）ｶﾜｻｷﾌｸｼｶｲ
E45: 氏名 | I45: 社会福祉法人かわさき福祉会
A48: 委任状
C49: 申請者（債権者）は，口座名義人（受任者）に，上記介護給付費等の受領に関する一切の権限を
C50: 委任します。
C51: 平成 | F51: 26 | I51: 年 | J51: 12 | M51: 月 | N51: 15 | Q51: 日
C53: 委任者 | I53: 川崎 太郎 | AK53: 印
A57: 振込エラー防止のため
A59: ここに振込先の店番号，口座番号，口座名義人フリガナがわかる
A61: 通帳の写しを貼り付けるか，
A63: 以下に，取引金融機関の確認印を受けてください。
P65: 上記口座が存在することを確認しました。
AI66: 確認印
Q67: 金融機関名
Q69: 確認年月日
T133: 指定年月日

Sheet 付表１
A1: 付表１ 指定特定相談支援事業所及び障害児相談支援支援事業所の指定に係る記載事項
AA2: ※受付番号
A4: 事業所 | C4: ﾌﾘｶﾞﾅ | I4: ｿｳﾀﾞﾝｼｴﾝｼﾞｷﾞｮｳｼｮﾏﾙﾏﾙｶﾜｻｷ
C5: 名 称 | I5: 相談支援事業所○○かわさき
C6: 所在地 | I6: 〒 | K6: 211-※※※※ | Q6: ←郵便番号を半角数字７桁で入力してください
I7: 川崎市中原区上小田中２－○－○
C9: 連 絡 先 | I9: 電話番号 | M9: 044-※※※-※※※※ | W9: ＦＡＸ番号 | AA9: 044-※※※-※※※※
A10: 当該事業の実施について定めてある定款・寄付行為等又は条例等 | W10: 定款第○条第○項
A11: 管理者 | C11: ﾌﾘｶﾞﾅ | I11: ｶﾜｻｷ ﾊﾅｺ
C12: 氏 名 | I12: 川崎 花子
C13: 住 所 | I13: 〒 | K13: 210-※※※※ | Q13: ←郵便番号を半角数字７桁で入力してください
I14: 川崎市川崎区○○町１００番地
C16: 当該事業所における相談支援専門員との兼務の有無 | W16: 2
C17: 同一敷地内の他の事業所又は施設の従業者との兼務（兼務の場合記入） | O17: 事業所等の名称 | W17: 相談支援事業所○○かわさき
O18: 事業の種類 | W18: 一般相談支援（地域移行支援）
O19: 兼務する職種 | W19: 管理者
O20: 勤務時間 | W20: ２時間／日
A21: 相談支援専門員 | C21: ﾌﾘｶﾞﾅ | I21: ｻｲﾜｲ ｲﾁﾛｳ
C22: 氏 名 | I22: 幸 一郎
C23: 住 所 | I23: 〒 | K23: 212-※※※※ | Q23: ←郵便番号を半角数字７桁で入力してください
I24: 川崎市幸区××町１－１－１
A26: 従業者の職種 ・員数 | C26: (単位：人） | I26: 相談支援専門員 | O26: その他の者 | U26: 他の事業所又は施設の従業者との兼務
I27: 専従 | L27: 兼務 | O27: 専従 | R27: 兼務 | U27: 1
C28: 従業者数 | F28: 常勤 | L28: 2 | U28: 2
F29: 非常勤
C30: 常勤換算後の人数 | I30: 1
C31: ※基準上の必要人数
A32: 主な掲示事項 | C32: 営業日 | AL32: TRUE | AM32: TRUE | AN32: TRUE | AO32: TRUE | AP32: TRUE | AQ32: FALSE | AR32: FALSE
C33: 営業時間 | I33: 平日 | L33: 08:30 | O33: ～ | Q33: 17:30 | T33: 土曜 | Z33: ～ | AE33: 備考
I34: 日曜 | O34: ～ | T34: 祝日 | Z34: ～
C35: 主たる対象者 | AL35: TRUE | AM35: FALSE | AN35: FALSE | AO35: FALSE | AP35: FALSE
C36: 利用料 | AL36: ※未使用
C37: その他費用 | I37: 運営規程に定めるとおり
C38: 通常の事業 の実施地域
I39: 川崎区 | P39: 幸区 | W39: 中原区 | AD39: 横浜市鶴見区
A42: 総合的な相談支援の実施体制の具体的な方法 | C42: 主たる対象としていない者への対応体制 | R42: 近隣の支援センターと連携し調整する。
C43: 医療機関や行政との連携体制 | R43: 主治医等と支援方針や状況を共有し密な連携を行う。また、各区保健福祉センターとも連携を図る。
C44: 計画的な研修又は当該事業所における事例の検討等を行う体制 | R44: 法人内部の人材育成研修および○○センター、障害者支援施設○○等とも連携し、カンファレンスを実施する。 | AL44: 1
A45: （備考）
A46: １．「※」のついた欄には、記載しないでください。
...

Sheet 申請書別紙
AA1: （別紙）
G3: 他の法律において既に指定を受けている事業等について
A5: 法律の名称 | G5: サービスの種類 | K5: 事業所・施設名称 | O5: 指定年月日 | T5: 指定事業所番号
A7: 介護保険法 | G7: 訪問介護 | K7: かわさきホームヘルプサービス | O7: 40909 | T7: 1 | U7: 4 | V7: 7 | W7: 5 | X7: 9 | Y7: 9 | Z7: 9 | AA7: 9 | AB7: 9 | AC7: 9 | AD7: 9 | AE7: 9 | AF7: 9 | AG7: 9

Sheet 付表別紙
A2: 付表 別紙 | F2: 他の事業所又は施設の従事者と兼務する相談支援専門員について
A5: 他の事業所又は施設の従業者と兼務する相談支援専門員を全て記載してください。 ※記入欄が不足する場合は追加して記入してください。
A6: 1 | C6: 氏 名 | K6: 事業所の名称 | O6: 相談支援事業所○○○○
C7: フリガナ | F7: サイワイ イチロウ | K7: 事業の種類 | O7: 地域移行支援 | T7: 兼務する職種 | X7: 相談支援専門員
C8: 氏名 | F8: 幸 一郎 | K8: 勤務時間 | O8: 2時間／日
A9: 2 | C9: 氏 名 | K9: 事業所の名称 | O9: 相談支援事業所○○○○
C10: フリガナ | F10: ソウダン ハナコ | K10: 事業の種類 | O10: 地域定着支援 | T10: 兼務する職種 | X10: 相談支援専門員
C11: 氏名 | F11: 相談 花子 | K11: 勤務時間 | O11: 2時間／日
A12: 3 | C12: 氏 名 | K12: 事業所の名称
C13: フリガナ | K13: 事業の種類 | T13: 兼務する職種
C14: 氏名 | K14: 勤務時間
A15: 4 | C15: 氏 名 | K15: 事業所の名称
C16: フリガナ | K16: 事業の種類 | T16: 兼務する職種
C17: 氏名 | K17: 勤務時間
A18: 5 | C18: 氏 名 | K18: 事業所の名称
C19: フリガナ | K19: 事業の種類 | T19: 兼務する職種
C20: 氏名 | K20: 勤務時間

Sheet 参考様式１
B1: 参考様式１ | F1: 事業所・施設の平面図
C3: 事業所の名称 | E3: 相談支援事業所○○かわさき
C7: 建物の名称 | E7: ○○ビルディング（ビル、施設等の名称）
C8: 構造概要 | E8: ○造○階建 ○階
C9: 事業所の共用の有無 | E9: （○○居宅介護事業所と共用、等）
D12: ○○ビルディング ○階平面図 | M12: Ｎ
B36: （備考）１ | C36: 各室、区画の用途及び面積を記載し、他の事業や施設と共用する場合は、その旨を記載し色分けする等わかりやすく表示してください。
B37: 2 | C37: 既製の平面図がある場合にはそれを添付してください。（その場合、Ａ３に縮尺の上、折り込んでください。）
B38: 3 | C38: 事業所の外観及び内部（各室、区画）の写真を添付してください。

Sheet 参考様式３
A1: 参考様式３ | D1: 事業所の設備・備品等一覧表
B4: 事業所の名称 | D4: 相談支援事業所○○かわさき
B5: サービスの種類 | D5: 計画相談支援
A7: 設備の概要 | C7: 設備基準上適合すべき項目についての状況 | H7: 備品の品名及び数量 | K7: 適合の可否
A9: サービス提供上配慮すべき設備の概要
A12: 例）
A13: ・事務室 | C13: ・個人情報の漏洩に注意して、相談支援に関する記録を整備・保存している。 | H13: 鍵付キャビネット １
A16: ・相談室 | C16: ・室内における談話の漏えいを防ぐための間仕切りを設けている。 | H16: 机 １、いす ４、パーテーション ２
A19: ・消毒薬品 | C19: ・感染症予防のため。 | H19: 手指消毒薬（アルコール消毒薬）
A36: 非常災害設備等
A38: 例）
A39: ・消火設備 | C39: ・消防法に適合したものを備えている。 | H39: ・消火器 １
A58: 備考 １ | B58: 申請するサービスの種類に関して、基準省令で定められた設備基準上適合すべき項目のうち、「居室面積等一覧表」（参考様式２）に記載された項目以外の事項について記載してください。
A59: 2 | B59: 「適合の可否」欄には何も記載しないでください。

Sheet 参考様式４
A1: 参考様式４ | D1: 管 理 者 | H1: 経 歴 書
D2: サービス管理責任者
D3: サービス提供責任者
D4: 相談支援専門員
D5: 指定地域移行支援従事者
D6: 指定地域定着支援従事者
A8: 事業所の名称 | C8: 相談支援事業所○○かわさき
A9: サービスの種類 | C9: 計画相談支援
A10: （管理者の場合で当該管理者が管理する事業所が複数の場合はその全てを記載してください。）
B11: 事業の名称 | C11: 相談支援事業所○○ | F11: 相談支援事業所○○
B12: サービスの種類 | C12: 地域定着支援 | F12: 障害児相談支援
A14: フリガナ | C14: カワサキ ハナコ | H14: 生年月日 | I14: 昭和ｘｘ年ｘｘ月ｘｘ日
A15: 氏 名 | C15: 川崎 花子
A16: 住 所 | B16: (自宅） | C16: （〒***-****） | E16: 川崎区○○町１００番地
A17: 電話番号 | B17: (自宅） | C17: ****-**-****
A18: 主な職歴
A19: 期間 | D19: 勤務先 | I19: 職務内容
A20: 昭和○年○月○日～平成○○年○月○日 | D20: 特定非営利活動法人○○××園 | I20: 介護職員
A22: 平成○年○月○日～平成○○年○月○日 | D22: 社会福祉法人○○福祉会●●生活介護 | I22: 生活支援員
A24: 平成○年○月○日～平成○○年○月○日 | D24: 社会福祉法人○○福祉会相談支援事業所○○ | I24: 相談支援専門員
A29: 職務に関する資格
A30: 資格の種類 | F30: 資格取得年月日
B32: 介護福祉士 | G32: 平成○○年○月○日
B34: 社会福祉士 | G34: 平成○○年○月○日
A43: 備考（研修等の受講の状況等）
B44: 相談支援従事者初任者研修 | D44: 平成19年○月○日
B45: 相談支援従事者現任研修 | D45: 平成22年○月○日
A54: 備考 | B54: 管理者、サービス管理責任者、サービス提供責任者、相談支援専門員、指定地域移行支援従事者、指定地域定着支援従事者のいずれかを○印で囲ってください。それぞれ別葉で提出してください。

Sheet 参考様式５
A1: 参考様式５
A2: 実 務 経 験 (見 込) 証 明 書
D5: 川崎市長 様 | J5: 平成２６年 ○月 ○日
E7: 所在地 | G7: ○○県○○市××町４－３－２－１
E8: 名称 | G8: 特定非営利活動法人○○××園
E9: 代表者 職・氏名 | G9: 理事長 ふくし たろう | J9: 印
E10: 電話番号 | G10: ＊＊＊－＊＊＊－＊＊＊＊
A12: 下記の者の実務経験は、以下のとおりであることを証明します。
A14: 氏 名 | E14: 幸 一郎 | G14: （生年月日 昭和××年××月××日）
A15: 現 住 所 | D15: 川崎市幸区××町１－１－１
A16: 施設又は事業所名 | D16: ○○の家
D17: 施設・事業所の種別（ 生活介護 ）
A18: 業 務 期 間
D19: 平成○○年 ○月 ○日 ～平成○○年 ○月 ○日（ ○年 ○月間）
A20: 上記のうち業務に従事した日数 | D20: 〇〇〇日
A21: 業 務 内 容 | D21: 職名（ 生活支援員 ）
D22: 利用者に対する介護業務
A25: （注） | B25: １． | C25: 施設又は事業所名欄には、知的障害者更生施設等の種別も記入すること。
B26: ２． | C26: 業務期間欄は、実務経験被証明者が要援護者に対する直接的な援助を行っていた期間（見込においては援助を行うと見込まれる期間）を記入すること。（産休・育休・療養休暇や長期研修期間等は業務期間となりません）
B28: ３． | C28: 見込証明でない場合は、表題の（見込）を二重線で消すこと。
B30: ４． | C30: 業務内容欄は、看護師、生活指導員等の職名を記入し、業務内容について、老人デイサービス事業における○○業務、○○実施要綱の○○事業の○○業務等具体的に記入すること。
B32: ５． | C32: 証明内容を訂正する場合は、二重線で消した上、証明者（代表者）の印を押すこと。

Sheet 参考様式６
A1: 参考様式6 | C1: 利用者又はその家族からの苦情を解決するために講ずる措置の概要
A3: 事業所の名称 | C3: 相談支援事業所○○かわさき
A4: サービスの種類 | C4: 計画相談支援
A6: 措置の概要
A7: 1 | B7: 利用者（入所者）又はその家族からの相談又は苦情等に対応する常設窓口（連絡先）、担当者
A28: 2 | B28: 円滑かつ迅速に苦情を解決するための処理体制・手順
B42: ※ | C42: 具体的な対応方針
A51: 3 | B51: その他参考事項
A64: 備考 | B64: 上記は例示であるので、これに関わらず、適宜項目を追加し、その内容について具体的に記載してください。

Sheet 別紙2
B2: 別紙2
B3: 従業者の勤務の体制及び勤務形態一覧表
B5: 事業所名 | K5: 相談支援事業所○○かわさき
B6: サービス種類 | K6: 計画相談支援
B8: 職種 | H8: 勤務 形態 | K8: 氏名 | R8: 第１週 | Y8: 第２週 | AF8: 第３週 | AM8: 第４週 | AT8: 4週の合計 | AW8: 週平均の勤務時間 | AZ8: 常勤換算後の人数
P9: 日付 | R9: 1 | S9: 2 | T9: 3 | U9: 4 | V9: 5 | W9: 6 | X9: 7 | Y9: 8 | Z9: 9 | AA9: 10 | AB9: 11 | AC9: 12 | AD9: 13 | AE9: 14 | AF9: 15 | AG9: 16 | AH9: 17 | AI9: 18 | AJ9: 19 | AK9: 20 | AL9: 21 | AM9: 22 | AN9: 23 | AO9: 24 | AP9: 25 | AQ9: 26 | AR9: 27 | AS9: 28
P10: 曜日 | R10: 月 | S10: 火 | T10: 水 | U10: 木 | V10: 金 | W10: 土 | X10: 日 | Y10: 月 | Z10: 火 | AA10: 水 | AB10: 木 | AC10: 金 | AD10: 土 | AE10: 日 | AF10: 月 | AG10: 火 | AH10: 水 | AI10: 木 | AJ10: 金 | AK10: 土 | AL10: 日 | AM10: 月 | AN10: 火 | AO10: 水 | AP10: 木 | AQ10: 金 | AR10: 土 | AS10: 日
P11: 開所日 | R11: ○ | S11: ○ | T11: ○ | U11: ○ | V11: ○ | Y11: ○ | Z11: ○ | AA11: ○ | AB11: ○ | AC11: ○ | AF11: ○ | AG11: ○ | AH11: ○ | AI11: ○ | AJ11: ○ | AM11: ○ | AN11: ○ | AO11: ○ | AP11: ○ | AQ11: ○
B12: 管理者 | H12: 常勤・専従 | K12: 川崎 花子 | R12: 8 | S12: 8 | T12: 8 | U12: 8 | V12: 8 | Y12: 8 | Z12: 8 | AA12: 8 | AB12: 8 | AC12: 8 | AF12: 8 | AG12: 8 | AH12: 8 | AI12: 8 | AJ12: 8 | AM12: 8 | AN12: 8 | AO12: 8 | AP12: 8 | AQ12: 8 | AT12: =SUM(R12:AS12) -> 160 | AW12: =AT12/4 -> 40
B13: 相談支援専門員 | H13: 常勤・兼務 | K13: 幸 一郎 | R13: 4 | S13: 4 | T13: 4 | U13: 4 | V13: 4 | Y13: 4 | Z13: 4 | AA13: 4 | AB13: 4 | AC13: 4 | AF13: 4 | AG13: 4 | AH13: 4 | AI13: 4 | AJ13: 4 | AM13: 4 | AN13: 4 | AO13: 4 | AP13: 4 | AQ13: 4 | AT13: =SUM(R13:AS13) -> 80 | AW13: =AT13/4 -> 20
B14: 相談支援専門員 | H14: 常勤・兼務 | K14: 相談 花子 | R14: 4 | S14: 4 | T14: 4 | U14: 4 | V14: 4 | Y14: 4 | Z14: 4 | AA14: 4 | AB14: 4 | AC14: 4 | AF14: 4 | AG14: 4 | AH14: 4 | AI14: 4 | AJ14: 4 | AM14: 4 | AN14: 4 | AO14: 4 | AP14: 4 | AQ14: 4 | AT14: =SUM(R14:AS14) -> 80 | AW14: =AT14/4 -> 20
AT15: 0 | AW15: =AT15/4 -> 0
AT16: =SUM(R16:AS16) -> 0 | AW16: =AT16/4 -> 0
AT17: =SUM(R17:AS17) -> 0 | AW17: =AT17/4 -> 0
AT18: =SUM(R18:AS18) -> 0 | AW18: =AT18/4 -> 0
AT19: =SUM(R19:AS19) -> 0 | AW19: =AT19/4 -> 0
AT20: =SUM(R20:AS20) -> 0 | AW20: =AT20/4 -> 0
AT21: =SUM(R21:AS21) -> 0 | AW21: =AT21/4 -> 0
AT22: =SUM(R22:AS22) -> 0 | AW22: =AT22/4 -> 0
AT23: =SUM(R23:AS23) -> 0 | AW23: =AT23/4 -> 0
AT24: =SUM(R24:AS24) -> 0 | AW24: =AT24/4 -> 0
AT25: =SUM(R25:AS25) -> 0 | AW25: =AT25/4 -> 0
AT26: =SUM(R26:AS26) -> 0 | AW26: =AT26/4 -> 0
AT27: =SUM(R27:AS27) -> 0 | AW27: =AT27/4 -> 0
B28: 合計 | AT28: =SUM(AT12:AT27) -> 320 | AW28: =SUM(AW13:AW27) -> 40 | AZ28: =AW28/AT29 -> 1
B29: 当該事業所・施設において常勤職員が1週間に勤務すべき時間数 | AT29: 40

Sheet 参考様式７
A1: 参考様式７
D3: 組 織 体 制 図
B5: 事業所の名称 | D5: 相談支援事業所○○かわさき
B6: サービスの種類 | D6: 計画相談支援
D12: 管理者
D13: 氏名 川崎 花子
D20: 相談支援専門員
D21: 氏名 | E21: 幸 一郎
D22: 氏名 | E22: 相談 花子
B53: 備考 既存の組織体制図がある場合は、その写し等の添付でかまいません。

Sheet 参考様式８
A1: 参考様式８
A3: 主たる対象とする障害の種類を定める理由
C6: 事業所名 | J6: 相談支援事業所○○かわさき
C7: サービスの種類 | J7: 計画相談支援
A10: １ 申請に係るサービスの主たる対象者 | M10: ※該当するものを○で囲むこと。
A12: 身体障害者（肢体不自由 ・ 視覚 ・ 聴覚言語 ・ 内部障害）
A13: 知的障害者 ・ 精神障害者 ・ 障害児（ ）
A14: ※ 障害児について障害種別を特定している場合は、括弧内に記載。
A16: ２ 主たる対象者を１のとおり特定する理由
B18: 配置されている職員の体制上、最初は身体障害者（肢体不自由者）に
B19: 対し、専門的に特化して対応していくことが適切であると判断したため。
B20: （今後は知的障害者等も対象者に拡大予定。）
A29: ３ 今後における主たる対象者の拡充の予定
A31: （１）拡充予定の有無
C33: あり | D33: ・ | E33: なし
A35: （２）拡充予定の内容及び予定時期
B37: 平成○○年○月頃までに、知的障害者の受け入れを行う。
A39: （３）拡充のための方策
B41: 知的障害者に関する研修の受講や経験者の採用を行い、対応できる人材を確保する。

Sheet 参考様式９（特定相談）
A1: 参考様式９
A3: 障害者の日常生活及び社会生活を総合的に支援するための法律第３６条第３項各号の規定に該当しない旨の誓約書
M5: 41988
B6: 川崎市長 殿
H7: 申請者 | J7: 所在地 | L7: 川崎市川崎区宮本町１－○－○
J8: 名 称 | L8: 社会福祉法人かわさき福祉会
H9: 代表者 | J9: 住 所 | L9: 川崎市中原区下新城１－○－○
J10: 氏 名 | L10: 理事長 川崎 太郎 | R10: 印
A13: 当法人（別紙に記載する役員等を含む。）は、下記に掲げる障害者の日常生活及び社会生活を総合的に支援するための法律第３６条第３項各号の規定のいずれにも該当しないことを誓約します。
A16: 記
A18: 【障害者の日常生活及び社会生活を総合的に支援するための法律第３６条第３項（第４号、第１０号及び第１３号を除く。）の読替後の規定】
A19: １ | B19: 申請者が法人でないとき。
A20: ２ | B20: 当該申請に係る特定相談支援事業所（第五十一条の二十第一項に規定する特定相談支援事業所をいう。以下この項において同じ。）の従業者の知識及び技能並びに人員が、第五十一条の二十四第一項の厚生労働省令で定める基準を満たしていないとき。
A22: ３ | B22: 申請者が、第五十一条の二十四第二項の厚生労働省令で定める指定計画相談支援の事業の運営に関する基準に従って適正な特定相談支援事業の運営をすることができないと認められるとき。
A24: ５ | B24: 申請者が、この法律その他国民の保健医療若しくは福祉に関する法律で政令で定めるものの規定により罰金の刑に処せられ、その執行を終わり、又は執行を受けることがなくなるまでの者であるとき。
A26: ６ | B26: 申請者が、第五十条第一項（同条第三項において準用する場合を含む。以下この項において同じ。）又は第五十一条の二十九第一項若しくは第二項の規定により指定を取り消され、その取消しの日から起算して五年を経過しない者（当該指定を取り消された者が法人である場合においては、当該取消しの処分に係る行政手続法（平成五年法律第八十八号）第十五条の規定による通知があった日前六十日以内に当該法人の役員又はその特定相談支援事業所を管理する者その他の政令で定める使用人（以下「役員等」という。）であった者で当該取消しの日から起算して五年を経過しないものを含み、当該指定を取り消された者が法人でない場合においては、当該通知があった日前六十日以内に当該者の管理者であった者で当該取消しの日から起算して五年を経過しないものを含む。）であるとき。ただし、当該指定の取消しが、指定特定相談支援事業者（第五十一条の十七第一項第一号に規定する指定特定相談支援事業者をいう。以下この項において同じ。）の指定の取消しのうち当該指定の取消しの処分の理由となった事実及び当該事実の発生を防止するための当該指定特定相談支援事業者による業務管理体制の整備についての取組の状況その他の当該事実に関して当該指定特定相談支援事業者が有していた責任の程度を考慮して、この号本文に規定する指定の取消しに該当しないこととすることが相当であると認められるものとして厚生労働省令で定めるものに該当する場合を除く。
A33: ７ | B33: 申請者と密接な関係を有する者（申請者（法人に限る。以下この号において同じ。）の株式の所有その他の事由を通じて当該申請者の事業を実質的に支配し、若しくはその事業に重要な影響を与える関係にある者として厚生労働省令で定めるもの（以下この号において「申請者の親会社等」という。）、申請者の親会社等が株式の所有その他の事由を通じてその事業を実質的に支配し、若しくはその事業に重要な影響を与える関係にある者として厚生労働省令で定めるもの又は当該申請者が株式の所有その他の事由を通じてその事業を実質的に支配し、若しくはその事業に重要な影響を与える関係にある者として厚生労働省令で定めるもののうち、当該申請者と厚生労働省令で定める密接な関係を有する法人をいう。）が、第五十条第一項又は第五十一条の二十九第一項若しくは第二項の規定により指定を取り消され、その取消しの日から起算して五年を経過していないとき。ただし、当該指定の取消しが、指定特定相談支援事業者の指定の取消しのうち当該指定の取消しの処分の理由となった事実及び当該事実の発生を防止するための当該指定特定相談支援事業者による業務管理体制の整備についての取組の状況その他の当該事実に関して当該指定特定相談支援事業者が有していた責任の程度を考慮して、この号本文に規定する指定の取消しに該当しないこととすることが相当であると認められるものとして厚生労働省令で定めるものに該当する場合を除く。
A40: ８ | B40: 申請者が、第五十条第一項又は第五十一条の二十九第一項若しくは第二項の規定による指定の取消しの処分に係る行政手続法第十五条の規定による通知があった日から当該処分をする日又は処分をしないことを決定する日までの間に第四十六条第二項又は第五十一条の二十五第二項若しくは第四項の規定による事業の廃止の届出をした者（当該事業の廃止について相当の理由がある者を除く。）で、当該届出の日から起算して五年を経過しないものであるとき。
A43: ９ | B43: 申請者が、第四十八条第一項（同条第三項において準用する場合を含む。）又は第五十一条の二十七第一項若しくは第二項の規定による検査が行われた日から聴聞決定予定日（当該検査の結果に基づき第五十条第一項又は第五十一条の二十九第一項若しくは第二項の規定による指定の取消しの処分に係る聴聞を行うか否かの決定をすることが見込まれる日として厚生労働省令で定めるところにより都道府県知事又は市町村長が当該申請者に当該検査が行われた日から十日以内に特定の日を通知した場合における当該特定の日をいう。）までの間に第四十六条第二項又は第五十一条の二十五第二項若しくは第四項の規定による事業の廃止の届出をした者（当該事業の廃止について相当の理由がある者を除く。）で、当該届出の日から起算して五年を経過しないものであるとき。
A48: 11 | B48: 申請者が、指定の申請前五年以内に相談支援に関し不正又は著しく不当な行為をした者であるとき。
A49: 12 | B49: 申請者が、法人で、その役員等のうちに第五号、第六号、第八号、第九号又は前号のいずれかに該当する者のあるものであるとき。

Sheet 参考様式9別紙
A1: 参考様式9別紙
A2: 役 員 等 名 簿
J4: 申請者（法人）名 | N4: （社会福祉法人かわさき福祉会）
A5: （ふりがな） | E5: 生年月日 | J5: 住 所 | R5: 押印
A6: 氏 名 | E6: 役職名・呼称 | J6: TEL | N6: FAX
A7: 川崎 太郎 | E7: 昭和○○年○月○日 | J7: 川崎市中原区下新城１－○－○
E8: 理事長 | J8: ****-**-**** | N8: ****-**-****
A9: 田島 芳江 | E9: 昭和○○年○月○日 | J9: 川崎市○○区××１－２
E10: 理事 | J10: ****-**-**** | N10: ****-**-****
A11: 大師 隆 | E11: 昭和○○年○月○日 | J11: 川崎市○○区◎◎町▲▲９０－８０
E12: 理事 | J12: ****-**-**** | N12: ****-**-****
A13: 宮前 恭子 | E13: 昭和○○年○月○日 | J13: 川崎市○○区××１－２
E14: 理事 | J14: ****-**-**** | N14: ****-**-****
A15: 西 多摩夫 | E15: 昭和○○年○月○日 | J15: 川崎市○○区◎◎町▲▲９０－８０
E16: 監事 | J16: ****-**-**** | N16: ****-**-****
A17: 川崎 花子 | E17: 昭和××年××月××日 | J17: 川崎市川崎区○○町１００番地
E18: 管理者 | J18: ****-**-**** | N18: ****-**-****
A39: 注 | B39: 当該法人の役員（業務を執行する社員、取締役、執行役又はこれらに準ずる者をいい、相談役、顧問その他いかなる名称を有する者であるかを問わず、法人に対し業務を執行する社員、取締役、執行役又はこれらに準ずる者と同等以上の支配力を有するものと認められる者を含む。）及び事業所を管理する者について記入・押印してください。

Sheet 管理者誓約書（特定相談）
A1: 指定特定相談支援事業所管理者誓約書
A5: 「障害者の日常生活及び社会生活を総合的に支援するための法律に基づく指定計画相談支援の事業の人員及び運営に関する基準（平成24年3月13日厚生労働省令第28号）」の規定に従い、運営に関する基準を遵守し、当該指定特定相談支援事業所の管理者の責務を適正に果たすことを誓約します。
A10: 41988
A13: 川崎市長 様
A16: 事業者名（開設法人名）
E17: 社会福祉法人かわさき福祉会
A19: 代表者氏名 印
E20: 理事長 川崎 太郎
A22: 事業所名
E23: 相談支援事業所○○かわさき
A25: 管理者氏名 印
E26: 川崎 花子
A32: 障害者の日常生活及び社会生活を総合的に支援するための法律に基づく指定計画相談支援の事業の人員及び運営に関する基準【抜粋】
A34: （管理者の責務）
A35: 第18条 指定特定相談支援事業所の管理者は、当該指定特定相談支援事業所の相談支援専門員その他の 従業者の管理、指定計画相談支援の利用の申込みに係る調整、業務の実施状況の把握その他の管理を 一元的に行わなければならない。
A38: ２ 指定特定相談支援事業所の管理者は、当該指定特定相談支援事業所の相談支援専門員その他の従業 者にこの章の規定を遵守させるため必要な指揮命令を行うものとする。

Sheet 参考様式11
A1: 参考様式１１
A3: 事 業 計 画 書
B5: 事業所名又は施設名 | D5: 相談支援事業所○○かわさき
B6: サービス種類 | D6: 計画相談支援
A8: 項 目 | D8: 内 容
A10: １ 事業の内容 | D10: ●地域の障害者等の福祉に関する問題につき、障害者等、障害児の保護者又は障害者等の介護を行う者からの相談に応じ、必要な情報の提供及び助言を行う。併せて、指定障害福祉サービス事業者等との連絡調整、その他の厚生労働省令で定める便宜を総合的に供与する。 ●利用者が自立した日常生活又は社会生活を営むことができるよう、利用者の心身または家族の状況等に応じ、サービス等利用計画案を作成する。 ●利用者の心身の状況、その置かれている環境及び日常生活全般の状況等の評価を通じて、解決すべき課題等の把握（アセスメント）を行う。 ●サービス担当者会議の開催等により、障害福祉サービス事業所等の担当者にサービス等利用計画案について説明を行うとともに、担当者から専門的な見地から意見を求め、サービス等利用計画を作成する。 ●サービス等利用計画の実施状況の把握（モニタリング）を行い、必要に応じてサービス等利用計画の変更、新たな支給決定等に係る申請の勧奨を行う。
A27: ２ 事業開始年月日 | D27: 平成○○年○月○日
A29: ３ 従業者等の人員 | D29: ・管理者 １名（常勤専従） ・相談支援専門員 ２名（常勤兼務）
A39: ４ 利用者の定員
A44: ５ 研修計画 | D44: ･利用者の人権の擁護、虐待の防止等の研修（年４回）
A50: ６ その他
A54: ※事業計画書は、当該事業所の年間事業計画を作成してください。

Sheet 参考様式12（特定相談）
A1: 計画相談支援事業 開始届出書
F2: 41988
A3: 川崎市長 殿
F5: 川崎市川崎区宮本町１－○－○
D6: 届出者 住所 | F6: 社会福祉法人かわさき福祉会
D7: 氏名 | F7: 理事長 川崎 太郎 印
A9: 次のとおり計画相談支援事業を開始しますので、届け出ます。
A11: １ 経営者の氏名及び住所（法人であるときは、その名称及び主たる事務所の所在地）
B12: 社会福祉法人かわさき福祉会 川崎市川崎区宮本町１－○－○
A14: ２ 職員の定数及び職務の内容
B15: ・管理者 １名（常勤専従）
B16: 管理者は、事業所の従業者の管理及び業務の管理を一元的に行うとともに、 事業所の従業者に対し法令等を遵守させるために必要な指揮命令を行う。
B17: ・相談支援専門員 ２名（常勤兼務２名）
B18: 相談支援専門員は、基本相談支援に関する業務およびサービス等利用計画の 作成に関する業務を行う。
A19: ３ 主な職員の氏名及び経歴
B20: 管理者 川崎 花子
B21: 昭和○年○月○日～平成○年○月○日 特定非営利活動法人○○××園 介護職員
B22: 平成○年○月○日～平成○年○月○日 社会福祉法人○○福祉会●●生活介護 生活支援員
B23: 平成○年○月○日～平成○年○月○日 社会福祉法人○○福祉会相談支援事業所 相談支援専門員
A25: ４ 事業を行おうとする区域（市町村の委託を受けて事業を行おうとする者にあって は、当該市町村の名称を含みます。）
B26: 川崎市○○区、川崎市△△区、川崎市□□区
A28: ５ 事業開始の予定年月日
B29: 平成27年1月１日
A31: 備考１ この届出書は、指定申請書と同時に、政令・中核市に所在する事業所は、それぞれの市に、その他の市町村に所在する事業所は神奈川県に提出してください。

Sheet Sheet1
