Workbook

Sheet 設置予定なし住居
A3: 前回の調査（平成26年４月１日時点）において「障害支援（程度）区分４以上の入居者の占める割合が70％以上で、スプリンクラーを設置できない。」と回答した共同生活住居について、以下の項目にご回答ください。 ※回答期限 平成２６年６月１８日（水）（必着）
A4: 住居が複数ある場合、１住居につき１枚ずつ作成してください。
A6: １ 事業所の概要
B7: (1)法人名・事業所名
C8: 法人名
C10: 事業所名
B12: (2)事業所の所在地
C13: 市区町村名
C14: ※政令指定都市（横浜市・川崎市及び相模原市）の場合は区名までご記入ください。
B15: (3)住居名
C18: 延床面積 | I18: ㎡ | K18: ※ | L18: 同建物でGH以外の事業を行っている 場合、GH事業部分の延床面積 | Y18: ㎡
C20: 定員 | I20: 人 | J20: （１住居ごとに記入）
B22: (4)入居者の状況
B23: 障害支援（程度）区分ごとの人数をご記入ください
B24: a | C24: 区分なし | G24: 人
B25: b | C25: 区分１ | G25: 人
B26: c | C26: 区分２ | G26: 人
B27: d | C27: 区分３ | G27: 人
B28: e | C28: 区分４ | G28: 人
B29: f | C29: 区分５ | G29: 人
B30: g | C30: 区分６ | G30: 人
C31: 合計 | E31: =SUM(E24:F30) -> 0 | G31: 人 | H31: （自動計算されます）
C32: 区分４以上 | E32: =(E28+E29+E30)/E31 -> #DIV/0! | G32: ％ | H32: （自動計算されます）
A34: ２ 設置できない理由について、該当する項目に「１」を記入してください。（複数回答可）
A35: ア | C35: 設置費用（工事費用を含む）を負担できないため。
A36: イ | C36: 水源やポンプ室の設置が土地の制約上困難である
A37: ウ | C37: 建物の構造上配管工事が困難である
A38: エ | C38: スプリンクラー整備の設置工事により、入所者処遇等に相当な困難が生じることが認められる
A39: オ | C39: イからエ以外の理由でスプリンクラー設備の設置が相当困難である
A43: ３ 次の項目にご回答ください。
A44: なお、県では社会福祉施設等耐震化等臨時特例基金（以下、基金）を活用する可能性について検討しています。
A49: （１）スプリンクラー設備の設置意向について
A50: ア | C50: 基金により設備費用を軽減できるのであれば、今年度中に
C51: スプリンクラー設備を設置できる。
A53: イ | C53: 基金により設備費用を軽減できるのであれば、スプリンクラー設備を
C54: 設置したいが、年度内は難しい。
P55: 設置予定時期 | W55: 年 | Z55: 月頃
A57: ウ | C57: 基金を活用できるとしてもスプリンクラー設備を設置できない。
A59: （２）消火ポンプユニットの設置の必要性について
B60: スプリンクラー設備の設置の際、水圧が不十分で防火機能が弱い等により、別に消火ポンプを設置する必要がある場合があります。 既に業者から見積もりをとっている等して、消火ポンプユニットをつける必要性について把握している住居については次の項目に回答ください。
A62: ア | C62: 消火ポンプをつける必要性があることがわかっている
A64: イ | C64: 消火ポンプをつける必要性がないことがわかっている
A66: ウ | C66: 不明
F69: アンケートは以上です。 ご協力ありがとうございました。

Sheet 設置予定あり住居
A3: 前回の調査（平成26年４月１日時点）において「障害支援（程度）区分４以上の入居者の占める割合が10％以上で、スプリンクラーを設置したいと思う。」と回答した共同生活住居について、以下の項目にご回答ください。 ※回答期限 平成２６年６月１８日（水）（必着）
A4: 住居が複数ある場合、１住居につき１枚ずつ作成してください。
A6: １ 事業所の概要
B7: (1)法人名・事業所名
C8: 法人名
C10: 事業所名
B12: (2)事業所の所在地
C13: 市区町村名
C14: ※政令指定都市（横浜市・川崎市及び相模原市）の場合は区名までご記入ください。
B15: (3)住居名
C18: 延床面積 | I18: ㎡ | K18: ※ | L18: 同建物でGH以外の事業を行っている 場合、GH事業部分の延床面積 | Y18: ㎡
C20: 定員 | I20: 人 | J20: （１住居ごとに記入）
B22: (4)入居者の状況
B23: 障害支援（程度）区分ごとの人数をご記入ください
B24: a | C24: 区分なし | G24: 人
B25: b | C25: 区分１ | G25: 人
B26: c | C26: 区分２ | G26: 人
B27: d | C27: 区分３ | G27: 人
B28: e | C28: 区分４ | G28: 人
B29: f | C29: 区分５ | G29: 人
B30: g | C30: 区分６ | G30: 人
C31: 合計 | E31: =SUM(E24:F30) -> 0 | G31: 0 | H31: （自動計算されます）
C32: 区分４以上 | E32: =(E28+E29+E30)/E31 -> #DIV/0! | G32: ％ | H32: （自動計算されます）
A34: ２ スプリンクラー設備の設置予定時期について
E36: 県では社会福祉施設等耐震化等臨時特例基金（以下、基金）を活用する可能性について 検討しています。
A41: ア | C41: 基金により設備費用を軽減できるのであれば、今年度中に
C42: スプリンクラー設備を設置できる。
A44: イ | C44: 基金により設備費用を軽減できるのであれば、スプリンクラー設備を
C45: 設置したいが、年度内は難しい。
P46: 設置予定時期 | W46: 年 | Z46: 月頃
A48: ３ 消火ポンプユニットの設置の必要性について
B49: スプリンクラー設備の設置の際、水圧が不十分で防火機能が弱い等により、別に消火ポンプを設置する必要がある場合があります。 既に業者から見積もりをとっている等して、消火ポンプユニットをつける必要性について把握している住居については次の項目に回答ください。
A51: ア | C51: 消火ポンプをつける必要性があることがわかっている
A53: イ | C53: 消火ポンプをつける必要性がないことがわかっている
A55: ウ | C55: 不明
G57: アンケートは以上です。 ご協力ありがとうございました。

Sheet Sheet1
B1: （集計報告用）
B3: 設置予定なし住居
B4: １．事業所 | E4: 住居名 | F4: ⑦延床面積 | G4: 複合型の場合のGH部分の面積 | H4: 定員 | I4: 入居者の状況 | R4: 設置できない理由 | X4: 基金が使える場合の設置意向 | AC4: ポンプの必要性
B5: (1)法人名 | C5: 事業所名 | D5: (2)所在地 | I5: 区分なし | J5: 区分1 | K5: 区分2 | L5: 区分３ | M5: 区分4 | N5: 区分5 | O5: 区分6 | P5: 合計 | Q5: ４～６の割合 | R5: ア 費用 | S5: イ 土地 | T5: ウ 建物構造 | U5: エ 入居者 | V5: オ その他 | W5: その他の内容 | X5: ア 年度内にできる | Y5: イ 年度内難しいが設置したい | Z5: 年 | AA5: 月 | AB5: ウ 基金あってもムリ | AC5: ア あるとわかっている | AD5: イ ないことわかってる | AE5: ウ 不明
A7: 1 | B7: =設置予定なし住居!C9 -> 0 | C7: =設置予定なし住居!C11 -> 0 | D7: =設置予定なし住居!F13 -> 0 | E7: =設置予定なし住居!C16 -> 0 | F7: =設置予定なし住居!F18 -> 0 | G7: =設置予定なし住居!V18 -> 0 | H7: =設置予定なし住居!F20 -> 0 | I7: =設置予定なし住居!E24 -> 0 | J7: =設置予定なし住居!E25 -> 0 | K7: =設置予定なし住居!E26 -> 0 | L7: =設置予定なし住居!E27 -> 0 | M7: =設置予定なし住居!E28 -> 0 | N7: =設置予定なし住居!E29 -> 0 | O7: =設置予定なし住居!E30 -> 0 | P7: =設置予定なし住居!E31 -> 0 | Q7: =設置予定なし住居!E32 -> #DIV/0! | R7: =設置予定なし住居!B35 -> 0 | S7: =設置予定なし住居!B36 -> 0 | T7: =設置予定なし住居!B37 -> 0 | U7: =設置予定なし住居!B38 -> 0 | V7: =設置予定なし住居!B39 -> 0 | W7: =設置予定なし住居!C40 -> 0 | X7: =設置予定なし住居!B50 -> 0 | Y7: =設置予定なし住居!B53 -> 0 | Z7: =設置予定なし住居!T55 -> 0 | AA7: =設置予定なし住居!X55 -> 0 | AB7: =設置予定なし住居!B57 -> 0 | AC7: =設置予定なし住居!B62 -> 0 | AD7: =設置予定なし住居!B64 -> 0 | AE7: =設置予定なし住居!B66 -> 0
B12: 設置予定あり住居
B13: １．事業所 | E13: 住居名 | F13: ⑦延床面積 | G13: 複合型の場合のGH部分の面積 | H13: 定員 | I13: 入居者の状況 | R13: 基金が使える場合の設置意向 | V13: ポンプの必要性
B14: (1)法人名 | C14: 事業所名 | D14: (2)所在地 | I14: 区分なし | J14: 区分1 | K14: 区分2 | L14: 区分３ | M14: 区分4 | N14: 区分5 | O14: 区分6 | P14: 合計 | Q14: ４～６の割合 | R14: ア 年度内にできる | S14: イ 年度内難しいが設置したい | T14: 年 | U14: 月 | V14: ア あるとわかっている | W14: イ ないことわかってる | X14: ウ 不明
A16: 1 | B16: =設置予定あり住居!C9 -> 0 | C16: =設置予定あり住居!C11 -> 0 | D16: =設置予定あり住居!F13 -> 0 | E16: =設置予定あり住居!C16 -> 0 | F16: =設置予定あり住居!F18 -> 0 | G16: =設置予定あり住居!V18 -> 0 | H16: =設置予定あり住居!F20 -> 0 | I16: =設置予定あり住居!E24 -> 0 | J16: =設置予定あり住居!E25 -> 0 | K16: =設置予定あり住居!E26 -> 0 | L16: =設置予定あり住居!E27 -> 0 | M16: =設置予定あり住居!E28 -> 0 | N16: =設置予定あり住居!E29 -> 0 | O16: =設置予定あり住居!E30 -> 0 | P16: =設置予定あり住居!E31 -> 0 | Q16: =設置予定あり住居!E32 -> #DIV/0! | R16: =設置予定あり住居!B41 -> 0 | S16: =設置予定あり住居!B44 -> 0 | T16: =設置予定あり住居!T46 -> 0 | U16: =設置予定あり住居!X46 -> 0 | V16: =設置予定あり住居!B51 -> 0 | W16: =設置予定あり住居!B53 -> 0 | X16: =設置予定あり住居!B55 -> 0
