Workbook

Sheet 事業所
A2: 障害者グループホームにおけるスプリンクラー設置状況等に関する実態調査票
A3: ※回答期限 平成26年４月28日（月）【厳守願います】
A5: １ 事業所の概要
B6: (1)法人名・事業所名
C7: 法人名
C9: 事業所名
B11: (2)事業所の所在地
C12: 市区町村名
C13: ※政令指定都市（横浜市・川崎市及び相模原市）の場合は区名までご記入ください。
B14: (3)開設年月（和暦）
G15: （記入例）平成26年４月
B16: (4)法人種別
E17: （以下の中から該当する番号を選んで記入してください）
E18: 1 | F18: 地方公共団体 | J18: 5 | K18: 有限会社
E19: 2 | F19: 社会福祉法人 | J19: 6 | K19: 社団・財団法人
E20: 3 | F20: 医療法人 | J20: 7 | K20: 特定非営利活動法人
E21: 4 | F21: 株式会社 | J21: 8 | K21: その他
B22: (5)定員及び住居数
C23: 利用定員 | K23: 人
C24: 共同生活住居数 | K24: 住居
D25: （住居ごとに記入した調査票の枚数と一致しているかご確認ください）
B26: (6)従業者の状況
C27: ①世話人及び生活支援員の配置
D28: 常勤 | K28: 人
D29: 非常勤 | K29: 人
D30: 常勤換算 | K30: 人
D31: ※常勤換算の計算式
D32: 従業者の１週間の勤務延べ時間／施設・事業所が定めている１週間の勤務時間（32時間未満の場合は32時間とする）
C33: ② 夜間支援体制加算の状況（該当するものに「１」を入れてください）
D34: （平成26年度中に加算対象となる予定のものを含む）
E35: 夜間支援体制加算（Ⅰ）
D36: a | F36: 夜間支援対象利用者が４人以下
D37: b | F37: 夜間支援対象利用者が５人
D38: c | F38: 夜間支援対象利用者が６人
D39: d | F39: 夜間支援対象利用者が７人
D40: e | F40: 夜間支援対象利用者が８人以上10人以下
D41: f | F41: 夜間支援対象利用者が11人以上13人以下
D42: g | F42: 夜間支援対象利用者が14人以上16人以下
D43: h | F43: 夜間支援対象利用者が17人以上20人以下
D44: i | F44: 夜間支援対象利用者が21人以上30人以下
...

Sheet 住居
A2: 以下の設問については、共同生活住居ごとにご回答ください。
A3: 住居が複数ある場合、１住居につき１枚ずつ作成してください。
A4: ※回答期限 平成26年４月28日（月）【厳守願います】
B6: 住居名
A7: ２ 設備の状況
B8: (1)建物形態等
C9: ①状況（該当するものに「１」を入れてください）
B10: a | D10: 介護サービス包括型グループホーム
B11: b | D11: 外部サービス利用型グループホーム
C12: ②形態（該当するものに「１」を入れてください）
B13: a | D13: 戸建住宅
B14: b | D14: 集合住宅
B15: c | D15: その他
C16: ③利用部分（集合住宅のみ）
D17: 階建ての | H17: 階部分
C18: ④利用建物（該当するものに「１」を入れてください）
B19: a | D19: 新築
B20: b | D20: 既存建物
C21: ⑤建物の所有（該当するものに「１」を入れてください）
B22: a | D22: 自己所有
B23: b | D23: 賃貸（無償を含む）
C24: ⑥構造（該当するものに「１」を入れてください）
B25: a | D25: ＲＣ造・鉄骨造
B26: b | D26: 木造
B27: c | D27: その他
C28: ⑦面積 | E28: 延床面積 | K28: ㎡
C29: ⑧同一敷地内に併設する施設等の有無（該当するものに「１」を入れてください）
B30: a | D30: 無し
B31: b | D31: 有り
B32: (2)消防法区分（該当するものに「１」を入れてください）
B33: a | D33: 消防法施行令別表第一(6)項ロ
B34: b | D34: 同(6)項ハ
B35: c | D35: 同(16)項イ（グループホームに供する部分が(6)項ハに該当するもの）
B36: d | D36: 同(16)項イ(3以外のもの）
B37: e | D37: その他
B38: (3)消火設備の設置状況等（設置しているものに「１」を入れてください）
B39: a | D39: 消火器
B40: b | D40: 自動火災報知設備（住宅用を除く）
B41: c | D41: 火災通報装置
B42: d | D42: スプリンクラー設備
...

Sheet 住居 2
A2: 以下の設問については、共同生活住居ごとにご回答ください。
A3: 住居が複数ある場合、１住居につき１枚ずつ作成してください。
A4: ※回答期限 平成26年４月28日（月）【厳守願います】
B6: 住居名
A7: ２ 設備の状況
B8: (1)建物形態等
C9: ①状況（該当するものに「１」を入れてください）
B10: a | D10: 介護サービス包括型グループホーム
B11: b | D11: 外部サービス利用型グループホーム
C12: ②形態（該当するものに「１」を入れてください）
B13: a | D13: 戸建住宅
B14: b | D14: 集合住宅
B15: c | D15: その他
C16: ③利用部分（集合住宅のみ）
D17: 階建ての | H17: 階部分
C18: ④利用建物（該当するものに「１」を入れてください）
B19: a | D19: 新築
B20: b | D20: 既存建物
C21: ⑤建物の所有（該当するものに「１」を入れてください）
B22: a | D22: 自己所有
B23: b | D23: 賃貸（無償を含む）
C24: ⑥構造（該当するものに「１」を入れてください）
B25: a | D25: ＲＣ造・鉄骨造
B26: b | D26: 木造
B27: c | D27: その他
C28: ⑦面積 | E28: 延床面積 | K28: ㎡
C29: ⑧同一敷地内に併設する施設等の有無（該当するものに「１」を入れてください）
B30: a | D30: 無し
B31: b | D31: 有り
B32: (2)消防法区分（該当するものに「１」を入れてください）
B33: a | D33: 消防法施行令別表第一(6)項ロ
B34: b | D34: 同(6)項ハ
B35: c | D35: 同(16)項イ（グループホームに供する部分が(6)項ハに該当するもの）
B36: d | D36: 同(16)項イ(3以外のもの）
B37: e | D37: その他
B38: (3)消火設備の設置状況等（設置しているものに「１」を入れてください）
B39: a | D39: 消火器
B40: b | D40: 自動火災報知設備（住宅用を除く）
B41: c | D41: 火災通報装置
B42: d | D42: スプリンクラー設備
...

Sheet 住居 3
A2: 以下の設問については、共同生活住居ごとにご回答ください。
A3: 住居が複数ある場合、１住居につき１枚ずつ作成してください。
A4: ※回答期限 平成26年４月28日（月）【厳守願います】
B6: 住居名
A7: ２ 設備の状況
B8: (1)建物形態等
C9: ①状況（該当するものに「１」を入れてください）
B10: a | D10: 介護サービス包括型グループホーム
B11: b | D11: 外部サービス利用型グループホーム
C12: ②形態（該当するものに「１」を入れてください）
B13: a | D13: 戸建住宅
B14: b | D14: 集合住宅
B15: c | D15: その他
C16: ③利用部分（集合住宅のみ）
D17: 階建ての | H17: 階部分
C18: ④利用建物（該当するものに「１」を入れてください）
B19: a | D19: 新築
B20: b | D20: 既存建物
C21: ⑤建物の所有（該当するものに「１」を入れてください）
B22: a | D22: 自己所有
B23: b | D23: 賃貸（無償を含む）
C24: ⑥構造（該当するものに「１」を入れてください）
B25: a | D25: ＲＣ造・鉄骨造
B26: b | D26: 木造
B27: c | D27: その他
C28: ⑦面積 | E28: 延床面積 | K28: ㎡
C29: ⑧同一敷地内に併設する施設等の有無（該当するものに「１」を入れてください）
B30: a | D30: 無し
B31: b | D31: 有り
B32: (2)消防法区分（該当するものに「１」を入れてください）
B33: a | D33: 消防法施行令別表第一(6)項ロ
B34: b | D34: 同(6)項ハ
B35: c | D35: 同(16)項イ（グループホームに供する部分が(6)項ハに該当するもの）
B36: d | D36: 同(16)項イ(3以外のもの）
B37: e | D37: その他
B38: (3)消火設備の設置状況等（設置しているものに「１」を入れてください）
B39: a | D39: 消火器
B40: b | D40: 自動火災報知設備（住宅用を除く）
B41: c | D41: 火災通報装置
B42: d | D42: スプリンクラー設備
...

Sheet 住居 4
A2: 以下の設問については、共同生活住居ごとにご回答ください。
A3: 住居が複数ある場合、１住居につき１枚ずつ作成してください。
A4: ※回答期限 平成26年４月28日（月）【厳守願います】
B6: 住居名
A7: ２ 設備の状況
B8: (1)建物形態等
C9: ①状況（該当するものに「１」を入れてください）
B10: a | D10: 介護サービス包括型グループホーム
B11: b | D11: 外部サービス利用型グループホーム
C12: ②形態（該当するものに「１」を入れてください）
B13: a | D13: 戸建住宅
B14: b | D14: 集合住宅
B15: c | D15: その他
C16: ③利用部分（集合住宅のみ）
D17: 階建ての | H17: 階部分
C18: ④利用建物（該当するものに「１」を入れてください）
B19: a | D19: 新築
B20: b | D20: 既存建物
C21: ⑤建物の所有（該当するものに「１」を入れてください）
B22: a | D22: 自己所有
B23: b | D23: 賃貸（無償を含む）
C24: ⑥構造（該当するものに「１」を入れてください）
B25: a | D25: ＲＣ造・鉄骨造
B26: b | D26: 木造
B27: c | D27: その他
C28: ⑦面積 | E28: 延床面積 | K28: ㎡
C29: ⑧同一敷地内に併設する施設等の有無（該当するものに「１」を入れてください）
B30: a | D30: 無し
B31: b | D31: 有り
B32: (2)消防法区分（該当するものに「１」を入れてください）
B33: a | D33: 消防法施行令別表第一(6)項ロ
B34: b | D34: 同(6)項ハ
B35: c | D35: 同(16)項イ（グループホームに供する部分が(6)項ハに該当するもの）
B36: d | D36: 同(16)項イ(3以外のもの）
B37: e | D37: その他
B38: (3)消火設備の設置状況等（設置しているものに「１」を入れてください）
B39: a | D39: 消火器
B40: b | D40: 自動火災報知設備（住宅用を除く）
B41: c | D41: 火災通報装置
B42: d | D42: スプリンクラー設備
...

Sheet 住居 5
A2: 以下の設問については、共同生活住居ごとにご回答ください。
A3: 住居が複数ある場合、１住居につき１枚ずつ作成してください。
A4: ※回答期限 平成26年４月28日（月）【厳守願います】
B6: 住居名
A7: ２ 設備の状況
B8: (1)建物形態等
C9: ①状況（該当するものに「１」を入れてください）
B10: a | D10: 介護サービス包括型グループホーム
B11: b | D11: 外部サービス利用型グループホーム
C12: ②形態（該当するものに「１」を入れてください）
B13: a | D13: 戸建住宅
B14: b | D14: 集合住宅
B15: c | D15: その他
C16: ③利用部分（集合住宅のみ）
D17: 階建ての | H17: 階部分
C18: ④利用建物（該当するものに「１」を入れてください）
B19: a | D19: 新築
B20: b | D20: 既存建物
C21: ⑤建物の所有（該当するものに「１」を入れてください）
B22: a | D22: 自己所有
B23: b | D23: 賃貸（無償を含む）
C24: ⑥構造（該当するものに「１」を入れてください）
B25: a | D25: ＲＣ造・鉄骨造
B26: b | D26: 木造
B27: c | D27: その他
C28: ⑦面積 | E28: 延床面積 | K28: ㎡
C29: ⑧同一敷地内に併設する施設等の有無（該当するものに「１」を入れてください）
B30: a | D30: 無し
B31: b | D31: 有り
B32: (2)消防法区分（該当するものに「１」を入れてください）
B33: a | D33: 消防法施行令別表第一(6)項ロ
B34: b | D34: 同(6)項ハ
B35: c | D35: 同(16)項イ（グループホームに供する部分が(6)項ハに該当するもの）
B36: d | D36: 同(16)項イ(3以外のもの）
B37: e | D37: その他
B38: (3)消火設備の設置状況等（設置しているものに「１」を入れてください）
B39: a | D39: 消火器
B40: b | D40: 自動火災報知設備（住宅用を除く）
B41: c | D41: 火災通報装置
B42: d | D42: スプリンクラー設備
...

Sheet 住居 6
A2: 以下の設問については、共同生活住居ごとにご回答ください。
A3: 住居が複数ある場合、１住居につき１枚ずつ作成してください。
A4: ※回答期限 平成26年４月28日（月）【厳守願います】
B6: 住居名
A7: ２ 設備の状況
B8: (1)建物形態等
C9: ①状況（該当するものに「１」を入れてください）
B10: a | D10: 介護サービス包括型グループホーム
B11: b | D11: 外部サービス利用型グループホーム
C12: ②形態（該当するものに「１」を入れてください）
B13: a | D13: 戸建住宅
B14: b | D14: 集合住宅
B15: c | D15: その他
C16: ③利用部分（集合住宅のみ）
D17: 階建ての | H17: 階部分
C18: ④利用建物（該当するものに「１」を入れてください）
B19: a | D19: 新築
B20: b | D20: 既存建物
C21: ⑤建物の所有（該当するものに「１」を入れてください）
B22: a | D22: 自己所有
B23: b | D23: 賃貸（無償を含む）
C24: ⑥構造（該当するものに「１」を入れてください）
B25: a | D25: ＲＣ造・鉄骨造
B26: b | D26: 木造
B27: c | D27: その他
C28: ⑦面積 | E28: 延床面積 | K28: ㎡
C29: ⑧同一敷地内に併設する施設等の有無（該当するものに「１」を入れてください）
B30: a | D30: 無し
B31: b | D31: 有り
B32: (2)消防法区分（該当するものに「１」を入れてください）
B33: a | D33: 消防法施行令別表第一(6)項ロ
B34: b | D34: 同(6)項ハ
B35: c | D35: 同(16)項イ（グループホームに供する部分が(6)項ハに該当するもの）
B36: d | D36: 同(16)項イ(3以外のもの）
B37: e | D37: その他
B38: (3)消火設備の設置状況等（設置しているものに「１」を入れてください）
B39: a | D39: 消火器
B40: b | D40: 自動火災報知設備（住宅用を除く）
B41: c | D41: 火災通報装置
B42: d | D42: スプリンクラー設備
...

Sheet 住居 7
A2: 以下の設問については、共同生活住居ごとにご回答ください。
A3: 住居が複数ある場合、１住居につき１枚ずつ作成してください。
A4: ※回答期限 平成26年４月28日（月）【厳守願います】
B6: 住居名
A7: ２ 設備の状況
B8: (1)建物形態等
C9: ①状況（該当するものに「１」を入れてください）
B10: a | D10: 介護サービス包括型グループホーム
B11: b | D11: 外部サービス利用型グループホーム
C12: ②形態（該当するものに「１」を入れてください）
B13: a | D13: 戸建住宅
B14: b | D14: 集合住宅
B15: c | D15: その他
C16: ③利用部分（集合住宅のみ）
D17: 階建ての | H17: 階部分
C18: ④利用建物（該当するものに「１」を入れてください）
B19: a | D19: 新築
B20: b | D20: 既存建物
C21: ⑤建物の所有（該当するものに「１」を入れてください）
B22: a | D22: 自己所有
B23: b | D23: 賃貸（無償を含む）
C24: ⑥構造（該当するものに「１」を入れてください）
B25: a | D25: ＲＣ造・鉄骨造
B26: b | D26: 木造
B27: c | D27: その他
C28: ⑦面積 | E28: 延床面積 | K28: ㎡
C29: ⑧同一敷地内に併設する施設等の有無（該当するものに「１」を入れてください）
B30: a | D30: 無し
B31: b | D31: 有り
B32: (2)消防法区分（該当するものに「１」を入れてください）
B33: a | D33: 消防法施行令別表第一(6)項ロ
B34: b | D34: 同(6)項ハ
B35: c | D35: 同(16)項イ（グループホームに供する部分が(6)項ハに該当するもの）
B36: d | D36: 同(16)項イ(3以外のもの）
B37: e | D37: その他
B38: (3)消火設備の設置状況等（設置しているものに「１」を入れてください）
B39: a | D39: 消火器
B40: b | D40: 自動火災報知設備（住宅用を除く）
B41: c | D41: 火災通報装置
B42: d | D42: スプリンクラー設備
...

Sheet 住居 8
A2: 以下の設問については、共同生活住居ごとにご回答ください。
A3: 住居が複数ある場合、１住居につき１枚ずつ作成してください。
A4: ※回答期限 平成26年４月28日（月）【厳守願います】
B6: 住居名
A7: ２ 設備の状況
B8: (1)建物形態等
C9: ①状況（該当するものに「１」を入れてください）
B10: a | D10: 介護サービス包括型グループホーム
B11: b | D11: 外部サービス利用型グループホーム
C12: ②形態（該当するものに「１」を入れてください）
B13: a | D13: 戸建住宅
B14: b | D14: 集合住宅
B15: c | D15: その他
C16: ③利用部分（集合住宅のみ）
D17: 階建ての | H17: 階部分
C18: ④利用建物（該当するものに「１」を入れてください）
B19: a | D19: 新築
B20: b | D20: 既存建物
C21: ⑤建物の所有（該当するものに「１」を入れてください）
B22: a | D22: 自己所有
B23: b | D23: 賃貸（無償を含む）
C24: ⑥構造（該当するものに「１」を入れてください）
B25: a | D25: ＲＣ造・鉄骨造
B26: b | D26: 木造
B27: c | D27: その他
C28: ⑦面積 | E28: 延床面積 | K28: ㎡
C29: ⑧同一敷地内に併設する施設等の有無（該当するものに「１」を入れてください）
B30: a | D30: 無し
B31: b | D31: 有り
B32: (2)消防法区分（該当するものに「１」を入れてください）
B33: a | D33: 消防法施行令別表第一(6)項ロ
B34: b | D34: 同(6)項ハ
B35: c | D35: 同(16)項イ（グループホームに供する部分が(6)項ハに該当するもの）
B36: d | D36: 同(16)項イ(3以外のもの）
B37: e | D37: その他
B38: (3)消火設備の設置状況等（設置しているものに「１」を入れてください）
B39: a | D39: 消火器
B40: b | D40: 自動火災報知設備（住宅用を除く）
B41: c | D41: 火災通報装置
B42: d | D42: スプリンクラー設備
...

Sheet 住居 9
A2: 以下の設問については、共同生活住居ごとにご回答ください。
A3: 住居が複数ある場合、１住居につき１枚ずつ作成してください。
A4: ※回答期限 平成26年４月28日（月）【厳守願います】
B6: 住居名
A7: ２ 設備の状況
B8: (1)建物形態等
C9: ①状況（該当するものに「１」を入れてください）
B10: a | D10: 介護サービス包括型グループホーム
B11: b | D11: 外部サービス利用型グループホーム
C12: ②形態（該当するものに「１」を入れてください）
B13: a | D13: 戸建住宅
B14: b | D14: 集合住宅
B15: c | D15: その他
C16: ③利用部分（集合住宅のみ）
D17: 階建ての | H17: 階部分
C18: ④利用建物（該当するものに「１」を入れてください）
B19: a | D19: 新築
B20: b | D20: 既存建物
C21: ⑤建物の所有（該当するものに「１」を入れてください）
B22: a | D22: 自己所有
B23: b | D23: 賃貸（無償を含む）
C24: ⑥構造（該当するものに「１」を入れてください）
B25: a | D25: ＲＣ造・鉄骨造
B26: b | D26: 木造
B27: c | D27: その他
C28: ⑦面積 | E28: 延床面積 | K28: ㎡
C29: ⑧同一敷地内に併設する施設等の有無（該当するものに「１」を入れてください）
B30: a | D30: 無し
B31: b | D31: 有り
B32: (2)消防法区分（該当するものに「１」を入れてください）
B33: a | D33: 消防法施行令別表第一(6)項ロ
B34: b | D34: 同(6)項ハ
B35: c | D35: 同(16)項イ（グループホームに供する部分が(6)項ハに該当するもの）
B36: d | D36: 同(16)項イ(3以外のもの）
B37: e | D37: その他
B38: (3)消火設備の設置状況等（設置しているものに「１」を入れてください）
B39: a | D39: 消火器
B40: b | D40: 自動火災報知設備（住宅用を除く）
B41: c | D41: 火災通報装置
B42: d | D42: スプリンクラー設備
...

Sheet 住居 10
A2: 以下の設問については、共同生活住居ごとにご回答ください。
A3: 住居が複数ある場合、１住居につき１枚ずつ作成してください。
A4: ※回答期限 平成26年４月28日（月）【厳守願います】
B6: 住居名
A7: ２ 設備の状況
B8: (1)建物形態等
C9: ①状況（該当するものに「１」を入れてください）
B10: a | D10: 介護サービス包括型グループホーム
B11: b | D11: 外部サービス利用型グループホーム
C12: ②形態（該当するものに「１」を入れてください）
B13: a | D13: 戸建住宅
B14: b | D14: 集合住宅
B15: c | D15: その他
C16: ③利用部分（集合住宅のみ）
D17: 階建ての | H17: 階部分
C18: ④利用建物（該当するものに「１」を入れてください）
B19: a | D19: 新築
B20: b | D20: 既存建物
C21: ⑤建物の所有（該当するものに「１」を入れてください）
B22: a | D22: 自己所有
B23: b | D23: 賃貸（無償を含む）
C24: ⑥構造（該当するものに「１」を入れてください）
B25: a | D25: ＲＣ造・鉄骨造
B26: b | D26: 木造
B27: c | D27: その他
C28: ⑦面積 | E28: 延床面積 | K28: ㎡
C29: ⑧同一敷地内に併設する施設等の有無（該当するものに「１」を入れてください）
B30: a | D30: 無し
B31: b | D31: 有り
B32: (2)消防法区分（該当するものに「１」を入れてください）
B33: a | D33: 消防法施行令別表第一(6)項ロ
B34: b | D34: 同(6)項ハ
B35: c | D35: 同(16)項イ（グループホームに供する部分が(6)項ハに該当するもの）
B36: d | D36: 同(16)項イ(3以外のもの）
B37: e | D37: その他
B38: (3)消火設備の設置状況等（設置しているものに「１」を入れてください）
B39: a | D39: 消火器
B40: b | D40: 自動火災報知設備（住宅用を除く）
B41: c | D41: 火災通報装置
B42: d | D42: スプリンクラー設備
...

Sheet 集計シート
B1: １．事業所 | AH1: 住居名 | AI1: ２．設備の状況 | BH1: 3 入居者の状況 | BO1: 4 スプリンクラーの設置について
B2: (1)法人名 | C2: 事業所名 | D2: 市区町村名 | E2: (2)所在地 | F2: (3)開設年月 | G2: (4)法人種別 | H2: (5)定員 | I2: 住居数 | J2: (6)①常勤 | K2: 非常勤 | L2: 常勤換算 | M2: 夜間支援体制加算a | N2: b | O2: c | P2: d | Q2: e | R2: f | S2: g | T2: h | U2: i | V2: j | W2: k | X2: l | Y2: m | Z2: n | AA2: o | AB2: p | AC2: q | AD2: r | AE2: s | AF2: t | AG2: (7)地域生活移行状況 | AI2: (1)①状況 a | AJ2: b | AK2: ②形態a | AL2: b | AM2: c | AN2: ③利用部分 | AO2: ④利用建物a | AP2: ｂ | AQ2: ⑤所有a | AR2: b | AS2: ⑥構造a | AT2: b | AU2: c | AV2: ⑦延床面積 | AW2: ⑧併設施設a | AX2: b | AY2: (2)消防区分a | AZ2: b | BA2: c | BB2: d | BC2: e | BD2: (3)消火設備の設置状況
BD3: a | BE3: b | BF3: c | BG3: d | BH3: a | BI3: b | BJ3: c | BK3: d | BL3: e | BM3: f | BN3: g | BO3: ア | BP3: イ | BQ3: ウ | BR3: エ | BS3: オ | BT3: カ
A4: 1 | B4: =事業所!C8 -> 0 | C4: =事業所!C10 -> 0 | D4: =事業所!F12 -> 0 | E4: =事業所!F12 -> 0 | F4: =事業所!C15 -> 0 | G4: =事業所!C17 -> 0 | H4: =事業所!H23 -> 0 | I4: =事業所!H24 -> 0 | J4: =事業所!H28 -> 0 | K4: =事業所!H29 -> 0 | L4: =事業所!H30 -> 0 | M4: =事業所!E36 -> 0 | N4: =事業所!E37 -> 0 | O4: =事業所!E38 -> 0 | P4: =事業所!E39 -> 0 | Q4: =事業所!E40 -> 0 | R4: =事業所!E41 -> 0 | S4: =事業所!E42 -> 0 | T4: =事業所!E43 -> 0 | U4: =事業所!E44 -> 0 | V4: =事業所!E46 -> 0 | W4: =事業所!E47 -> 0 | X4: =事業所!E48 -> 0 | Y4: =事業所!E49 -> 0 | Z4: =事業所!E50 -> 0 | AA4: =事業所!E51 -> 0 | AB4: =事業所!E52 -> 0 | AC4: =事業所!E53 -> 0 | AD4: =事業所!E54 -> 0 | AE4: =事業所!D55 -> 0 | AF4: =事業所!D56 -> 0 | AG4: =事業所!Y36 -> 0 | AH4: =住居!D6 -> 0 | AI4: =住居!C10 -> 0 | AJ4: =住居!C11 -> 0 | AK4: =住居!C13 -> 0 | AL4: =住居!C14 -> 0 | AM4: =住居!C15 -> 0 | AN4: =住居!C17 -> 0 | AO4: =住居!C19 -> 0 | AP4: =住居!C20 -> 0 | AQ4: =住居!C22 -> 0 | AR4: =住居!C23 -> 0 | AS4: =住居!C25 -> 0 | AT4: =住居!C26 -> 0 | AU4: =住居!C27 -> 0 | AV4: =住居!H28 -> 0 | AW4: =住居!C30 -> 0 | AX4: =住居!C31 -> 0 | AY4: =住居!C33 -> 0 | AZ4: =住居!C34 -> 0 | BA4: =住居!C35 -> 0 | BB4: =住居!C36 -> 0 | BC4: =住居!C37 -> 0 | BD4: =住居!C39 -> 0 | BE4: =住居!C40 -> 0 | BF4: =住居!C41 -> 0 | BG4: =住居!C42 -> 0 | BH4: =住居!E46 -> 0 | BI4: =住居!E47 -> 0 | BJ4: =住居!E48 -> 0 | BK4: =住居!E49 -> 0 | BL4: =住居!E50 -> 0 | BM4: =住居!E51 -> 0 | BN4: =住居!E52 -> 0 | BO4: =住居!C57 -> 0 | BP4: =住居!C58 -> 0 | BQ4: =住居!C59 -> 0 | BR4: =住居!C64 -> 0 | BS4: =住居!C65 -> 0 | BT4: =住居!C66 -> 0
A5: 2 | AH5: ='住居 2'!D6 -> 0 | AI5: ='住居 2'!C10 -> 0 | AJ5: ='住居 2'!C11 -> 0 | AK5: ='住居 2'!C13 -> 0 | AL5: ='住居 2'!C14 -> 0 | AM5: ='住居 2'!C15 -> 0 | AN5: ='住居 2'!C17 -> 0 | AO5: ='住居 2'!C19 -> 0 | AP5: ='住居 2'!C20 -> 0 | AQ5: ='住居 2'!C22 -> 0 | AR5: ='住居 2'!C23 -> 0 | AS5: ='住居 2'!C25 -> 0 | AT5: ='住居 2'!C26 -> 0 | AU5: ='住居 2'!C27 -> 0 | AV5: ='住居 2'!H28 -> 0 | AW5: ='住居 2'!C30 -> 0 | AX5: ='住居 2'!C31 -> 0 | AY5: ='住居 2'!C33 -> 0 | AZ5: ='住居 2'!C34 -> 0 | BA5: ='住居 2'!C35 -> 0 | BB5: ='住居 2'!C36 -> 0 | BC5: ='住居 2'!C37 -> 0 | BD5: ='住居 2'!C39 -> 0 | BE5: ='住居 2'!C40 -> 0 | BF5: ='住居 2'!C41 -> 0 | BG5: ='住居 2'!C42 -> 0 | BH5: ='住居 2'!E46 -> 0 | BI5: ='住居 2'!E47 -> 0 | BJ5: ='住居 2'!E48 -> 0 | BK5: ='住居 2'!E49 -> 0 | BL5: ='住居 2'!E50 -> 0 | BM5: ='住居 2'!E51 -> 0 | BN5: ='住居 2'!E52 -> 0 | BO5: ='住居 2'!C57 -> 0 | BP5: ='住居 2'!C58 -> 0 | BQ5: ='住居 2'!C59 -> 0 | BR5: ='住居 2'!C64 -> 0 | BS5: ='住居 2'!C65 -> 0 | BT5: ='住居 2'!C66 -> 0
A6: 3 | AH6: ='住居 3'!D6 -> 0 | AI6: ='住居 3'!C10 -> 0 | AJ6: ='住居 3'!C11 -> 0 | AK6: ='住居 3'!C13 -> 0 | AL6: ='住居 3'!C14 -> 0 | AM6: ='住居 3'!C15 -> 0 | AN6: ='住居 3'!C17 -> 0 | AO6: ='住居 3'!C19 -> 0 | AP6: ='住居 3'!C20 -> 0 | AQ6: ='住居 3'!C22 -> 0 | AR6: ='住居 3'!C23 -> 0 | AS6: ='住居 3'!C25 -> 0 | AT6: ='住居 3'!C26 -> 0 | AU6: ='住居 3'!C27 -> 0 | AV6: ='住居 3'!H28 -> 0 | AW6: ='住居 3'!C30 -> 0 | AX6: ='住居 3'!C31 -> 0 | AY6: ='住居 3'!C33 -> 0 | AZ6: ='住居 3'!C34 -> 0 | BA6: ='住居 3'!C35 -> 0 | BB6: ='住居 3'!C36 -> 0 | BC6: ='住居 3'!C37 -> 0 | BD6: ='住居 3'!C39 -> 0 | BE6: ='住居 3'!C41 -> 0 | BF6: ='住居 3'!C41 -> 0 | BG6: ='住居 3'!C42 -> 0 | BH6: ='住居 3'!E46 -> 0 | BI6: ='住居 3'!E47 -> 0 | BJ6: ='住居 3'!E48 -> 0 | BK6: ='住居 3'!E49 -> 0 | BL6: ='住居 3'!E50 -> 0 | BM6: ='住居 3'!E51 -> 0 | BN6: ='住居 3'!E52 -> 0 | BO6: ='住居 3'!C57 -> 0 | BP6: ='住居 3'!C58 -> 0 | BQ6: ='住居 3'!C59 -> 0 | BR6: ='住居 3'!C64 -> 0 | BS6: ='住居 3'!C65 -> 0 | BT6: ='住居 3'!C66 -> 0
A7: 4 | AH7: ='住居 4'!D6 -> 0 | AI7: ='住居 4'!C10 -> 0 | AJ7: ='住居 4'!C11 -> 0 | AK7: ='住居 4'!C13 -> 0 | AL7: ='住居 4'!C14 -> 0 | AM7: ='住居 4'!C15 -> 0 | AN7: ='住居 4'!C17 -> 0 | AO7: ='住居 4'!C19 -> 0 | AP7: ='住居 4'!C20 -> 0 | AQ7: ='住居 4'!C22 -> 0 | AR7: ='住居 4'!C23 -> 0 | AS7: ='住居 4'!C25 -> 0 | AT7: ='住居 4'!C26 -> 0 | AU7: ='住居 4'!C27 -> 0 | AV7: ='住居 4'!H28 -> 0 | AW7: ='住居 4'!C30 -> 0 | AX7: ='住居 4'!C31 -> 0 | AY7: ='住居 4'!C33 -> 0 | AZ7: ='住居 4'!C34 -> 0 | BA7: ='住居 4'!C35 -> 0 | BB7: ='住居 4'!C36 -> 0 | BC7: ='住居 4'!C37 -> 0 | BD7: ='住居 4'!C39 -> 0 | BE7: ='住居 4'!C40 -> 0 | BF7: ='住居 4'!C41 -> 0 | BG7: ='住居 4'!C42 -> 0 | BH7: ='住居 4'!E46 -> 0 | BI7: ='住居 4'!E47 -> 0 | BJ7: ='住居 4'!E48 -> 0 | BK7: ='住居 4'!E49 -> 0 | BL7: ='住居 4'!E50 -> 0 | BM7: ='住居 4'!E51 -> 0 | BN7: ='住居 4'!E52 -> 0 | BO7: ='住居 4'!C57 -> 0 | BP7: ='住居 4'!C58 -> 0 | BQ7: ='住居 4'!C59 -> 0 | BR7: ='住居 4'!C68 -> 0 | BS7: ='住居 4'!C69 -> 0 | BT7: ='住居 4'!C70 -> 0
A8: 5 | AH8: ='住居 5'!D6 -> 0 | AI8: ='住居 5'!C10 -> 0 | AJ8: ='住居 5'!C11 -> 0 | AK8: ='住居 5'!C13 -> 0 | AL8: ='住居 5'!C14 -> 0 | AM8: ='住居 5'!C15 -> 0 | AN8: ='住居 5'!C17 -> 0 | AO8: ='住居 5'!C19 -> 0 | AP8: ='住居 5'!C20 -> 0 | AQ8: ='住居 5'!C22 -> 0 | AR8: ='住居 5'!C23 -> 0 | AS8: ='住居 5'!C25 -> 0 | AT8: ='住居 5'!C26 -> 0 | AU8: ='住居 5'!C27 -> 0 | AV8: ='住居 5'!H28 -> 0 | AW8: ='住居 5'!C30 -> 0 | AX8: ='住居 5'!C31 -> 0 | AY8: ='住居 5'!C33 -> 0 | AZ8: ='住居 5'!C34 -> 0 | BA8: ='住居 5'!C35 -> 0 | BB8: ='住居 5'!C36 -> 0 | BC8: ='住居 5'!C37 -> 0 | BD8: ='住居 5'!C39 -> 0 | BE8: ='住居 5'!C40 -> 0 | BF8: ='住居 5'!C41 -> 0 | BG8: ='住居 5'!C42 -> 0 | BH8: ='住居 5'!E46 -> 0 | BI8: ='住居 5'!E47 -> 0 | BJ8: ='住居 5'!E48 -> 0 | BK8: ='住居 5'!E49 -> 0 | BL8: ='住居 5'!E50 -> 0 | BM8: ='住居 5'!E51 -> 0 | BN8: ='住居 5'!E52 -> 0 | BO8: ='住居 5'!C57 -> 0 | BP8: ='住居 5'!C58 -> 0 | BQ8: ='住居 5'!C59 -> 0 | BR8: ='住居 5'!C68 -> 0 | BS8: ='住居 5'!C69 -> 0 | BT8: ='住居 5'!C70 -> 0
A9: 6 | AH9: ='住居 6'!D6 -> 0 | AI9: ='住居 6'!C10 -> 0 | AJ9: ='住居 6'!C11 -> 0 | AK9: ='住居 6'!C13 -> 0 | AL9: ='住居 6'!C14 -> 0 | AM9: ='住居 6'!C15 -> 0 | AN9: ='住居 6'!C17 -> 0 | AO9: ='住居 6'!C19 -> 0 | AP9: ='住居 6'!C20 -> 0 | AQ9: ='住居 6'!C22 -> 0 | AR9: ='住居 6'!C23 -> 0 | AS9: ='住居 6'!C25 -> 0 | AT9: ='住居 6'!C26 -> 0 | AU9: ='住居 6'!C27 -> 0 | AV9: ='住居 6'!H28 -> 0 | AW9: ='住居 6'!C30 -> 0 | AX9: ='住居 6'!C31 -> 0 | AY9: ='住居 6'!C33 -> 0 | AZ9: ='住居 6'!C34 -> 0 | BA9: ='住居 6'!C35 -> 0 | BB9: ='住居 6'!C36 -> 0 | BC9: ='住居 6'!C37 -> 0 | BD9: ='住居 6'!C39 -> 0 | BE9: ='住居 6'!C40 -> 0 | BF9: ='住居 6'!C41 -> 0 | BG9: ='住居 6'!C42 -> 0 | BH9: ='住居 6'!E46 -> 0 | BI9: ='住居 6'!E47 -> 0 | BJ9: ='住居 6'!E48 -> 0 | BK9: ='住居 6'!E49 -> 0 | BL9: ='住居 6'!E50 -> 0 | BM9: ='住居 6'!E51 -> 0 | BN9: ='住居 6'!E52 -> 0 | BO9: ='住居 6'!C57 -> 0 | BP9: ='住居 6'!C58 -> 0 | BQ9: ='住居 6'!C59 -> 0 | BR9: ='住居 6'!C68 -> 0 | BS9: ='住居 6'!C69 -> 0 | BT9: ='住居 6'!C70 -> 0
A10: 7 | AH10: ='住居 7'!D6 -> 0 | AI10: ='住居 7'!C10 -> 0 | AJ10: ='住居 7'!C11 -> 0 | AK10: ='住居 7'!C13 -> 0 | AL10: ='住居 7'!C14 -> 0 | AM10: ='住居 7'!C15 -> 0 | AN10: ='住居 7'!C17 -> 0 | AO10: ='住居 7'!C19 -> 0 | AP10: ='住居 7'!C20 -> 0 | AQ10: ='住居 7'!C22 -> 0 | AR10: ='住居 7'!C23 -> 0 | AS10: ='住居 7'!C25 -> 0 | AT10: ='住居 7'!C26 -> 0 | AU10: ='住居 7'!C27 -> 0 | AV10: ='住居 7'!H28 -> 0 | AW10: ='住居 7'!C30 -> 0 | AX10: ='住居 7'!C31 -> 0 | AY10: ='住居 7'!C33 -> 0 | AZ10: ='住居 7'!C34 -> 0 | BA10: ='住居 7'!C35 -> 0 | BB10: ='住居 7'!C36 -> 0 | BC10: ='住居 8'!C37 -> 0 | BD10: ='住居 7'!C39 -> 0 | BE10: ='住居 7'!C40 -> 0 | BF10: ='住居 7'!C41 -> 0 | BG10: ='住居 7'!C42 -> 0 | BH10: ='住居 7'!E46 -> 0 | BI10: ='住居 7'!E47 -> 0 | BJ10: ='住居 7'!E48 -> 0 | BK10: ='住居 7'!E49 -> 0 | BL10: ='住居 7'!E50 -> 0 | BM10: ='住居 7'!E51 -> 0 | BN10: ='住居 7'!E52 -> 0 | BO10: ='住居 7'!C57 -> 0 | BP10: ='住居 7'!C58 -> 0 | BQ10: ='住居 7'!C59 -> 0 | BR10: ='住居 7'!C68 -> 0 | BS10: ='住居 7'!C69 -> 0 | BT10: ='住居 7'!C70 -> 0
A11: 8 | AH11: ='住居 8'!D6 -> 0 | AI11: ='住居 8'!C10 -> 0 | AJ11: ='住居 8'!C11 -> 0 | AK11: ='住居 8'!C13 -> 0 | AL11: ='住居 8'!C14 -> 0 | AM11: ='住居 8'!C15 -> 0 | AN11: ='住居 8'!C17 -> 0 | AO11: ='住居 8'!C19 -> 0 | AP11: ='住居 8'!C20 -> 0 | AQ11: ='住居 8'!C22 -> 0 | AR11: ='住居 8'!C23 -> 0 | AS11: ='住居 8'!C25 -> 0 | AT11: ='住居 8'!C26 -> 0 | AU11: ='住居 8'!C27 -> 0 | AV11: ='住居 8'!H28 -> 0 | AW11: ='住居 8'!C30 -> 0 | AX11: ='住居 8'!C31 -> 0 | AY11: ='住居 8'!C33 -> 0 | AZ11: ='住居 8'!C34 -> 0 | BA11: ='住居 8'!C35 -> 0 | BB11: ='住居 8'!C36 -> 0 | BC11: ='住居 8'!C37 -> 0 | BD11: ='住居 8'!C39 -> 0 | BE11: ='住居 8'!C40 -> 0 | BF11: ='住居 8'!C41 -> 0 | BG11: ='住居 8'!C42 -> 0 | BH11: ='住居 8'!E46 -> 0 | BI11: ='住居 8'!E47 -> 0 | BJ11: ='住居 8'!E48 -> 0 | BK11: ='住居 8'!E49 -> 0 | BL11: ='住居 8'!E50 -> 0 | BM11: ='住居 8'!E51 -> 0 | BN11: ='住居 8'!E52 -> 0 | BO11: ='住居 8'!C57 -> 0 | BP11: ='住居 8'!C58 -> 0 | BQ11: ='住居 8'!C59 -> 0 | BR11: ='住居 8'!C68 -> 0 | BS11: ='住居 8'!C69 -> 0 | BT11: ='住居 8'!C70 -> 0
A12: 9 | AH12: ='住居 9'!D6 -> 0 | AI12: ='住居 9'!C10 -> 0 | AJ12: ='住居 9'!C11 -> 0 | AK12: ='住居 9'!C13 -> 0 | AL12: ='住居 9'!C14 -> 0 | AM12: ='住居 9'!C15 -> 0 | AN12: ='住居 9'!C17 -> 0 | AO12: ='住居 9'!C19 -> 0 | AP12: ='住居 9'!C20 -> 0 | AQ12: ='住居 9'!C22 -> 0 | AR12: ='住居 9'!C23 -> 0 | AS12: ='住居 9'!C25 -> 0 | AT12: ='住居 9'!C26 -> 0 | AU12: ='住居 9'!C27 -> 0 | AV12: ='住居 9'!H28 -> 0 | AW12: ='住居 9'!C30 -> 0 | AX12: ='住居 9'!C31 -> 0 | AY12: ='住居 9'!C33 -> 0 | AZ12: ='住居 9'!C34 -> 0 | BA12: ='住居 9'!C35 -> 0 | BB12: ='住居 9'!C36 -> 0 | BC12: ='住居 9'!C37 -> 0 | BD12: ='住居 9'!C39 -> 0 | BE12: ='住居 9'!C40 -> 0 | BF12: ='住居 9'!C41 -> 0 | BG12: ='住居 9'!C42 -> 0 | BH12: ='住居 9'!E46 -> 0 | BI12: ='住居 9'!E47 -> 0 | BJ12: ='住居 9'!E552 -> 0 | BK12: ='住居 9'!E49 -> 0 | BL12: ='住居 9'!E50 -> 0 | BM12: ='住居 9'!E51 -> 0 | BN12: ='住居 9'!E52 -> 0 | BO12: ='住居 9'!C57 -> 0 | BP12: ='住居 9'!C58 -> 0 | BQ12: ='住居 9'!C59 -> 0 | BR12: ='住居 9'!C68 -> 0 | BS12: ='住居 9'!C69 -> 0 | BT12: ='住居 9'!C70 -> 0
A13: 10 | AH13: ='住居 10'!D6 -> 0 | AI13: ='住居 10'!C10 -> 0 | AJ13: ='住居 10'!C11 -> 0 | AK13: ='住居 10'!C13 -> 0 | AL13: ='住居 10'!C14 -> 0 | AM13: ='住居 10'!C15 -> 0 | AN13: ='住居 10'!C17 -> 0 | AO13: ='住居 10'!C19 -> 0 | AP13: ='住居 10'!C20 -> 0 | AQ13: ='住居 10'!C326 -> 0 | AR13: ='住居 10'!C23 -> 0 | AS13: ='住居 10'!C25 -> 0 | AT13: ='住居 10'!C26 -> 0 | AU13: ='住居 10'!C27 -> 0 | AV13: ='住居 10'!H28 -> 0 | AW13: ='住居 10'!C30 -> 0 | AX13: ='住居 10'!C31 -> 0 | AY13: ='住居 10'!C33 -> 0 | AZ13: ='住居 10'!C34 -> 0 | BA13: ='住居 10'!C35 -> 0 | BB13: ='住居 10'!C36 -> 0 | BC13: ='住居 10'!C37 -> 0 | BD13: ='住居 10'!C39 -> 0 | BE13: ='住居 10'!C40 -> 0 | BF13: ='住居 10'!C41 -> 0 | BG13: ='住居 10'!C42 -> 0 | BH13: ='住居 10'!E46 -> 0 | BI13: ='住居 10'!E47 -> 0 | BJ13: ='住居 10'!E48 -> 0 | BK13: ='住居 10'!E49 -> 0 | BL13: ='住居 10'!E50 -> 0 | BM13: ='住居 10'!E51 -> 0 | BN13: ='住居 10'!E52 -> 0 | BO13: ='住居 10'!C57 -> 0 | BP13: ='住居 10'!C58 -> 0 | BQ13: ='住居 10'!C59 -> 0 | BR13: ='住居 10'!C68 -> 0 | BS13: ='住居 10'!C69 -> 0 | BT13: ='住居 10'!C70 -> 0
A14: 11 | AH14: ='[1]調査票 (住居11)'!E12 -> 0 | AI14: ='[1]調査票 (住居11)'!L17 -> 0 | AJ14: ='[1]調査票 (住居11)'!M17 -> 0 | AK14: ='[1]調査票 (住居11)'!L19 -> 0 | AL14: ='[1]調査票 (住居11)'!M19 -> 0 | AM14: ='[1]調査票 (住居11)'!N19 -> 0 | AN14: ='[1]調査票 (住居11)'!L20 -> 0 | AO14: ='[1]調査票 (住居11)'!L22 -> 0 | AP14: ='[1]調査票 (住居11)'!M22 -> 0 | AQ14: ='[1]調査票 (住居11)'!L24 -> 0 | AR14: ='[1]調査票 (住居11)'!M24 -> 0 | AS14: ='[1]調査票 (住居11)'!L26 -> 0 | AT14: ='[1]調査票 (住居11)'!M26 -> 0 | AU14: ='[1]調査票 (住居11)'!N26 -> 0 | AV14: ='[1]調査票 (住居11)'!Q27 -> 0 | AW14: ='[1]調査票 (住居11)'!L29 -> 0 | AX14: ='[1]調査票 (住居11)'!M29 -> 0 | AY14: ='[1]調査票 (住居11)'!L31 -> 0 | AZ14: ='[1]調査票 (住居11)'!AB33 -> 0 | BA14: ='[1]調査票 (住居11)'!AC33 -> 0 | BB14: ='[1]調査票 (住居11)'!AD33 -> （ | BC14: ='[1]調査票 (住居11)'!AE33 -> 0 | BD14: ='[1]調査票 (住居11)'!O37 -> 0 | BE14: ='[1]調査票 (住居11)'!S37 -> 0 | BF14: ='[1]調査票 (住居11)'!W37 -> 0 | BG14: ='[1]調査票 (住居11)'!AB37 -> 0 | BH14: ='[1]調査票 (住居11)'!S37 -> 0 | BI14: ='[1]調査票 (住居11)'!W37 -> 0 | BJ14: ='[1]調査票 (住居11)'!AA37 -> 0 | BK14: ='[1]調査票 (住居11)'!AF37 -> 0 | BL14: ='[1]調査票 (住居11)'!AG37 -> 0 | BM14: ='[1]調査票 (住居11)'!AH37 -> 0 | BN14: ='[1]調査票 (住居11)'!AI37 -> 0 | BO14: ='[1]調査票 (住居11)'!Z37 -> 0 | BQ14: ='[1]調査票 (住居11)'!AD37 -> 0 | BR14: ='[1]調査票 (住居11)'!AH37 -> 0 | BT14: ='[1]調査票 (住居11)'!AM37 -> 0
A15: 12 | AH15: ='[1]調査票 (住居12)'!E12 -> 0 | AI15: ='[1]調査票 (住居12)'!L17 -> 0 | AJ15: ='[1]調査票 (住居12)'!M17 -> 0 | AK15: ='[1]調査票 (住居12)'!L19 -> 0 | AL15: ='[1]調査票 (住居12)'!M19 -> 0 | AM15: ='[1]調査票 (住居12)'!N19 -> 0 | AN15: ='[1]調査票 (住居12)'!L20 -> 0 | AO15: ='[1]調査票 (住居12)'!L22 -> 0 | AP15: ='[1]調査票 (住居12)'!M22 -> 0 | AQ15: ='[1]調査票 (住居12)'!L24 -> 0 | AR15: ='[1]調査票 (住居12)'!M24 -> 0 | AS15: ='[1]調査票 (住居12)'!L26 -> 0 | AT15: ='[1]調査票 (住居12)'!M26 -> 0 | AU15: ='[1]調査票 (住居12)'!N26 -> 0 | AV15: ='[1]調査票 (住居12)'!Q27 -> 0 | AW15: ='[1]調査票 (住居12)'!L29 -> 0 | AX15: ='[1]調査票 (住居12)'!M29 -> 0 | AY15: ='[1]調査票 (住居12)'!L31 -> 0 | AZ15: ='[1]調査票 (住居12)'!AB33 -> 0 | BA15: ='[1]調査票 (住居12)'!AC33 -> 0 | BB15: ='[1]調査票 (住居12)'!AD33 -> （ | BC15: ='[1]調査票 (住居12)'!AE33 -> 0 | BD15: ='[1]調査票 (住居12)'!O37 -> 0 | BE15: ='[1]調査票 (住居12)'!S37 -> 0 | BF15: ='[1]調査票 (住居12)'!W37 -> 0 | BG15: ='[1]調査票 (住居12)'!AB37 -> 0 | BH15: ='[1]調査票 (住居12)'!S37 -> 0 | BI15: ='[1]調査票 (住居12)'!W37 -> 0 | BJ15: ='[1]調査票 (住居12)'!AA37 -> 0 | BK15: ='[1]調査票 (住居12)'!AF37 -> 0 | BL15: ='[1]調査票 (住居12)'!AG37 -> 0 | BM15: ='[1]調査票 (住居12)'!AH37 -> 0 | BN15: ='[1]調査票 (住居12)'!AI37 -> 0 | BO15: ='[1]調査票 (住居12)'!Z37 -> 0 | BQ15: ='[1]調査票 (住居12)'!AD37 -> 0 | BR15: ='[1]調査票 (住居12)'!AH37 -> 0 | BT15: ='[1]調査票 (住居12)'!AM37 -> 0
A16: 13 | AH16: ='[1]調査票 (住居13)'!E12 -> 0 | AI16: ='[1]調査票 (住居13)'!L17 -> 0 | AJ16: ='[1]調査票 (住居13)'!M17 -> 0 | AK16: ='[1]調査票 (住居13)'!L19 -> 0 | AL16: ='[1]調査票 (住居13)'!M19 -> 0 | AM16: ='[1]調査票 (住居13)'!N19 -> 0 | AN16: ='[1]調査票 (住居13)'!L20 -> 0 | AO16: ='[1]調査票 (住居13)'!L22 -> 0 | AP16: ='[1]調査票 (住居13)'!M22 -> 0 | AQ16: ='[1]調査票 (住居13)'!L24 -> 0 | AR16: ='[1]調査票 (住居13)'!M24 -> 0 | AS16: ='[1]調査票 (住居13)'!L26 -> 0 | AT16: ='[1]調査票 (住居13)'!M26 -> 0 | AU16: ='[1]調査票 (住居13)'!N26 -> 0 | AV16: ='[1]調査票 (住居13)'!Q27 -> 0 | AW16: ='[1]調査票 (住居13)'!L29 -> 0 | AX16: ='[1]調査票 (住居13)'!M29 -> 0 | AY16: ='[1]調査票 (住居13)'!L31 -> 0 | AZ16: ='[1]調査票 (住居13)'!AB33 -> 0 | BA16: ='[1]調査票 (住居13)'!AC33 -> 0 | BB16: ='[1]調査票 (住居13)'!AD33 -> （ | BC16: ='[1]調査票 (住居13)'!AE33 -> 0 | BD16: ='[1]調査票 (住居13)'!O37 -> 0 | BE16: ='[1]調査票 (住居13)'!S37 -> 0 | BF16: ='[1]調査票 (住居13)'!W37 -> 0 | BG16: ='[1]調査票 (住居13)'!AB37 -> 0 | BH16: ='[1]調査票 (住居13)'!S37 -> 0 | BI16: ='[1]調査票 (住居13)'!W37 -> 0 | BJ16: ='[1]調査票 (住居13)'!AA37 -> 0 | BK16: ='[1]調査票 (住居13)'!AF37 -> 0 | BL16: ='[1]調査票 (住居13)'!AG37 -> 0 | BM16: ='[1]調査票 (住居13)'!AH37 -> 0 | BN16: ='[1]調査票 (住居13)'!AI37 -> 0 | BO16: ='[1]調査票 (住居13)'!Z37 -> 0 | BQ16: ='[1]調査票 (住居13)'!AD37 -> 0 | BR16: ='[1]調査票 (住居13)'!AH37 -> 0 | BT16: ='[1]調査票 (住居13)'!AM37 -> 0
A17: 14 | AH17: ='[1]調査票 (住居14)'!E12 -> 0 | AI17: ='[1]調査票 (住居14)'!L17 -> 0 | AJ17: ='[1]調査票 (住居14)'!M17 -> 0 | AK17: ='[1]調査票 (住居14)'!L19 -> 0 | AL17: ='[1]調査票 (住居14)'!M19 -> 0 | AM17: ='[1]調査票 (住居14)'!N19 -> 0 | AN17: ='[1]調査票 (住居14)'!L20 -> 0 | AO17: ='[1]調査票 (住居14)'!L22 -> 0 | AP17: ='[1]調査票 (住居14)'!M22 -> 0 | AQ17: ='[1]調査票 (住居14)'!L24 -> 0 | AR17: ='[1]調査票 (住居14)'!M24 -> 0 | AS17: ='[1]調査票 (住居14)'!L26 -> 0 | AT17: ='[1]調査票 (住居14)'!M26 -> 0 | AU17: ='[1]調査票 (住居14)'!N26 -> 0 | AV17: ='[1]調査票 (住居14)'!Q27 -> 0 | AW17: ='[1]調査票 (住居14)'!L29 -> 0 | AX17: ='[1]調査票 (住居14)'!M29 -> 0 | AY17: ='[1]調査票 (住居14)'!L31 -> 0 | AZ17: ='[1]調査票 (住居14)'!AB33 -> 0 | BA17: ='[1]調査票 (住居14)'!AC33 -> 0 | BB17: ='[1]調査票 (住居14)'!AD33 -> （ | BC17: ='[1]調査票 (住居14)'!AE33 -> 0 | BD17: ='[1]調査票 (住居14)'!O37 -> 0 | BE17: ='[1]調査票 (住居14)'!S37 -> 0 | BF17: ='[1]調査票 (住居14)'!W37 -> 0 | BG17: ='[1]調査票 (住居14)'!AB37 -> 0 | BH17: ='[1]調査票 (住居14)'!S37 -> 0 | BI17: ='[1]調査票 (住居14)'!W37 -> 0 | BJ17: ='[1]調査票 (住居14)'!AA37 -> 0 | BK17: ='[1]調査票 (住居14)'!AF37 -> 0 | BL17: ='[1]調査票 (住居14)'!AG37 -> 0 | BM17: ='[1]調査票 (住居14)'!AH37 -> 0 | BN17: ='[1]調査票 (住居14)'!AI37 -> 0 | BO17: ='[1]調査票 (住居14)'!Z37 -> 0 | BQ17: ='[1]調査票 (住居14)'!AD37 -> 0 | BR17: ='[1]調査票 (住居14)'!AH37 -> 0 | BT17: ='[1]調査票 (住居14)'!AM37 -> 0
A18: 15 | AH18: ='[1]調査票 (住居15)'!E12 -> 0 | AI18: ='[1]調査票 (住居15)'!L17 -> 0 | AJ18: ='[1]調査票 (住居15)'!M17 -> 0 | AK18: ='[1]調査票 (住居15)'!L19 -> 0 | AL18: ='[1]調査票 (住居15)'!M19 -> 0 | AM18: ='[1]調査票 (住居15)'!N19 -> 0 | AN18: ='[1]調査票 (住居15)'!L20 -> 0 | AO18: ='[1]調査票 (住居15)'!L22 -> 0 | AP18: ='[1]調査票 (住居15)'!M22 -> 0 | AQ18: ='[1]調査票 (住居15)'!L24 -> 0 | AR18: ='[1]調査票 (住居15)'!M24 -> 0 | AS18: ='[1]調査票 (住居15)'!L26 -> 0 | AT18: ='[1]調査票 (住居15)'!M26 -> 0 | AU18: ='[1]調査票 (住居15)'!N26 -> 0 | AV18: ='[1]調査票 (住居15)'!Q27 -> 0 | AW18: ='[1]調査票 (住居15)'!L29 -> 0 | AX18: ='[1]調査票 (住居15)'!M29 -> 0 | AY18: ='[1]調査票 (住居15)'!L31 -> 0 | AZ18: ='[1]調査票 (住居15)'!AB33 -> 0 | BA18: ='[1]調査票 (住居15)'!AC33 -> 0 | BB18: ='[1]調査票 (住居15)'!AD33 -> （ | BC18: ='[1]調査票 (住居15)'!AE33 -> 0 | BD18: ='[1]調査票 (住居15)'!O37 -> 0 | BE18: ='[1]調査票 (住居15)'!S37 -> 0 | BF18: ='[1]調査票 (住居15)'!W37 -> 0 | BG18: ='[1]調査票 (住居15)'!AB37 -> 0 | BH18: ='[1]調査票 (住居15)'!S37 -> 0 | BI18: ='[1]調査票 (住居15)'!W37 -> 0 | BJ18: ='[1]調査票 (住居15)'!AA37 -> 0 | BK18: ='[1]調査票 (住居15)'!AF37 -> 0 | BL18: ='[1]調査票 (住居15)'!AG37 -> 0 | BM18: ='[1]調査票 (住居15)'!AH37 -> 0 | BN18: ='[1]調査票 (住居15)'!AI37 -> 0 | BO18: ='[1]調査票 (住居15)'!Z37 -> 0 | BQ18: ='[1]調査票 (住居15)'!AD37 -> 0 | BR18: ='[1]調査票 (住居15)'!AH37 -> 0 | BT18: ='[1]調査票 (住居15)'!AM37 -> 0
A19: 16 | AH19: ='[1]調査票 (住居16)'!E12 -> 0 | AI19: ='[1]調査票 (住居16)'!L17 -> 0 | AJ19: ='[1]調査票 (住居16)'!M17 -> 0 | AK19: ='[1]調査票 (住居16)'!L19 -> 0 | AL19: ='[1]調査票 (住居16)'!M19 -> 0 | AM19: ='[1]調査票 (住居16)'!N19 -> 0 | AN19: ='[1]調査票 (住居16)'!L20 -> 0 | AO19: ='[1]調査票 (住居16)'!L22 -> 0 | AP19: ='[1]調査票 (住居16)'!M22 -> 0 | AQ19: ='[1]調査票 (住居16)'!L24 -> 0 | AR19: ='[1]調査票 (住居16)'!M24 -> 0 | AS19: ='[1]調査票 (住居16)'!L26 -> 0 | AT19: ='[1]調査票 (住居16)'!M26 -> 0 | AU19: ='[1]調査票 (住居16)'!N26 -> 0 | AV19: ='[1]調査票 (住居16)'!Q27 -> 0 | AW19: ='[1]調査票 (住居16)'!L29 -> 0 | AX19: ='[1]調査票 (住居16)'!M29 -> 0 | AY19: ='[1]調査票 (住居16)'!L31 -> 0 | AZ19: ='[1]調査票 (住居16)'!AB33 -> 0 | BA19: ='[1]調査票 (住居16)'!AC33 -> 0 | BB19: ='[1]調査票 (住居16)'!AD33 -> （ | BC19: ='[1]調査票 (住居16)'!AE33 -> 0 | BD19: ='[1]調査票 (住居16)'!O37 -> 0 | BE19: ='[1]調査票 (住居16)'!S37 -> 0 | BF19: ='[1]調査票 (住居16)'!W37 -> 0 | BG19: ='[1]調査票 (住居16)'!AB37 -> 0 | BH19: ='[1]調査票 (住居16)'!S37 -> 0 | BI19: ='[1]調査票 (住居16)'!W37 -> 0 | BJ19: ='[1]調査票 (住居16)'!AA37 -> 0 | BK19: ='[1]調査票 (住居16)'!AF37 -> 0 | BL19: ='[1]調査票 (住居16)'!AG37 -> 0 | BM19: ='[1]調査票 (住居16)'!AH37 -> 0 | BN19: ='[1]調査票 (住居16)'!AI37 -> 0 | BO19: ='[1]調査票 (住居16)'!Z37 -> 0 | BQ19: ='[1]調査票 (住居16)'!AD37 -> 0 | BR19: ='[1]調査票 (住居16)'!AH37 -> 0 | BT19: ='[1]調査票 (住居16)'!AM37 -> 0
A20: 17 | AH20: ='[1]調査票 (住居17)'!E12 -> 0 | AI20: ='[1]調査票 (住居17)'!L17 -> 0 | AJ20: ='[1]調査票 (住居17)'!M17 -> 0 | AK20: ='[1]調査票 (住居17)'!L19 -> 0 | AL20: ='[1]調査票 (住居17)'!M19 -> 0 | AM20: ='[1]調査票 (住居17)'!N19 -> 0 | AN20: ='[1]調査票 (住居17)'!L20 -> 0 | AO20: ='[1]調査票 (住居17)'!L22 -> 0 | AP20: ='[1]調査票 (住居17)'!M22 -> 0 | AQ20: ='[1]調査票 (住居17)'!L24 -> 0 | AR20: ='[1]調査票 (住居17)'!M24 -> 0 | AS20: ='[1]調査票 (住居17)'!L26 -> 0 | AT20: ='[1]調査票 (住居17)'!M26 -> 0 | AU20: ='[1]調査票 (住居17)'!N26 -> 0 | AV20: ='[1]調査票 (住居17)'!Q27 -> 0 | AW20: ='[1]調査票 (住居17)'!L29 -> 0 | AX20: ='[1]調査票 (住居17)'!M29 -> 0 | AY20: ='[1]調査票 (住居17)'!L31 -> 0 | AZ20: ='[1]調査票 (住居17)'!AB33 -> 0 | BA20: ='[1]調査票 (住居17)'!AC33 -> 0 | BB20: ='[1]調査票 (住居17)'!AD33 -> （ | BC20: ='[1]調査票 (住居17)'!AE33 -> 0 | BD20: ='[1]調査票 (住居17)'!O37 -> 0 | BE20: ='[1]調査票 (住居17)'!S37 -> 0 | BF20: ='[1]調査票 (住居17)'!W37 -> 0 | BG20: ='[1]調査票 (住居17)'!AB37 -> 0 | BH20: ='[1]調査票 (住居17)'!S37 -> 0 | BI20: ='[1]調査票 (住居17)'!W37 -> 0 | BJ20: ='[1]調査票 (住居17)'!AA37 -> 0 | BK20: ='[1]調査票 (住居17)'!AF37 -> 0 | BL20: ='[1]調査票 (住居17)'!AG37 -> 0 | BM20: ='[1]調査票 (住居17)'!AH37 -> 0 | BN20: ='[1]調査票 (住居17)'!AI37 -> 0 | BO20: ='[1]調査票 (住居17)'!Z37 -> 0 | BQ20: ='[1]調査票 (住居17)'!AD37 -> 0 | BR20: ='[1]調査票 (住居17)'!AH37 -> 0 | BT20: ='[1]調査票 (住居17)'!AM37 -> 0
A21: 18 | AH21: ='[1]調査票 (住居18)'!E12 -> 0 | AI21: ='[1]調査票 (住居18)'!L17 -> 0 | AJ21: ='[1]調査票 (住居18)'!M17 -> 0 | AK21: ='[1]調査票 (住居18)'!L19 -> 0 | AL21: ='[1]調査票 (住居18)'!M19 -> 0 | AM21: ='[1]調査票 (住居18)'!N19 -> 0 | AN21: ='[1]調査票 (住居18)'!L20 -> 0 | AO21: ='[1]調査票 (住居18)'!L22 -> 0 | AP21: ='[1]調査票 (住居18)'!M22 -> 0 | AQ21: ='[1]調査票 (住居18)'!L24 -> 0 | AR21: ='[1]調査票 (住居18)'!M24 -> 0 | AS21: ='[1]調査票 (住居18)'!L26 -> 0 | AT21: ='[1]調査票 (住居18)'!M26 -> 0 | AU21: ='[1]調査票 (住居18)'!N26 -> 0 | AV21: ='[1]調査票 (住居18)'!Q27 -> 0 | AW21: ='[1]調査票 (住居18)'!L29 -> 0 | AX21: ='[1]調査票 (住居18)'!M29 -> 0 | AY21: ='[1]調査票 (住居18)'!L31 -> 0 | AZ21: ='[1]調査票 (住居18)'!AB33 -> 0 | BA21: ='[1]調査票 (住居18)'!AC33 -> 0 | BB21: ='[1]調査票 (住居18)'!AD33 -> （ | BC21: ='[1]調査票 (住居18)'!AE33 -> 0 | BD21: ='[1]調査票 (住居18)'!O37 -> 0 | BE21: ='[1]調査票 (住居18)'!S37 -> 0 | BF21: ='[1]調査票 (住居18)'!W37 -> 0 | BG21: ='[1]調査票 (住居18)'!AB37 -> 0 | BH21: ='[1]調査票 (住居18)'!S37 -> 0 | BI21: ='[1]調査票 (住居18)'!W37 -> 0 | BJ21: ='[1]調査票 (住居18)'!AA37 -> 0 | BK21: ='[1]調査票 (住居18)'!AF37 -> 0 | BL21: ='[1]調査票 (住居18)'!AG37 -> 0 | BM21: ='[1]調査票 (住居18)'!AH37 -> 0 | BN21: ='[1]調査票 (住居18)'!AI37 -> 0 | BO21: ='[1]調査票 (住居18)'!Z37 -> 0 | BQ21: ='[1]調査票 (住居18)'!AD37 -> 0 | BR21: ='[1]調査票 (住居18)'!AH37 -> 0 | BT21: ='[1]調査票 (住居18)'!AM37 -> 0
A22: 19 | AH22: ='[1]調査票 (住居19)'!E12 -> 0 | AI22: ='[1]調査票 (住居19)'!L17 -> 0 | AJ22: ='[1]調査票 (住居19)'!M17 -> 0 | AK22: ='[1]調査票 (住居19)'!L19 -> 0 | AL22: ='[1]調査票 (住居19)'!M19 -> 0 | AM22: ='[1]調査票 (住居19)'!N19 -> 0 | AN22: ='[1]調査票 (住居19)'!L20 -> 0 | AO22: ='[1]調査票 (住居19)'!L22 -> 0 | AP22: ='[1]調査票 (住居19)'!M22 -> 0 | AQ22: ='[1]調査票 (住居19)'!L24 -> 0 | AR22: ='[1]調査票 (住居19)'!M24 -> 0 | AS22: ='[1]調査票 (住居19)'!L26 -> 0 | AT22: ='[1]調査票 (住居19)'!M26 -> 0 | AU22: ='[1]調査票 (住居19)'!N26 -> 0 | AV22: ='[1]調査票 (住居19)'!Q27 -> 0 | AW22: ='[1]調査票 (住居19)'!L29 -> 0 | AX22: ='[1]調査票 (住居19)'!M29 -> 0 | AY22: ='[1]調査票 (住居19)'!L31 -> 0 | AZ22: ='[1]調査票 (住居19)'!AB33 -> 0 | BA22: ='[1]調査票 (住居19)'!AC33 -> 0 | BB22: ='[1]調査票 (住居19)'!AD33 -> （ | BC22: ='[1]調査票 (住居19)'!AE33 -> 0 | BD22: ='[1]調査票 (住居19)'!O37 -> 0 | BE22: ='[1]調査票 (住居19)'!S37 -> 0 | BF22: ='[1]調査票 (住居19)'!W37 -> 0 | BG22: ='[1]調査票 (住居19)'!AB37 -> 0 | BH22: ='[1]調査票 (住居19)'!S37 -> 0 | BI22: ='[1]調査票 (住居19)'!W37 -> 0 | BJ22: ='[1]調査票 (住居19)'!AA37 -> 0 | BK22: ='[1]調査票 (住居19)'!AF37 -> 0 | BL22: ='[1]調査票 (住居19)'!AG37 -> 0 | BM22: ='[1]調査票 (住居19)'!AH37 -> 0 | BN22: ='[1]調査票 (住居19)'!AI37 -> 0 | BO22: ='[1]調査票 (住居19)'!Z37 -> 0 | BQ22: ='[1]調査票 (住居19)'!AD37 -> 0 | BR22: ='[1]調査票 (住居19)'!AH37 -> 0 | BT22: ='[1]調査票 (住居19)'!AM37 -> 0
A23: 20 | AH23: ='[1]調査票 (住居20)'!E12 -> 0 | AI23: ='[1]調査票 (住居20)'!L17 -> 0 | AJ23: ='[1]調査票 (住居20)'!M17 -> 0 | AK23: ='[1]調査票 (住居20)'!L19 -> 0 | AL23: ='[1]調査票 (住居20)'!M19 -> 0 | AM23: ='[1]調査票 (住居20)'!N19 -> 0 | AN23: ='[1]調査票 (住居20)'!L20 -> 0 | AO23: ='[1]調査票 (住居20)'!L22 -> 0 | AP23: ='[1]調査票 (住居20)'!M22 -> 0 | AQ23: ='[1]調査票 (住居20)'!L24 -> 0 | AR23: ='[1]調査票 (住居20)'!M24 -> 0 | AS23: ='[1]調査票 (住居20)'!L26 -> 0 | AT23: ='[1]調査票 (住居20)'!M26 -> 0 | AU23: ='[1]調査票 (住居20)'!N26 -> 0 | AV23: ='[1]調査票 (住居20)'!Q27 -> 0 | AW23: ='[1]調査票 (住居20)'!L29 -> 0 | AX23: ='[1]調査票 (住居20)'!M29 -> 0 | AY23: ='[1]調査票 (住居20)'!L31 -> 0 | AZ23: ='[1]調査票 (住居20)'!AB33 -> 0 | BA23: ='[1]調査票 (住居20)'!AC33 -> 0 | BB23: ='[1]調査票 (住居20)'!AD33 -> （ | BC23: ='[1]調査票 (住居20)'!AE33 -> 0 | BD23: ='[1]調査票 (住居20)'!O37 -> 0 | BE23: ='[1]調査票 (住居20)'!S37 -> 0 | BF23: ='[1]調査票 (住居20)'!W37 -> 0 | BG23: ='[1]調査票 (住居20)'!AB37 -> 0 | BH23: ='[1]調査票 (住居20)'!S37 -> 0 | BI23: ='[1]調査票 (住居20)'!W37 -> 0 | BJ23: ='[1]調査票 (住居20)'!AA37 -> 0 | BK23: ='[1]調査票 (住居20)'!AF37 -> 0 | BL23: ='[1]調査票 (住居20)'!AG37 -> 0 | BM23: ='[1]調査票 (住居20)'!AH37 -> 0 | BN23: ='[1]調査票 (住居20)'!AI37 -> 0 | BO23: ='[1]調査票 (住居20)'!Z37 -> 0 | BQ23: ='[1]調査票 (住居20)'!AD37 -> 0 | BR23: ='[1]調査票 (住居20)'!AH37 -> 0 | BT23: ='[1]調査票 (住居20)'!AM37 -> 0
A24: 21
A25: 22
A26: 23
A27: 24
A28: 25
A29: 26
A30: 27
A31: 28
A32: 29
A33: 30
