Workbook

Sheet 調査結果（概要）
B1: 障害者のグループホーム・ケアホームにおける防火安全体制等に関する 実態調査及び訪問調査について（神奈川県結果）
B4: １ 調査概要について
B6: 【調査対象】
B7: （１）実態調査
B8: 平成25年2月22日時点で指定を受けている全国のケアホーム（指定共同生活介護事業所）及びグループホーム（指定共同生活援助事業所）
B10: （２）訪問調査
B11: （１）のうち、主として重度の者が利用するケアホーム等であってスプリンクラー設備が未設置の共同生活住居
B13: 【調査時点】
B14: ・平成25年2月22日現在
B16: 【主な調査項目】
B17: （１）実態調査
B18: 建物形態等／消火設備の設置状況等／非常災害対策の実施状況／入居者の状況／夜間の支援形態等
... B22: 【調査票の回収状況】
C23: 全数 | D23: 回答数 | E23: 回収率
B24: 事業所数 | C24: 128 | D24: 127 | E24: =D24/C24 -> 0.9921875
B25: 共同生活住居数 | C25: 308 | D25: 307 | E25: =D25/C25 -> 0.99675325
B27: ※ 各調査項目において無回答や無効回答があるため、それぞれの調査事項の合計は調査回収事業所数・共同生活住居数とは一致しない。
B31: ２ 主な調査結果と調査結果を踏まえた対応について
B33: （１）主な調査結果
B34: ①消防用設備の設置状況等
B35: ア スプリンクラー設備
B36: ・ 設置している共同生活住居が34住居（11.1％）、未設置が273住居（88.9％）。
B37: ・ 設置義務があると回答している共同生活住居のうち未設置の住居はなし。
B39: イ 自動火災報知設備（住宅用を除く。以下同じ）
B40: ・ 設置している共同生活住居が166住居（54.1％）、未設置が141住居（45.9％）。
B41: ・ 設置義務があると回答している共同生活住居のうち未設置の住居はなし。
B43: ウ 消防機関へ通報する火災報知設備
B44: ・ 設置している共同生活住居が107住居（34.9％）、未設置が200住居（65.1％）。
... B51: ・ 避難訓練の実施にあたって、地域住民の参加が得られていない共同生活住居が265住居（86.3％）

Sheet 調査結果（詳細）
B3: ３ 調査結果（詳細）について
B5: （１）事業所の基本情報
B7: ① 事業所の開設年月
B8: 開設年月 | C8: 事業所数 | D8: 割合
B9: ～平成18年 | C9: 67 | D9: =C9/$C$17 -> 0.52755906
B10: 平成19年 | C10: 11 | D10: =C10/$C$17 -> 0.086614173
B11: 平成20年 | C11: 6 | D11: =C11/$C$17 -> 0.047244094
B12: 平成21年 | C12: 11 | D12: =C12/$C$17 -> 0.086614173
B13: 平成22年 | C13: 6 | D13: =C13/$C$17 -> 0.047244094
B14: 平成23年 | C14: 9 | D14: =C14/$C$17 -> 0.070866142
B15: 平成24年 | C15: 14 | D15: =C15/$C$17 -> 0.11023622
B16: 平成25年 | C16: 3 | D16: =C16/$C$17 -> 0.023622047
B17: 計 | C17: =SUM(C9:C16) -> 127 | D17: =C17/$C$17 -> 1
B18: ※ 「～平成18年」には、障害者自立支援法施行以前からグループホームを運営していた事業所を含む。
B21: ② 事業所の法人種別
B22: 法人種別 | C22: 事業所数 | D22: 割合
B23: 地方公共団体 | C23: 0 | D23: =C23/$C$30 -> 0
B24: 社会福祉法人 | C24: 75 | D24: =C24/$C$30 -> 0.59055118
B25: 医療法人 | C25: 12 | D25: =C25/$C$30 -> 0.094488189
B26: 営利法人（会社） | C26: 1 | D26: =C26/$C$30 -> 0.0078740157
B27: 社団・財団法人 | C27: 1 | D27: =C27/$C$30 -> 0.0078740157
B28: 特定非営利活動法人 | C28: 38 | D28: =C28/$C$30 -> 0.2992126
B29: その他 | C29: 0 | D29: =C29/$C$30 -> 0
B30: 計 | C30: =SUM(C23:C29) -> 127 | D30: =C30/$C$30 -> 1
B33: （２）共同生活住居の基本情報
B35: ① 建物の状況
B37: ・ グループホーム・ケアホームの共同生活住居の建物の形態は、戸建住宅が61.9％（190住居）、集合住宅 が30.6％（94住居）、その他が7.5％（23住居）となっており、利用建物の面積は、275㎡未満が約9割（288住居）となっている。
B38: ・ また、共同生活住居のうち53.7％（165住居）が既存建物を活用しており、建物の所有関係をみると、賃貸に割合が82.4％（253住居）となっている。
B40: ア 利用建物の形態
C41: 戸建住宅 | D41: 集合住宅 | E41: その他 | F41: 計
B42: 共同生活住居数 | C42: 190 | D42: 94 | E42: 23 | F42: =SUM(C42:E42) -> 307
B43: 割合 | C43: =C42/$F$42 -> 0.61889251 | D43: =D42/$F$42 -> 0.30618893 | E43: =E42/$F$42 -> 0.074918567 | F43: =F42/$F$42 -> 1
B46: イ 利用建物の面積
C47: 275㎡未満 | D47: 275㎡以上 300㎡未満 | E47: 300㎡以上 500㎡未満 | F47: 500㎡以上 | G47: 計
B48: 共同生活住居数 | C48: 288 | D48: 4 | E48: 11 | F48: 4 | G48: =SUM(C48:F48) -> 307
B49: 割合 | C49: =C48/$G$48 -> 0.93811075 | D49: =D48/$G$48 -> 0.013029316 | E49: =E48/$G$48 -> 0.035830619 | F49: =F48/$G$48 -> 0.013029316 | G49: =G48/$G$48 -> 1
B52: ウ 利用建物の新築・既存建物活用の状況
C53: 新築 | D53: 既存建物 （民家転用型） | E53: 既存建物 （その他） | F53: 計
B54: 共同生活住居数 | C54: 142 | D54: 83 | E54: 82 | F54: =SUM(C54:E54) -> 307
B55: 割合 | C55: =C54/$F$54 -> 0.46254072 | D55: =D54/$F$54 -> 0.27035831 | E55: =E54/$F$54 -> 0.26710098 | F55: =F54/$F$54 -> 1
B58: エ 利用建物の所有関係
C59: 自己所有 | D59: 賃貸 | E59: 計
B60: 共同生活住居数 | C60: 54 | D60: 253 | E60: =SUM(C60:D60) -> 307
B61: 割合 | C61: =C60/$E$60 -> 0.17589577 | D61: =D60/$E$60 -> 0.82410423 | E61: =E60/$E$60 -> 1
B63: ② 入居者の状況
B65: ・ グループホーム・ケアホームの共同生活住居の入居者のうち、重度（障害程度区分４以上）の障害者が占める割合は27.0％となっている。
B66: ・ その分布をみると、入居者の半数以上が重度である共同生活住居は、全体の27.0％（83住居）となっており、消防法施行令（６）項ロの要件である８割を超える共同生活住居は10.7％（33住居）となっている。
B69: 重度（障害程度区分４以上）の障害者が占める割合 | C69: 共同生活住居数 | D69: 割合
B70: 10％未満の住居数 | C70: 135 | D70: =C70/$C$76 -> 0.43973941
B71: 10％以上30％未満の住居数 | C71: 49 | D71: =C71/$C$76 -> 0.15960912
B72: 30％以上50％未満の住居数 | C72: 40 | D72: =C72/$C$76 -> 0.13029316
B73: 50％以上70％未満の住居数 | C73: 42 | D73: =C73/$C$76 -> 0.13680782
B74: 70％以上80％未満の住居数 | C74: 8 | D74: =C74/$C$76 -> 0.026058632
B75: 80％以上の住居数 | C75: 33 | D75: =C75/$C$76 -> 0.10749186
B76: 計 | C76: =SUM(C70:C75) -> 307 | D76: =C76/$C$76 -> 1
B78: 重度（障害程度区分４以上）の者の占める割合 27.0％
B86: ③ 夜間の支援形態
B88: ・ 夜間の支援形態については、「連絡体制の確保」を行っている共同生活住居の割合が最も高く72.0％（221住居）、次いで「宿直」が47.9％（147住居）となっている。一方、「夜勤」を配置している共同生活住居の割合は6.5％（20住居）となっている。
B89: ・ 重度（障害程度区分４以上）の入居者が８割を超える共同生活住居の夜間の支援形態は、「宿直」が最も多く51.5％（17住居）、「夜勤」を配置している共同生活住居については、24.2％（8住居）となっている。
I90: ※複数回答可
C92: 全て | E92: 重度（障害程度区分４以上）の入居者が８割を超える共同生活住居
B93: 夜間の支援形態 | C93: 住居数 | D93: 割合 | E93: 住居数 | F93: 割合
B94: 夜勤 | C94: 20 | D94: =C94/'調査結果（概要）'!$D$25 -> 0.06514658 | E94: 8 | F94: =E94/$C$75 -> 0.24242424
B95: 宿直 | C95: 147 | D95: =C95/'調査結果（概要）'!$D$25 -> 0.47882736 | E95: 17 | F95: =E95/$C$75 -> 0.51515152
B96: 住み込み | C96: 17 | D96: =C96/'調査結果（概要）'!$D$25 -> 0.055374593 | E96: 2 | F96: =E96/$C$75 -> 0.060606061
B97: 見回り | C97: 96 | D97: =C97/'調査結果（概要）'!$D$25 -> 0.31270358 | E97: 6 | F97: =E97/$C$75 -> 0.18181818
B98: 連絡体制の確保 | C98: 221 | D98: =C98/'調査結果（概要）'!$D$25 -> 0.71986971 | E98: 14 | F98: =E98/$C$75 -> 0.42424242
B99: 警備会社等による対応 | C99: 89 | D99: =C99/'調査結果（概要）'!$D$25 -> 0.28990228 | E99: 7 | F99: =E99/$C$75 -> 0.21212121
B100: 対応なし | C100: 11 | D100: =C100/'調査結果（概要）'!$D$25 -> 0.035830619 | E100: 0 | F100: =E100/$C$75 -> 0
B133: （３）消防用設備の設置状況等
B135: ※ 障害者の日常生活及び社会生活を総合的に支援するための法律に基づく指定障害福祉サービスの事業等の人員、設備及び運営に関する基準第70条（第154条及び第213条において準用）
B137: ① スプリンクラー設備（消防法第17条、消防法施行令第12条）
B138: ア 設置状況
B140: ・ スプリンクラー設備については、ほとんどの共同生活住居において設置義務の対象となっておらず、回答のあったグループホーム・ケアホームのうち、設置している共同生活住居が34住居（11.1％）、未設置の共同生活住居が273住居（88.9％）となっている。
B141: ・ 調査時点において、設置義務があると回答している共同生活住居のうち未設置の住居は県内にないが、設置義務のない共同生活住居のうち273住居（91.9％）が未設置となっている。
C143: 設置合計 | E143: 設置義務有 | H143: 設置義務無
C144: 設置有 | D144: 設置無 | E144: 設置有 | F144: 設置無 | H144: 設置有 | I144: 設置無
F145: 右記以外 | G145: 義務免除
B146: 共同生活住居数 | C146: 34 | D146: 273 | E146: 10 | F146: 0 | G146: 0 | H146: 24 | I146: 273
B147: 割合 | C147: 0.11074919 | D147: 0.88925081 | E147: 1 | F147: 0 | G147: 0 | H147: 0.080808081 | I147: 0.91919192
B149: ・ 消防法施行令別表第１（６）項ロに掲げるケアホーム（重度）（同（１６）項イの防火対象物の一部を含む）の場合、延床面積275㎡以上に設置義務あり。
B150: ・ 消防法施行令別表第１（６）項ハに掲げるケアホーム（中程度）・グループホームの場合、延床面積6,000㎡以上に設置義務あり。
B153: イ スプリンクラー設備が未設置の共同生活住居の今後の設置予定時期
B155: ・ スプリンクラー設備が未設置の共同生活住居（273住居）のうち、今後の設置予定時期が明確な共同生活住居は、１住居（0.4％）、未定の共同生活住居が272住居（99.6％）となっている。
B156: ・ 設置義務があるにもかかわらずスプリンクラー設備が未設置の共同生活住居は県内にはなかった。
C158: 合計 | E158: 設置義務有 | G158: 設置義務無
C159: 予定時期明確 | D159: 予定時期未定 | E159: 予定時期明確 | F159: 予定時期未定 | G159: 予定時期明確 | H159: 予定時期未定
B160: 共同生活住居数 | C160: 1 | D160: 272 | E160: 0 | F160: 0 | G160: 1 | H160: 272
B161: 割合 | C161: 0.0036630037 | D161: 0.996337 | E161: 0 | F161: 0 | G161: 0.0036630037 | H161: 0.996337
B164: ② 自動火災報知設備（消防法第17条、消防法施行令第21条）
B165: ア 設置状況
B167: ・ 自動火災報知設備については、回答のあったグループホーム・ケアホームのうち、設置している共同生活住居は166住居（54.1％）、未設置の共同生活住居が141住居（45.9％）となっている。
B168: ・ 調査時点において、設置義務があると回答している共同生活住居のうち未設置の住居は県内にないが、設置義務のない共同生活住居のうち141住居（72.3％）が未設置となっている。
C170: 合計 | E170: 設置義務有 | G170: 設置義務無
C171: 設置有 | D171: 設置無 | E171: 設置有 | F171: 設置無 | G171: 設置有 | H171: 設置無
B172: 共同生活住居数 | C172: 166 | D172: 141 | E172: 112 | F172: 0 | G172: 54 | H172: 141
B173: 割合 | C173: 0.54071661 | D173: 0.45928339 | E173: 1 | F173: 0 | G173: 0.27692308 | H173: 0.72307692
B175: ・ 消防法施行令別表第１（６）項ロに掲げるケアホーム（重度）（同（１６）項イの防火対象物の一部を含む）の場合、全ての共同生活住居に設置義務あり。
B176: ・ 消防法施行令別表第１（６）項ハに掲げるケアホーム（中程度）・グループホームの場合、延床面積300㎡以上に設置義務あり。
B179: イ 自動火災報知設備が未設置の共同生活住居の今後の設置予定時期
...

Sheet スプリンクラー詳細
B2: （４）スプリンクラー設備が未設置の共同生活住居の状況
B4: ※（４）の調査項目は、スプリンクラー未設置の事業所で、次のいずれかの用件に該当する住居に対する訪問調査の結果（159住居） ・消防法施行令別表第１の（６）項ロに該当するケアホーム（同（１６）項イの防火対象物である場合を含む） ・障害程度区分４以上又は障害程度区分認定を受けていない者で身体障害者手帳（１級）等を所持している入居者の割合が５割を超えるケアホーム等 ・スプリンクラー設備の設置に関して、専門的な見地からの助言を希望しているもの
B6: ① 未設置で今後の設置予定も未定である理由 ※ 複数回答可
B8: ・ 主として重度の者が利用するケアホーム等のうち、スプリンクラー設備が未設置で、かつ、今後の設置予定も未定である共同生活住居の未設置理由をみると、「貸主の了承が得られない」と回答した共同生活住居の割合が27.7％（44住居）と、最も高くなっている。「入居者の多くが自力で避難できる」（25.8％）、「設置工事中の一時的な転居先の確保が困難」（15.7％）がそれに続く一方で、「スプリンクラー設備の設置費用が高額」など経済的理由をあげる共同生活住居も一定割合見受けられた。
B11: 調査施設数 | C11: 159
B13: 経済的理由 | E13: 構造的理由 | H13: その他の理由
C14: 回答数 | D14: 調査施設数における割合 | F14: 回答数 | G14: 調査施設数における割合 | I14: 回答数 | J14: 調査施設数における割合
B15: 設置費用が高額 | C15: 22 | D15: =C15/$C$11 -> 0.13836478 | E15: 貯水槽・ポンプ | F15: 9 | G15: =F15/$C$11 -> 0.056603774 | H15: 自力避難 可能 | I15: 41 | J15: =I15/$C$11 -> 0.25786164
B16: 工事費用が高額 | C16: 10 | D16: =C16/$C$11 -> 0.062893082 | E16: メーター口径 変更 | F16: 4 | G16: =F16/$C$11 -> 0.025157233 | H16: 転居先の 確保 | I16: 25 | J16: =I16/$C$11 -> 0.1572327
B17: 水道料金上昇 | C17: 5 | D17: =C17/$C$11 -> 0.031446541 | E17: 配管 | F17: 4 | G17: =F17/$C$11 -> 0.025157233 | H17: 貸主の了承 | I17: 44 | J17: =I17/$C$11 -> 0.27672956
B18: メンテナンス費用 | C18: 14 | D18: =C18/$C$11 -> 0.088050314 | E18: 配管の敷設場所 | F18: 14 | G18: =F18/$C$11 -> 0.088050314 | H18: 防火区画 | I18: 19 | J18: =I18/$C$11 -> 0.11949686
E19: 建物の老朽化 | F19: 15 | G19: =F19/$C$11 -> 0.094339623 | H19: 設置義務 免除 | I19: 15 | J19: =I19/$C$11 -> 0.094339623
H20: その他※ | I20: 53 | J20: =I20/$C$11 -> 0.33333333
B21: 計 | C21: =SUM(C15:C20) -> 51 | D21: =C21/$C$11 -> 0.32075472 | F21: =SUM(F15:F20) -> 46 | G21: =F21/$C$11 -> 0.28930818 | I21: =SUM(I15:I20) -> 197 | J21: =I21/$C$11 -> 1.2389937
C22: ※その他の主なコメント…設置義務がない、補助金がない等、他の項目に該当するものが多い
B42: ② ①においてスプリンクラーの設置費用（設置に伴う工事費用を含む）が高額であることを未設置理由として選択した共同生活住居の設置費用の見積額
B44: ・ ①において「スプリンクラー設備の設置費用が高額」又は「スプリンクラー設備の設置に伴う工事費用が高額」を選択した共同生活住居の設置費用の見積額をみると、「30,000円以上」が71.4％（5住居）と最も多く、次いで、「25,000円以上30,000円未満」が28.6％（2住居）となっている。 （平均見積額97,542円／㎡（500,000円／㎡と回答した１住居を除いた平均見積額は30,467円／㎡））
B47: 設置費用の見積額 （１㎡あたり） | D47: 共同生活住居数 | E47: 割合
B48: 10,000円未満 | D48: 0 | E48: =D48/$D$54 -> 0
B49: 10,000円～15,000円未満 | D49: 0 | E49: =D49/$D$54 -> 0
B50: 15,000円～20,000円未満 | D50: 0 | E50: =D50/$D$54 -> 0
B51: 20,000円～25,000円未満 | D51: 0 | E51: =D51/$D$54 -> 0
B52: 25,000円～30,000円未満 | D52: 2 | E52: =D52/$D$54 -> 0.28571429
B53: 30,000円以上 | D53: 5 | E53: =D53/$D$54 -> 0.71428571
B54: 合計 | D54: =SUM(D48:D53) -> 7 | E54: =D54/$D$54 -> 1
B57: ③ スプリンクラー設備を設置する場合の種類
B58: ・ 設置予定の有無にかかわらず、設置すると仮定した場合のスプリンクラー設備の種類は、「不明」を除き、多くの共同生活住居（41住居）が「特定施設水道連結型」と回答している。
C62: 特定施設水道連結型 | D62: パッケージ型自動消火 | E62: 左記以外のスプリンクラー設備 | F62: 不明 | G62: 合計
B63: 共同生活住居数 | C63: 41 | D63: 5 | E63: 0 | F63: 42 | G63: =SUM(C63:F63) -> 88
B64: 割合 | C64: =C63/$G$63 -> 0.46590909 | D64: =D63/$G$63 -> 0.056818182 | E64: =E63/$G$63 -> 0 | F64: =F63/$G$63 -> 0.47727273 | G64: =G63/$G$63 -> 1
B67: （５）非常災害対策の実施状況
B69: ※ 障害者の日常生活及び社会生活を総合的に支援するための法律に基づく指定障害福祉サービスの事業等の人員、設備及び運営に関する基準第70条（第154条及び第213条において準用）
B71: ・ 回答のあったグループホーム・ケアホームのうち、非常災害対策の関する具体的計画を策定している共同生活住居は83.1％（255住居）、未策定が16.9％（52住居）となっている。
B72: ・ 避難訓練については、96.7％（297住居）の共同生活住居で調査対象期間（平成24年1月1日～平成24年12月31日）に実施されており、実施にあたって近隣住民の参加が得られている割合は13.7％（42住居）となっている。一方、調査対象期間中に避難訓練を未実施の共同生活住居が3.3％（10住居）となっている。
B74: ① 非常災害対策における計画の策定、避難訓練実施の有無
C76: 計画の策定 | E76: 避難訓練の実施
C77: 策定 | D77: 未策定 | E77: 実施 | F77: 未実施 | G77: 年間実施回数の平均
B78: 共同生活住居数 | C78: 255 | D78: 52 | E78: 297 | F78: 10 | G78: ３．０回
B79: 割合 | C79: 0.83061889 | D79: 0.16938111 | E79: 0.96742671 | F79: 0.03257329
B80: ・ 全ての事業所は、非常災害に関する具体的計画を立てる必要あり。
B81: ・ 全ての事業所は、定期的に避難、救出その他必要な訓練を行う必要あり。
B84: ② 避難訓練への地域住民の参加
C86: 地域住民の参加
C87: 有 | D87: 無
B88: 共同生活住居数 | C88: 42 | D88: 265
B89: 割合 | C89: 0.13680782 | D89: 0.86319218

Sheet 重要部分
B2: スプリンクラー設備設置状況（県内）
C4: 設置合計 | E4: 設置義務有 | H4: 設置義務無
C5: 設置有 | D5: 設置無 | E5: 設置有 | F5: 設置無 | H5: 設置有 | I5: 設置無
F6: 右記以外 | G6: 義務免除
B7: 共同生活住居数 | C7: =SUM(E7,H7) -> 34 | D7: =SUM(F7,G7,I7) -> 273 | E7: 10 | F7: 0 | G7: 0 | H7: 24 | I7: 273
B8: 割合 | C8: =C7/K8 -> 0.11074919 | D8: =D7/K8 -> 0.88925081 | E8: =E7/L8 -> 1 | F8: =F7/L8 -> 0 | G8: =G7/L8 -> 0 | H8: =H7/M8 -> 0.080808081 | I8: =I7/M8 -> 0.91919192 | K8: =C7+D7 -> 307 | L8: =E7+F7+G7 -> 10 | M8: =H7+I7 -> 297
B11: スプリンクラー設備が未設置の共同生活住居の今後の設置予定時期（県内）
C13: 合計 | E13: 設置義務有 | G13: 設置義務無
C14: 予定時期明確 | D14: 予定時期未定 | E14: 予定時期明確 | F14: 予定時期未定 | G14: 予定時期明確 | H14: 予定時期未定
B16: 共同生活住居数 | C16: =E16+G16 -> 1 | D16: =F16+H16 -> 272 | E16: 0 | F16: 0 | G16: 1 | H16: 272
B17: 割合 | C17: =C16/K17 -> 0.0036630037 | D17: =D16/K17 -> 0.996337 | E17: 0 | F17: 0 | G17: =G16/M17 -> 0.0036630037 | H17: =H16/M17 -> 0.996337 | K17: =C16+D16 -> 273 | L17: =E16+F16 -> 0 | M17: =G16+H16 -> 273
B20: スプリンクラー設備が未設置の共同生活住居の夜間支援体制の有無（県内）
C22: 合計 | E22: 設置義務無
E23: 設置予定時期 明確 | G23: 設置予定時期 未定
C24: 夜間支援体制有 | D24: 夜間支援体制無 | E24: 夜間支援体制有 | F24: 夜間支援体制無 | G24: 夜間支援体制有 | H24: 夜間支援体制無
B26: 共同生活住居数 | C26: =E26+G26 -> 268 | D26: =F26+H26 -> 5 | E26: 1 | F26: 0 | G26: 267 | H26: 5
B27: 割合 | C27: =C26/K27 -> 0.98168498 | D27: =D26/K27 -> 0.018315018 | E27: 0 | F27: 0 | G27: =G26/M27 -> 0.98161765 | H27: =H26/M27 -> 0.018382353 | K27: =C26+D26 -> 273 | L27: =E26+F26 -> 1 | M27: =G26+H26 -> 272
B30: 自動火災報知設備設置状況（県内）
C32: 合計 | E32: 設置義務有 | G32: 設置義務無
C33: 設置有 | D33: 設置無 | E33: 設置有 | F33: 設置無 | G33: 設置有 | H33: 設置無
B35: 共同生活住居数 | C35: =E35+G35 -> 166 | D35: =F35+H35 -> 141 | E35: 112 | F35: 0 | G35: 54 | H35: 141
B36: 割合 | C36: =C35/K36 -> 0.54071661 | D36: =D35/K36 -> 0.45928339 | E36: =E35/L36 -> 1 | F36: =F35/L36 -> 0 | G36: =G35/M36 -> 0.27692308 | H36: =H35/M36 -> 0.72307692 | K36: =C35+D35 -> 307 | L36: =E35+F35 -> 112 | M36: =G35+H35 -> 195
B39: 自動火災報知設備未設置の共同生活住居の今後の設置予定時期（県内）
C41: 合計 | E41: 設置義務有 | G41: 設置義務無
C42: 予定時期明確 | D42: 予定時期未定 | E42: 予定時期明確 | F42: 予定時期未定 | G42: 予定時期明確 | H42: 予定時期未定
B44: 共同生活住居数 | C44: =E44+G44 -> 0 | D44: =F44+H44 -> 141 | E44: 0 | F44: 0 | G44: 0 | H44: 141
B45: 割合 | C45: =C44/K45 -> 0 | D45: =D44/K45 -> 1 | E45: 0 | F45: 0 | G45: =G44/M45 -> 0 | H45: =H44/M45 -> 1 | K45: =C44+D44 -> 141 | L45: =E44+F44 -> 0 | M45: =G44+H44 -> 141
B48: 自動火災報知設備未設置の共同生活住居の夜間支援体制の有無（県内）
C50: 合計 | E50: 設置義務無
E51: 設置予定時期 明確 | G51: 設置予定時期 未定
C52: 夜間支援体制有 | D52: 夜間支援体制無 | E52: 夜間支援体制有 | F52: 夜間支援体制無 | G52: 夜間支援体制有 | H52: 夜間支援体制無
B54: 共同生活住居数 | C54: =E54+G54 -> 138 | D54: =F54+H54 -> 3 | E54: 0 | F54: 0 | G54: 138 | H54: 3
B55: 割合 | C55: =C54/K55 -> 0.9787234 | D55: =D54/K55 -> 0.021276596 | E55: 0 | F55: 0 | G55: =G54/M55 -> 0.9787234 | H55: =H54/M55 -> 0.021276596 | K55: =C54+D54 -> 141 | L55: =E54+F54 -> 0 | M55: =G54+H54 -> 141
B58: 消防機関へ通報する火災報知設備設置状況（県内）
C60: 合計 | E60: 設置義務有 | G60: 設置義務無
C61: 設置有 | D61: 設置無 | E61: 設置有 | F61: 設置無 | G61: 設置有 | H61: 設置無
B63: 共同生活住居数 | C63: =E63+G63 -> 107 | D63: =F63+H63 -> 200 | E63: 61 | F63: 0 | G63: 46 | H63: 200
B64: 割合 | C64: =C63/K64 -> 0.3485342 | D64: =D63/K64 -> 0.6514658 | E64: =E63/L64 -> 1 | F64: =F63/L64 -> 0 | G64: =G63/M64 -> 0.18699187 | H64: =H63/M64 -> 0.81300813 | K64: =C63+D63 -> 307 | L64: =E63+F63 -> 61 | M64: =G63+H63 -> 246
B67: 消防機関へ通報する火災報知設備未設置の共同生活住居の今後の設置予定時期（県内）
C69: 合計 | E69: 設置義務有 | G69: 設置義務無
C70: 予定時期明確 | D70: 予定時期未定 | E70: 予定時期明確 | F70: 予定時期未定 | G70: 予定時期明確 | H70: 予定時期未定
B72: 共同生活住居数 | C72: =E72+G72 -> 1 | D72: =F72+H72 -> 199 | E72: 0 | F72: 0 | G72: 1 | H72: 199
B73: 割合 | C73: =C72/K73 -> 0.005 | D73: =D72/K73 -> 0.995 | E73: 0 | F73: 0 | G73: =G72/M73 -> 0.005 | H73: =H72/M73 -> 0.995 | K73: =C72+D72 -> 200 | L73: =E72+F72 -> 0 | M73: =G72+H72 -> 200
B76: 消防機関へ通報する火災報知設備未設置の共同生活住居の夜間支援体制の有無（県内）
C78: 合計 | E78: 設置義務無
E79: 設置予定時期 明確 | G79: 設置予定時期 未定
C80: 夜間支援体制有 | D80: 夜間支援体制無 | E80: 夜間支援体制有 | F80: 夜間支援体制無 | G80: 夜間支援体制有 | H80: 夜間支援体制無
B82: 共同生活住居数 | C82: =E82+G82 -> 196 | D82: =F82+H82 -> 4 | E82: 1 | F82: 0 | G82: 195 | H82: 4
B83: 割合 | C83: =C82/K83 -> 0.98 | D83: =D82/K83 -> 0.02 | E83: 0 | F83: 0 | G83: =G82/M83 -> 0.9798995 | H83: =H82/M83 -> 0.020100503 | K83: =C82+D82 -> 200 | L83: =E82+F82 -> 1 | M83: =G82+H82 -> 199
B86: 非常災害対策における計画の策定、避難訓練実施の有無（県内）
C88: 計画の策定 | E88: 避難訓練の実施
C89: 策定 | D89: 未策定 | E89: 実施 | F89: 未実施
B91: 共同生活住居数 | C91: 255 | D91: 52 | E91: 297 | F91: 10
B92: 割合 | C92: =C91/K92 -> 0.83061889 | D92: =D91/K92 -> 0.16938111 | E92: =E91/L92 -> 0.96742671 | F92: =F91/L92 -> 0.03257329 | K92: =C91+D91 -> 307 | L92: =E91+F91 -> 307
B95: 避難訓練への地域住民の参加
C97: 地域住民の参加
C98: 有 | D98: 無
B100: 共同生活住居数 | C100: 42 | D100: 265
B101: 割合 | C101: =C100/K101 -> 0.13680782 | D101: =D100/K101 -> 0.86319218 | K101: =C100+D100 -> 307
