Workbook
Name ___________kk29: #REF!
Name __________kk06: #REF!
Name __________kk29: #REF!
Name _________kk06: #REF!
Name _________kk29: #REF!
Name ________kk06: #REF!
Name ________kk29: #REF!
Name _______kk06: #REF!
Name _______kk29: #REF!
Name ______kk06: #REF!
Name ______kk29: #REF!
Name _____kk06: #REF!
Name _____kk29: #REF!
Name ____kk06: #REF!
Name ____kk1: #REF!
Name ____kk29: #REF!
Name ___kk06: #REF!
Name ___kk1: #REF!
Name ___kk29: #REF!
Name __kk06: #REF!
Name __kk1: #REF!
Name __kk29: #REF!
Name _kk06: #REF!
Name _kk1: #REF!
Name _kk1: #REF!
Name _kk2: #REF!
Name _kk29: #REF!
Name ▼選択してください。: #REF!
Name ▼選択してください。: #REF!
Name ▼選択してください。: #REF!
Name ▼選択してください。: #REF!
Name ②従業者の員数: #REF!
Name aa: #REF!
Name aaaaa: #REF!
Name as: #REF!
Name as: #REF!
Name Avrg: #REF!
Name Avrg: #REF!
Name Avrg: #REF!
Name avrg1: #REF!
Name CSV_サービス情報: #REF!
Name CSV_サービス情報: #REF!
Name CSV_サービス情報: #REF!
Name CSV_口座振込依頼書: #REF!
Name CSV_口座振込依頼書: #REF!
Name CSV_口座振込依頼書: #REF!
Name CSV_施設種別: #REF!
Name CSV_施設種別: #REF!
Name CSV_追加情報: #REF!
Name CSV_追加情報: #REF!
Name CSV_追加情報: #REF!
Name CSV_付表１: #REF!
Name CSV_付表１: #REF!
Name CSV_付表１: #REF!
Name CSV_付表１＿１: #REF!
Name CSV_付表１＿１: #REF!
Name CSV_付表１＿１: #REF!
Name CSV_付表１＿２: #REF!
Name CSV_付表１＿２: #REF!
Name CSV_付表１＿２: #REF!

Sheet 別紙１
V1: （別紙）
C3: 同一法人において既に指定を受けている事業等について | O3: 法人名
A5: 法律 | C5: サービスの種類 | G5: 事業所・施設名称 | N5: 指定年月日 | S5: 指定事業所番号
A7: 児童福祉法 | C7: 児童発達支援 | G7: かながわ△△キッズ | N7: 39722 | S7: 1 | T7: 2 | U7: 3 | V7: 4 | W7: 5 | X7: 6 | Y7: 7 | Z7: 8 | AA7: 9 | AB7: 0
C8: 放課後等デイサービス | G8: かながわ△△キッズ | N8: 39722 | S8: 1 | T8: 2 | U8: 3 | V8: 4 | W8: 5 | X8: 6 | Y8: 7 | Z8: 8 | AA8: 9 | AB8: 0
A16: 障害者総合支援法 | C16: 生活介護 | G16: かながわデーサービス○○園 | N16: 38991 | S16: 9 | T16: 8 | U16: 7 | V16: 6 | W16: 5 | X16: 4 | Y16: 3 | Z16: 2 | AA16: 1 | AB16: 0
A25: 介護保険法

Sheet 別紙２（その１）
A1: 別紙２（その１）
C2: 障害児通所支援事業所に係る多機能型による
C3: 事業を実施する場合の記載事項(総括表) その１
V4: ※多機能型事業実施時は各付表とこの表を併せて提出してください。
AA5: ※受付番号
A7: 申請に係る事業所 | C7: サービス種類 | F7: フリガナ | I7: ﾏﾙﾏﾙｺﾄﾞﾓｷｮｳｼﾂ ｶﾅｶﾞﾜ
F8: 名 称 | I8: ○○こども教室 かながわ
C9: 児童発達支援 | F9: 所在地 | I9: 〒 | K9: 123-4567 | Q9: ←郵便番号を半角数字７桁で入力してください
I10: 神奈川県横浜市中区日本大通１
F12: 連 絡 先 | I12: 電話番号 | M12: 123-456-7890 | W12: ＦＡＸ番号 | AA12: 123-456-7890
A13: （注）多機能型による他の事業所については、下欄に記載すること。
A14: 多機能型の他の事業所Ⅰ | C14: サービス種類 | F14: フリガナ | I14: ﾏﾙﾏﾙｺﾄﾞﾓｷｮｳｼﾂ ｶﾅｶﾞﾜ
F15: 名 称 | I15: ○○こども教室 かながわ
C16: 放課後等デイサービス | F16: 所在地 | I16: 〒 | K16: 123-4567 | Q16: ←郵便番号を半角数字７桁で入力してください | W16: 0
I17: 神奈川県横浜市中区日本大通１
F19: 連 絡 先 | I19: 電話番号 | M19: 123-456-7890 | W19: ＦＡＸ番号 | AA19: 123-456-7890
A20: 多機能型の他の事業所Ⅱ | C20: サービス種類 | F20: フリガナ
F21: 名 称
F22: 所在地 | I22: 〒 | Q22: ←郵便番号を半角数字７桁で入力してください
F25: 連 絡 先 | I25: 電話番号 | W25: ＦＡＸ番号
A26: 多機能型の他の事業所Ⅲ | C26: サービス種類 | F26: フリガナ
F27: 名 称
F28: 所在地 | I28: 〒 | Q28: ←郵便番号を半角数字７桁で入力してください
F31: 連 絡 先 | I31: 電話番号 | W31: ＦＡＸ番号
A32: 多機能型の他の事業所Ⅳ | C32: サービス種類 | F32: フリガナ
F33: 名 称
F34: 所在地 | I34: 〒 | Q34: ←郵便番号を半角数字７桁で入力してください
F37: 連 絡 先 | I37: 電話番号 | W37: ＦＡＸ番号
A38: 管理者 | C38: ﾌﾘｶﾞﾅ | I38: ｶﾅｶﾞﾜ ｴｲｺ
C39: 氏 名 | I39: 神奈川 映子
C40: 住 所 | I40: 〒 | K40: 2318588 | Q40: ←郵便番号を半角数字７桁で入力してください
I41: 神奈川県横浜市中区日本大通3500 コーポブンチョウ102
C43: 他の事業所又は施設の従業者との兼務（兼務の場合記入） | O43: 事業所等の名称
O44: 兼務する職種
O45: 勤務時間
A46: 児童発達支援管理責任者 | C46: ﾌﾘｶﾞﾅ | I46: ﾖｺﾊﾏ ﾀﾛｳ
C47: 氏 名 | I47: 横浜 太郎
C48: 住 所 | I48: 〒 | K48: 2318588 | Q48: ←郵便番号を半角数字７桁で入力してください
I49: 神奈川県横浜市中区日本大通４２０１横浜エクセレント４０５
A51: 主たる対象とする障害の種類 | I51: 無し | M51: 知的 | Q51: 身体 | U51: 重心 | Y51: 難聴 | AC51: 盲ろうあ
M53: ○
A54: 実施事業 | M54: 児童発達支援 | Q54: 放課後等デイ | U54: 医療型児童発達支援 | Y54: 保育所等訪問支援
I56: 単位の有無 | M56: 2 | Q56: 2
A57: 定員 | D57: 合計 | I57: 単位①
D58: 10 | I58: 単位②
I59: 単位③
I60: 単位④

Sheet 別紙２（その２）
A1: 別紙２（その２）
Q4: ※多機能型事業実施時は各付表とこの表を併せて提出してください。
AA5: ※受付番号
A7: 従 業 者 の 職 種 ・ 員 数
G8: 児童発達支援管理責任者 | K8: 医師 （嘱託医含む） | O8: 看護師 | S8: 児童指導員 | W8: 保育士 | AA8: 指導員
G10: 専従 | I10: ※兼務 | K10: 専従 | M10: ※兼務 | O10: 専従 | Q10: ※兼務 | S10: 専従 | U10: ※兼務 | W10: 専従 | Y10: ※兼務 | AA10: 専従 | AC10: ※兼務
A11: 合計 | B11: 従業者数 | D11: 常勤（人） | G11: 1 | S11: 1
D12: 非常勤（人） | O12: 1 | W12: 5
B13: 常勤換算後の人数（人）
B14: 基準上の必要人数（人）
G15: 理学療法士又は作業療法士 | K15: 言語聴覚士 | O15: 機能訓練担当職員 | S15: 訪問支援員 | W15: 栄養士 | AA15: 調理員
G17: 専従 | I17: ※兼務 | K17: 専従 | M17: ※兼務 | O17: 専従 | Q17: ※兼務 | S17: 専従 | U17: ※兼務 | W17: 専従 | Y17: ※兼務 | AA17: 専従 | AC17: ※兼務
A18: 合計 | B18: 従業者数 | D18: 常勤（人）
D19: 非常勤（人）
B20: 常勤換算後の人数（人）
B21: 基準上の必要人数（人）
G24: 専従 | I24: ※兼務 | K24: 専従 | M24: ※兼務 | O24: 専従 | Q24: ※兼務 | S24: 専従 | U24: ※兼務 | W24: 専従 | Y24: ※兼務 | AA24: 専従 | AC24: ※兼務
A25: 合計 | B25: 従業者数 | D25: 常勤（人）
D26: 非常勤（人）
B27: 常勤換算後の人数（人）
B28: 基準上の必要人数（人）
A29: （備考）
A30: １．「受付番号」「基準上の必要人数」欄には、記載しないでください。
A31: ２．記入欄が不足する場合は、適宜欄を設けて記載するか又は別葉に記載した書類を添付してください。

Sheet 勤務形態一覧表
A1: 従業者の勤務の体制及び勤務形態一覧表 | AI1: サービス種別 | AK1: ！申請するサービス類型を選択してください
M2: 2026 | Q2: 年 | S2: 4 | U2: 月 | AI2: 事業所名 | AK2: △△キッズ
AI3: (1)記載する期間 | AK3: ４週
AI4: (2)予定/実績の別 | AK4: 予定
AI5: (2)-2 定員 | AK5: 10
AG6: (3)事業所における常勤の従業者が勤務すべき時間数 | AH6: 40 | AK6: 時間/週 | AL6: 160 | AM6: 時間/月
A8: No. | B8: (4)職種 | C8: (5)勤務形態 | D8: (6)資格 | E8: (7)氏名 | F8: (8) | AK8: (9)勤務時間数合計 | AL8: (10)週平均の勤務時間数 | AM8: (11)兼務状況 （兼務先／兼務する職務の内容）等
F9: 第１週 | M9: 第２週 | T9: 第３週 | AA9: 第４週 | AH9: 第５週
B10: ※選択肢にない職種については直接入力してください | F10: =DATE($M$2,$S$2,1) -> 46113 | G10: =DATE($M$2,$S$2,2) -> 46114 | H10: =DATE($M$2,$S$2,3) -> 46115 | I10: =DATE($M$2,$S$2,4) -> 46116 | J10: =DATE($M$2,$S$2,5) -> 46117 | K10: =DATE($M$2,$S$2,6) -> 46118 | L10: =DATE($M$2,$S$2,7) -> 46119 | M10: =DATE($M$2,$S$2,8) -> 46120 | N10: =DATE($M$2,$S$2,9) -> 46121 | O10: =DATE($M$2,$S$2,10) -> 46122 | P10: =DATE($M$2,$S$2,11) -> 46123 | Q10: =DATE($M$2,$S$2,12) -> 46124 | R10: =DATE($M$2,$S$2,13) -> 46125 | S10: =DATE($M$2,$S$2,14) -> 46126 | T10: =DATE($M$2,$S$2,15) -> 46127 | U10: =DATE($M$2,$S$2,16) -> 46128 | V10: =DATE($M$2,$S$2,17) -> 46129 | W10: =DATE($M$2,$S$2,18) -> 46130 | X10: =DATE($M$2,$S$2,19) -> 46131 | Y10: =DATE($M$2,$S$2,20) -> 46132 | Z10: =DATE($M$2,$S$2,21) -> 46133 | AA10: =DATE($M$2,$S$2,22) -> 46134 | AB10: =DATE($M$2,$S$2,23) -> 46135 | AC10: =DATE($M$2,$S$2,24) -> 46136 | AD10: =DATE($M$2,$S$2,25) -> 46137 | AE10: =DATE($M$2,$S$2,26) -> 46138 | AF10: =DATE($M$2,$S$2,27) -> 46139 | AG10: =DATE($M$2,$S$2,28) -> 46140 | AH10: =IF(DAY(EOMONTH(F10,0))<29,"",DATE($M$2,$S$2,29)) -> 46141 | AI10: =IF(DAY(EOMONTH(F10,0))<30,"",DATE($M$2,$S$2,30)) -> 46142 | AJ10: =IF(DAY(EOMONTH(F10,0))<31,"",DATE($M$2,$S$2,31))
F11: =DATE($M$2,$S$2,1) -> 46113 | G11: =DATE($M$2,$S$2,2) -> 46114 | H11: =DATE($M$2,$S$2,3) -> 46115 | I11: =DATE($M$2,$S$2,4) -> 46116 | J11: =DATE($M$2,$S$2,5) -> 46117 | K11: =DATE($M$2,$S$2,6) -> 46118 | L11: =DATE($M$2,$S$2,7) -> 46119 | M11: =DATE($M$2,$S$2,8) -> 46120 | N11: =DATE($M$2,$S$2,9) -> 46121 | O11: =DATE($M$2,$S$2,10) -> 46122 | P11: =DATE($M$2,$S$2,11) -> 46123 | Q11: =DATE($M$2,$S$2,12) -> 46124 | R11: =DATE($M$2,$S$2,13) -> 46125 | S11: =DATE($M$2,$S$2,14) -> 46126 | T11: =DATE($M$2,$S$2,15) -> 46127 | U11: =DATE($M$2,$S$2,16) -> 46128 | V11: =DATE($M$2,$S$2,17) -> 46129 | W11: =DATE($M$2,$S$2,18) -> 46130 | X11: =DATE($M$2,$S$2,19) -> 46131 | Y11: =DATE($M$2,$S$2,20) -> 46132 | Z11: =DATE($M$2,$S$2,21) -> 46133 | AA11: =DATE($M$2,$S$2,22) -> 46134 | AB11: =DATE($M$2,$S$2,23) -> 46135 | AC11: =DATE($M$2,$S$2,24) -> 46136 | AD11: =DATE($M$2,$S$2,25) -> 46137 | AE11: =DATE($M$2,$S$2,26) -> 46138 | AF11: =DATE($M$2,$S$2,27) -> 46139 | AG11: =DATE($M$2,$S$2,28) -> 46140 | AH11: =IF(DAY(EOMONTH(F11,0))<29,"",DATE($M$2,$S$2,29)) -> 46141 | AI11: =IF(DAY(EOMONTH(F11,0))<30,"",DATE($M$2,$S$2,30)) -> 46142 | AJ11: =IF(DAY(EOMONTH(F11,0))<31,"",DATE($M$2,$S$2,31))
A12: 1 | B12: 管理者 | C12: B | E12: かながわ 次郎 | F12: 8 | G12: 8 | H12: 8 | K12: 8 | L12: 8 | M12: 8 | N12: 8 | O12: 8 | R12: 8 | S12: 8 | T12: 8 | U12: 8 | V12: 8 | Y12: 8 | Z12: 8 | AA12: 8 | AB12: 8 | AC12: 8 | AF12: 8 | AG12: 8 | AK12: =+SUM(F12:AJ12) -> 160 | AL12: =IF($AK$3="４週",AK12/4,AK12/(DAY(EOMONTH($F$10,0))/7)) -> 40
A13: 2 | B13: 児童発達支援管理責任者 | C13: A | E13: やまだ 開成 | F13: 8 | G13: 8 | H13: 8 | K13: 8 | L13: 8 | M13: 8 | N13: 8 | O13: 8 | R13: 8 | S13: 8 | T13: 8 | U13: 8 | V13: 8 | Y13: 8 | Z13: 8 | AA13: 8 | AB13: 8 | AC13: 8 | AF13: 8 | AG13: 8 | AK13: =+SUM(F13:AJ13) -> 160 | AL13: =IF($AK$3="４週",AK13/4,AK13/(DAY(EOMONTH($F$10,0))/7)) -> 40
A14: 3 | B14: 児童指導員 | C14: B | D14: 教員免許 | E14: かながわ 次郎 | F14: 8 | G14: 8 | H14: 8 | K14: 8 | L14: 8 | M14: 8 | N14: 8 | O14: 8 | R14: 8 | S14: 8 | T14: 8 | U14: 8 | V14: 8 | Y14: 8 | Z14: 8 | AA14: 8 | AB14: 8 | AC14: 8 | AF14: 8 | AG14: 8 | AK14: =+SUM(F14:AJ14) -> 160 | AL14: =IF($AK$3="４週",AK14/4,AK14/(DAY(EOMONTH($F$10,0))/7)) -> 40
A15: 4 | B15: 児童指導員 | C15: C | D15: 社会福祉士 | E15: まつだ たろう | F15: 4 | G15: 4 | H15: 4 | K15: 4 | L15: 4 | M15: 4 | N15: 4 | O15: 4 | R15: 4 | S15: 4 | T15: 4 | U15: 4 | V15: 4 | Y15: 4 | Z15: 4 | AA15: 4 | AB15: 4 | AC15: 4 | AF15: 4 | AG15: 4 | AK15: =+SUM(F15:AJ15) -> 80 | AL15: =IF($AK$3="４週",AK15/4,AK15/(DAY(EOMONTH($F$10,0))/7)) -> 20
A16: 5 | B16: 保育士 | C16: C | D16: 保育士 | E16: おおい 花子 | F16: 4 | G16: 4 | H16: 4 | K16: 4 | L16: 4 | M16: 4 | N16: 4 | O16: 4 | R16: 4 | S16: 4 | T16: 4 | U16: 4 | V16: 4 | Y16: 4 | Z16: 4 | AA16: 4 | AB16: 4 | AC16: 4 | AF16: 4 | AG16: 4 | AK16: =+SUM(F16:AJ16) -> 80 | AL16: =IF($AK$3="４週",AK16/4,AK16/(DAY(EOMONTH($F$10,0))/7)) -> 20 | AM16: △△ジュニア（保育士）
A17: 6 | AK17: =+SUM(F17:AJ17) -> 0 | AL17: =IF($AK$3="４週",AK17/4,AK17/(DAY(EOMONTH($F$10,0))/7)) -> 0 | AO17: =IF(B17="","",IF(ISERROR(MATCH(B17,$C$39:$AM$39,0)),"その他職員",B17))
A18: 7 | AK18: =+SUM(F18:AJ18) -> 0 | AL18: =IF($AK$3="４週",AK18/4,AK18/(DAY(EOMONTH($F$10,0))/7)) -> 0 | AO18: =IF(B18="","",IF(ISERROR(MATCH(B18,$C$39:$AM$39,0)),"その他職員",B18))
A19: 8 | AK19: =+SUM(F19:AJ19) -> 0 | AL19: =IF($AK$3="４週",AK19/4,AK19/(DAY(EOMONTH($F$10,0))/7)) -> 0 | AO19: =IF(B19="","",IF(ISERROR(MATCH(B19,$C$39:$AM$39,0)),"その他職員",B19))
A20: 9 | AK20: =+SUM(F20:AJ20) -> 0 | AL20: =IF($AK$3="４週",AK20/4,AK20/(DAY(EOMONTH($F$10,0))/7)) -> 0 | AO20: =IF(B20="","",IF(ISERROR(MATCH(B20,$C$39:$AM$39,0)),"その他職員",B20))
A21: 10 | AK21: =+SUM(F21:AJ21) -> 0 | AL21: =IF($AK$3="４週",AK21/4,AK21/(DAY(EOMONTH($F$10,0))/7)) -> 0 | AO21: =IF(B21="","",IF(ISERROR(MATCH(B21,$C$39:$AM$39,0)),"その他職員",B21))
A22: 11 | AK22: =+SUM(F22:AJ22) -> 0 | AL22: =IF($AK$3="４週",AK22/4,AK22/(DAY(EOMONTH($F$10,0))/7)) -> 0 | AO22: =IF(B22="","",IF(ISERROR(MATCH(B22,$C$39:$AM$39,0)),"その他職員",B22))
A23: 12 | AK23: =+SUM(F23:AJ23) -> 0 | AL23: =IF($AK$3="４週",AK23/4,AK23/(DAY(EOMONTH($F$10,0))/7)) -> 0 | AO23: =IF(B23="","",IF(ISERROR(MATCH(B23,$C$39:$AM$39,0)),"その他職員",B23))
A24: 13 | AK24: =+SUM(F24:AJ24) -> 0 | AL24: =IF($AK$3="４週",AK24/4,AK24/(DAY(EOMONTH($F$10,0))/7)) -> 0 | AO24: =IF(B24="","",IF(ISERROR(MATCH(B24,$C$39:$AM$39,0)),"その他職員",B24))
A25: 14 | AK25: =+SUM(F25:AJ25) -> 0 | AL25: =IF($AK$3="４週",AK25/4,AK25/(DAY(EOMONTH($F$10,0))/7)) -> 0 | AO25: =IF(B25="","",IF(ISERROR(MATCH(B25,$C$39:$AM$39,0)),"その他職員",B25))
A26: 15 | AK26: =+SUM(F26:AJ26) -> 0 | AL26: =IF($AK$3="４週",AK26/4,AK26/(DAY(EOMONTH($F$10,0))/7)) -> 0 | AO26: =IF(B26="","",IF(ISERROR(MATCH(B26,$C$39:$AM$39,0)),"その他職員",B26))
A27: 16 | AK27: =+SUM(F27:AJ27) -> 0 | AL27: =IF($AK$3="４週",AK27/4,AK27/(DAY(EOMONTH($F$10,0))/7)) -> 0 | AO27: =IF(B27="","",IF(ISERROR(MATCH(B27,$C$39:$AM$39,0)),"その他職員",B27))
A28: 17 | AK28: =+SUM(F28:AJ28) -> 0 | AL28: =IF($AK$3="４週",AK28/4,AK28/(DAY(EOMONTH($F$10,0))/7)) -> 0 | AO28: =IF(B28="","",IF(ISERROR(MATCH(B28,$C$39:$AM$39,0)),"その他職員",B28))
... A31: 20 | AK31: =+SUM(F31:AJ31) -> 0 | AL31: =IF($AK$3="４週",AK31/4,AK31/(DAY(EOMONTH($F$10,0))/7)) -> 0 | AO31: =IF(B31="","",IF(ISERROR(MATCH(B31,$C$39:$AM$39,0)),"その他職員",B31))
A32: 合計 | F32: =+SUM(F12:F31) -> 32 | G32: =+SUM(G12:G31) -> 32 | H32: =+SUM(H12:H31) -> 32 | I32: =+SUM(I12:I31) -> 0 | J32: =+SUM(J12:J31) -> 0 | K32: =+SUM(K12:K31) -> 32 | L32: =+SUM(L12:L31) -> 32 | M32: =+SUM(M12:M31) -> 32 | ... AJ32: =+SUM(AJ12:AJ31) -> 0 | AK32: =+SUM(F32:AJ32) -> 640 | AL32: =IF($AK$3="４週",AK32/4,AK32/(DAY(EOMONTH($F$10,0))/7)) -> 160
A33: サービス提供時間 | F33: 8 | G33: 8 | H33: 8 | K33: 8 | L33: 8 | M33: 8 | N33: 8 | O33: 8 | R33: 8 | S33: 8 | T33: 8 | U33: 8 | V33: 8 | Y33: 8 | Z33: 8 | AA33: 8 | AB33: 8 | AC33: 8 | AF33: 8 | AG33: 8
A38: ＜人員基準に関する実人数集計＞ ※手入力いただいたものはすべて「その他職員」にまとめられます。
C39: =IF(VLOOKUP($AK$1,[6]選択肢!$A$1:$J$32,C44,FALSE)=0,"-",VLOOKUP($AK$1,[6]選択肢!$A$1:$J$32,C44,FALSE)) -> 職種① | E39: =IF(VLOOKUP($AK$1,[6]選択肢!$A$1:$J$32,E44,FALSE)=0,"-",VLOOKUP($AK$1,[6]選択肢!$A$1:$J$32,E44,FALSE)) -> 職種② | I39: =IF(VLOOKUP($AK$1,[6]選択肢!$A$1:$J$32,I44,FALSE)=0,"-",VLOOKUP($AK$1,[6]選択肢!$A$1:$J$32,I44,FALSE)) -> 職種③ | O39: =IF(VLOOKUP($AK$1,[6]選択肢!$A$1:$J$32,O44,FALSE)=0,"-",VLOOKUP($AK$1,[6]選択肢!$A$1:$J$32,O44,FALSE)) -> 職種④ | U39: =IF(VLOOKUP($AK$1,[6]選択肢!$A$1:$J$32,U44,FALSE)=0,"-",VLOOKUP($AK$1,[6]選択肢!$A$1:$J$32,U44,FALSE)) -> 職種⑤ | AA39: =IF(VLOOKUP($AK$1,[6]選択肢!$A$1:$J$32,AA44,FALSE)=0,"-",VLOOKUP($AK$1,[6]選択肢!$A$1:$J$32,AA44,FALSE)) -> 職種⑥ | AG39: =IF(VLOOKUP($AK$1,[6]選択肢!$A$1:$J$32,AG44,FALSE)=0,"-",VLOOKUP($AK$1,[6]選択肢!$A$1:$J$32,AG44,FALSE)) -> 職種⑦ | AL39: =IF(VLOOKUP($AK$1,[6]選択肢!$A$1:$J$32,AL44,FALSE)=0,"-",VLOOKUP($AK$1,[6]選択肢!$A$1:$J$32,AL44,FALSE)) -> 職種⑧
C40: 専従 | D40: 兼務 | E40: 専従 | F40: 兼務 | I40: 専従 | L40: 兼務 | O40: 専従 | R40: 兼務 | U40: 専従 | X40: 兼務 | AA40: 専従 | AD40: 兼務 | AG40: 専従 | AJ40: 兼務 | AL40: 専従 | AM40: 兼務
B41: 常勤 | C41: =COUNTIFS($AO$12:$AO$31,C$39,$C$12:$C$31,"A",$E$12:$E$31,"*") -> 0 | D41: =COUNTIFS($AO$12:$AO$31,C$39,$C$12:$C$31,"B",$E$12:$E$31,"*") -> 0 | E41: =COUNTIFS($AO$12:$AO$31,E$39,$C$12:$C$31,"A",$E$12:$E$31,"*") -> 0 | F41: =COUNTIFS($AO$12:$AO$31,E$39,$C$12:$C$31,"B",$E$12:$E$31,"*") -> 0 | I41: =COUNTIFS($AO$12:$AO$31,I$39,$C$12:$C$31,"A",$E$12:$E$31,"*") -> 0 | L41: =COUNTIFS($AO$12:$AO$31,I$39,$C$12:$C$31,"B",$E$12:$E$31,"*") -> 0 | O41: =COUNTIFS($AO$12:$AO$31,O$39,$C$12:$C$31,"A",$E$12:$E$31,"*") -> 0 | R41: =COUNTIFS($AO$12:$AO$31,O$39,$C$12:$C$31,"B",$E$12:$E$31,"*") -> 0 | U41: =COUNTIFS($AO$12:$AO$31,U$39,$C$12:$C$31,"A",$E$12:$E$31,"*") -> 0 | X41: =COUNTIFS($AO$12:$AO$31,U$39,$C$12:$C$31,"B",$E$12:$E$31,"*") -> 0 | AA41: =COUNTIFS($AO$12:$AO$31,AA$39,$C$12:$C$31,"A",$E$12:$E$31,"*") -> 0 | AD41: =COUNTIFS($AO$12:$AO$31,AA$39,$C$12:$C$31,"B",$E$12:$E$31,"*") -> 0 | AG41: =COUNTIFS($AO$12:$AO$31,AG$39,$C$12:$C$31,"A",$E$12:$E$31,"*") -> 0 | AJ41: =COUNTIFS($AO$12:$AO$31,AG$39,$C$12:$C$31,"B",$E$12:$E$31,"*") -> 0 | AL41: =COUNTIFS($AO$12:$AO$31,AL$39,$C$12:$C$31,"A",$E$12:$E$31,"*") -> 0 | AM41: =COUNTIFS($AO$12:$AO$31,AL$39,$C$12:$C$31,"B",$E$12:$E$31,"*") -> 0
B42: 非常勤 | C42: =COUNTIFS($AO$12:$AO$31,C$39,$C$12:$C$31,"C",$E$12:$E$31,"*") -> 0 | D42: =COUNTIFS($AO$12:$AO$31,C$39,$C$12:$C$31,"D",$E$12:$E$31,"*") -> 0 | E42: =COUNTIFS($AO$12:$AO$31,E$39,$C$12:$C$31,"C",$E$12:$E$31,"*") -> 0 | F42: =COUNTIFS($AO$12:$AO$31,E$39,$C$12:$C$31,"D",$E$12:$E$31,"*") -> 0 | I42: =COUNTIFS($AO$12:$AO$31,I$39,$C$12:$C$31,"C",$E$12:$E$31,"*") -> 0 | L42: =COUNTIFS($AO$12:$AO$31,I$39,$C$12:$C$31,"D",$E$12:$E$31,"*") -> 0 | O42: =COUNTIFS($AO$12:$AO$31,O$39,$C$12:$C$31,"C",$E$12:$E$31,"*") -> 0 | R42: =COUNTIFS($AO$12:$AO$31,O$39,$C$12:$C$31,"D",$E$12:$E$31,"*") -> 0 | U42: =COUNTIFS($AO$12:$AO$31,U$39,$C$12:$C$31,"C",$E$12:$E$31,"*") -> 0 | X42: =COUNTIFS($AO$12:$AO$31,U$39,$C$12:$C$31,"D",$E$12:$E$31,"*") -> 0 | AA42: =COUNTIFS($AO$12:$AO$31,AA$39,$C$12:$C$31,"C",$E$12:$E$31,"*") -> 0 | AD42: =COUNTIFS($AO$12:$AO$31,AA$39,$C$12:$C$31,"D",$E$12:$E$31,"*") -> 0 | AG42: =COUNTIFS($AO$12:$AO$31,AG$39,$C$12:$C$31,"C",$E$12:$E$31,"*") -> 0 | AJ42: =COUNTIFS($AO$12:$AO$31,AG$39,$C$12:$C$31,"D",$E$12:$E$31,"*") -> 0 | AL42: =COUNTIFS($AO$12:$AO$31,AL$39,$C$12:$C$31,"C",$E$12:$E$31,"*") -> 0 | AM42: =COUNTIFS($AO$12:$AO$31,AL$39,$C$12:$C$31,"D",$E$12:$E$31,"*") -> 0
B43: 常勤換算数 | C43: =IF($AK$3="４週",SUMIFS($AK$12:$AK$31,$AO$12:$AO$31,C39)/4/$AH$6,IF($AK$3="歴月",SUMIFS($AK$12:$AK$31,$AO$12:$AO$31,C39)/$AL$6,"記載する期間を選択してください")) -> 0 | E43: =IF($AK$3="４週",SUMIFS($AK$12:$AK$31,$AO$12:$AO$31,E39)/4/$AH$6,IF($AK$3="歴月",SUMIFS($AK$12:$AK$31,$AO$12:$AO$31,E39)/$AL$6,"記載する期間を選択してください")) -> 0 | I43: =IF($AK$3="４週",SUMIFS($AK$12:$AK$31,$AO$12:$AO$31,I39)/4/$AH$6,IF($AK$3="歴月",SUMIFS($AK$12:$AK$31,$AO$12:$AO$31,I39)/$AL$6,"記載する期間を選択してください")) -> 0 | O43: =IF($AK$3="４週",SUMIFS($AK$12:$AK$31,$AO$12:$AO$31,O39)/4/$AH$6,IF($AK$3="歴月",SUMIFS($AK$12:$AK$31,$AO$12:$AO$31,O39)/$AL$6,"記載する期間を選択してください")) -> 0 | U43: =IF($AK$3="４週",SUMIFS($AK$12:$AK$31,$AO$12:$AO$31,U39)/4/$AH$6,IF($AK$3="歴月",SUMIFS($AK$12:$AK$31,$AO$12:$AO$31,U39)/$AL$6,"記載する期間を選択してください")) -> 0 | AA43: =IF($AK$3="４週",SUMIFS($AK$12:$AK$31,$AO$12:$AO$31,AA39)/4/$AH$6,IF($AK$3="歴月",SUMIFS($AK$12:$AK$31,$AO$12:$AO$31,AA39)/$AL$6,"記載する期間を選択してください")) -> 0 | AG43: =IF($AK$3="４週",SUMIFS($AK$12:$AK$31,$AO$12:$AO$31,AG39)/4/$AH$6,IF($AK$3="歴月",SUMIFS($AK$12:$AK$31,$AO$12:$AO$31,AG39)/$AL$6,"記載する期間を選択してください")) -> 0 | AL43: =IF($AK$3="４週",SUMIFS($AK$12:$AK$31,$AO$12:$AO$31,AL39)/4/$AH$6,IF($AK$3="歴月",SUMIFS($AK$12:$AK$31,$AO$12:$AO$31,AL39)/$AL$6,"記載する期間を選択してください")) -> 0
C44: 2 | E44: 3 | I44: 4 | O44: 5 | U44: 6 | AA44: 7 | AG44: 8 | AL44: 9
A45: ・最初に「年月欄」「サービス種別」「事業所名」を入力してください。 | R45: 6 | X45: 7 | AD45: 8 | AJ45: 9
A46: (1) 「４週」・「暦月」のいずれかを選択してください。
A47: (2) 「予定」・「実績」のいずれかを選択してください。
A48: (2) -2 定員数を入力してください。
A49: (3) 事業所における常勤の従業者が勤務すべき時間数を入力してください。
A50: (4) 従業者の職種を入力してください。
A51: 記入の順序は、職種ごとにまとめてください。
A52: (5) 従業者の勤務形態について、下記のうち該当する区分の記号を入力してください。
B53: 記号 | C53: 区分
B54: A | C54: 常勤で専従
B55: B | C55: 常勤で兼務
B56: C | C56: 非常勤で専従
B57: D | C57: 非常勤で兼務
B58: （注）常勤・非常勤の区分について
B59: 当該事業所における勤務時間が、当該事業所において定められている常勤の従業者が勤務すべき時間数に達していることをいいます。雇用の形態は考慮しません。
B60: （例えば、常勤者は週に40時間勤務することとされた事業所であれば、非正規雇用であっても、週40時間勤務する従業者は常勤扱いとなります。）
A61: (6) 従業者の保有する資格を入力してください。
A62: 保有資格を全て記入するのではなく、人員基準・加配加算上、求められる資格等を入力してください。
A63: ※選択した資格及び研修に関して、必要に応じて、資格証又は研修修了証等の写しを添付資料として提出してください。
A64: (7) 従業者の氏名を記入してください。
A65: (8) 申請する事業に係る従業者（管理者を含む。）の1ヶ月分の勤務時間を入力してください。
A66: (9) 常勤の職員の休暇等については、その期間が暦年で１月を超えるものでない限り、常勤換算の計算上は勤務したものとみなすことができます。
B67: その場合、勤務時間欄には「休」と記入し、勤務時間の合計に含めてください（非常勤職員の休暇等は常勤換算の計算に含めることはできません）。
B68: ※指定基準の確認に際しては、４週分の入力で差し支えありません。
A69: (10) 従業者ごとに、合計勤務時間数を入力してください。
A70: ※ 入力することができる時間数は、当該事業所において常勤の従業者が勤務すべき勤務時間数を上限とします。
A71: (11) 従業者ごとに、週平均の勤務時間数を入力してください。
A72: (12) 申請する事業所以外の事業所・施設との兼務がある場合は、兼務先の事業所・施設の名称、兼務する職務の内容について記入してください。
A73: 同一事業所内の兼務についても兼務する職務の内容を記入してください。
A74: その他、特記事項欄としてもご活用ください。
A75: （13)本表には計算式を設定していますが、結果に誤りがないかご確認ください。
A76: （14) 必要項目を満たしていれば、各事業所で使用するシフト表等をもって代替書類として差し支えありません。

Sheet 参考様式1
B3: 参考様式１ | F3: 事業所・施設の平面図
C5: 事業所の名称 | E5: （申請書記載の名称と同一であること）
C8: 建物の名称 | E8: ○○ビルディング（ビル、施設等の名称） | R8: 選択してください
C9: 構造概要 | E9: ○造○階建 ○階 | G9: 建築年月 | H9: 選択してください | I9: 年 | J9: 月 | R9: 昭和
C10: 事業所の共用の有無 | E10: （○○介護保険事業所と共用等） | R10: 平成
C13: ○○ビルディング ○階平面図
M15: Ｎ
B36: （備考）１ | C36: 各室、区画の用途及び面積を記載し、他の事業や施設と共用する場合は、その旨を記載し色分けする等わかりやすく表示してください。
B37: 2 | C37: 既製の平面図がある場合にはそれを添付してください。（その場合、Ａ３に縮尺の上、折り込んでください。）
B38: 3 | C38: 療養介護事業所、共同生活介護、共同生活援助、短期入所事業所、障害者支援施設においては既製の平面図を添付して下さい。短期入所事業所で、併設事業所の場合は、本体施設の平面図を添付してください。
B39: 4 | C39: 事業所の外観及び内部（各室、区画）の写真を添付してください。
B40: 5 | C40: 多機能型、従たる事業所や複数の共同生活住居がある場合は、それぞれの位置関係がわかる地図等を添付してください。

Sheet 参考様式2
B2: 参考様式２ | G2: 居室面積等一覧表
C4: 事業所の名称 | E4: ○○○学園
C5: サービスの種類 | E5: 福祉型障害児入所施設
C7: 設置階 | E7: 1 | F7: 階 | I7: 2 | J7: 階 | N7: 階 | R7: 階 | T7: 合 計
B8: 種類 | D8: 室数 | E8: 面積 | G8: 備考 | H8: 室数 | I8: 面積 | K8: 備考 | L8: 室数 | M8: 面積 | O8: 備考 | P8: 室数 | Q8: 面積 | S8: 備考 | T8: 室数 | U8: 面積 | V8: 備考
B9: 居室 | C9: １室の定員 | F9: 一人あたり | J9: 一人あたり | N9: 一人あたり | R9: 一人あたり
B10: 居室Ａ | C10: １人 | D10: 18 | E10: 10.8㎡ | F10: （10.8㎡） | J10: （ ） | N10: （ ） | R10: （ ） | T10: 18 | U10: 194.4㎡
B11: 居室Ｂ | C11: 1人 | F11: （ ） | H11: 20 | I11: 9.5 | J11: （9.5㎡） | N11: （ ） | R11: （ ） | T11: 20 | U11: 190.0㎡
B12: 居室Ｃ | C12: 4人 | D12: 2 | E12: 48.8㎡ | F12: （12.2㎡） | J12: （ ） | N12: （ ） | R12: （ ） | T12: 2 | U12: 97.6㎡
F13: （ ） | J13: （ ） | N13: （ ） | R13: （ ）
F14: （ ） | J14: （ ） | N14: （ ） | R14: （ ）
F15: （ ） | J15: （ ） | N15: （ ） | R15: （ ）
F16: （ ） | J16: （ ） | N16: （ ） | R16: （ ）
F17: （ ） | J17: （ ） | N17: （ ） | R17: （ ）
B18: 居室以外
B19: 食堂 | D19: 1 | G19: 共用 | H19: 1 | K19: 共用
B20: 特別浴室 | D20: 1 | G20: 共用
B21: 一般浴室 | H21: 1 | K21: 共用
B22: 洗面所 | D22: 1 | G22: 共用 | H22: 1 | K22: 共用
B23: 便所 | D23: 2 | G23: 共用 | H23: 2 | K23: 共用
B24: 訓練・作業室 | D24: 1 | G24: 共用
B25: 相談室 | H25: 1 | K25: 共用
B26: 多目的室 | H26: 1 | K26: 共用
B29: 片廊下幅 | D29: （最も狭い個所） | F29: 1.55 | G29: ｍ | H29: （最も狭い個所） | J29: 1.55 | K29: ｍ | L29: （最も狭い個所） | O29: ｍ | P29: （最も狭い個所） | S29: ｍ
B30: 中廊下幅 | F30: 1.9 | G30: ｍ | J30: 1.9 | K30: ｍ | O30: ｍ | S30: ｍ
B31: 共用する事業所・施設名
B33: 備考１ | C33: 設備基準で定められた設備等について、設置階ごとに記載してください。
B34: ２ | C34: 居室については、「1室の定員」ごとに分けて記入してください。また、同じ定員でも面積に異なる居室がある場合には、それぞれの居室ごとに分けて記入してください。
B35: ３ | C35: 「1人あたりの面積」の算出が必要な設備は、面積欄の（ ）内に記入してください。（算出にあたっては小数点以下第二位を切捨て）
B36: ４ | C36: 部屋の種類ごとにまとめて、合計の室数、面積を記入してください。
B37: ５ | C37: 他の事業所、施設と共用がある場合は、備考欄に「共用」と記入し、「共用する事業所・施設名」欄に正式名称を記入し、共用先の当該部分の平面図を添付してください。
C38: （様式１で添付されている場合は省略可）
B39: ６ | C39: 同一の事業所又は施設の他の設備と兼用している場合は「備考欄」に「○○室と兼用」と記載してください。

Sheet 参考様式3
G2: ＊備品の内容について確認お願いします
A3: 参考様式３ | D3: 事業所・施設の設備・備品等一覧表
B6: 事業所の名称 | D6: かながわキッズ△△センター
B7: サービスの種類 | D7: 児童発達支援
A9: 設備の概要 | C9: 設備基準上適合すべき項目についての状況 | G9: 備品の品名及び数量 | J9: 適合の適否
A12: サービス提供上配慮すべき設備の概要
A22: 例）
A23: ・指導訓練室 | C23: ・指導訓練に必要な設備を備えている | G23: 机 ４、いす ４、パーテーション ２
G24: ボールプール、パズル、遊具等
A28: 事務室 | C28: 個人情報保護に配慮した設備を備えている | G28: 事務机４、いす４、鍵付書庫２
G29: パソコン2台、コピー複合機1台
A36: 非常災害設備等
A38: 例）
A39: ・消火設備 | C39: ・消防法に適合したものを備えている。 | G39: ・消火器 10、スプリンクラー
A46: 感染症予防 | G46: ・手指消毒 ２
A52: 備考 １ | B52: 申請するサービスの種類に関して、基準省令で定められた設備基準上適合すべき項目のうち、「居室面積等一覧表」（参考様式２）に記載された項目以外の事項について記載してください。
A53: 2 | B53: 「適合の可否」欄には何も記載しないでください。

Sheet 参考様式4
A3: 参考様式４ | D3: 管 理 者
D4: 児童発達支援管理責任者 | H4: 経 歴 書
A7: 事業所の名称 | C7: かながわ△△キッズ
A8: サービスの種類 | C8: 児童発達支援
A9: （管理又は従事する事業所が複数の場合はその全てを記載してください。）
B10: 事業の名称 | C10: かながわ△△キッズ
B11: サービスの種類 | C11: 放課後等デイサービス
A13: フリガナ | C13: ｶﾅｶﾞﾜｲﾁﾛｳ | H13: 生年月日 | I13: 昭和○○年○月○日
A14: 氏 名 | C14: かながわ一郎
A15: 住 所 | B15: (自宅） | C15: （〒123-****） 神奈川県△△市○○ー○○
A16: 電話番号 | B16: (自宅） | C16: 0123－○○ー○○○○
A17: 主な職歴
A18: 期間 | D18: 勤務先 | I18: 職務内容
A19: 平成○○年○月～平成○○年○月 | D19: 社会福祉法人△△会 | I19: 児童指導員
D20: 知的障害児通園施設 △△園
A21: 平成○○年○月～平成○○年○月 | D21: 社会福祉法人かながわ福祉会 | I21: 管理者
D22: かながわ△△キッズ
A27: 職務に関する資格
A28: 資格の種類 | F28: 資格取得年月日
B30: 介護福祉士 | G30: 平成○○年○月○日
B32: 社会福祉士 | G32: 平成○○年○月○日
D35: ★ 資格を証する書類の写しを添付してください。
A38: 備考（研修等の受講の状況等）
B40: サービス管理責任者研修(児童） | E40: 平成19年○月○日
B42: サービス管理責任者補足研修 | E42: 平成22年○月○日
D45: ★ 研修修了証の写しを添付してください。
A52: 備考 | B52: 管理者、児童発達支援管理責任者のいずれかを○印で囲ってください。
B53: 管理者、児童発達支援管理責任者についてそれぞれ別葉で提出してください。（兼務の場合は1枚で可）

Sheet 参考様式5
A2: 参考様式５
A3: 実 務 経 験 (見 込) 証 明 書
C6: 神奈川県 | D6: 知事 様 | J6: 令和 ○年 ○月 ○日
E8: 所在地 | F8: 神奈川県○○市○○町○○－○○
E9: 名称 | F9: 社会福祉法人△△会
E10: 代表者氏名 | F10: ○○ ○○ | J10: 印
E11: 電話番号 | F11: ○○○－○○○－○○○○
A13: 下記の者の実務経験は、以下のとおりであることを証明します。
A15: 氏 名 | D15: かながわ 一郎 | G15: (生年月日 昭和○○年 ○○月 ○○日）
A16: 現 住 所 | D16: 横浜市○○区○○町○○－○○
A17: 施設又は事業所名 | D17: △△園
D18: 施設・事業所の種別（ 知的障害児通園施設 ）
A19: 業 務 期 間
D20: 平成○○年 ○月 ○日 ～平成○○年 ○月 ○日（ ○年 ○月間）
A21: 上記のうち業務に従事した日数 | D21: 〇〇〇日
A22: 業 務 内 容 | D22: 職種（児童指導員 ）
D23: 知的障害児の療育活動
A26: （注） | B26: １． | C26: 見込証明でない場合は、表題の（見込）を二重線で消すこと。
B27: ２． | C27: 施設又は事業所名欄には、知的障害者更生施設等の種別も記入すること。
B28: ３． | C28: 業務期間欄は、実務経験被証明者が要援護者に対する直接的な援助を行っていた期間（見込においては援助を行うと見込まれる期間）を記入すること。（産休・育休・療養休暇や長期研修期間等は業務期間となりません）
B29: ４． | C29: 業務内容欄は、看護師、生活指導員等の職名を記入し、業務内容について、老人デイサービス事業における○○業務、○○実施要綱の○○事業の○○業務等具体的に記入すること。
B31: ５． | C31: 証明内容を訂正する場合は、二重線で消した上、証明者（代表者）の印を押すこと。

Sheet 参考様式６
A1: 参考様式６
A3: 利用者(入所者)又はその家族からの苦情を解決するために講ずる措置の概要
A5: 事業所名 | B5: かながわ○△園
A6: 指定障害福祉サービス等の種類 | B6: 児童発達支援
A8: 措 置 の 概 要
A9: １ 利用者(入所者)又はその家族からの相談又は苦情等に対応する常設の窓口(連絡先)、担当者
A10: ・相談、苦情に関する常設窓口として、相談担当者を設けている。また、担当者不在の場合、事業所の誰もが対応可能なように相談苦情管理対応シートを作成し、担当者に確実に引き継ぐ体制を敷いている。常設窓口（電話番号）○○－○○○○－○○○○ ＦＡＸ○○－○○○○－○○○○担当者 ○○ ○○（又は○○ ○○）※利用者には、この内容を印刷物で配布し、周知している。 ・利用者からの苦情に適切に対処するため、当事業所関係者及び利用者以外の中立・公正な「第三者委員」を設置し、双方の間に入って助言を行い、話し合いに立ち会うなど、積極的な役割を果たしてもらっている。「第三者委員」 氏名 ○○ ○○（弁護士）氏名 ○○ ○○（○○法人○○○ 監事）
A11: ２ 円滑かつ迅速に苦情を解決するための処理体制・手順
A12: ・苦情又は相談があった場合、利用者の状況を詳細に把握するよう、必要に応じ、状況の聞き取りのための訪問を実施し、事情の確認を行う。 ・相談担当者は、把握した状況を管理者とともに検討を行い、対応を決定する。 ・対応内容に基づき、必要に応じて関係者への連絡調整を行うとともに、利用者へは必ず対応方法を含めた結果報告を行う。（時間を要する内容もその旨を翌日までに連絡する。）
A13: ※具体的な対応方針
A15: ３ その他参考事項
A16: ・当事業所において、処理し得ない内容についても、適切な対応方法を利用者の立場にたって検討し、対処する。 ・かながわ福祉サービス運営適正化委員会 電話：045-311-8861 ファクス：045-312-6302 E-mail：tekisei@knsyk.jp

Sheet 参考様式８
A1: 参考様式８
A3: 指定障害福祉サービス等の主たる対象者を特定する理由等
B5: 事業所名 | C5: かながわ△△キッズ
B6: 指定障害福祉サービス等の種類 | C6: 児童発達支援
A9: １ 申請に係る指定障害福祉サービス等の主たる対象者
A10: 身体障害児 ・ 知的障害児 ・ 発達障害児 ・ 精神障害児 ・ 難病
A11: ２ 主たる対象者を１のとおり特定する理由
A12: 法人が、前身が知的障害児施設である福祉型障害児入所施設を運営しており、蓄積された支援方法を活用した事業展開を考えているため。
A13: ３ 今後における主たる対象者の拡充の予定
A14: (１)拡充予定の有無 | C14: ( 有り ・ 無し )
A15: (２)拡充予定の内容及び予定時期
A17: (３)拡充のための方策

Sheet 参考様式９
A1: 参考様式９
A2: 誓 約 書
G4: 令和○○ | H4: 年 | I4: ○○ | J4: 月 | K4: ○○ | L4: 日
C5: 知事 殿
A7: 申請者 | D7: （名称） | E7: 社会福祉法人かながわ福祉会
D9: （代表者の職名・氏名） | F9: 代表取締役・かながわ一郎
A13: 申請者が別紙のいずれにも該当しない者であることを誓約します。
C15: 別紙①： 障害福祉サービス事業者向け
C16: 別紙②： 障害者支援施設向け
C17: 別紙③： 一般相談支援事業者向け
C18: 別紙④： 特定相談支援事業者向け
B19: ○ | C19: 別紙⑤： 障害児通所支援事業者向け
C20: 別紙⑥： 障害児入所施設向け
C21: 別紙⑦： 障害児相談支援事業者向け
B22: 注 該当する種別に○を付けてください。

Sheet 参考様式9別紙
A1: 参考様式9別紙
A2: 役 員 等 名 簿
J4: 申請者（法人）名 | N4: （ ）
A5: （ふりがな） | E5: 生年月日 | J5: 住 所
A6: 氏 名 | E6: 役職名・呼称 | J6: TEL | N6: FAX
A7: かながわ一郎 | E7: 昭和○○年○月○日 | J7: 神奈川県平塚市○○－○○
E8: 理事長 | J8: 0463-××-×××× | N8: 0463-××-××××
A9: ○○○○ | E9: 昭和○○年○月○日 | J9: 神奈川県○○市○○－○○
E10: 理事 | J10: ×××-×××-×××× | N10: ×××-×××-××××
A11: ○○○○ | E11: 昭和○○年○月○日 | J11: 神奈川県○○市○○－○○
E12: 理事 | J12: ×××-×××-×××× | N12: ×××-×××-××××
A13: ○○○○ | E13: 昭和○○年○月○日 | J13: 神奈川県○○市○○－○○
E14: 理事 | J14: ×××-×××-×××× | N14: ×××-×××-××××
A15: ○○○○ | E15: 昭和○○年○月○日 | J15: 神奈川県○○市○○－○○
E16: 理事 | J16: ×××-×××-×××× | N16: ×××-×××-××××
A17: ○○○○ | E17: 昭和○○年○月○日 | J17: 神奈川県○○市○○－○○
E18: 理事 | J18: ×××-×××-×××× | N18: ×××-×××-××××
A19: ○○○○ | E19: 昭和○○年○月○日 | J19: 神奈川県○○市○○－○○
E20: 理事 | J20: ×××-×××-×××× | N20: ×××-×××-××××
A21: ○○○○ | E21: 昭和○○年○月○日 | J21: 神奈川県○○市○○－○○
E22: 理事 | J22: ×××-×××-×××× | N22: ×××-×××-××××
A23: ○○○○ | E23: 昭和○○年○月○日 | J23: 神奈川県○○市○○－○○
E24: 監事 | J24: ×××-×××-×××× | N24: ×××-×××-××××
A25: ○○○○ | E25: 昭和○○年○月○日 | J25: 神奈川県○○市○○－○○
E26: 監事 | J26: ×××-×××-×××× | N26: ×××-×××-××××
A27: ○○○○ | E27: 昭和○○年○月○日 | J27: 神奈川県○○市○○－○○
E28: 管理者 | J28: ×××-×××-×××× | N28: ×××-×××-××××
A39: 注 | B39: 当該法人の役員（業務を執行する社員、取締役、執行役又はこれらに準ずる者をいい、相談役、顧問その他いかなる名称を有する者であるかを問わず、法人に対し業務を執行する社員、取締役、執行役又はこれらに準ずる者と同等以上の支配力を有するものと認められる者を含む。）及び事業所を管理する者について記入してください。

Sheet 参考様式10
A1: 参考様式10（障害児入所施設（医療型を除く）
C2: 協力医療機関との契約の内容
A4: 事業所の名称
A5: サービスの種類
A7: 協力医療機関の名称
A8: 所在地
A9: 診療科目
A10: 事業所・施設からの距離 | C10: ○○ | D10: km | E10: （徒歩 ○○分 車 ○○分）
A11: 契約の内容
A42: 備考 | B42: 「契約の内容」は、契約書の写し等の添付でもかまいません。

Sheet 管理者誓約書（通所）
A1: 指定障害児通所支援事業所 管理者誓約書
A5: 「指定障害児通所支援の事業等の人員、設備及び運営に関する基準等を定める条例（平成25年神奈川県条例第7号）」の規定に従い、運営に関する基準を遵守し、当指定障害児通所支援事業の管理者の責務を適正に果たすことを誓約します。
F10: 令和 年 月 日
A13: 神奈川県知事 | C13: 様
D16: 事業者名（開設法人名）
D19: 代表者氏名
D22: 事業所名
D25: 管理者氏名
A32: 指定障害児通所支援の事業等の人員、設備及び運営に関する基準等を定める条例【抜粋】
A33: （管理者の責務）
A34: 第37条 指定児童発達支援事業所の管理者は、当該指定児童発達支援事業所の従業者及び業務の管理その他の管理を、一元的に行わなければならない。
A37: ２ 指定児童発達支援事業所の管理者は、当該指定児童発達支援事業所の従業者にこの節の規定を遵守させるため必要な指揮命令を行うものとする。
A40: （医療型児童発達支援、放課後等デイサービス、保育所等訪問支援においても準用）

Sheet 管理者誓約書（入所） 
A1: 指定障害児入所施設 管理者誓約書
A5: 「指定障害児入所施設等の人員、設備及び運営に関する基準等を定める条例（平成25年神奈川県条例第8号）」の規定に従い、運営に関する基準を遵守し、当指定障害児入所施設の管理者の責務を適正に果たすことを誓約します。
A10: 令和 年 月 日
A13: 神奈川県知事 | C13: 様
D16: 事業者名（開設法人名）
D19: 代表者氏名
D22: 事業所名
D25: 管理者氏名
A32: 指定障害児入所施設等の人員、設備及び運営に関する基準等を定める条例【抜粋】
A34: （管理者による管理等）
A35: 第34条
A36: （第1項 略）
A37: ２ 指定福祉型障害児入所施設の管理者は、当該指定福祉型障害児入所施設の従業者及び業務の管理その他の管理を、一元的に行わなければならない。
A39: ３ 指定福祉型障害児入所施設の管理者は、当該福祉型障害児入所施設の従業者にこの節の規定を遵守させるために必要な指揮命令を行うものとする。
A42: （医療型障害児入所施設においても準用）

Sheet 参考様式11
A1: 参考様式11
A3: 事 業 計 画 書
B5: 事業所名又は施設名 | D5: かながわ△△キッズ
B6: サービス種類 | D6: 児童発達支援
A8: 項 目 | D8: 内 容
A10: １ 事業の内容 | D10: ＊運営規定を参考に記載してください
A27: ２ 事業開始年月日 | D27: ＊事業開始予定年月日を記載
A29: ３ 従業者等の人員 | D29: ＊運営規定を参考に記載してください
A39: ４ 利用者の定員 | D39: ＊運営規定を参考に記載してください
A44: ５ 研修計画 | D44: 適切な利用者支援ができるよう次の研修を行う。 ①人権研修(外部講師）・虐待防止研修 年2回 ②支援技術に関する研修 年4回 ③初任者研修・キャリアアップ研修 その他、他事業所との交換研修等行う。
A50: ６ その他
A54: ※事業計画書は、当該事業所の年間事業計画を作成してください。

Sheet 別紙・加入状況確認票（社会保険及び労働保険）
O1: 【別紙】
A2: 社会福祉事業等の事業所用
A3: 社会保険及び労働保険への加入状況にかかる確認票
A5: 貴事業所の現状等について、下記の項目に回答してください。
A6: Ⅰ．現在、厚生年金保険・健康保険に加入していますか。 （該当する番号に○を付してください。また、必要事項をご記入ください。）
B7: 加入状況
A8: 1 | B8: 加入している。 →下記のいずれかの書類の写しを提出してください。（提示も可）
B9: ●保険料の領収証書 ●社会保険料納入証明書
B10: ●社会保険料納入確認書
B11: ●健康保険・厚生年金保険資格取得確認および標準報酬決定通知書
B12: ●健康保険・厚生年金保険適用通知書
B13: ※上記書類を所持していない場合には事業所整理記号を下記に記載するのみで可。
B14: （本社等にて加入手続が行われている場合も事業所整理記号を下記に記載するのみで可。）
A17: 2 | B17: 現在、加入手続中である。
A18: 3 | B18: 今後、加入手続を行う。
B19: （申請から３ヶ月以内に適用要件（法人事業所または従業員５人以上の個人事業所）に該当する予定の場合を含む。）
B20: 令和（ ）年（ ）月頃に手続予定。（申請から３ヶ月以内の年月をご記入ください。）
A21: 4 | B21: 適用要件に該当しない。（個人事業所（法人ではない事業所）であって従業員が４名以下の場合。申請から３ヶ月以内に適用要件に該当する予定がない。）
A22: 5 | B22: 適用要件に該当するか不明である。
B23: （個人事業所（法人ではない事業所）であって、正社員と、正社員以外で１週間の所定労働時間及び１ヶ月の所定労働日数が同じ事業所で同様の業務に従事している正社員の４分の３以上である者との合計が５人以上か不明な場合。）
A25: Ⅱ．現在、労働者災害補償保険・雇用保険に加入していますか。 （該当する番号に○を付してください。また、必要事項をご記入ください。）
B26: 加入状況
A27: 1 | B27: 加入している。 →下記のいずれかの書類の写しを提出してください。（提示も可）
B28: ●労働保険概算・確定保険料申告書
B29: ●納付書・領収証等 ●保険関係成立届
B30: ※上記書類を所持していない場合には労働保険番号を下記に記載するのみで可。
B31: （本社等にて加入手続が行われている場合も労働保険番号を下記に記載するのみで可。）
M32: －
A34: 2 | B34: 現在、加入手続中である。
A35: 3 | B35: 今後、加入手続を行う。（申請から３ヶ月以内に従業員（パート・アルバイトを含む）を雇う予定がある場合を含む。） 令和（ ）年（ ）月頃に手続予定。（申請から３ヶ月以内の年月をご記入ください。）
A36: 4 | B36: 適用要件に該当しない。（事業主・役員・同居の親族のみで経営、従業員（パート・アルバイトを含む）がいない、申請から３ヶ月以内に従業員を雇う予定がない。）
A38: 回答年月日 令和 年 月 日
A39: 事 業 所 名 称
A40: 事業所 所在地
A41: 会社等法人番号
A42: 電 話 番 号
A44: ※ 事業主の皆様には、全ての法令を遵守していただきたいと考えています。社会保険・労働保険の適用が確認できない場合は、厚生労働省からの依頼に基づき、厚生労働省に情報提供いたします。
A45: ※ 社会保険・労働保険の適用促進以外の目的では使用いたしません。

Sheet Sheet1
