Workbook
Name _________kk29: #REF!
Name ________kk06: #REF!
Name ________kk29: #REF!
Name _______kk06: #REF!
Name _______kk29: #REF!
Name ______kk06: #REF!
Name ______kk29: #REF!
Name _____kk06: #REF!
Name _____kk29: #REF!
Name ____kk06: #REF!
Name ____kk29: #REF!
Name ___kk06: #REF!
Name ___kk29: #REF!
Name __kk06: #REF!
Name __kk29: #REF!
Name _kk06: #REF!
Name _kk1: #REF!
Name _kk1: #REF!
Name _kk1: #REF!
Name _kk29: #REF!
Name ▼選択してください。: '[1]別紙2-1勤務体制一覧表(訪問系）【記載例】'!$CA$1:$CA$5
Name ▼選択してください。: #REF!
Name ▼選択してください。: '[2]別紙2-1勤務体制一覧表(訪問系）【記載例】'!$CA$1:$CA$5
Name Avrg: #REF!
Name Avrg: #REF!
Name avrg1: #REF!
Name CSV_サービス情報: #REF!
Name CSV_サービス情報: #REF!
Name CSV_口座振込依頼書: #REF!
Name CSV_口座振込依頼書: #REF!
Name CSV_追加情報: #REF!
Name CSV_追加情報: #REF!
Name CSV_付表１: #REF!
Name CSV_付表１: #REF!
Name CSV_付表１＿２: #REF!
Name CSV_付表１＿２: #REF!
Name CSV_付表１０: #REF!
Name CSV_付表１０: #REF!
Name CSV_付表１０＿２: #REF!
Name CSV_付表１０＿２: #REF!
Name CSV_付表１１: #REF!
Name CSV_付表１１: #REF!
Name CSV_付表１１＿２: #REF!
Name CSV_付表１１＿２: #REF!
Name CSV_付表１２: #REF!
Name CSV_付表１２: #REF!
Name CSV_付表１２＿２: #REF!
Name CSV_付表１２＿２: #REF!
Name CSV_付表１３その１: #REF!
Name CSV_付表１３その１: #REF!
Name CSV_付表１３その２: #REF!
Name CSV_付表１３その２: #REF!
Name CSV_付表１４: #REF!
Name CSV_付表１４: #REF!
Name CSV_付表２: #REF!
Name CSV_付表２: #REF!
Name CSV_付表３: #REF!
Name CSV_付表３: #REF!
Name CSV_付表３＿２: #REF!
Name CSV_付表３＿２: #REF!

Sheet 付表別紙
A2: 付表 別紙 | F2: 他の事業所又は施設の従事者と兼務する相談支援専門員について
A5: 他の事業所又は施設の従業者と兼務する相談支援専門員を全て記載してください。 ※記入欄が不足する場合は追加して記入してください。
A6: 1 | C6: 氏 名 | K6: 事業所の名称 | O6: 相談支援事業所○○
C7: フリガナ | F7: ソウダン イチロウ | K7: 事業の種類 | O7: 一般相談支援（地域移行支援） | T7: 兼務する職種 | X7: 相談支援専門員
C8: 氏名 | F8: 相談 一郎 | K8: 勤務時間 | O8: ８時間/日
A9: 2 | C9: 氏 名 | K9: 事業所の名称 | O9: 相談支援事業所○○
C10: フリガナ | F10: ソウダン イチロウ | K10: 事業の種類 | O10: 特定相談支援 | T10: 兼務する職種 | X10: 相談支援専門員
C11: 氏名 | F11: 相談 一郎 | K11: 勤務時間 | O11: ８時間/日
A12: 3 | C12: 氏 名 | K12: 事業所の名称 | O12: 相談支援事業所○○
C13: フリガナ | F13: ソウダン イチロウ | K13: 事業の種類 | O13: 障害児相談支援 | T13: 兼務する職種 | X13: 相談支援専門員
C14: 氏名 | F14: 相談 一郎 | K14: 勤務時間 | O14: ８時間/日
A15: 4 | C15: 氏 名 | K15: 事業所の名称
C16: フリガナ | K16: 事業の種類 | T16: 兼務する職種
C17: 氏名 | K17: 勤務時間
A18: 5 | C18: 氏 名 | K18: 事業所の名称
C19: フリガナ | K19: 事業の種類 | T19: 兼務する職種
C20: 氏名 | K20: 勤務時間
A21: 6 | C21: 氏 名 | K21: 事業所の名称
C22: フリガナ | K22: 事業の種類 | T22: 兼務する職種
C23: 氏名 | K23: 勤務時間
A24: 7 | C24: 氏 名 | K24: 事業所の名称
C25: フリガナ | K25: 事業の種類 | T25: 兼務する職種
C26: 氏名 | K26: 勤務時間
A27: 8 | C27: 氏 名 | K27: 事業所の名称
C28: フリガナ | K28: 事業の種類 | T28: 兼務する職種
C29: 氏名 | K29: 勤務時間
A30: 9 | C30: 氏 名 | K30: 事業所の名称
C31: フリガナ | K31: 事業の種類 | T31: 兼務する職種
C32: 氏名 | K32: 勤務時間
A33: 9 | C33: 氏 名 | K33: 事業所の名称
C34: フリガナ | K34: 事業の種類 | T34: 兼務する職種
C35: 氏名 | K35: 勤務時間
A36: 10 | C36: 氏 名 | K36: 事業所の名称
C37: フリガナ | K37: 事業の種類 | T37: 兼務する職種
C38: 氏名 | K38: 勤務時間

Sheet 参考様式１
B3: 参考様式１ | F3: 事業所・施設の平面図
C5: 事業所の名称 | E5: （申請書記載の名称と同一であること）
C9: 建物の名称 | E9: ○○ビルディング（ビル、施設等の名称）
C10: 構造概要 | E10: ○造○階建 ○階
C11: 事業所の共用の有無 | E11: （○○居宅介護事業所と共用、等）
D14: ○○ビルディング ○階平面図 | M14: Ｎ
B38: （備考）１ | C38: 各室、区画の用途及び面積を記載し、他の事業や施設と共用する場合は、その旨を記載し色分けする等わかりやすく表示してください。
B39: ２ | C39: 既製の平面図がある場合にはそれを添付してください。（その場合、Ａ３に縮尺の上、折り込んでください。）
B40: ３ | C40: 療養介護事業所、共同生活介護、共同生活援助、短期入所事業所、障害者支援施設においては既製の平面図を添付して下さい。短期入所事業所で、併設事業所の場合は、本体施設の平面図を添付してください。
B42: ４ | C42: 事業所の外観及び内部（各室、区画）の写真を添付してください。
B43: ５ | C43: 多機能型、従たる事業所や複数の共同生活住居がある場合は、それぞれの位置関係がわかる地図等を添付してください。

Sheet 参考様式２
B3: 参考様式２ | G3: 居室面積等一覧表
C5: 事業所の名称 | E5: 相談支援事業所○○
C6: サービスの種類 | E6: 一般相談支援（地域定着支援）
C8: 設置階 | E8: 1 | F8: 階 | I8: 2 | J8: 階 | N8: 階 | R8: 階 | T8: 合 計
B9: 種類 | D9: 室数 | E9: 面積 | G9: 備考 | H9: 室数 | I9: 面積 | K9: 備考 | L9: 室数 | M9: 面積 | O9: 備考 | P9: 室数 | Q9: 面積 | S9: 備考 | T9: 室数 | U9: 面積 | V9: 備考
B10: 居室 | C10: １室の定員 | F10: 一人あたり | J10: 一人あたり | N10: 一人あたり | R10: 一人あたり
B11: 1人部屋Ａ | C11: １人 | F11: （ ） | H11: 1 | I11: 10.8㎡ | J11: （10.8㎡） | N11: （ ） | R11: （ ） | T11: 1 | U11: 10.8㎡
F14: （ ） | J14: （ ） | N14: （ ） | R14: （ ）
F15: （ ） | J15: （ ） | N15: （ ） | R15: （ ）
F16: （ ） | J16: （ ） | N16: （ ） | R16: （ ）
F17: （ ） | J17: （ ） | N17: （ ） | R17: （ ）
F18: （ ） | J18: （ ） | N18: （ ） | R18: （ ）
B19: 居室以外
B20: 相談室 | D20: 1 | G20: 共用
B21: 洗面所 | D21: 1 | G21: 共用 | H21: 1 | K21: 共用
B22: トイレ | D22: 1 | G22: 共用 | H22: 1 | K22: 共用
B30: 片廊下幅 | D30: （最も狭い個所） | G30: ｍ | H30: （最も狭い個所） | K30: ｍ | L30: （最も狭い個所） | O30: ｍ | P30: （最も狭い個所） | S30: ｍ
B31: 中廊下幅 | G31: ｍ | K31: ｍ | O31: ｍ | S31: ｍ
B32: 共用する事業所・施設名
B34: 備考１ | C34: 設備基準で定められた設備等について、設置階ごとに記載してください。
B35: ２ | C35: 居室については、「1室の定員」ごとに分けて記入してください。また、同じ定員でも面積に異なる居室がある場合には、それぞれの居室ごとに分けて記入してください。
B36: ３ | C36: 「1人あたりの面積」の算出が必要な設備は、面積欄の（ ）内に記入してください。（算出にあたっては小数点以下第二位を切捨て）
B37: ４ | C37: 部屋の種類ごとにまとめて、合計の室数、面積を記入してください。

Sheet 参考様式３
A3: 参考様式３ | D3: 事業所の設備・備品等一覧表
B6: 事業所の名称 | D6: 相談支援事業所○○
B7: サービスの種類 | D7: 一般相談支援（地域定着支援）
A9: 設備の概要 | C9: 設備基準上適合すべき項目についての状況 | H9: 備品の品名及び数量 | K9: 適合の可否
A11: サービス提供上配慮すべき設備の概要
A21: 例）
A22: ・相談室 | C22: ・室内における談話の漏えいを防ぐための間仕切りを設けている | H22: 机 １、いす ４、パーテーション ２
A26: ・消毒薬品 | C26: ・感染症予防のため | H26: 手指消毒薬（アルコール消毒薬）
H27: マスク
H28: 手袋
A30: ・
A38: 非常災害設備等
A40: 例）
A41: ・消火設備 | C41: ・消防法に適合したものを備えている。 | H41: ・消火器
A61: 備考 １ | B61: 申請するサービスの種類に関して、基準省令で定められた設備基準上適合すべき項目のうち、「居室面積等一覧表」（参考様式２）に記載された項目以外の事項について記載してください。
A62: 2 | B62: 「適合の可否」欄には何も記載しないでください。

Sheet 参考様式４
A2: 参考様式４ | D2: 管 理 者
D3: 相談支援専門員
D4: 地域移行（定着）支援従事者 | I4: 経 歴 書
A7: 事業所の名称 | C7: 相談支援事業所○○
A8: サービスの種類 | C8: 一般相談支援事業所（地域移行支援）
A9: （管理者の場合で当該管理者が管理する事業所が複数の場合はその全てを記載してください。）
B10: 事業の名称 | C10: 相談支援事業所○○ | F10: 相談支援事業所○○ | I10: 相談支援事業所○○
B11: サービスの種類 | C11: 一般相談支援事業所（地域定着支援） | F11: 障害児相談支援 | I11: 特定相談支援
A13: フリガナ | C13: ソウダン イチロウ | H13: 生年月日 | I13: 昭和ｘｘ年ｘｘ月ｘｘ日
A14: 氏 名 | C14: 相談 一郎
A15: 住 所 | B15: (自宅） | C15: （〒***-****） | E15: ▲▲町×○１２－３
A16: 電話番号 | B16: (自宅） | C16: ****-**-****
A17: 主な職歴
A18: 期間 | D18: 勤務先 | I18: 職務内容
A19: 昭和○年○月○日～平成○○年○月○日 | D19: 特定非営利活動法人○○××園 | I19: 介護職員
A21: 平成○年○月○日～平成○○年○月○日 | D21: 社会福祉法人○○福祉会●●生活介護 | I21: 生活支援員
A23: 平成○年○月○日～平成○○年○月○日 | D23: 社会福祉法人○○福祉会相談支援事業所○○ | I23: 相談支援専門員
A28: 職務に関する資格
A29: 資格の種類 | F29: 資格取得年月日
B31: 介護福祉士 | G31: 平成○○年○月○日
B33: 社会福祉士 | G33: 平成○○年○月○日
A42: 備考（研修等の受講の状況等）
B43: 相談支援従事者初任者研修 | D43: 平成19年○月○日
B44: 相談支援従事者現任者研修 | D44: 平成22年○月○日
A53: 備考 | B53: 管理者、相談支援専門員、その他の従事者のいずれかを○印で囲ってください。
B54: 管理者、相談支援専門員、その他の従事者についてそれぞれ別葉で提出してください。

Sheet 参考様式５
A1: （参考様式５）
A2: 実 務 経 験 (見 込) 証 明 書
B5: 横浜市長 | J5: 〇年 ○月 ○日
E7: 所在地 | G7: ○○県○○市××町４－３－２－１
E8: 名称 | G8: 特定非営利活動法人○○××園
E9: 代表者 職・氏名 | G9: 理事長 ふくし たろう | J9: 印
E10: 電話番号 | G10: ＊＊＊－＊＊＊－＊＊＊＊
A12: 下記の者の実務経験は、以下のとおりであることを証明します。
A14: 氏 名 | E14: 相川 談 | G14: （生年月日 昭和××年××月××日）
A15: 現 住 所 | D15: ○○市●●９８７
A16: 施設又は事業所名 | D16: ○○ホーム
D17: 施設・事業所の種別（ 共同生活介護 ）
A18: 業 務 期 間
D19: ○○年 ○月 ○日 ～○○年 ○月 ○日（ ○年 ○月間）
A20: 上記のうち業務に従事した日数 | D20: 〇〇〇日
A21: 業 務 内 容 | D21: 職名（ 生活支援員 ）
D22: 入所者に対する介護業務
A25: （注） | B25: １． | C25: 施設又は事業所名欄には、知的障害者更生施設等の種別も記入すること。
B26: ２． | C26: 業務期間欄は、実務経験被証明者が要援護者に対する直接的な援助を行っていた期間（見込においては援助を行うと見込まれる期間）を記入すること。（産休・育休・療養休暇や長期研修期間等は業務期間となりません）
B28: ３． | C28: 見込証明でない場合は、表題の（見込）を二重線で消すこと。
B30: ４． | C30: 業務内容欄は、看護師、生活指導員等の職名を記入し、業務内容について、老人デイサービス事業における○○業務、○○実施要綱の○○事業の○○業務等具体的に記入すること。
B32: ５． | C32: 証明内容を訂正する場合は、二重線で消した上、証明者（代表者）の印を押すこと。

Sheet 参考様式６
A1: (参考様式６)
A3: 利用者(入所者)又はその家族からの苦情を解決するために講ずる措置の概要
A5: 事業所名 | B5: 相談支援事業所○○
A6: 指定障害福祉サービス等の種類 | B6: 一般相談支援事業所（地域移行支援）
A8: 措 置 の 概 要
A9: １ 利用者(入所者)又はその家族からの相談又は苦情等に対応する常設の窓口(連絡先)、担当者
A10: ・相談、苦情に関する常設窓口として、相談担当者を設けている。また、担当者不在の場合、事業所の誰もが対応可能なように相談苦情管理対応シートを作成し、担当者に確実に引き継ぐ体制を敷いている。常設窓口（電話番号）○○－○○○○－○○○○ ＦＡＸ○○－○○○○－○○○○担当者 ○○ ○○（又は○○ ○○）※利用者には、この内容を印刷物で配布し、周知している。 ・利用者からの苦情に適切に対処するため、当事業所関係者及び利用者以外の中立・公正な「第三者委員」を設置し、双方の間に入って助言を行い、話し合いに立ち会うなど、積極的な役割を果たしてもらっている。「第三者委員」 氏名 ○○ ○○（弁護士）氏名 ○○ ○○（○○法人○○○ 監事）
A11: ２ 円滑かつ迅速に苦情を解決するための処理体制・手順
A12: ・苦情又は相談があった場合、利用者の状況を詳細に把握するよう、必要に応じ、状況の聞き取りのための訪問を実施し、事情の確認を行う。 ・相談担当者は、把握した状況を管理者とともに検討を行い、対応を決定する。 ・対応内容に基づき、必要に応じて関係者への連絡調整を行うとともに、利用者へは必ず対応方法を含めた結果報告を行う。（時間を要する内容もその旨を翌日までに連絡する。）
A13: ※具体的な対応方針
A15: ３ その他参考事項
A16: 当事業所において、処理し得ない内容についても、適切な対応方法を利用者の立場にたって検討し、対処する。

Sheet 勤務形態一覧表（一般相談支援）
A1: 従業者の勤務の体制及び勤務形態一覧表 | AI1: サービス種別 | AK1: 一般相談支援事業
M2: 2026 | Q2: 年 | S2: 6 | U2: 月 | AI2: 事業所名 | AK2: 相談支援事業所○○
AI3: (1)記載する期間 | AK3: ４週
AI4: (2)予定/実績の別 | AK4: 予定
AG5: (3)事業所における常勤の従業者が勤務すべき時間数 | AH5: 40 | AK5: 時間/週 | AL5: 160 | AM5: 時間/月
A7: No. | B7: (4)職種 | C7: (5)勤務形態 | D7: (6)資格 | E7: (7)氏名 | F7: (8) | AK7: (9)勤務時間数合計 | AL7: (10)週平均の勤務時間数 | AM7: (11)兼務状況 （兼務先／兼務する職務の内容）等
F8: 第１週 | M8: 第２週 | T8: 第３週 | AA8: 第４週 | AH8: 第５週
B9: ※選択肢にない職種については直接入力してください | F9: =DATE($M$2,$S$2,1) -> 46174 | G9: =DATE($M$2,$S$2,2) -> 46175 | H9: =DATE($M$2,$S$2,3) -> 46176 | I9: =DATE($M$2,$S$2,4) -> 46177 | J9: =DATE($M$2,$S$2,5) -> 46178 | K9: =DATE($M$2,$S$2,6) -> 46179 | L9: =DATE($M$2,$S$2,7) -> 46180 | M9: =DATE($M$2,$S$2,8) -> 46181 | N9: =DATE($M$2,$S$2,9) -> 46182 | O9: =DATE($M$2,$S$2,10) -> 46183 | P9: =DATE($M$2,$S$2,11) -> 46184 | Q9: =DATE($M$2,$S$2,12) -> 46185 | R9: =DATE($M$2,$S$2,13) -> 46186 | S9: =DATE($M$2,$S$2,14) -> 46187 | T9: =DATE($M$2,$S$2,15) -> 46188 | U9: =DATE($M$2,$S$2,16) -> 46189 | V9: =DATE($M$2,$S$2,17) -> 46190 | W9: =DATE($M$2,$S$2,18) -> 46191 | X9: =DATE($M$2,$S$2,19) -> 46192 | Y9: =DATE($M$2,$S$2,20) -> 46193 | Z9: =DATE($M$2,$S$2,21) -> 46194 | AA9: =DATE($M$2,$S$2,22) -> 46195 | AB9: =DATE($M$2,$S$2,23) -> 46196 | AC9: =DATE($M$2,$S$2,24) -> 46197 | AD9: =DATE($M$2,$S$2,25) -> 46198 | AE9: =DATE($M$2,$S$2,26) -> 46199 | AF9: =DATE($M$2,$S$2,27) -> 46200 | AG9: =DATE($M$2,$S$2,28) -> 46201 | AH9: =IF(DAY(EOMONTH(F9,0))<29,"",DATE($M$2,$S$2,29)) -> 46202 | AI9: =IF(DAY(EOMONTH(F9,0))<30,"",DATE($M$2,$S$2,30)) -> 46203 | AJ9: =IF(DAY(EOMONTH(F9,0))<31,"",DATE($M$2,$S$2,31))
F10: =DATE($M$2,$S$2,1) -> 46174 | G10: =DATE($M$2,$S$2,2) -> 46175 | H10: =DATE($M$2,$S$2,3) -> 46176 | I10: =DATE($M$2,$S$2,4) -> 46177 | J10: =DATE($M$2,$S$2,5) -> 46178 | K10: =DATE($M$2,$S$2,6) -> 46179 | L10: =DATE($M$2,$S$2,7) -> 46180 | M10: =DATE($M$2,$S$2,8) -> 46181 | N10: =DATE($M$2,$S$2,9) -> 46182 | O10: =DATE($M$2,$S$2,10) -> 46183 | P10: =DATE($M$2,$S$2,11) -> 46184 | Q10: =DATE($M$2,$S$2,12) -> 46185 | R10: =DATE($M$2,$S$2,13) -> 46186 | S10: =DATE($M$2,$S$2,14) -> 46187 | T10: =DATE($M$2,$S$2,15) -> 46188 | U10: =DATE($M$2,$S$2,16) -> 46189 | V10: =DATE($M$2,$S$2,17) -> 46190 | W10: =DATE($M$2,$S$2,18) -> 46191 | X10: =DATE($M$2,$S$2,19) -> 46192 | Y10: =DATE($M$2,$S$2,20) -> 46193 | Z10: =DATE($M$2,$S$2,21) -> 46194 | AA10: =DATE($M$2,$S$2,22) -> 46195 | AB10: =DATE($M$2,$S$2,23) -> 46196 | AC10: =DATE($M$2,$S$2,24) -> 46197 | AD10: =DATE($M$2,$S$2,25) -> 46198 | AE10: =DATE($M$2,$S$2,26) -> 46199 | AF10: =DATE($M$2,$S$2,27) -> 46200 | AG10: =DATE($M$2,$S$2,28) -> 46201 | AH10: =IF(DAY(EOMONTH(F10,0))<29,"",DATE($M$2,$S$2,29)) -> 46202 | AI10: =IF(DAY(EOMONTH(F10,0))<30,"",DATE($M$2,$S$2,30)) -> 46203 | AJ10: =IF(DAY(EOMONTH(F10,0))<31,"",DATE($M$2,$S$2,31))
A11: 1 | B11: 管理者 | C11: A | E11: 相談 一郎 | F11: 8 | G11: 8 | H11: 8 | I11: 8 | J11: 8 | M11: 8 | N11: 8 | O11: 8 | P11: 8 | Q11: 8 | T11: 8 | U11: 8 | V11: 8 | W11: 8 | X11: 8 | AA11: 8 | AB11: 8 | AC11: 8 | AD11: 8 | AE11: 8 | AK11: =+SUM(F11:AJ11) -> 160 | AL11: =IF($AK$3="４週",AK11/4,AK11/(DAY(EOMONTH($F$9,0))/7)) -> 40
A12: 2 | B12: 従業者 | C12: A | E12: 相川 談 | F12: 8 | G12: 8 | H12: 8 | I12: 8 | J12: 8 | M12: 8 | N12: 8 | O12: 8 | P12: 8 | Q12: 8 | T12: 8 | U12: 8 | V12: 8 | W12: 8 | X12: 8 | AA12: 8 | AB12: 8 | AC12: 8 | AD12: 8 | AE12: 8 | AK12: =+SUM(F12:AJ12) -> 160 | AL12: =IF($AK$3="４週",AK12/4,AK12/(DAY(EOMONTH($F$9,0))/7)) -> 40
A13: 3 | B13: 従業者 | C13: B | E13: 相談 花子 | F13: 8 | G13: 8 | H13: 8 | I13: 8 | J13: 8 | M13: 8 | N13: 8 | O13: 8 | P13: 8 | Q13: 8 | T13: 8 | U13: 8 | V13: 8 | W13: 8 | X13: 8 | AA13: 8 | AB13: 8 | AC13: 8 | AD13: 8 | AE13: 8 | AK13: =+SUM(F13:AJ13) -> 160 | AL13: =IF($AK$3="４週",AK13/4,AK13/(DAY(EOMONTH($F$9,0))/7)) -> 40
A14: 4 | B14: 従業者 | C14: D | E14: 木目 太郎 | F14: 8 | I14: 8 | M14: 8 | P14: 8 | T14: 8 | W14: 8 | AA14: 8 | AD14: 8 | AK14: =+SUM(F14:AJ14) -> 64 | AL14: =IF($AK$3="４週",AK14/4,AK14/(DAY(EOMONTH($F$9,0))/7)) -> 16
A15: 5 | AK15: =+SUM(F15:AJ15) -> 0 | AL15: =IF($AK$3="４週",AK15/4,AK15/(DAY(EOMONTH($F$9,0))/7)) -> 0
A16: 6 | AK16: =+SUM(F16:AJ16) -> 0 | AL16: =IF($AK$3="４週",AK16/4,AK16/(DAY(EOMONTH($F$9,0))/7)) -> 0
A17: 7 | AK17: =+SUM(F17:AJ17) -> 0 | AL17: =IF($AK$3="４週",AK17/4,AK17/(DAY(EOMONTH($F$9,0))/7)) -> 0
A18: 8 | AK18: =+SUM(F18:AJ18) -> 0 | AL18: =IF($AK$3="４週",AK18/4,AK18/(DAY(EOMONTH($F$9,0))/7)) -> 0
A19: 9 | AK19: =+SUM(F19:AJ19) -> 0 | AL19: =IF($AK$3="４週",AK19/4,AK19/(DAY(EOMONTH($F$9,0))/7)) -> 0
A20: 10 | AK20: =+SUM(F20:AJ20) -> 0 | AL20: =IF($AK$3="４週",AK20/4,AK20/(DAY(EOMONTH($F$9,0))/7)) -> 0
A21: 11 | AK21: =+SUM(F21:AJ21) -> 0 | AL21: =IF($AK$3="４週",AK21/4,AK21/(DAY(EOMONTH($F$9,0))/7)) -> 0
A22: 12 | AK22: =+SUM(F22:AJ22) -> 0 | AL22: =IF($AK$3="４週",AK22/4,AK22/(DAY(EOMONTH($F$9,0))/7)) -> 0
A23: 13 | AK23: =+SUM(F23:AJ23) -> 0 | AL23: =IF($AK$3="４週",AK23/4,AK23/(DAY(EOMONTH($F$9,0))/7)) -> 0
A24: 14 | AK24: =+SUM(F24:AJ24) -> 0 | AL24: =IF($AK$3="４週",AK24/4,AK24/(DAY(EOMONTH($F$9,0))/7)) -> 0
A25: 15 | AK25: =+SUM(F25:AJ25) -> 0 | AL25: =IF($AK$3="４週",AK25/4,AK25/(DAY(EOMONTH($F$9,0))/7)) -> 0
A26: 16 | AK26: =+SUM(F26:AJ26) -> 0 | AL26: =IF($AK$3="４週",AK26/4,AK26/(DAY(EOMONTH($F$9,0))/7)) -> 0
... A30: 20 | AK30: =+SUM(F30:AJ30) -> 0 | AL30: =IF($AK$3="４週",AK30/4,AK30/(DAY(EOMONTH($F$9,0))/7)) -> 0
A31: 合計 | F31: =+SUM(F11:F30) -> 32 | G31: =+SUM(G11:G30) -> 24 | H31: =+SUM(H11:H30) -> 24 | I31: =+SUM(I11:I30) -> 32 | J31: =+SUM(J11:J30) -> 24 | K31: =+SUM(K11:K30) -> 0 | L31: =+SUM(L11:L30) -> 0 | M31: =+SUM(M11:M30) -> 32 | ... AJ31: =+SUM(AJ11:AJ30) -> 0 | AK31: =+SUM(F31:AJ31) -> 544 | AL31: =IF($AK$3="４週",AK31/4,AK31/(DAY(EOMONTH($F$9,0))/7)) -> 136
A32: サービス提供時間
A36: ＜人員基準に関する実人数集計＞
C37: =IF(VLOOKUP($AK$1,選択肢!$A$1:$J$32,C42,FALSE)=0,"-",VLOOKUP($AK$1,選択肢!$A$1:$J$32,C42,FALSE)) -> 管理者 | E37: =IF(VLOOKUP($AK$1,選択肢!$A$1:$J$32,E42,FALSE)=0,"-",VLOOKUP($AK$1,選択肢!$A$1:$J$32,E42,FALSE)) -> 従業者 | I37: =IF(VLOOKUP($AK$1,選択肢!$A$1:$J$32,I42,FALSE)=0,"-",VLOOKUP($AK$1,選択肢!$A$1:$J$32,I42,FALSE)) -> - | O37: =IF(VLOOKUP($AK$1,選択肢!$A$1:$J$32,O42,FALSE)=0,"-",VLOOKUP($AK$1,選択肢!$A$1:$J$32,O42,FALSE)) -> - | U37: =IF(VLOOKUP($AK$1,選択肢!$A$1:$J$32,U42,FALSE)=0,"-",VLOOKUP($AK$1,選択肢!$A$1:$J$32,U42,FALSE)) -> - | AA37: =IF(VLOOKUP($AK$1,選択肢!$A$1:$J$32,AA42,FALSE)=0,"-",VLOOKUP($AK$1,選択肢!$A$1:$J$32,AA42,FALSE)) -> - | AG37: =IF(VLOOKUP($AK$1,選択肢!$A$1:$J$32,AG42,FALSE)=0,"-",VLOOKUP($AK$1,選択肢!$A$1:$J$32,AG42,FALSE)) -> - | AL37: =IF(VLOOKUP($AK$1,選択肢!$A$1:$J$32,AL42,FALSE)=0,"-",VLOOKUP($AK$1,選択肢!$A$1:$J$32,AL42,FALSE)) -> -
C38: 専従 | D38: 兼務 | E38: 専従 | F38: 兼務 | I38: 専従 | L38: 兼務 | O38: 専従 | R38: 兼務 | U38: 専従 | X38: 兼務 | AA38: 専従 | AD38: 兼務 | AG38: 専従 | AJ38: 兼務 | AL38: 専従 | AM38: 兼務
B39: 常勤 | C39: =COUNTIFS($B$11:$B$30,C$37,$C$11:$C$30,"A",$E$11:$E$30,"*") -> 1 | D39: =COUNTIFS($B$11:$B$30,C$37,$C$11:$C$30,"B",$E$11:$E$30,"*") -> 0 | E39: =COUNTIFS($B$11:$B$30,E$37,$C$11:$C$30,"A",$E$11:$E$30,"*") -> 1 | F39: =COUNTIFS($B$11:$B$30,E$37,$C$11:$C$30,"B",$E$11:$E$30,"*") -> 1 | I39: =COUNTIFS($B$11:$B$30,I$37,$C$11:$C$30,"A",$E$11:$E$30,"*") -> 0 | L39: =COUNTIFS($B$11:$B$30,I$37,$C$11:$C$30,"B",$E$11:$E$30,"*") -> 0 | O39: =COUNTIFS($B$11:$B$30,O$37,$C$11:$C$30,"A",$E$11:$E$30,"*") -> 0 | R39: =COUNTIFS($B$11:$B$30,O$37,$C$11:$C$30,"B",$E$11:$E$30,"*") -> 0 | U39: =COUNTIFS($B$11:$B$30,U$37,$C$11:$C$30,"A",$E$11:$E$30,"*") -> 0 | X39: =COUNTIFS($B$11:$B$30,U$37,$C$11:$C$30,"B",$E$11:$E$30,"*") -> 0 | AA39: =COUNTIFS($B$11:$B$30,AA$37,$C$11:$C$30,"A",$E$11:$E$30,"*") -> 0 | AD39: =COUNTIFS($B$11:$B$30,AA$37,$C$11:$C$30,"B",$E$11:$E$30,"*") -> 0 | AG39: =COUNTIFS($B$11:$B$30,AG$37,$C$11:$C$30,"A",$E$11:$E$30,"*") -> 0 | AJ39: =COUNTIFS($B$11:$B$30,AG$37,$C$11:$C$30,"B",$E$11:$E$30,"*") -> 0 | AL39: =COUNTIFS($B$11:$B$30,AL$37,$C$11:$C$30,"A",$E$11:$E$30,"*") -> 0 | AM39: =COUNTIFS($B$11:$B$30,AL$37,$C$11:$C$30,"B",$E$11:$E$30,"*") -> 0
B40: 非常勤 | C40: =COUNTIFS($B$11:$B$30,C$37,$C$11:$C$30,"C",$E$11:$E$30,"*") -> 0 | D40: =COUNTIFS($B$11:$B$30,C$37,$C$11:$C$30,"D",$E$11:$E$30,"*") -> 0 | E40: =COUNTIFS($B$11:$B$30,E$37,$C$11:$C$30,"C",$E$11:$E$30,"*") -> 0 | F40: =COUNTIFS($B$11:$B$30,E$37,$C$11:$C$30,"D",$E$11:$E$30,"*") -> 1 | I40: =COUNTIFS($B$11:$B$30,I$37,$C$11:$C$30,"C",$E$11:$E$30,"*") -> 0 | L40: =COUNTIFS($B$11:$B$30,I$37,$C$11:$C$30,"D",$E$11:$E$30,"*") -> 0 | O40: =COUNTIFS($B$11:$B$30,O$37,$C$11:$C$30,"C",$E$11:$E$30,"*") -> 0 | R40: =COUNTIFS($B$11:$B$30,O$37,$C$11:$C$30,"D",$E$11:$E$30,"*") -> 0 | U40: =COUNTIFS($B$11:$B$30,U$37,$C$11:$C$30,"C",$E$11:$E$30,"*") -> 0 | X40: =COUNTIFS($B$11:$B$30,U$37,$C$11:$C$30,"D",$E$11:$E$30,"*") -> 0 | AA40: =COUNTIFS($B$11:$B$30,AA$37,$C$11:$C$30,"C",$E$11:$E$30,"*") -> 0 | AD40: =COUNTIFS($B$11:$B$30,AA$37,$C$11:$C$30,"D",$E$11:$E$30,"*") -> 0 | AG40: =COUNTIFS($B$11:$B$30,AG$37,$C$11:$C$30,"C",$E$11:$E$30,"*") -> 0 | AJ40: =COUNTIFS($B$11:$B$30,AG$37,$C$11:$C$30,"D",$E$11:$E$30,"*") -> 0 | AL40: =COUNTIFS($B$11:$B$30,AL$37,$C$11:$C$30,"C",$E$11:$E$30,"*") -> 0 | AM40: =COUNTIFS($B$11:$B$30,AL$37,$C$11:$C$30,"D",$E$11:$E$30,"*") -> 0
B41: 常勤換算数 | C41: =IF($AK$3="４週",SUMIFS($AK$11:$AK$30,$B$11:$B$30,C37)/4/$AH$5,IF($AK$3="歴月",SUMIFS($AK$11:$AK$30,$B$11:$B$30,C37)/$AL$5,"記載する期間を選択してください")) -> 1 | E41: =IF($AK$3="４週",SUMIFS($AK$11:$AK$30,$B$11:$B$30,E37)/4/$AH$5,IF($AK$3="歴月",SUMIFS($AK$11:$AK$30,$B$11:$B$30,E37)/$AL$5,"記載する期間を選択してください")) -> 2.4 | I41: =IF($AK$3="４週",SUMIFS($AK$11:$AK$30,$B$11:$B$30,I37)/4/$AH$5,IF($AK$3="歴月",SUMIFS($AK$11:$AK$30,$B$11:$B$30,I37)/$AL$5,"記載する期間を選択してください")) -> 0 | O41: =IF($AK$3="４週",SUMIFS($AK$11:$AK$30,$B$11:$B$30,O37)/4/$AH$5,IF($AK$3="歴月",SUMIFS($AK$11:$AK$30,$B$11:$B$30,O37)/$AL$5,"記載する期間を選択してください")) -> 0 | U41: =IF($AK$3="４週",SUMIFS($AK$11:$AK$30,$B$11:$B$30,U37)/4/$AH$5,IF($AK$3="歴月",SUMIFS($AK$11:$AK$30,$B$11:$B$30,U37)/$AL$5,"記載する期間を選択してください")) -> 0 | AA41: =IF($AK$3="４週",SUMIFS($AK$11:$AK$30,$B$11:$B$30,AA37)/4/$AH$5,IF($AK$3="歴月",SUMIFS($AK$11:$AK$30,$B$11:$B$30,AA37)/$AL$5,"記載する期間を選択してください")) -> 0 | AG41: =IF($AK$3="４週",SUMIFS($AK$11:$AK$30,$B$11:$B$30,AG37)/4/$AH$5,IF($AK$3="歴月",SUMIFS($AK$11:$AK$30,$B$11:$B$30,AG37)/$AL$5,"記載する期間を選択してください")) -> 0 | AL41: =IF($AK$3="４週",SUMIFS($AK$11:$AK$30,$B$11:$B$30,AL37)/4/$AH$5,IF($AK$3="歴月",SUMIFS($AK$11:$AK$30,$B$11:$B$30,AL37)/$AL$5,"記載する期間を選択してください")) -> 0
C42: 2 | E42: 3 | I42: 4 | O42: 5 | U42: 6 | AA42: 7 | AG42: 8 | AL42: 9
A43: ・最初に「年月欄」「サービス種別」「事業所名」を入力してください。 | R43: 6 | X43: 7 | AD43: 8 | AJ43: 9
A44: (1) 「４週」・「暦月」のいずれかを選択してください。
A45: (2) 「予定」・「実績」のいずれかを選択してください。
A46: (3) 事業所における常勤の従業者が勤務すべき時間数を入力してください。
A47: (4) 従業者の職種を入力してください。
...

Sheet 選択肢
A1: ！申請するサービス類型を選択してください | B1: 職種① | C1: 職種② | D1: 職種③ | E1: 職種④ | F1: 職種⑤ | G1: 職種⑥ | H1: 職種⑦ | I1: 職種⑧ | J1: 職種⑨ | K1: 職種⑩
A2: 居宅介護 | B2: 管理者 | C2: サービス提供責任者 | D2: 従業者
A3: 重度訪問介護 | B3: 管理者 | C3: サービス提供責任者 | D3: 従業者
A4: 同行援護 | B4: 管理者 | C4: サービス提供責任者 | D4: 従業者
A5: 行動援護 | B5: 管理者 | C5: サービス提供責任者 | D5: 従業者
A6: 療養介護 | B6: 管理者 | C6: サービス管理責任者 | D6: 医師 | E6: 看護職員 | F6: 生活支援員
A7: 生活介護 | B7: 管理者 | C7: サービス管理責任者 | D7: 医師 | E7: 看護職員 | F7: 理学療法士 | G7: 作業療法士 | H7: 言語聴覚士 | I7: 生活支援員
A8: 短期入所・併設型 | B8: 管理者 | C8: 生活支援員
A9: 短期入所・空床利用型 | B9: 管理者 | C9: 生活支援員
A10: 短期入所・単独型 | B10: 管理者 | C10: 生活支援員
A11: 重度障害者等包括支援 | B11: 管理者 | C11: サービス提供責任者 | D11: 従業者
A12: 共同生活援助・介護サービス包括型 | B12: 管理者 | C12: サービス管理責任者 | D12: 世話人 | E12: 生活支援員
A13: 共同生活援助・外部サービス利用型 | B13: 管理者 | C13: サービス管理責任者 | D13: 世話人
A14: 共同生活援助・日中サービス支援型 | B14: 管理者 | C14: サービス管理責任者 | D14: 世話人 | E14: 生活支援員 | F14: 夜間支援従事者
A15: 障害者支援施設 | B15: 管理者 | C15: サービス管理責任者 | D15: 医師 | E15: 看護職員 | F15: 理学療法士 | G15: 作業療法士 | H15: 言語聴覚士 | I15: 就労支援員 | J15: 職業指導員 | K15: 生活支援員
A16: 機能訓練 | B16: 管理者 | C16: サービス管理責任者 | D16: 看護職員 | E16: 理学療法士 | F16: 作業療法士 | G16: 言語聴覚士 | H16: 生活支援員
A17: 生活訓練 | B17: 管理者 | C17: サービス管理責任者 | D17: 地域移行支援員 | E17: 生活支援員
A18: 就労選択支援 | B18: 管理者 | C18: 就労選択支援員
A19: 就労移行支援 | B19: 管理者 | C19: サービス管理責任者 | D19: 就労支援員 | E19: 職業指導員 | F19: 生活支援員
A20: 認定指定就労移行支援 | B20: 管理者 | C20: サービス管理責任者 | D20: 職業指導員 | E20: 生活支援員
A21: 就労継続支援Ａ型・Ｂ型 | B21: 管理者 | C21: サービス管理責任者 | D21: 職業指導員 | E21: 生活支援員
A22: 一般相談支援事業 | B22: 管理者 | C22: 従業者
A23: 就労定着支援 | B23: 管理者 | C23: サービス管理責任者 | D23: 就労定着支援員
A24: 自立生活援助 | B24: 管理者 | C24: サービス管理責任者 | D24: 地域生活支援員
A25: 特定相談支援・障害児相談支援 | B25: 管理者 | C25: 相談支援専門員 | D25: 相談支援員
A26: 児童発達支援・放課後等デイサービス | B26: 管理者 | C26: 児童発達支援管理責任者 | D26: 児童指導員 | E26: 保育士 | F26: 機能訓練担当職員 | G26: 看護職員 | H26: その他職員
A27: 児童発達支援・主として重症心身障害児を対象とする場合 | B27: 管理者 | C27: 児童発達支援管理責任者 | D27: 嘱託医 | E27: 看護職員 | F27: 児童指導員 | G27: 保育士 | H27: 機能訓練担当職員 | I27: その他職員
A28: 児童発達支援・児童発達支援センターであるもの | B28: 管理者 | C28: 児童発達支援管理責任者 | D28: 嘱託医 | E28: 児童指導員 | F28: 保育士 | G28: 栄養士 | H28: 調理員 | I28: 機能訓練担当職員 | J28: 看護職員 | K28: その他職員
A29: 保育所等訪問支援 | B29: 管理者 | C29: 児童発達支援管理責任者 | D29: 訪問支援員
A30: 居宅訪問型児童発達支援 | B30: 管理者 | C30: 児童発達支援管理責任者 | D30: 訪問支援員
A31: 福祉型障害児入所施設 | B31: 管理者 | C31: 児童発達支援管理責任者 | D31: 医師 | E31: 看護職員 | F31: 児童指導員 | G31: 保育士 | H31: 栄養士 | I31: 調理員 | J31: 心理担当職員
A32: 医療型障害児入所施設 | B32: 児童発達支援管理責任者 | C32: 医師 | D32: 看護職員 | E32: 児童指導員 | F32: 保育士 | G32: 心理担当職員 | H32: 理学療法士又は作業療法士 | I32: 職業指導員

Sheet 参考様式７
A1: (参考様式７）
D3: 組 織 体 制 図
B5: 事業所の名称 | D5: 相談支援事業所○○
B6: サービスの種類 | D6: 一般相談支援事業所（地域定着支援）
D12: 管理者
D13: 氏名 ○○○○
D20: 相談支援専門員
D21: 氏名 | E21: ○○○○
D22: 氏名 | E22: ○○○○
D28: その他の従業者
D29: ○○○○
D30: ○○○○
D31: ○○○○
D32: ○○○○
D33: ○○○○
D34: ○○○○
B54: 備考 既存の組織体制図がある場合は、その写し等の添付でかまいません。

Sheet 参考様式８
A1: (参考様式８)
A3: 指定障害福祉サービス等の主たる対象者を特定する理由等
B5: 事業所名 | C5: 相談支援事業所○○
B6: 指定障害福祉サービス等の種類 | C6: 一般相談支援事業所（地域移行支援）
A9: １ 申請に係る指定障害福祉サービス等の主たる対象者
A10: 身体障害者（肢体不自由）
A11: ２ 主たる対象者を１のとおり特定する理由
A12: 前身施設が身体障害者更生施設であり、施設の構造・設備や職員体制が肢体不自由者の機能訓練に特化したものであるため。
A13: ３ 今後における主たる対象者の拡充の予定
A14: (１)拡充予定の有無 | C14: ( 有り ・ 無し )
A15: (２)拡充予定の内容及び予定時期
A17: (３)拡充のための方策

Sheet 参考様式９－２
A1: (参考様式９－２)
A2: 誓 約 書
H4: ○年 | J4: ○月 | L4: ○日
A5: 横浜 | C5: 市長 殿
A7: 申請者 | D7: （名称）
D8: 社会福祉法人○○福祉会
D9: （代表者の職名・氏名）
D10: 理事長 相談 一郎
A13: 申請者が別紙のいずれにも該当しない者であることを誓約します。
C15: 別紙①： 障害福祉サービス事業者向け
C16: 別紙②： 障害者支援施設向け
C17: 別紙③： 一般相談支援事業者向け
B18: ○ | C18: 別紙④： 特定相談支援事業者向け
C19: 別紙⑤： 障害児通所支援事業者向け
C20: 別紙⑥： 障害児入所施設向け
C21: 別紙⑦： 障害児相談支援事業者向け
B22: 注 該当する種別に○を付けてください。

Sheet 参考様式９－４
A1: （参考様式９-４）
A2: 神奈川県警察本部への照会についての同意書
S4: 〇年〇月〇日
A5: 横浜市長
H6: 申請者 | J6: 所在地 | L6: 神奈川県横浜市中区○○－○
J7: 名 称 | L7: 社会福祉法人かながわ福祉会
H8: 代表者 | J8: 住 所 | L8: 神奈川県平塚市○○－○○
J9: 職・氏名 | L9: かながわ一郎
A11: 横浜市指定障害福祉サービスの事業等の人員、設備、運営等の基準に関する条例第４条第２項、横浜市指定障害者支援施設等の人員、設備、運営等の基準に関する条例第４条の規定及び横浜市障害福祉サービス事業者等の指定事務取扱要綱第10条第１項に基づき、当法人（別紙に記載する役員等を含む。）が暴力団等でないことを確認するため、本様式（および別紙役員等名簿）に記載された情報を神奈川県警察本部長に照会することについて、同意します。
A13: 記
A16: 横浜市指定障害福祉サービスの事業等の人員、設備、運営等の基準に関する条例（抜粋）
B17: 第４条 | C17: 法第36条第３項第１号の条例で定める者は、法人とする。ただし、療養介護に係る指定又は短期入所（病院又は診療所により行われるものに限る。） に係る指定の申請については、この限りでない。
B18: ２ | C18: 前項の法人は、横浜市暴力団排除条例（平成23年12月横浜市条例第51号）第２条第２号の暴力団、同条第５号の暴力団経営支配法人等又は同条例第７条の暴力団員等と密接な関係を有すると認められる者（以下この項において「暴力団等」という。） であってはならない。ただし、前項ただし書の申請については、暴力団等又は同条例第２条第４号の暴力団員等であってはならない。
A19: 横浜市指定障害者支援施設等の人員、設備、運営等の基準に関する条例（抜粋）
B20: 第４条 | C20: 法第38条第３項（法第39条第２項において準用する場合を含む。） において準用する法第36条第３項第１号の条例で定める者は、法人であって、横浜市暴力団排除条例（平成23年12月横浜市条例第51号） 第２条第２号の暴力団、同条第５号の暴力団経営支配法人等又は同条例第７条の暴力団員等と密接な関係を有すると認められる者でないものとする。
A21: 横浜市指定障害福祉サービス事業者等の指定事務取扱要綱（抜粋）
B22: 第10条 | C22: 第２条の指定及び指定の更新の申請をしようとする指定障害福祉サービス事業所（指定障害者支援施設、指定一般相談支援事業者、指定特定相談支援事業者）は、法第36条第３項各号の規定に該当しない旨の誓約書（様式第10号、様式第10号－２）、神奈川県警察本部（以下「県警」という。）への照会についての同意書（様式第11号）及び役員等の名簿（様式第12号）を市長に提出しなければならない。
A23: 横浜市暴力団排除条例（抜粋）
B24: 第２条 | C24: この条例において、次の各号に掲げる用語の意義は、当該各号に定めるところによる。
D25: （２）暴力団 暴力団員による不当な行為の防止等に関する法律（平成３年法律第77 号。以下「法」という。） 第２条第２号に規定する暴力団をいう。 （４）暴力団員等 暴力団員又は暴力団員でなくなった日から５年を経過しない者をいう。 （５）暴力団経営支配法人等 法人その他の団体でその役員（業務を執行する社員、取締役、執行役又はこれらに準ずる者をいい、相談役、顧問その他いかなる名称を有する者であるかを問わず、当該団体に対し業務を執行する社員、取締役、執行役又はこれらに準ずる者と同等以上の支配力を有するものと認められる者を含む。） のうちに暴力団員等に該当する者があるもの及び暴力団員等が出資、融資、取引その他の関係を通じてその事業活動に支配的な影響力を有する者をいう。
B26: 第７条 | C26: 市は、公共工事の発注その他契約に関する事務（次条に規定する事業に関する事務を除く。） の執行により暴力団の活動を助長し、又は暴力団の運営に資することのないよう、暴力団、暴力団員等、暴力団経営支配法人等又は暴力団員等と密接な関係を有すると認められる者（法人その他の団体にあっては、その役員（業務を執行する社員、取締役、執行役又はこれらに準ずる者をいう。） が暴力団員等と密接な関係を有すると認められるものをいう。） の市が実施する入札への参加の制限その他の必要な措置を講ずるものとする。

Sheet 参考様式９　別紙
A1: 参考様式9別紙
A2: 役 員 等 名 簿
I3: 申請者（法人）名（ よこはま居宅介護 ）
B4: 氏名（姓と名を１字開けてください） | D4: 生年月日 | H4: 性別 | I4: 住 所 | J4: 役職名 ・呼称 | K4: TEL | L4: FAX
B5: ｶﾅ（半角） | C5: 漢 字 | D5: m（明治） t（大正） s（昭和） h（平成） | E5: 年 | F5: 月 | G5: 日 | H5: 男性（m） 女性（f）
A6: 1 | B6: ﾖｺﾊﾏ ｲﾁﾛｳ | C6: 横浜 一郎 | D6: s | E6: 99 | F6: 99 | G6: 99 | H6: m | I6: 横浜市中区日本大通１８ | J6: 代表取締役 | K6: 045-999-9999 | L6: 045-999-9999
A7: 2 | B7: ｶﾅｶﾞﾜ ﾊﾅｺ | C7: 神奈川 花子 | D7: ｈ | E7: 11 | F7: 11 | G7: 11 | H7: ｆ | I7: 横浜市中区港町１－１ | J7: 管理者 | K7: 045-111-1111 | L7: 045-111-1111
A8: 3
A9: 4
A10: 5
A12: 7
A13: 8
A14: 9
A15: 10
A16: 11
A17: 12
A18: 注 | B18: 当該法人の役員（業務を執行する社員、取締役、執行役又はこれらに準ずる者をいい、相談役、顧問その他いかなる名称を有する者であるかを問わず、法人に対し業務を執行する社員、取締役、執行役又はこれらに準ずる者と同等以上の支配力を有するものと認められる者を含む。）及び事業所を管理する者について記入・押印してください。

Sheet 参考様式１０
A2: 参考様式10
A3: 関係機関との協力体制
A5: 事業所の名称 | C5: 相談支援事業所○○
A6: サービスの種類 | C6: 一般相談支援事業所（地域定着支援）
A8: 関係機関の名称 | C8: 社会福祉法人▲▲会■■園
A9: 所在地 | C9: 横浜市○○区××１２３４
A10: 電話番号 | C10: ＊＊＊－＊＊＊－＊＊＊＊
A11: 協力体制の内容 | C11: ・利用者の状況により、一時的な滞在が必要となった場合に、社会福祉法人▲▲会■■園で受け入れてもらう委託契約を締結している。
A46: 備考
A47: ● | B47: 「協力の内容」は、契約書の写し等の添付でもかまいません。
A48: ● | B48: 「地域移行支援」を行う場合であって、「障害福祉サービス事業の体験的な利用（生活介護、自立訓練、就労移行支援又は就労継続支援に限る）」、「一人暮らしに向けた体験的な宿泊」を他の指定障害福祉サービス事業者に委託する場合も作成すること。
A49: ● | B49: 「地域定着支援」を行う場合であって、「緊急の場合における一時的な滞在による支援」を他の指定障害福祉サービス事業者等に委託する場合も作成すること。

Sheet 管理者誓約書（一般相談）
A2: 指定一般相談支援事業所管理者誓約書
A6: 「障害者自立支援法に基づく指定地域相談支援の事業の人員及び運営に関する基準（平成24年３月13日厚生労働省令第27号）」の規定に従い、運営に関する基準を遵守し、指定一般相談支援事業所の管理者の責務を適正に果たすことを誓約します。
A11: 〇年〇月〇日
A14: 横浜市長
A17: 事業者名（開設法人名）
E18: 社会福祉法人○○福祉会
A20: 代表者 職・氏名
E21: よこはま はなこ
A23: 事業所名
E24: 相談支援事業所○○
A26: 管理者氏名 印
E27: 相談 一郎
A33: 障害者自立支援法に基づく指定地域相談支援の事業の人員及び運営に関する基準【抜粋】
A35: （管理者の責務）
A36: 第26条 指定地域移行支援事業所の管理者は、指定地域移行支援従事者その他の従業者の管理、指定地域移行支援の利用の申込みに係る調整、業務の実施状況の把握その他の管理を一元的に行わなければならない。
A39: ２ 指定地域移行支援事業所の管理者は、指定地域移行支援従事者にこの章の規定を遵守させるため必要な指揮命令を行うものとする。
A43: ＊第26条は、地域定着支援についても準用されます。

Sheet 参考様式１３
A2: 参考様式1３
A3: 常時の連絡体制の確保の具体的方法
A5: 事業所の名称 | C5: 相談支援事業所○○
A6: サービスの種類 | C6: 一般相談支援事業所（地域定着支援）
A8: 連絡体制の内容 | C8: ※営業時間外の事業所の人員体制（宿直等）や利用者との連絡体制を含め、具体的に記載してください。
C10: 常時連絡可能な携帯電話（＊＊＊－＊＊＊＊－＊＊＊＊）を配備し、緊急事態発生時は速やかに、相談支援専門員またはその他の地域定着支援の職務を行う者が対応する。

Sheet 参考様式１１
A1: 参考様式１１
A3: 事 業 計 画 書
B5: 事業所名又は施設名 | D5: 相談支援事業所○○
B6: サービス種類 | D6: 一般相談支援事業所（地域定着支援）
A8: 項 目 | D8: 内 容
A10: １ 事業の内容 | D10: ●利用者が自立した日常生活又は社会生活を営むことができるよう、当該利用者との常時の連絡体制を確保し、当該利用者に対し、っ障害の特性に起因して生じた緊急の事態等に相談その他の必要な支援を適切かつ効果的に行う。 ●利用者の心身の状況、その置かれている環境、緊急時において必要となる家族、当該利用者が利用する指定障害福祉サービス事業者等、医療機関等の関係機関の連絡先その他の利用者に関する情報を記載した地域定着支援に係る台帳（地域定着支援台帳）を作成する。 ●利用者の障害の特性に起因して生じた緊急の事態が生じた場合その他必要な場合には、速やかに当該利用者の居宅への訪問等による状況把握等を行う。 ●利用者の状況に応じて、当該利用者の家族、その他関係機関との連絡調整、緊急の場合における一時的な滞在における支援その他の必要な措置を講じる。
A27: ２ 事業開始年月日 | D27: 41365
A29: ３ 従業者等の人員 | D29: ・管理者 １名（常勤・兼務） ・相談支援専門員 ３名（常勤兼務２名・非常勤兼務１名） ・その他の者 ２名（非常勤２名）
A39: ４ 利用者の定員
A44: ５ 研修計画 | D44: ･利用者の地域定着に向けた関係機関との研修（年４回） ・相談支援専門員によるその他の者に対する研修（月１回）
A50: ６ その他
A54: ※事業計画書は、当該事業所の年間事業計画を作成してください。

Sheet 収支予算書（例）
U1: ○○事業所 | AB1: 収支予算書
AI3: （ | AL3: XX | AN3: 年 | AO3: XX | AQ3: 月 | AR3: ～ | AV3: XX | AX3: 年 | AY3: XX | BA3: 月 | BB3: ）
A4: 収入の部
A5: 項目 | G5: ４月 | J5: ５月 | M5: ６月 | P5: ７月 | S5: ８月 | V5: ９月 | Y5: １０月 | AB5: １１月 | AE5: １２月 | AH5: １月 | AK5: ２月 | AN5: ３月 | AQ5: 計 | AV5: 備考
A6: 自立支援給付費 | G6: 0 | J6: 0 | M6: 30000 | P6: 30000 | S6: 30000 | V6: 30000 | Y6: 30000 | AB6: 30000 | AE6: 30000 | AH6: 30000 | AK6: 30000 | AN6: 30000 | AQ6: =SUM(G6:AP6) -> 300000
AQ7: =SUM(G7:AP7) -> 0
AQ8: =SUM(G8:AP8) -> 0
AQ9: =SUM(G9:AP9) -> 0
AQ10: =SUM(G10:AP10) -> 0
A11: 計 | G11: =SUM(G6:I10) -> 0 | J11: =SUM(J6:L10) -> 0 | M11: =SUM(M6:O10) -> 30000 | P11: =SUM(P6:R10) -> 30000 | S11: =SUM(S6:U10) -> 30000 | V11: =SUM(V6:X10) -> 30000 | Y11: =SUM(Y6:AA10) -> 30000 | AB11: =SUM(AB6:AD10) -> 30000 | AE11: =SUM(AE6:AG10) -> 30000 | AH11: =SUM(AH6:AJ10) -> 30000 | AK11: =SUM(AK6:AM10) -> 30000 | AN11: =SUM(AN6:AP10) -> 30000 | AQ11: =SUM(G11:AP11) -> 300000
A13: 支出の部
A14: 項目 | G14: ４月 | J14: ５月 | M14: ６月 | P14: ７月 | S14: ８月 | V14: ９月 | Y14: １０月 | AB14: １１月 | AE14: １２月 | AH14: １月 | AK14: ２月 | AN14: ３月 | AQ14: 計 | AV14: 備考
A15: 人件費 | G15: 100000 | J15: 100000 | M15: 100000 | P15: 100000 | S15: 100000 | V15: 100000 | Y15: 100000 | AB15: 100000 | AE15: 100000 | AH15: 100000 | AK15: 100000 | AN15: 100000 | AQ15: =SUM(G15:AP15) -> 1200000
A16: 地代家賃 | G16: 200000 | J16: 200000 | M16: 200000 | P16: 200000 | S16: 200000 | V16: 200000 | Y16: 200000 | AB16: 200000 | AE16: 200000 | AH16: 200000 | AK16: 200000 | AN16: 200000 | AQ16: =SUM(G16:AP16) -> 2400000
A17: リース料 | G17: 4000 | J17: 4000 | M17: 4000 | P17: 4000 | S17: 4000 | V17: 4000 | Y17: 4000 | AB17: 4000 | AE17: 4000 | AH17: 4000 | AK17: 4000 | AN17: 4000 | AQ17: =SUM(G17:AP17) -> 48000
A18: 通信交通費 | G18: 12000 | J18: 12000 | M18: 12000 | P18: 12000 | S18: 12000 | V18: 12000 | Y18: 12000 | AB18: 12000 | AE18: 12000 | AH18: 12000 | AK18: 12000 | AN18: 12000 | AQ18: =SUM(G18:AP18) -> 144000
A19: 水道光熱費 | G19: 5000 | J19: 5000 | M19: 5000 | P19: 5000 | S19: 5000 | V19: 5000 | Y19: 5000 | AB19: 5000 | AE19: 5000 | AH19: 5000 | AK19: 5000 | AN19: 5000 | AQ19: =SUM(G19:AP19) -> 60000
A20: 租税公課 | G20: 3000 | J20: 3000 | M20: 3000 | P20: 3000 | S20: 3000 | V20: 3000 | Y20: 3000 | AB20: 3000 | AE20: 3000 | AH20: 3000 | AK20: 3000 | AN20: 3000 | AQ20: =SUM(G20:AP20) -> 36000
A21: 備品・消耗品費 | G21: 1000 | J21: 1000 | M21: 1000 | P21: 1000 | S21: 1000 | V21: 1000 | Y21: 1000 | AB21: 1000 | AE21: 1000 | AH21: 1000 | AK21: 1000 | AN21: 1000 | AQ21: =SUM(G21:AP21) -> 12000
AQ22: =SUM(G22:AP22) -> 0
A23: 計 | G23: =SUM(G15:I22) -> 325000 | J23: =SUM(J15:L22) -> 325000 | M23: =SUM(M15:O22) -> 325000 | P23: =SUM(P15:R22) -> 325000 | S23: =SUM(S15:U22) -> 325000 | V23: =SUM(V15:X22) -> 325000 | Y23: =SUM(Y15:AA22) -> 325000 | AB23: =SUM(AB15:AD22) -> 325000 | AE23: =SUM(AE15:AG22) -> 325000 | AH23: =SUM(AH15:AJ22) -> 325000 | AK23: =SUM(AK15:AM22) -> 325000 | AN23: =SUM(AN15:AP22) -> 325000 | AQ23: =SUM(G23:AP23) -> 3900000

Sheet 参考様式１２
A2: 一般相談支援事業 開始届出書
F3: 〇年〇月〇日
A4: 横浜市長
D7: 届出者 住所
D8: 氏名
A10: 次のとおり一般相談支援事業を開始しますので、届け出ます。
A12: １ 経営者の氏名及び住所（法人であるときは、その名称及び主たる事務所の所在地）
B13: 社会福祉法人○○福祉会
B14: 横浜市○○区××１－２－３
A15: ２ 職員の定数及び職務の内容
B16: 職員の定数 ６名
B17: ●管理者 １名 | C17: 事業所の従業者の管理及び業務の管理を一元的に行うとともに、事業所の従業者に対し法令等を遵守させるために必要な指揮命令を行う。
B18: ●相談支援専門員 ３名 | D18: 基本相談支援に関する業務、地域定着支援台帳の作成、その他の指定地域定着支援の職務に従事する者に対する技術的助言を行う。
B20: ●その他の地域定着支援の職務に従事する者 ２名 | F20: 基本相談支援に関する業務、地域定着支援台帳の作成、その他の指定地域定着支援に関する業務を行う。
A22: ３ 主な職員の氏名及び経歴
A23: （氏名） | B23: 相談 一郎
A24: （経歴） | B24: 昭和○年○月○日～平成○年○月○日 特定非営利活動法人○○××園 介護職員
B25: 平成○年○月○日～平成○年○月○日 社会福祉法人○○福祉会●●生活介護 生活支援員
B26: 平成○年○月○日～平成○年○月○日 社会福祉法人○○福祉会相談支援事業所 相談支援専門員
A27: ４ 事業を行おうとする区域（市町村の委託を受けて事業を行おうとする者にあって は、当該市町村の名称を含みます。）
B28: 横浜市○○区、横浜市▲▲区
A29: ６ 事業開始の予定年月日
B30: 〇年〇月１日
A31: 備考 １ この届出書は、指定申請書と同時に、横浜市に提出してください。
