Workbook
Name WAM対応2: [1]様式第１号!$AX$85:$BB$93
Name リスト_栄養士配置加算: [1]様式第１号!$BG$352:$BG$355
Name リスト_栄養士配置減算: [1]様式第１号!$BG$363:$BG$365
Name リスト_開所時間減算区分: [2]様式第１号!$CR$151:$CR$153
Name リスト_開所時間減算区分＿付３: [1]様式第１号!$AT$421:$AT$423
Name リスト_看護職員配置加算＿付３: [1]様式第１号!$AT$461:$AT$463
Name リスト_共生型サービス体制強化加算区分: [2]様式第１号!$CR$164:$CS$167
Name リスト_施設等の区分_児童デイ: [1]様式第１号!$AT$238:$AT$240
Name リスト_施設等の区分_付３: [1]様式第１号!$AT$353:$AT$358
Name リスト_施設等の区分＿付５: [1]様式第１号!$AT$473:$AT$475
Name リスト_施設等の区分_付８_１: [1]様式第１号!$BM$351:$BN$354
Name リスト_児童指導員等加配加算＿付３: [1]様式第１号!$AT$467:$AT$469
Name リスト_主たるサービス種類_付１１: [1]様式第１号!$AT$338:$AT$339
Name リスト_主たるサービス種類_付１２: [1]様式第１号!$AT$343:$AT$344
Name リスト_主たるサービス種類_付３: [1]様式第１号!$AT$313:$AT$314
Name リスト_主たるサービス種類_付５: [1]様式第１号!$AT$318:$AU$322
Name リスト_主たるサービス種類_付９: [1]様式第１号!$AT$328:$AT$329
Name リスト_主たる事業所施設区分_付５: [1]様式第１号!$AT$393:$AU$395
Name リスト_就労移行支援体制加算区分: [1]様式第１号!$AT$293:$AT$298
Name リスト_就労定着支援利用者数＿付１６: [1]様式第１号!$AT$534:$AT$537
Name リスト_就労定着実績区分: [1]様式第１号!$BY$351:$BY$354
Name リスト_就労定着率区分＿付１１: [1]様式第１号!$AT$479:$AT$487
Name リスト_就労定着率区分＿付１６: [1]様式第１号!$AT$524:$AT$530
Name リスト_処遇改善助成金キャリアパス区分: [1]様式第１号!$AT$302:$AT$308
Name リスト_障害児施設区分_付３: [1]様式第１号!$BA$352:$BA$357
Name リスト_障害児施設区分_付８_１: [1]様式第１号!$BS$351:$BT$356
Name リスト_心理担当職員配置加算＿付３: [1]様式第１号!$AT$455:$AT$457
Name リスト_人員配置区分_共同生活援助: [1]様式第１号!$AT$260:$AT$267
Name リスト_人員配置区分_生活介護: [1]様式第１号!$AT$145:$AT$155
Name リスト_人員配置区分＿付１５: [1]様式第１号!$AT$541:$AT$542
Name リスト_人員配置区分_療養介護: [1]様式第１号!$AT$244:$AT$249
Name リスト_定員区分_児童デイ: [1]様式第１号!$AT$184:$AT$187
Name リスト_評価点区分_付12: [1]様式第１号!$AT$580:$AT$587
Name リスト_福祉・介護職員等特定処遇改善加算区分: [1]様式第１号!$AT$572:$AT$574
Name リスト_平均工賃月額区分＿付１２: [1]様式第１号!$AT$503:$AT$513
Name リスト_平均労働時間区分＿付１２: [1]様式第１号!$AT$491:$AT$499
Name リスト_夜間看護体制加算＿付８: [1]様式第１号!$AT$518:$AT$520
Name リスト_夜間支援体制加算の人数_付10: [1]様式第１号!$AT$440:$AU$450
Name リスト_夜間支援体制加算の人数_付７: [1]様式第１号!$AT$405:$AT$416
Name リスト_夜間支援等体制加算: [1]様式第１号!$AT$428:$AT$435
Name リスト_夜間支援等体制加算Ⅰ加配職員体制の有無_付7: [1]様式第１号!$AT$592:$AT$599
Name 取込変換_開所時間減算区分＿付３: [1]様式第１号!$AV$421:$AW$423
Name 取込変換_施設等の区分_児童デイ: [1]様式第１号!$AV$238:$AW$240
Name 取込変換_施設等の区分_付３: [1]様式第１号!$AV$353:$AW$358
Name 取込変換_施設等の区分_付８_１: [1]様式第１号!$BO$351:$BP$354
Name 取込変換_児童指導員等加配加算: [1]様式第１号!$AV$558:$AW$560
Name 取込変換_主たるサービス種類_付１０: [1]様式第１号!$AV$333:$AW$334
Name 取込変換_主たるサービス種類_付１１: [1]様式第１号!$AV$338:$AW$339
Name 取込変換_主たるサービス種類_付１２: [1]様式第１号!$AV$343:$AW$344
Name 取込変換_主たるサービス種類_付３: [1]様式第１号!$AV$313:$AW$314
Name 取込変換_主たるサービス種類_付５: [1]様式第１号!$AV$318:$AW$322
Name 取込変換_主たるサービス種類_付９: [1]様式第１号!$AV$328:$AW$329
Name 取込変換_主たる事業者施設区分_付５: [1]様式第１号!$AV$393:$AW$395
Name 取込変換_就労移行支援体制加算区分: [1]様式第１号!$AV$293:$AW$298
Name 取込変換_就労定着支援利用者数: [1]様式第１号!$AV$534:$AW$537
Name 取込変換_就労定着実績区分: [1]様式第１号!$CA$351:$CB$354
Name 取込変換_就労定着率区分: [1]様式第１号!$AV$524:$AW$530
Name 取込変換_就労定着率区分＿付１１: [1]様式第１号!$AV$479:$AW$487
Name 取込変換_障害児施設区分_付３: [1]様式第１号!$BC$352:$BD$357
Name 取込変換_障害児施設区分_付８_１: [1]様式第１号!$BU$351:$BV$356

Sheet 指定(更新・変更)申請書
A1: 別紙様式第一号 | AX1: 法人の種類
AX2: 社会福祉法人(社協以外)
A3: 指定障害福祉サービス事業所/指定障害者支援施設 | AX3: 社会福祉法人(社協)
A4: 指定特定相談支援事業所/指定一般相談支援事業所 | AX4: 医療法人
G5: 申請書 | AX5: 社団・財団
O6: 年 | R6: 月 | U6: 日 | AX6: 営利法人
B7: 横浜 | D7: 市長 殿 | AX7: 非営利法人（NPO）
H8: 所在地 | AX8: 農協
G9: 申請者 | H9: 名 称 | AX9: 生協
H10: 代表者 | AX10: その他法人
AX11: 地方公共団体（都道府県）
B12: 表題の事業所・施設に係る | F12: を受けたいので、下記のとおり、関係書類を添えて申請します。 | AX12: 地方公共団体（市町村）
AX13: 地方公共団体(広域連合・一部事務組合等)
F14: 法人番号(13桁) | AX14: 非法人
A15: 申請者(設置者) | B15: フリガナ | AX15: その他
B16: 名称
B17: 主たる事務所の所在地 | D17: (郵便番号 | F17: - | I17: ）
E18: 県 | H18: 市
B20: 連絡先 | D20: 電話番号 | E20: (内線)
D21: E-mailアドレス
B22: 法人等の種類
B23: 代表者の職名・氏名・生年月日 | D23: 職名 | G23: フリガナ | M23: 生年月日
G24: 氏名
B25: 代表者の住所 | D25: (郵便番号 | F25: - | I25: ）
E26: 県 | H26: 市
A28: 指定を受けようとする事業所・施設の種類 | B28: フリガナ
B29: 名称
B30: 事業所(施設)の所在地 | D30: (郵便番号 | F30: - | I30: ）
E31: 県 | H31: 市
B33: 多機能型事業所に係る指定の申請の場合は○
B34: 同一所在地において 行う事業等の種類 | F34: 今回の指定(更新・変更)申請をする対象事業等に○ | H34: 既に指定を受けている事業に○ | L34: 事業の開始予定年月日 | R34: 本申請書に添付して提出する様式(付表)
E35: 共生型サービスの指定を申請するものに○
B36: 指定障害福祉サービス事業所 | C36: 居宅介護 | R36: 付表１
C37: 重度訪問介護 | R37: 付表１
C38: 同行援護 | R38: 付表１
C39: 行動援護 | R39: 付表１
C40: 療養介護 | R40: 付表２
C41: 生活介護 | R41: 付表３
C42: 短期入所 | R42: 付表４
C43: 重度障害者等包括支援 | R43: 付表５
C44: 自立訓練(機能訓練) | R44: 付表６
C45: 自立訓練(生活訓練) | R45: 付表６
C46: 就労選択支援 | R46: 付表７
C47: 就労移行支援 | R47: 付表８
C48: 就労継続支援Ａ型 | R48: 付表９
... C52: 共同生活援助 | R52: 付表１２
B53: 指定障害者支援施設(施設入所支援) | R53: 付表１３
B54: 指定一般相談支援事業所 | C54: 地域移行支援 | R54: 付表１４
C55: 地域定着支援 | R55: 付表１４
B56: 指定特定相談支援事業所 | R56: 付表１５
B57: 指定障害児通所支援事業所 | C57: 児童発達支援 | R57: 付表１６
C58: 放課後等デイサービス | R58: 付表１６
C59: 居宅訪問型児童発達支援 | R59: 付表１７
C60: 保育所等訪問支援 | R60: 付表１８
B61: 指定障害児入所施設 | R61: 付表１９/２０
B62: 指定障害児相談支援事業所 | R62: 付表１５
A63: 【既に指定を受けている場合】事業所番号
A64: (備考)
A65: 1 | B65: 本申請書の表題は、指定の更新の申請の際には「指定更新申請書」に、指定の変更の申請の際には「指定変更申請書」に変更して使用してください。
A66: 2 | B66: 「法人等の種類」欄には、「社会福祉法人(社協以外)」、「社会福祉法人(社協)」、「医療法人」、「社団・財団」、「営利法人」、「非営利法人(ＮＰＯ)」、「農協」、「生協」、「その他法人」、「地方公共団体(都道府県)」、「地方公共団体(市町村)」、「地方公共団体(広域連合・一部事務組合等)」、「非法人」、「その他」のいずれかを記入してください。
A67: 3 | B67: 「同一所在地において行う事業等の種類」欄には、今回申請をする事業及び既に指定を受けている事業のそれぞれに「○」を記載してください。
A68: 4 | B68: 「【既に指定を受けている場合】事業所番号」欄には、申請を行う都道府県等において既に事業所としての指定を受け、番号が付番されている場合に、その事業所番号を記載してください。
A69: 5 | B69: 「事業の開始予定年月日」欄については、更新の場合にあっては、現に受けている指定の有効期間満了日を記載してください。

Sheet 指定(更新・変更)申請書（記載例）
A1: 別紙様式第一号 | AX1: 法人の種類
AX2: 社会福祉法人(社協以外)
A3: 指定障害福祉サービス事業所/指定障害者支援施設 | AX3: 社会福祉法人(社協)
A4: 指定特定相談支援事業所/指定一般相談支援事業所 | AX4: 医療法人
E5: 指定 | G5: 申請書 | AX5: 社団・財団
K6: 令和８ | O6: 年 | P6: ７ | R6: 月 | S6: １ | U6: 日 | AX6: 営利法人
B7: 横浜 | D7: 市長 殿 | AX7: 非営利法人（NPO）
H8: 所在地 | K8: 神奈川県横浜市中区日本大通１ | AX8: 農協
G9: 申請者 | H9: 名 称 | K9: 社会福祉法人かながわ福祉会 | AX9: 生協
H10: 代表者 | K10: 理事長 かながわ一郎 | AX10: その他法人
AX11: 地方公共団体（都道府県）
B12: 表題の事業所・施設に係る | E12: 指定 | F12: を受けたいので、下記のとおり、関係書類を添えて申請します。 | AX12: 地方公共団体（市町村）
AX13: 地方公共団体(広域連合・一部事務組合等)
F14: 法人番号(13桁) | I14: 1 | J14: 2 | K14: 3 | L14: 4 | M14: 5 | N14: 6 | O14: 7 | P14: 8 | Q14: 9 | R14: 0 | S14: 1 | T14: 2 | U14: 3 | AX14: 非法人
A15: 申請者(設置者) | B15: フリガナ | D15: ｼｬｶｲﾌｸｼﾎｳｼﾞﾝｶﾅｶﾞﾜﾌｸｼｶｲ | AX15: その他
B16: 名称 | D16: 社会福祉法人かながわ福祉会
B17: 主たる事務所の所在地 | D17: (郵便番号 | E17: 231 | F17: - | G17: 8588 | I17: ）
D18: 神奈川 | E18: 県 | F18: 横浜 | H18: 市
D19: 中区日本大通１
B20: 連絡先 | D20: 電話番号 | E20: 045-210-1111 (内線)
D21: E-mailアドレス | F21: kanagawatest@test.jp
B22: 法人等の種類 | D22: 社会福祉法人(社協以外)
B23: 代表者の職名・氏名・生年月日 | D23: 職名 | E23: 理事長 | G23: フリガナ | H23: ｶﾅｶﾞﾜ ｲﾁﾛｳ | M23: 生年月日 | O23: 19**/**/**
G24: 氏名 | H24: かながわ 一郎
B25: 代表者の住所 | D25: (郵便番号 | E25: 254 | F25: - | G25: **** | I25: ）
D26: 神奈川 | E26: 県 | F26: 平塚 | H26: 市
D27: ○■町９－△ ○○マンション４０１
A28: 指定を受けようとする事業所・施設の種類 | B28: フリガナ | D28: ｶﾅｶﾞﾜﾏﾙｻﾝｶｸﾎｰﾑﾍﾙﾌﾟ
B29: 名称 | D29: かながわ○△ホームヘルプ
B30: 事業所(施設)の所在地 | D30: (郵便番号 | E30: 248 | F30: - | G30: **** | I30: ）
D31: 神奈川 | E31: 県 | F31: 鎌倉 | H31: 市
D32: △☆町１８－□
B33: 多機能型事業所に係る指定の申請の場合は○
B34: 同一所在地において 行う事業等の種類 | F34: 今回の指定(更新・変更)申請をする対象事業等に○ | H34: 既に指定を受けている事業に○ | L34: 事業の開始予定年月日 | R34: 本申請書に添付して提出する様式(付表)
E35: 共生型サービスの指定を申請するものに○
B36: 指定障害福祉サービス事業所 | C36: 居宅介護 | R36: 付表１
C37: 重度訪問介護 | R37: 付表１
C38: 同行援護 | R38: 付表１
C39: 行動援護 | R39: 付表１
C40: 療養介護 | R40: 付表２
C41: 生活介護 | R41: 付表３
C42: 短期入所 | R42: 付表４
C43: 重度障害者等包括支援 | R43: 付表５
C44: 自立訓練(機能訓練) | R44: 付表６
C45: 自立訓練(生活訓練) | R45: 付表６
C46: 就労選択支援 | R46: 付表７
C47: 就労移行支援 | R47: 付表８
C48: 就労継続支援Ａ型 | R48: 付表９
... C52: 共同生活援助 | R52: 付表１２
B53: 指定障害者支援施設(施設入所支援) | R53: 付表１３
B54: 指定一般相談支援事業所 | C54: 地域移行支援 | F54: ○ | L54: 2026/10/1 | R54: 付表１４
C55: 地域定着支援 | F55: ○ | L55: 2026/10/1 | R55: 付表１４
B56: 指定特定相談支援事業所 | R56: 付表１５
B57: 指定障害児通所支援事業所 | C57: 児童発達支援 | R57: 付表１６
C58: 放課後等デイサービス | R58: 付表１６
C59: 居宅訪問型児童発達支援 | R59: 付表１７
C60: 保育所等訪問支援 | R60: 付表１８
B61: 指定障害児入所施設 | R61: 付表１９/２０
B62: 指定障害児相談支援事業所 | R62: 付表１５
A63: 【既に指定を受けている場合】事業所番号
A64: (備考)
A65: 1 | B65: 本申請書の表題は、指定の更新の申請の際には「指定更新申請書」に、指定の変更の申請の際には「指定変更申請書」に変更して使用してください。
A66: 2 | B66: 「法人等の種類」欄には、「社会福祉法人(社協以外)」、「社会福祉法人(社協)」、「医療法人」、「社団・財団」、「営利法人」、「非営利法人(ＮＰＯ)」、「農協」、「生協」、「その他法人」、「地方公共団体(都道府県)」、「地方公共団体(市町村)」、「地方公共団体(広域連合・一部事務組合等)」、「非法人」、「その他」のいずれかを記入してください。
A67: 3 | B67: 「同一所在地において行う事業等の種類」欄には、今回申請をする事業及び既に指定を受けている事業のそれぞれに「○」を記載してください。
A68: 4 | B68: 「【既に指定を受けている場合】事業所番号」欄には、申請を行う都道府県等において既に事業所としての指定を受け、番号が付番されている場合に、その事業所番号を記載してください。
A69: 5 | B69: 「事業の開始予定年月日」欄については、更新の場合にあっては、現に受けている指定の有効期間満了日を記載してください。

Sheet 口座振込依頼書
A1: 口座振込（変更）依頼書（兼 受領委任状） | BP1: サービスコード | BQ1: サービス種類
BP2: 11 | BQ2: 居宅介護
BP3: 12 | BQ3: 重度訪問介護
A4: 神奈川県国民健康保険団体連合会理事長 殿 | BP4: 15 | BQ4: 同行援護
BP5: 13 | BQ5: 行動援護
A6: 以下の口座に，次に掲げる介護給付費等の振込を依頼します。 | BP6: 21 | BQ6: 療養介護
BP7: 22 | BQ7: 生活介護
U8: 令和 | AA8: 年 | AG8: 月 | AM8: 日 | BP8: 24 | BQ8: 短期入所
BP9: 14 | BQ9: 重度障害者等包括支援
BP10: 41 | BQ10: 自立訓練(機能訓練)
A11: 申請者（債権者） | C11: 法人名称 ( 開 設 者 ) | I11: ='指定(更新・変更)申請書'!D16 -> 0 | AG11: 届出印 | BP11: 42 | BQ11: 自立訓練(生活訓練)
BP12: 48 | BQ12: 就労選択支援
C13: 郵便番号 | I13: 〒 | K13: ='指定(更新・変更)申請書'!E17 -> 0 | N13: - | O13: ='指定(更新・変更)申請書'!G17 -> 0 | BP13: 43 | BQ13: 就労移行支援
C14: 事業所 所在地 | I14: ='指定(更新・変更)申請書'!D18&'指定(更新・変更)申請書'!E18&'指定(更新・変更)申請書'!F18&'指定(更新・変更)申請書'!H18 -> 県市 | BP14: 45 | BQ14: 就労継続支援Ａ型
BP15: 46 | BQ15: 就労継続支援Ｂ型
I16: ='指定(更新・変更)申請書'!D19 -> 0 | BP16: 47 | BQ16: 就労定着支援
BP17: 35 | BQ17: 自立生活援助
C18: 代表者氏名 | I18: ='指定(更新・変更)申請書'!H24 -> 0 | BP18: 33 | BQ18: 共同生活援助
BP19: 32 | BQ19: 指定障害者支援施設(施設入所支援)
C20: 事業所名称 | I20: ='指定(更新・変更)申請書'!D29 -> 0 | BP20: 52 | BQ20: 指定特定相談支援事業所
BP21: 53 | BQ21: 地域移行支援
C22: 事業所番号 | BP22: 54 | BQ22: 地域定着支援
C24: 対象事業名
A27: 送付先 | C27: 郵便番号 | I27: 〒 | K27: =IF(#REF!="","",LEFT(#REF!,3)) -> #REF! | N27: - | O27: =IF(#REF!="","",RIGHT(#REF!,4)) -> #REF!
C28: 送付先住所 | I28: =IF(#REF!="","",#REF!) -> #REF!
I30: =IF(#REF!="","",#REF!) -> #REF!
C32: 宛名 | I32: =IF(#REF!="","",#REF!) -> #REF!
C34: 電話番号 | I34: =IF(#REF!="","",#REF!) -> #REF! | L34: =IF(I34="","","-") -> #REF! | M34: =IF(#REF!="","",#REF!) -> #REF! | P34: =IF(M34="","","-") -> #REF! | Q34: =IF(#REF!="","",#REF!) -> #REF!
A37: 振込先 | C37: 金融機関名 | Y37: 金 融 機 関 コ ー ド
C39: 支店名 | Y39: 支 店 コ ー ド
C41: 口座番号 | W41: 預金種目 | AC41: 1
C43: 口座名義人 | E43: ﾌﾘｶﾞﾅ
E45: 氏名
A49: 受領委任状
C50: 申請者（債権者）は，口座名義人（受任者）に，上記介護給付費等の受領に関する一切の権限を
C51: 委任します。
C52: =U8 -> 令和 | F52: =IF(X8<>"",X8,"") | I52: 年 | J52: =IF(AD8<>"",AD8,"") | M52: 月 | N52: =IF(AJ8<>"",AJ8,"") | Q52: 日
C54: 委任者 | I54: =IF(I18<>"",I18,"") -> 0 | AK54: 印
I57: ※振込エラー防止のためどちらか一方にチェックをお願いします。
E58: 取扱金融機関の確認を以下に明記します。 | V58: ２枚目に通帳のコピーを添付します。
A60: 金 融 機 関 記 載 欄
I61: 上記口座が存在することを確認しました。
K63: 金融機関名
K65: 確認年月日 | AH65: ㊞
A69: 【振込先金融機関 通帳の写し添付様式】
U72: =$U$8 -> 令和 | X72: =IF(X8<>"",X8,"") | AA72: 年 | AD72: =IF(AD8<>"",AD8,"") | AG72: 月 | AJ72: =IF(AJ8<>"",AJ8,"") | AM72: 日
E75: 事業所名 | K75: =IF(I20<>"",I20,"") -> 0
E81: ※振込先金融機関の通帳の表面の名義人名の写し
D98: こちらに通帳の表面の写しを貼ってください。
E106: ※振込先金融機関の通帳の名義人名カタカナの写し
E123: こちらにカタカナ部分の写しを貼ってください。
T169: 指定年月日

Sheet 口座振込依頼書 (記載例)
A1: 口座振込（変更）依頼書（兼 受領委任状） | BP1: サービスコード | BQ1: サービス種類
BP2: 11 | BQ2: 居宅介護
BP3: 12 | BQ3: 重度訪問介護
A4: 神奈川県国民健康保険団体連合会理事長 殿 | BP4: 15 | BQ4: 同行援護
BP5: 13 | BQ5: 行動援護
A6: 以下の口座に，次に掲げる介護給付費等の振込を依頼します。 | BP6: 21 | BQ6: 療養介護
BP7: 22 | BQ7: 生活介護
U8: 令和 | AA8: 年 | AG8: 月 | AM8: 日 | BP8: 24 | BQ8: 短期入所
BP9: 14 | BQ9: 重度障害者等包括支援
BP10: 41 | BQ10: 自立訓練(機能訓練)
A11: 申請者（債権者） | C11: 法人名称 ( 開 設 者 ) | I11: ='指定(更新・変更)申請書（記載例）'!D16 -> 社会福祉法人かながわ福祉会 | AG11: 届出印 | BP11: 42 | BQ11: 自立訓練(生活訓練)
BP12: 48 | BQ12: 就労選択支援
C13: 郵便番号 | I13: 〒 | K13: ='指定(更新・変更)申請書（記載例）'!E17 -> 231 | N13: - | O13: ='指定(更新・変更)申請書（記載例）'!G17 -> 8588 | BP13: 43 | BQ13: 就労移行支援
C14: 事業所 所在地 | I14: ='指定(更新・変更)申請書（記載例）'!D18&'指定(更新・変更)申請書（記載例）'!E18&'指定(更新・変更)申請書（記載例）'!F18&'指定(更新・変更)申請書（記載例）'!H18&'指定(更新・変更)申請書（記載例）'!D19 -> 神奈川県横浜市中区日本大通１ | BP14: 45 | BQ14: 就労継続支援Ａ型
BP15: 46 | BQ15: 就労継続支援Ｂ型
I16: ='指定(更新・変更)申請書（記載例）'!D19 -> 中区日本大通１ | BP16: 47 | BQ16: 就労定着支援
BP17: 35 | BQ17: 自立生活援助
C18: 代表者氏名 | I18: ='指定(更新・変更)申請書（記載例）'!H24 -> かながわ 一郎 | BP18: 33 | BQ18: 共同生活援助
BP19: 32 | BQ19: 指定障害者支援施設(施設入所支援)
C20: 事業所名称 | I20: ='指定(更新・変更)申請書（記載例）'!D29 -> かながわ○△ホームヘルプ | BP20: 52 | BQ20: 指定特定相談支援事業所
BP21: 53 | BQ21: 地域移行支援
C22: 事業所番号 | AC22: 045-210-1111 | BP22: 54 | BQ22: 地域定着支援
C24: 対象事業名 | I24: 53 | K24: 地域移行支援
A27: 送付先 | C27: 郵便番号 | I27: 〒 | K27: =IF(#REF!="","",LEFT(#REF!,3)) -> #REF! | N27: - | O27: =IF(#REF!="","",RIGHT(#REF!,4)) -> #REF!
C28: 送付先住所 | I28: =IF(#REF!="","",#REF!) -> #REF!
I30: =IF(#REF!="","",#REF!) -> #REF!
C32: 宛名 | I32: =IF(#REF!="","",#REF!) -> #REF!
C34: 電話番号 | I34: =IF(#REF!="","",#REF!) -> #REF! | L34: =IF(I34="","","-") -> #REF! | M34: =IF(#REF!="","",#REF!) -> #REF! | P34: =IF(M34="","","-") -> #REF! | Q34: =IF(#REF!="","",#REF!) -> #REF!
A37: 振込先 | C37: 金融機関名 | I37: ○○銀行 | Y37: 金 融 機 関 コ ー ド | AH37: * | AJ37: * | AL37: * | AN37: *
C39: 支店名 | I39: ××支店 | Y39: 支 店 コ ー ド | AJ39: * | AL39: * | AN39: *
C41: 口座番号 | I41: * | K41: * | M41: * | O41: * | Q41: * | S41: * | U41: * | W41: 預金種目 | AC41: 1
C43: 口座名義人 | E43: ﾌﾘｶﾞﾅ | I43: ﾌｸ)ｶﾅｶﾞﾜﾌｸｼｶｲ
E45: 氏名 | I45: 社会福祉法人かながわ福祉会
A49: 受領委任状
C50: 申請者（債権者）は，口座名義人（受任者）に，上記介護給付費等の受領に関する一切の権限を
C51: 委任します。
C52: =U8 -> 令和 | F52: =IF(X8<>"",X8,"") | I52: 年 | J52: =IF(AD8<>"",AD8,"") | M52: 月 | N52: =IF(AJ8<>"",AJ8,"") | Q52: 日
C54: 委任者 | I54: =IF(I18<>"",I18,"") -> かながわ 一郎 | AK54: 印
I57: ※振込エラー防止のためどちらか一方にチェックをお願いします。
E58: 取扱金融機関の確認を以下に明記します。 | V58: ２枚目に通帳のコピーを添付します。
A60: 金 融 機 関 記 載 欄
I61: 上記口座が存在することを確認しました。
K63: 金融機関名
K65: 確認年月日 | AH65: ㊞
A69: 【振込先金融機関 通帳の写し添付様式】
U72: =$U$8 -> 令和 | X72: =IF(X8<>"",X8,"") | AA72: 年 | AD72: =IF(AD8<>"",AD8,"") | AG72: 月 | AJ72: =IF(AJ8<>"",AJ8,"") | AM72: 日
E75: 事業所名 | K75: =IF(I20<>"",I20,"") -> かながわ○△ホームヘルプ
E81: ※振込先金融機関の通帳の表面の名義人名の写し
D98: こちらに通帳の表面の写しを貼ってください。
E106: ※振込先金融機関の通帳の名義人名カタカナの写し
E123: こちらにカタカナ部分の写しを貼ってください。
T169: 指定年月日

Sheet 付表１４
A1: 付表１４ 指定一般相談支援事業所の指定等に係る記載事項
A3: サービス種別(申請するものに○) | E3: 地域移行支援 | H3: 地域定着支援
A4: 事業所 | B4: フリガナ
B5: 名 称
B6: 所在地 | C6: (郵便番号 | E6: - | G6: )
D7: 県 | F7: 市
B9: 電話番号
B10: E-Mail
A11: 管理者 | B11: フリガナ | F11: 生年月日
B12: 氏 名 | H12: 年 | J12: 月 | L12: 日
B13: 住 所 | C13: (郵便番号 | E13: - | G13: )
D14: 県 | F14: 市
B16: 当該事業所における相談支援専門員との兼務の有無 | H16: 有 | K16: 無
B17: 他の事業所又は施設の従業者との兼務(兼務の場合記入) | D17: 事業所等の名称
D18: 兼務する職種及び勤務時間等
A20: 指定地域相談支援の提供に当たる者 | B20: フリガナ | F20: 生年月日
B21: 氏 名 | H21: 年 | J21: 月 | L21: 日
B22: 住 所 | C22: (郵便番号 | E22: - | G22: )
D23: 県 | F23: 市
B25: フリガナ | F25: 生年月日
B26: 氏 名 | H26: 年 | J26: 月 | L26: 日
B27: 住 所 | C27: (郵便番号 | E27: - | G27: )
D28: 県 | F28: 市
B30: フリガナ | F30: 生年月日
B31: 氏 名 | H31: 年 | J31: 月 | L31: 日
B32: 住 所 | C32: (郵便番号 | E32: - | G32: )
D33: 県 | F33: 市
A35: 実施主体が地方公共団体である場合は、当該事業の実施について定めてある条例等 | H35: 第 条 第 項 第 号
A36: ○人員に関する基準の確認に必要な事項
A37: 従業者の職種・員数 | C37: 居宅介護等従業者 | E37: その他の従業者
C38: 専従 | D38: 兼務 | E38: 専従 | F38: 兼務
A39: 常勤(人)
A40: 非常勤(人)
A41: 常勤換算後の人数(人)
A42: 基準上の必要人数(人)
A43: ○運営・設備に関する基準の確認に必要な事項
A44: 常時の連絡体制の 確保の具体的方法 (地域定着支援のみ)
A45: 営業日(該当する日に○) | C45: 日 | D45: 月 | E45: 火 | F45: 水 | G45: 木 | H45: 金 | J45: 土 | L45: 祝
C47: その他(年末年始等)
A48: 営業時間 | C48: 平日 | E48: ： | G48: ～ | J48: ：
C49: 土曜 | E49: ： | G49: ～ | J49: ：
C50: 日・祝 | E50: ： | G50: ～ | J50: ：
A51: その他の費用
A52: 通常の事業の実施地域
A53: (備考)
A54: １．記入欄が不足する場合は、次頁の「記入欄不足時の資料」に記載して添付してください。
A55: ２．「その他の費用」欄には、利用者に直接金銭の負担を求める場合のサービス内容についても記載してく ださい。
A56: 記入欄不足時の資料
A57: ■指定地域相談支援の提供に当たる者
A58: 指定地域相談支援の提供に当たる者 | B58: フリガナ | F58: 生年月日
B59: 氏 名 | H59: 年 | J59: 月 | L59: 日
B60: 住 所 | C60: (郵便番号 | E60: - | G60: )
D61: 県 | F61: 市
B63: フリガナ | F63: 生年月日
B64: 氏 名 | H64: 年 | J64: 月 | L64: 日
B65: 住 所 | C65: (郵便番号 | E65: - | G65: )
D66: 県 | F66: 市
B68: フリガナ | F68: 生年月日
B69: 氏 名 | H69: 年 | J69: 月 | L69: 日
B70: 住 所 | C70: (郵便番号 | E70: - | G70: )
D71: 県 | F71: 市
B73: フリガナ | F73: 生年月日
B74: 氏 名 | H74: 年 | J74: 月 | L74: 日
B75: 住 所 | C75: (郵便番号 | E75: - | G75: )
D76: 県 | F76: 市
B78: フリガナ | F78: 生年月日
B79: 氏 名 | H79: 年 | J79: 月 | L79: 日
B80: 住 所 | C80: (郵便番号 | E80: - | G80: )
D81: 県 | F81: 市
B83: フリガナ | F83: 生年月日
B84: 氏 名 | H84: 年 | J84: 月 | L84: 日
B85: 住 所 | C85: (郵便番号 | E85: - | G85: )
D86: 県 | F86: 市

Sheet 付表１４ (記載例)
A1: 付表１４ 指定一般相談支援事業所の指定等に係る記載事項
A3: サービス種別(申請するものに○) | E3: 地域移行支援 | G3: ○ | H3: 地域定着支援 | L3: ○
A4: 事業所 | B4: フリガナ | C4: ｶﾅｶﾞﾜﾏﾙｻﾝｶｸｿｳﾀﾞﾝｼﾂ
B5: 名 称 | C5: かながわ○△相談室
B6: 所在地 | C6: (郵便番号 | D6: 231 | E6: - | F6: **** | G6: )
C7: 神奈川 | D7: 県 | E7: 横浜 | F7: 市
C8: 中区●●町▲▲－▲
B9: 電話番号 | C9: 045-***-****
B10: E-Mail | C10: kanagawatest@test.jp
A11: 管理者 | B11: フリガナ | C11: ｶﾅｶﾞﾜ ｼﾞﾛｳ | F11: 生年月日 | G11: 1960 | I11: 1 | K11: 1
B12: 氏 名 | C12: かながわ 二郎 | H12: 年 | J12: 月 | L12: 日
B13: 住 所 | C13: (郵便番号 | D13: 231 | E13: - | F13: **** | G13: )
C14: 神奈川 | D14: 県 | E14: 横浜 | F14: 市
C15: 中区○町１ー×
B16: 当該事業所における相談支援専門員との兼務の有無 | H16: 有 | I16: ○ | K16: 無
B17: 他の事業所又は施設の従業者との兼務(兼務の場合記入) | D17: 事業所等の名称
D18: 兼務する職種及び勤務時間等
A20: 指定地域相談支援の提供に当たる者 | B20: フリガナ | C20: ｶﾅｶﾞﾜ ｼﾞﾛｳ | F20: 生年月日 | G20: 1960 | I20: 1 | K20: 1
B21: 氏 名 | C21: かながわ 二郎 | H21: 年 | J21: 月 | L21: 日
B22: 住 所 | C22: (郵便番号 | D22: 231 | E22: - | F22: **** | G22: )
C23: 神奈川 | D23: 県 | E23: 横浜 | F23: 市
C24: 中区○町１ー×
B25: フリガナ | C25: ﾖｺﾊﾏ ﾀﾛｳ | F25: 生年月日 | G25: 1970 | I25: 1 | K25: 1
B26: 氏 名 | C26: よこはま 太郎 | H26: 年 | J26: 月 | L26: 日
B27: 住 所 | C27: (郵便番号 | D27: 232 | E27: - | F27: **** | G27: )
C28: 神奈川 | D28: 県 | E28: 横浜 | F28: 市
C29: 南区○○１－１１１－１
B30: フリガナ | F30: 生年月日
B31: 氏 名 | H31: 年 | J31: 月 | L31: 日
B32: 住 所 | C32: (郵便番号 | E32: - | G32: )
D33: 県 | F33: 市
A35: 実施主体が地方公共団体である場合は、当該事業の実施について定めてある条例等 | H35: 第 条 第 項 第 号
A36: ○人員に関する基準の確認に必要な事項
A37: 従業者の職種・員数 | C37: 居宅介護等従業者 | E37: その他の従業者
C38: 専従 | D38: 兼務 | E38: 専従 | F38: 兼務
A39: 常勤(人)
A40: 非常勤(人)
A41: 常勤換算後の人数(人)
A42: 基準上の必要人数(人)
A43: ○運営・設備に関する基準の確認に必要な事項
A44: 常時の連絡体制の 確保の具体的方法 (地域定着支援のみ) | C44: 常時連絡可能な携帯電話を配備し、緊急事態発生時は速やかに職務を行う者が対応する。
A45: 営業日(該当する日に○) | C45: 日 | D45: 月 | E45: 火 | F45: 水 | G45: 木 | H45: 金 | J45: 土 | L45: 祝
D46: ○ | E46: ○ | F46: ○ | G46: ○ | H46: ○
C47: その他(年末年始等)
A48: 営業時間 | C48: 平日 | D48: 9 | E48: ： | F48: 00 | G48: ～ | H48: 17 | J48: ： | L48: 00
C49: 土曜 | E49: ： | G49: ～ | J49: ：
C50: 日・祝 | E50: ： | G50: ～ | J50: ：
A51: その他の費用 | C51: 運営規程に定めるとおり
A52: 通常の事業の実施地域 | C52: 横浜市
A53: (備考)
A54: １．記入欄が不足する場合は、次頁の「記入欄不足時の資料」に記載して添付してください。
A55: ２．「その他の費用」欄には、利用者に直接金銭の負担を求める場合のサービス内容についても記載してく ださい。
A56: 記入欄不足時の資料
A57: ■指定地域相談支援の提供に当たる者
A58: 指定地域相談支援の提供に当たる者 | B58: フリガナ | F58: 生年月日
B59: 氏 名 | H59: 年 | J59: 月 | L59: 日
B60: 住 所 | C60: (郵便番号 | E60: - | G60: )
D61: 県 | F61: 市
B63: フリガナ | F63: 生年月日
B64: 氏 名 | H64: 年 | J64: 月 | L64: 日
B65: 住 所 | C65: (郵便番号 | E65: - | G65: )
D66: 県 | F66: 市
B68: フリガナ | F68: 生年月日
B69: 氏 名 | H69: 年 | J69: 月 | L69: 日
B70: 住 所 | C70: (郵便番号 | E70: - | G70: )
D71: 県 | F71: 市
B73: フリガナ | F73: 生年月日
B74: 氏 名 | H74: 年 | J74: 月 | L74: 日
B75: 住 所 | C75: (郵便番号 | E75: - | G75: )
D76: 県 | F76: 市
B78: フリガナ | F78: 生年月日
B79: 氏 名 | H79: 年 | J79: 月 | L79: 日
B80: 住 所 | C80: (郵便番号 | E80: - | G80: )
D81: 県 | F81: 市
B83: フリガナ | F83: 生年月日
B84: 氏 名 | H84: 年 | J84: 月 | L84: 日
B85: 住 所 | C85: (郵便番号 | E85: - | G85: )
D86: 県 | F86: 市

Sheet 付表３－２
A1: 付表３－２ 一体的に実施する従たる事業所の指定に係る記載事項
L2: ※多機能型事業実施時は、各事業の付表と付表１３を併せて提出してください。
N4: 受付番号
B6: フリガナ
A7: 施 | B7: 名 称
B8: 所在地 | D8: （郵便番号 － ）
A9: 設 | F9: 県 | I9: 郡・市
B11: 連 絡 先 | D11: 電話番号 | K11: ＦＡＸ番号
A12: 実施主体が地方公共団体である場合は、当該事業の実施について定めてある条例等 | J12: 第 条第 項第 号
A13: サービス | C13: フリガナ | J13: 住 所 | L13: （郵便番号 － ）
A14: 管理責任者 | C14: 氏 名
A15: 従業者の職種・員数 | F15: 医 師 | I15: サービス管理責任者 | L15: 看護職員 | O15: 理学療法士 | R15: 作業療法士
F16: 専従 | G16: ※兼務 | I16: 専従 | J16: ※兼務 | L16: 専従 | M16: ※兼務 | O16: 専従 | P16: ※兼務 | R16: 専従 | S16: ※兼務
B17: 従業者数 | D17: 常勤（人）
D18: 非常勤（人）
B19: 常勤換算後の人数（人）
B20: 基準上の必要人数（人）
F21: 機能訓練指導員 | I21: 生活支援員 | L21: 精神保健福祉士 | O21: その他の従業者
F22: 専従 | G22: ※兼務 | I22: 専従 | J22: ※兼務 | L22: 専従 | M22: ※兼務 | O22: 専従 | P22: ※兼務
B23: 従業者数 | D23: 常勤（人）
D24: 非常勤（人）
B25: 常勤換算後の人数（人）
B26: 基準上の必要人数（人）
B27: 前年度の平均 実利用者数（人） | F27: 施設が申告する障害程度区分の平均値
F28: サービス単位 | I28: ４未満 | M28: ４以上５未満 | Q28: ５以上
F29: サービス単位１
F30: サービス単位２
F31: サービス単位３
A32: 主な掲示事項
B33: 営業日 | F33: 単位ごとの営業日
B34: 営業時間 | F34: 単位ごとのサービス提供時間（送迎時間を除く）（① ： ～ ： ② ： ～ ： ）
B35: 主たる対象者 | F35: 特定無し | H35: 身体障害者
H36: 細分無し | J36: 肢体不自由 | L36: 視覚障害 | N36: 聴覚・言語 | P36: 内部障害
F38: 知的障害者 | H38: 精神障害者 | J38: 難病等対象者
B41: 利用定員 | F41: 人（単位ごとの定員）（① ② ）
B42: 基準上の必要定員
B43: 多機能型実施の有無 | F43: 有 ・ 無
B44: 利用料
B46: その他の費用
B47: その他参考となる事項 | F47: 第三者評価の実施状況 | J47: している ・ していない
F48: 苦情解決の措置概要 | J48: 窓口（連絡先） | N48: 担当者
F49: その他
A50: 協力医療機関 | F50: 名 称 | L50: 主な診療科名
A51: 一体的に管理運営する 他の事業所
A52: 添付書類 | F52: 別添のとおり（登記簿謄本又は条例等、事業所平面図、経歴書、運営規程、利用者からの苦情を解決するために講ずる措置の概要、勤務体制・形態一覧表、設備・備品等一覧表、協力医療機関との契約内容がわかるもの）、事業計画書
A53: （備考）
A54: １．「受付番号」「基準上の必要人数」「基準上の必要値」「基準上の必要定員」欄には、記載しないでください。
A55: ２．記入欄が不足する場合は、適宜欄を設けて記載するか又は別葉に記載した書類を添付してください。
A56: ３．「看護職員」とは保健師、看護師、准看護師のことを言います。
A57: ４．新設の場合には、「前年度の平均利用者数」欄は推定数を記入してください。
A58: ５．「主な掲示事項」欄には、その内容を簡潔に記載してください。
A59: ６．「※兼務」欄は、施設入所支援事業以外との兼務を行う職員について記載してください。
A60: ７．「その他の費用」欄には、入所者に直接金銭の負担を求める場合のサービス内容について記載してください。
