Workbook

Sheet Ｒ８業務管理体制の整備に係る報告書
A2: 別添
A3: 令和８年度業務管理体制の整備に係る報告書
Y5: 令和 | AA5: 8 | AC5: 年 | AF5: 月 | AI5: 日 | AJ5: 提出
A8: 神奈川県福祉子どもみらい局福祉部障害サービス課長 殿
S10: 法人名
S12: 法人番号
S14: 代表者名
A17: 法人の主たる事業所の名称
A19: 法人の主たる事務所の所在地
A21: 問合せ先 | J21: 電話 | T21: 電子 メール
J23: 問合せ先氏名
A26: この報告書は令和８年度一般検査の報告書です。報告対象事業者等（以下「報告対象法人」という。）は、児童福祉法第21条の5の26(指定障害児通所支援事業者)及び児童福祉法第24条の19の2(指定障害児入所施設等の設置者)です。
A29: １ 確認事項
A30: ・①～⑥の設問について、オレンジ色の□の〇または×を選んでください。
A31: ・③～⑥のいずれかが〇の事業者等が、今回の報告対象法人です。
A32: →２～５の設問にご回答ください。
A33: ・①や②に〇がついた事業者の回答はここまでです。
A34: 最後に、本Excelファイルを電子申請システムにアップロードしてください。
A35: ① | C35: 貴法人が運営する指定障害児通所支援事業所又は指定障害児入所施設は、
C36: 複数の都道府県に所在していますか。
B37: （〇の場合は、厚生労働省に報告してください。②以降の記入は不要です。回答終了です）
C38: ※神奈川県以外にどこの都道府県に事業所があるか記入してください→
A39: ② | C39: 横浜市、相模原市、川崎市、横須賀市、各市のみに事業所がありますか。
B40: （事業所所在各市が所管となります。回答終了です。）
A41: ③ | C41: 事業所の所在市町村は神奈川県の横浜市、相模原市、川崎市、横須賀市以外ですか。
A43: ④ | C43: 横浜市、相模原市、川崎市、横須賀市の複数の市にまたがって事業所がありますか。
B44: （複数の市に事業所がある場合は、県の所管になります。２以降の質問にご回答ください。）
A45: ⑤ | C45: 20以上の事業所を経営する事業者等ですか。
B46: （20以上の事業所を経営する報告対象法人は、届出と一緒に法令遵守規程の写しの提出が必要です。）
A47: ⑥ | C47: ⑤に〇を付けた事業者等にお伺いします。100以上の事業所を経営する事業者等ですか。
B48: （100以上の事業所を経営する報告対象法人は、届出と一緒に監査結果概要の提出が必要です。）
A50: ２ 届出状況について
A51: 業務管理体制に係る届出状況をご回答ください。
A53: 直近の届出年月日 | K53: 平成・令和 | R53: 年 | U53: 月 | X53: 日 | AE53: 届出なし | AI53: ※
A55: ※届出なしの場合は、速やかに業務管理体制に係る届出を行ってください。
A56: 届出内容 | C56: 法令遵守責任者 | K56: 氏名
C58: 届出内容の変更有無 | M58: 有 | O58: 内容 | AJ58: 無
A60: ＊届出状況に変更ある場合は、変更の届出を行ってください。
A62: ３ 業務管理体制に係る運用状況について
A63: 業務管理体制の整備・運営状況を教えてください。
A65: ＊ | B65: 以下の質問にいいえと答えた報告対象法人は神奈川県のホームページの業務管理体制のページの概要を参照し、
B66: この一般検査を機に確認、見直し等を行い、業務管理体制の整備に係る運用に努めてください。
A67: (１) | C67: 法令等遵守について基本的な考え方をご存じですか（□を選んでください。）。
C69: はい | H69: いいえ | M69: この機会に学んだ
A71: （２） | C71: 児童福祉法、神奈川県当事者目線の障害福祉推進条例、児童虐待の防止等に関する法律、その他条例及び各法を遵守するためにすべての職員に研修を行っていますか。 はいと答えた場合その研修内容を以下に記入してください。いいえと答えた事業者は、研修計画を立て、研修の実施に向けた措置を講じてください。
C75: はい
C77: いいえ
A79: （３） | C79: 各事業所の運営状況(サービス提供状況及び給付費等請求状況)について、法令に準じて、適正に行われているかどうかを把握する仕組み(報告や通報を含む。）はありますか。その仕組み等を以下に記入してください。
C82: はい
C84: いいえ
A86: （４） | C86: 法令遵守責任者の役割を法人等役員、従業者に周知していますか。どのように周知していますか。周知方法を以下に記入してください。
C88: はい
C90: いいえ
F91: ＊ | G91: 定めている場合は、具体的な内容を記載してください(既存の資料添付でも構いません。)。
A92: （５） | C92: 前年度、今年度において、廃業した又は新規開設した主たる事務所（事業所）はありますか。
C94: はい | F94: はい、と回答した事業者等にお聞きします。変更届は提出しましたか。 | R94: はい | U94: いいえと回答し変更届が未提出の事業者等は、速やかに変更届を提出してください。届出様式は以下にあります。
C96: いいえ | R96: いいえ
P98: 神奈川県ホームページ > 産業・働く > 業種別情報 > 介護・福祉サービス業 > 業務管理体制の整備に関する届出
A102: ４ 業務管理体制に係る運用状況について
A103: 事業所が20以上ある報告対象法人は、ご回答ください。
A105: （１） | C105: 業務が法令に適合することを確保するための規程(法令遵守規程)を届け出ていますか。
C107: はい
C109: いいえ
F110: ＊ | G110: 具体的な規程名等を記入してください。
A111: （２） | C111: 業務が法令に適合することを確保するための規程(法令遵守規程)を法人等役員、職員に周知していますか。 | AD111: ＊ | AE111: 法令遵守規程等を策定している場合
C114: はい
C116: いいえ
F117: ＊ | G117: 周知している場合は、具体的な内容を記載してください。
A118: （３） | C118: 業務が法令に適合することを確保するための規程(法令遵守規程)について法人等役員、従業者への研修を行っていますか。
C120: はい
C122: いいえ
F123: ＊ | G123: 実施している場合は、具体的な内容を記載してください。
A125: ５ 業務管理体制に係る運用状況について
A126: ４を回答した報告対象法人で事業所が100以上ある場合は、ご回答ください。
A128: （１） | C128: 業務執行の状況の監査を定期的に実施していますか。どのような方法で行っていますか。
C130: はい
C132: いいえ
F133: ＊ | G133: 具体的な周知の方法等を記載してください。
A134: （２） | C134: 前年度は監査を行いましたか。いつ行いましたか。
C137: はい
C139: いいえ
F140: ＊ | G140: 年月日を上に記載してください。
A141: （３） | C141: 直近で行った監査の資料を郵送してください。ない場合は、ない理由をお書きください。
C143: はい
C145: いいえ

Sheet データ取得
A1: 提出年 | B1: 提出月 | C1: 提出日 | D1: 法人名 | E1: 法人番号 | F1: 代表者名 | G1: 法人の主たる事務所の名称 | H1: 法人の主たる事務所の所在地 | I1: 電話番号 | J1: メール | K1: 問合せ氏名 | L1: 複数の都道府県に所在 | M1: 政令都市等のみ | N1: 政令都市等以外 | O1: 政令都市等にまたがってある | P1: 20以上の事業所あり | Q1: 100以上の事業所あり | R1: 直近の届出年月日 | S1: 直近の届出月 | T1: 直近の届出日 | U1: 届出なし | V1: 法令遵守責任者 | W1: 届出内容の変更有無 | X1: 変更内容 | Y1: 設問１ | AB1: 設問２ | AE1: 設問３ | AH1: 設問４ | AL1: 設問1 | AO1: 設問2 | AR1: 設問3 | AU1: 設問1 | AX1: 設問2 | BA1: 設問3
A2: ='Ｒ８業務管理体制の整備に係る報告書'!AA5 -> 8 | B2: ='Ｒ８業務管理体制の整備に係る報告書'!AD5 -> 0 | C2: ='Ｒ８業務管理体制の整備に係る報告書'!AG5 -> 0 | D2: ='Ｒ８業務管理体制の整備に係る報告書'!W10 -> 0 | E2: ='Ｒ８業務管理体制の整備に係る報告書'!W12 -> 0 | F2: ='Ｒ８業務管理体制の整備に係る報告書'!W14 -> 0 | G2: ='Ｒ８業務管理体制の整備に係る報告書'!J17 -> 0 | H2: ='Ｒ８業務管理体制の整備に係る報告書'!J19 -> 0 | I2: ='Ｒ８業務管理体制の整備に係る報告書'!L21 -> 0 | J2: ='Ｒ８業務管理体制の整備に係る報告書'!W21 -> 0 | K2: ='Ｒ８業務管理体制の整備に係る報告書'!P23 -> 0 | L2: ='Ｒ８業務管理体制の整備に係る報告書'!B35 -> 0 | M2: ='Ｒ８業務管理体制の整備に係る報告書'!B39 -> 0 | N2: ='Ｒ８業務管理体制の整備に係る報告書'!B41 -> 0 | O2: ='Ｒ８業務管理体制の整備に係る報告書'!B43 -> 0 | P2: ='Ｒ８業務管理体制の整備に係る報告書'!B45 -> 0 | Q2: ='Ｒ８業務管理体制の整備に係る報告書'!B47 -> 0 | R2: ='Ｒ８業務管理体制の整備に係る報告書'!P53 -> 0 | S2: ='Ｒ８業務管理体制の整備に係る報告書'!S53 -> 0 | T2: ='Ｒ８業務管理体制の整備に係る報告書'!V53 -> 0 | U2: ='Ｒ８業務管理体制の整備に係る報告書'!AC53 -> 0 | V2: ='Ｒ８業務管理体制の整備に係る報告書'!M56 -> 0 | W2: ='Ｒ８業務管理体制の整備に係る報告書'!K58 -> 0 | X2: ='Ｒ８業務管理体制の整備に係る報告書'!Q58 -> 0 | Y2: ='Ｒ８業務管理体制の整備に係る報告書'!A69 -> 0 | Z2: ='Ｒ８業務管理体制の整備に係る報告書'!F69 -> 0 | AA2: ='Ｒ８業務管理体制の整備に係る報告書'!K69 -> 0 | AB2: ='Ｒ８業務管理体制の整備に係る報告書'!A75 -> 0 | AC2: ='Ｒ８業務管理体制の整備に係る報告書'!A77 -> 0 | AD2: ='Ｒ８業務管理体制の整備に係る報告書'!F75 -> 0 | AE2: ='Ｒ８業務管理体制の整備に係る報告書'!A82 -> 0 | AF2: ='Ｒ８業務管理体制の整備に係る報告書'!A84 -> 0 | AG2: ='Ｒ８業務管理体制の整備に係る報告書'!F82 -> 0 | AH2: ='Ｒ８業務管理体制の整備に係る報告書'!A94 -> 0 | AI2: ='Ｒ８業務管理体制の整備に係る報告書'!A96 -> 0 | AJ2: ='Ｒ８業務管理体制の整備に係る報告書'!P94 -> 0 | AK2: ='Ｒ８業務管理体制の整備に係る報告書'!P96 -> 0 | AL2: ='Ｒ８業務管理体制の整備に係る報告書'!A107 -> 0 | AM2: ='Ｒ８業務管理体制の整備に係る報告書'!A109 -> 0 | AN2: ='Ｒ８業務管理体制の整備に係る報告書'!F107 -> 0 | AO2: ='Ｒ８業務管理体制の整備に係る報告書'!A114 -> 0 | AP2: ='Ｒ８業務管理体制の整備に係る報告書'!A116 -> 0 | AQ2: ='Ｒ８業務管理体制の整備に係る報告書'!F114 -> 0 | AR2: ='Ｒ８業務管理体制の整備に係る報告書'!A120 -> 0 | AS2: ='Ｒ８業務管理体制の整備に係る報告書'!A122 -> 0 | AT2: ='Ｒ８業務管理体制の整備に係る報告書'!F120 -> 0 | AU2: ='Ｒ８業務管理体制の整備に係る報告書'!A130 -> 0 | AV2: ='Ｒ８業務管理体制の整備に係る報告書'!A132 -> 0 | AW2: ='Ｒ８業務管理体制の整備に係る報告書'!F130 -> 0 | AX2: ='Ｒ８業務管理体制の整備に係る報告書'!A137 -> 0 | AY2: ='Ｒ８業務管理体制の整備に係る報告書'!A139 -> 0 | AZ2: ='Ｒ８業務管理体制の整備に係る報告書'!F137 -> 0 | BA2: ='Ｒ８業務管理体制の整備に係る報告書'!A143 -> 0 | BB2: ='Ｒ８業務管理体制の整備に係る報告書'!A145 -> 0 | BC2: ='Ｒ８業務管理体制の整備に係る報告書'!F143 -> 0
