Workbook

Sheet 指定申請書
A1: 別紙様式第一号
A2: 指定障害福祉サービス事業所/指定障害者支援施設
A3: 指定一般相談支援事業所 | AE3: で着色したセルに必要事項を入力してください。
E5: 指定更新 | G5: 申請書
K6: 令和 | O6: 年 | R6: 月 | U6: 日
B7: 神奈川県 | D7: 知事 殿
H8: 所在地 | K8: =D18 -> 0 | AB8: 下の「申請者（設置者）」を記載すると、自動で転記されます。 | BG8: （押印不要）
G9: 申請者 | H9: 名 称 | K9: =D16 -> 0
H10: 代表者 | K10: =H24 -> 0
B12: 表題の事業所・施設に係る指定/指定の更新/指定の変更を受けたいので、下記のとおり、関係書類を添えて申請します。
F14: 法人番号(13桁)
A15: 申請者(設置者) | B15: フリガナ
B16: 名称
B17: 主たる事務所の所在地 | D17: (郵便番号 | F17: - | I17: ）
AB19: 法人に関する情報を記載します。
B20: 連絡先 | D20: 電話番号 | E20: (内線)
D21: E-mailアドレス
B22: 法人等の種類 | AB22: 登記簿謄本と相違ないように記載してください。
B23: 代表者の職名・氏名・生年月日 | D23: 職名 | G23: フリガナ | M23: 生年月日
G24: 氏名
B25: 代表者の住所 | D25: (郵便番号 | F25: - | I25: ）
A28: 指定を受けようとする事業所・施設の種類 | B28: フリガナ
B29: 名称
B30: 事業所(施設)の所在地 | D30: (郵便番号 | F30: - | I30: ）
B33: 多機能型事業所に係る指定の申請の場合は○
B34: 同一所在地において 行う事業等の種類 | F34: 今回の指定(更新・変更)申請をする対象事業等に○ | H34: 既に指定を受けている事業に○ | L34: 事業の開始予定年月日 | R34: 本申請書に添付して提出する様式(付表)
E35: 共生型サービスの指定を申請するものに○
B36: 指定障害福祉サービス事業所 | C36: 居宅介護 | L36: 年 月 日 | R36: 付表１
C37: 重度訪問介護 | L37: 年 月 日 | R37: 付表１
C38: 同行援護 | L38: 年 月 日 | R38: 付表１
C39: 行動援護 | L39: 年 月 日 | R39: 付表１
C40: 療養介護 | L40: 年 月 日 | R40: 付表２
C41: 生活介護 | L41: 年 月 日 | R41: 付表３
C42: 短期入所 | L42: 年 月 日 | R42: 付表４
C43: 重度障害者等包括支援 | L43: 年 月 日 | R43: 付表５ | AB43: 事業所に関する情報を記載します。
C44: 自立訓練(機能訓練) | L44: 年 月 日 | R44: 付表６
C45: 自立訓練(生活訓練) | L45: 年 月 日 | R45: 付表６
C46: 就労選択支援 | L46: 年 月 日 | R46: 付表７ | AB46: 事業所の名称・所在地は、運営規程と相違ないように記載してください。
C47: 就労移行支援 | L47: 年 月 日 | R47: 付表８
C48: 就労継続支援Ａ型 | L48: 年 月 日 | R48: 付表９
C49: 就労継続支援Ｂ型 | L49: 年 月 日 | R49: 付表９
C50: 就労定着支援 | L50: 年 月 日 | R50: 付表１０
C51: 自立生活援助 | L51: 年 月 日 | R51: 付表１１
C52: 共同生活援助 | L52: 年 月 日 | R52: 付表１２
B53: 指定障害者支援施設(施設入所支援) | L53: 年 月 日 | R53: 付表１３
B54: 指定一般相談支援事業所 | C54: 地域移行支援 | L54: 年 月 日 | R54: 付表１４
C55: 地域定着支援 | L55: 年 月 日 | R55: 付表１４
B56: 指定特定相談支援事業所 | R56: 付表１５
B57: 指定障害児通所支援事業所 | C57: 児童発達支援 | R57: 付表１６
C58: 放課後等デイサービス | R58: 付表１６
C59: 居宅訪問型児童発達支援 | R59: 付表１７
C60: 保育所等訪問支援 | R60: 付表１８
B61: 指定障害児入所施設 | R61: 付表１９/２０
B62: 指定障害児相談支援事業所 | R62: 付表１５
A63: 【既に指定を受けている場合】事業所番号
A64: (備考)
A65: 1 | B65: 本申請書の表題は、指定の更新の申請の際には「指定更新申請書」に、指定の変更の申請の際には「指定変更申請書」に変更して使用してください。
A66: 2 | B66: 「法人等の種類」欄には、「社会福祉法人(社協以外)」、「社会福祉法人(社協)」、「医療法人」、「社団・財団」、「営利法人」、「非営利法人(ＮＰＯ)」、「農協」、「生協」、「その他法人」、「地方公共団体(都道府県)」、「地方公共団体(市町村)」、「地方公共団体(広域連合・一部事務組合等)」、「非法人」、「その他」のいずれかを記入してください。
A67: 3 | B67: 「同一所在地において行う事業等の種類」欄には、今回申請をする事業及び既に指定を受けている事業のそれぞれに「○」を記載してください。
A68: 4 | B68: 「【既に指定を受けている場合】事業所番号」欄には、申請を行う都道府県等において既に事業所としての指定を受け、番号が付番されている場合に、その事業所番号を記載してください。
A69: 5 | B69: 「事業の開始予定年月日」欄については、更新の場合にあっては、現に受けている指定の有効期間満了日を記載してください。

Sheet 付表１ 
A1: 付表１ 居宅介護・重度訪問介護・同行援護・行動援護事業所の指定等に係る記載事項
A3: 事業所 | B3: フリガナ | C3: =指定申請書!D28 -> 0
B4: 名 称 | C4: =指定申請書!D29 -> 0 | P4: 「指定申請書」の事業所情報が自動で転記されます。
B5: 所在地 | C5: (郵便番号 | D5: =指定申請書!E30 -> 0 | E5: - | F5: =指定申請書!G30 -> 0 | G5: ）
C6: =指定申請書!D31 -> 0
B8: 電話番号
B9: E-Mail
A10: 事業所以外の 事務所 | B10: フリガナ
B11: 名 称
B12: 所在地 | C12: (郵便番号 | E12: - | G12: )
B15: 電話番号
B16: E-Mail
A17: 管理者 | B17: フリガナ | F17: 生年月日
B18: 氏 名 | H18: 年 | J18: 月 | L18: 日
B19: 住 所 | C19: (郵便番号 | E19: - | G19: )
B22: 当該事業所で兼務する他の職種(兼務の場合選択)
B23: 他の事業所又は施設の従業者との兼務(兼務の場合記入) | D23: 事業所等の名称
D24: 兼務する職種及び勤務時間等
A26: サービス提供責任者 | B26: フリガナ | F26: 生年月日
B27: 氏 名 | H27: 年 | J27: 月 | L27: 日
B28: 住 所 | C28: (郵便番号 | E28: - | G28: )
A31: 実施主体が地方公共団体である場合は、当該事業の実施について定めてある条例等 | H31: 第 条 第 項 第 号
A32: 障害児対象事業(該当する場合に選択。重度訪問介護を除く。)
A34: 利用する障害児の推定数(人)(障害児対象事業に該当する場合記入)
A35: ○運営・設備に関する基準の確認に必要な事項
A36: 営業日(該当する日に○) | C36: 日 | D36: 月 | E36: 火 | F36: 水 | G36: 木 | H36: 金 | J36: 土 | L36: 祝
C38: その他(年末年始等)
A39: 営業時間 | C39: 平日 | E39: ： | G39: ～ | J39: ：
C40: 土曜 | E40: ： | G40: ～ | J40: ：
C41: 日・祝 | E41: ： | G41: ～ | J41: ：
A42: サービス内容 | C42: 身体介護 | F42: 身体介護(通院介助)
C43: 家事援助 | F43: 家事援助(通院介助)
C44: 通院等乗降介助
A45: 利用料 | C45: 運営規程に定めるとおり
A46: その他の費用 | C46: 運営規程に定めるとおり
A47: 通常の事業の実施地域
A48: (備考)
A49: １．記入欄が不足する場合は、次頁の「記入欄不足時の資料」に記載して添付してください。
A50: ２．更新の場合には、「利用する障害児の推定数」欄は前年度の平均利用者数を記入してください。
A51: ３．「その他の費用」欄には、利用者に直接金銭の負担を求める場合のサービス内容についても記載してく ださい。
A52: 記入欄不足時の資料
A53: ■事業所以外の事務所
A54: 事業所以外の 事務所 | B54: フリガナ
B55: 名 称
B56: 所在地 | C56: (郵便番号 | E56: - | G56: )
B59: 電話番号
B60: E-Mail
B61: フリガナ
B62: 名 称
B63: 所在地 | C63: (郵便番号 | E63: - | G63: )
B66: 電話番号
B67: E-Mail
B68: フリガナ
B69: 名 称
B70: 所在地 | C70: (郵便番号 | E70: - | G70: )
B73: 電話番号
B74: E-Mail
A75: ■サービス提供責任者
A76: サービス提供責任者 | B76: フリガナ | F76: 生年月日
B77: 氏 名 | H77: 年 | J77: 月 | L77: 日
B78: 住 所 | C78: (郵便番号 | E78: - | G78: )
B81: フリガナ | F81: 生年月日
B82: 氏 名 | H82: 年 | J82: 月 | L82: 日
B83: 住 所 | C83: (郵便番号 | E83: - | G83: )
B86: フリガナ | F86: 生年月日
B87: 氏 名 | H87: 年 | J87: 月 | L87: 日
B88: 住 所 | C88: (郵便番号 | E88: - | G88: )
B91: フリガナ | F91: 生年月日
B92: 氏 名 | H92: 年 | J92: 月 | L92: 日
B93: 住 所 | C93: (郵便番号 | E93: - | G93: )
B96: フリガナ | F96: 生年月日
B97: 氏 名 | H97: 年 | J97: 月 | L97: 日
B98: 住 所 | C98: (郵便番号 | E98: - | G98: )
B101: フリガナ | F101: 生年月日
B102: 氏 名 | H102: 年 | J102: 月 | L102: 日
B103: 住 所 | C103: (郵便番号 | E103: - | G103: )

Sheet 付表２
A1: 付表２ 療養介護事業所の指定等に係る記載事項
A3: 事業所 | B3: フリガナ | C3: =指定申請書!D28 -> 0
B4: 名 称 | C4: =指定申請書!D29 -> 0 | P4: 「指定申請書」の事業所情報が自動で転記されます。
B5: 所在地 | C5: (郵便番号 | D5: =指定申請書!E30 -> 0 | E5: - | F5: =指定申請書!G30 -> 0 | G5: )
C6: =指定申請書!D31 -> 0
B8: 連 絡 先 | C8: 電話番号
B9: E-Mail
A10: 管理者 | B10: フリガナ | F10: 生年月日
B11: 氏 名 | H11: 年 | J11: 月 | L11: 日
B12: 住 所 | C12: (郵便番号 | E12: - | G12: )
B15: 当該事業所で兼務する他の職種(兼務の場合選択)
B16: 他の事業所又は施設の従業者との兼務(兼務の場合記入) | D16: 事業所等の名称
D17: 兼務する職種及び勤務時間等
A19: サービス管理責任者 | B19: フリガナ | F19: 生年月日
B20: 氏 名 | H20: 年 | J20: 月 | L20: 日
B21: 住 所 | C21: (郵便番号 | E21: - | G21: )
A24: 実施主体が地方公共団体である場合は、当該事業の実施について定めてある条例等 | H24: 第 条 第 項 第 号
A25: ○人員に関する基準の確認に必要な事項
A26: 従業者の職種・員数 | C26: 居宅介護等従業者 | E26: その他の従業者
C27: 専従 | D27: 兼務 | E27: 専従 | F27: 兼務
A28: 常勤（人）
A29: 非常勤（人）
A30: 常勤換算後の人数（人）
A31: 基準上の必要人数（人）
A32: ○運営・設備に関する基準の確認に必要な事項
A33: 利用定員(人) | E33: 利用者の推定数(人)
A34: 営業日(該当する日に○) | C34: 日 | D34: 月 | E34: 火 | F34: 水 | G34: 木 | H34: 金 | J34: 土 | L34: 祝
C36: その他(年末年始等)
A37: 営業時間 | C37: 平日 | E37: ： | G37: ～ | J37: ：
C38: 土曜 | E38: ： | G38: ～ | J38: ：
C39: 日・祝 | E39: ： | G39: ～ | J39: ：
A40: 利用料 | C40: 運営規程に定めるとおり
A41: その他の費用 | C41: 運営規程に定めるとおり
A42: 通常の事業の実施地域
A43: 設備 | C43: 多目的室(デイルーム)の有無(いずれかに○) | H43: 有 | K43: 無
A44: (備考)
A45: １．記入欄が不足する場合は、次頁の「記入欄不足時の資料」に記載して添付してください。
A46: ２．更新の場合には、「利用者の推定数」欄は前年度の平均利用者数を記入してください。
A47: ３．「その他の費用」欄には、利用者に直接金銭の負担を求める場合のサービス内容についても記載してく ださい。
A48: 記入欄不足時の資料
A49: ■サービス管理責任者
A50: サービス管理責任者 | B50: フリガナ | F50: 生年月日
B51: 氏 名 | H51: 年 | J51: 月 | L51: 日
B52: 住 所 | C52: (郵便番号 | E52: - | G52: )
B55: フリガナ | F55: 生年月日
B56: 氏 名 | H56: 年 | J56: 月 | L56: 日
B57: 住 所 | C57: (郵便番号 | E57: - | G57: )
B60: フリガナ | F60: 生年月日
B61: 氏 名 | H61: 年 | J61: 月 | L61: 日
B62: 住 所 | C62: (郵便番号 | E62: - | G62: )
B65: フリガナ | F65: 生年月日
B66: 氏 名 | H66: 年 | J66: 月 | L66: 日
B67: 住 所 | C67: (郵便番号 | E67: - | G67: )
B70: フリガナ | F70: 生年月日
B71: 氏 名 | H71: 年 | J71: 月 | L71: 日
B72: 住 所 | C72: (郵便番号 | E72: - | G72: )
B75: フリガナ | F75: 生年月日
B76: 氏 名 | H76: 年 | J76: 月 | L76: 日
B77: 住 所 | C77: (郵便番号 | E77: - | G77: )

Sheet 付表３－２
A1: 付表３－２ 一体的に実施する従たる事業所の指定に係る記載事項
L2: ※多機能型事業実施時は、各事業の付表と付表１３を併せて提出してください。
N4: 受付番号
B6: フリガナ
A7: 施 | B7: 名 称
B8: 所在地 | D8: （郵便番号 － ）
A9: 設 | F9: 県 | I9: 郡・市
B11: 連 絡 先 | D11: 電話番号 | K11: ＦＡＸ番号
A12: 実施主体が地方公共団体である場合は、当該事業の実施について定めてある条例等 | J12: 第 条第 項第 号
A13: サービス | C13: フリガナ | J13: 住 所 | L13: （郵便番号 － ）
A14: 管理責任者 | C14: 氏 名
A15: 従業者の職種・員数 | F15: 医 師 | I15: サービス管理責任者 | L15: 看護職員 | O15: 理学療法士 | R15: 作業療法士
F16: 専従 | G16: ※兼務 | I16: 専従 | J16: ※兼務 | L16: 専従 | M16: ※兼務 | O16: 専従 | P16: ※兼務 | R16: 専従 | S16: ※兼務
B17: 従業者数 | D17: 常勤（人）
D18: 非常勤（人）
B19: 常勤換算後の人数（人）
B20: 基準上の必要人数（人）
F21: 機能訓練指導員 | I21: 生活支援員 | L21: 精神保健福祉士 | O21: その他の従業者
F22: 専従 | G22: ※兼務 | I22: 専従 | J22: ※兼務 | L22: 専従 | M22: ※兼務 | O22: 専従 | P22: ※兼務
B23: 従業者数 | D23: 常勤（人）
D24: 非常勤（人）
B25: 常勤換算後の人数（人）
B26: 基準上の必要人数（人）
B27: 前年度の平均 実利用者数（人） | F27: 施設が申告する障害程度区分の平均値
F28: サービス単位 | I28: ４未満 | M28: ４以上５未満 | Q28: ５以上
F29: サービス単位１
F30: サービス単位２
F31: サービス単位３
A32: 主な掲示事項
B33: 営業日 | F33: 単位ごとの営業日
B34: 営業時間 | F34: 単位ごとのサービス提供時間（送迎時間を除く）（① ： ～ ： ② ： ～ ： ）
B35: 主たる対象者 | F35: 特定無し | H35: 身体障害者
H36: 細分無し | J36: 肢体不自由 | L36: 視覚障害 | N36: 聴覚・言語 | P36: 内部障害
F38: 知的障害者 | H38: 精神障害者 | J38: 難病等対象者
B41: 利用定員 | F41: 人（単位ごとの定員）（① ② ）
B42: 基準上の必要定員
B43: 多機能型実施の有無 | F43: 有 ・ 無
B44: 利用料
B46: その他の費用
B47: その他参考となる事項 | F47: 第三者評価の実施状況 | J47: している ・ していない
F48: 苦情解決の措置概要 | J48: 窓口（連絡先） | N48: 担当者
F49: その他
A50: 協力医療機関 | F50: 名 称 | L50: 主な診療科名
A51: 一体的に管理運営する 他の事業所
A52: 添付書類 | F52: 別添のとおり（登記簿謄本又は条例等、事業所平面図、経歴書、運営規程、利用者からの苦情を解決するために講ずる措置の概要、勤務体制・形態一覧表、設備・備品等一覧表、協力医療機関との契約内容がわかるもの）、事業計画書
A53: （備考）
A54: １．「受付番号」「基準上の必要人数」「基準上の必要値」「基準上の必要定員」欄には、記載しないでください。
A55: ２．記入欄が不足する場合は、適宜欄を設けて記載するか又は別葉に記載した書類を添付してください。
A56: ３．「看護職員」とは保健師、看護師、准看護師のことを言います。
A57: ４．新設の場合には、「前年度の平均利用者数」欄は推定数を記入してください。
A58: ５．「主な掲示事項」欄には、その内容を簡潔に記載してください。
A59: ６．「※兼務」欄は、施設入所支援事業以外との兼務を行う職員について記載してください。
A60: ７．「その他の費用」欄には、入所者に直接金銭の負担を求める場合のサービス内容について記載してください。

Sheet 付表３
A1: 付表３ 生活介護事業所の指定等に係る記載事項
A3: 事業所 | B3: フリガナ | C3: =指定申請書!D28 -> 0
B4: 名 称 | C4: =指定申請書!D29 -> 0 | P4: 「指定申請書」の事業所情報が自動で転記されます。
B5: 所在地 | C5: (郵便番号 | D5: =指定申請書!E30 -> 0 | E5: - | F5: =指定申請書!G30 -> 0 | G5: )
C6: =指定申請書!D31 -> 0
B8: 電話番号
B9: E-Mail
A10: 管理者 | B10: フリガナ | F10: 生年月日
B11: 氏 名 | H11: 年 | J11: 月 | L11: 日
B12: 住 所 | C12: (郵便番号 | E12: - | G12: )
B15: 当該事業所で兼務する他の職種(兼務の場合選択)
B16: 他の事業所又は施設の従業者との兼務(兼務の場合記入) | D16: 事業所等の名称
D17: 兼務する職種及び勤務時間等
A19: サービス管理責任者 | B19: フリガナ | F19: 生年月日
B20: 氏 名 | H20: 年 | J20: 月 | L20: 日
B21: 住 所 | C21: (郵便番号 | E21: - | G21: )
A24: 実施主体が地方公共団体である場合は、当該事業の実施について定めてある条例等 | H24: 第 条 第 項 第 号
A25: ○人員に関する基準の確認に必要な事項
A26: 従業者の職種・員数 | C26: 居宅介護等従業者 | E26: その他の従業者
C27: 専従 | D27: 兼務 | E27: 専従 | F27: 兼務
A28: 常勤（人）
A29: 非常勤（人）
A30: 常勤換算後の人数（人）
A31: 基準上の必要人数（人）
A32: ○運営・設備に関する基準の確認に必要な事項
A33: 利用定員(人)
A34: 利用者の推定数(人) | C34: 事業所が申告する障害支援区分の平均値
C35: サービス単位 | E35: ４未満 | G35: ４以上５未満 | J35: ５以上
C36: サービス単位１
C37: サービス単位２
C38: サービス単位３
A39: 営業日(該当する日に○) | C39: 日 | D39: 月 | E39: 火 | F39: 水 | G39: 木 | H39: 金 | J39: 土 | L39: 祝
C41: その他(年末年始等)
A42: 営業時間 | C42: 平日 | E42: ： | G42: ～ | J42: ：
C43: 土曜 | E43: ： | G43: ～ | J43: ：
C44: 日・祝 | E44: ： | G44: ～ | J44: ：
A45: 利用料 | C45: 運営規程に定めるとおり
A46: その他の費用 | C46: 運営規程に定めるとおり
A47: 通常の事業の実施地域
A48: 協力医療機関 | C48: 名称 | G48: 診療科名
A49: ○一体的に実施する従たる事業所の指定等に係る記載事項
A50: 事業所 | B50: フリガナ
B51: 名 称
B52: 所在地 | C52: (郵便番号 | E52: - | G52: )
B55: 電話番号
B56: E-Mail
A57: サービス管理責任者 | B57: フリガナ | F57: 生年月日
B58: 氏 名 | H58: 年 | J58: 月 | L58: 日
B59: 住 所 | C59: (郵便番号 | E59: - | G59: )
A62: 実施主体が地方公共団体である場合は、当該事業の実施について定めてある条例等 | H62: 第 条 第 項 第 号
A63: 利用定員(人)
A64: 利用者の推定数(人) | C64: 事業所が申告する障害支援区分の平均値
C65: サービス単位 | E65: ４未満 | G65: ４以上５未満 | J65: ５以上
C66: サービス単位１
C67: サービス単位２
C68: サービス単位３
A69: 営業日(該当する日に○) | C69: 日 | D69: 月 | E69: 火 | F69: 水 | G69: 木 | H69: 金 | J69: 土 | L69: 祝
C71: その他(年末年始等)
A72: 営業時間 | C72: 平日 | E72: ： | G72: ～ | J72: ：
C73: 土曜 | E73: ： | G73: ～ | J73: ：
C74: 日・祝 | E74: ： | G74: ～ | J74: ：
A75: 利用料
A76: その他の費用
A77: 通常の事業の実施地域
A78: 協力医療機関 | C78: 名称 | G78: 診療科名
A79: (備考)
A80: １．記入欄が不足する場合は、次頁の「記入欄不足時の資料」に記載して添付してください。
A81: ２．更新の場合には、「利用者の推定数」欄は前年度の平均利用者数を記入してください。
A82: ３．「その他の費用」欄には、利用者に直接金銭の負担を求める場合のサービス内容についても記載してく ださい。
A83: ４．「診療科名」欄には、主な診療科名１つを記載してください。
A84: 記入欄不足時の資料
A85: ■サービス管理責任者
A86: サービス管理責任者 | B86: フリガナ | F86: 生年月日
B87: 氏 名 | H87: 年 | J87: 月 | L87: 日
B88: 住 所 | C88: (郵便番号 | E88: - | G88: )
B91: フリガナ | F91: 生年月日
B92: 氏 名 | H92: 年 | J92: 月 | L92: 日
B93: 住 所 | C93: (郵便番号 | E93: - | G93: )
B96: フリガナ | F96: 生年月日
B97: 氏 名 | H97: 年 | J97: 月 | L97: 日
B98: 住 所 | C98: (郵便番号 | E98: - | G98: )
B101: フリガナ | F101: 生年月日
B102: 氏 名 | H102: 年 | J102: 月 | L102: 日
B103: 住 所 | C103: (郵便番号 | E103: - | G103: )
B106: フリガナ | F106: 生年月日
B107: 氏 名 | H107: 年 | J107: 月 | L107: 日
B108: 住 所 | C108: (郵便番号 | E108: - | G108: )
B111: フリガナ | F111: 生年月日
B112: 氏 名 | H112: 年 | J112: 月 | L112: 日
B113: 住 所 | C113: (郵便番号 | E113: - | G113: )
A117: ■協力医療機関
A118: 協力医療機関 | C118: 名称 | G118: 診療科名
C119: 名称 | G119: 診療科名
C120: 名称 | G120: 診療科名
C121: 名称 | G121: 診療科名
C122: 名称 | G122: 診療科名

Sheet 付表４
A1: 付表４ 短期入所事業所の指定等に係る記載事項
A3: 事業所 | B3: フリガナ | C3: =指定申請書!D28 -> 0
B4: 名 称 | C4: =指定申請書!D29 -> 0 | P4: 「指定申請書」の事業所情報が自動で転記されます。
B5: 所在地 | C5: (郵便番号 | D5: =指定申請書!E30 -> 0 | E5: - | F5: =指定申請書!G30 -> 0 | G5: )
C6: =指定申請書!D31 -> 0
B8: 電話番号
B9: E-Mail
A10: 管理者 | B10: フリガナ | F10: 生年月日
B11: 氏 名 | H11: 年 | J11: 月 | L11: 日
B12: 住 所 | C12: (郵便番号 | E12: - | G12: )
B15: 当該事業所で兼務する他の職種(兼務の場合選択)
B16: 他の事業所又は施設の従業者との兼務(兼務の場合記入) | D16: 事業所等の名称
D17: 兼務する職種及び勤務時間等
A19: 事業所の種別(いずれかに○)及び定員(人) | C19: 種別 | E19: 定員 | H19: 医療型・福祉型の別
D20: 空床型 | E20: 本体施設の空床の範囲内 | J20: 医療型
D21: 併設型 | J21: 福祉型
D22: 単独型
A23: 本体施設の種別・名称・定員・入所者数 | C23: 名称 | H23: 定員
C24: 種別 | H24: 前年度平均入所者数
A25: 実施主体が地方公共団体である場合は、当該事業の実施について定めてある条例等 | H25: 第 条 第 項 第 号
A26: ○人員に関する基準の確認に必要な事項
A27: 従業者の職種・員数 | C27: 居宅介護等従業者 | E27: その他の従業者
C28: 専従 | D28: 兼務 | E28: 専従 | F28: 兼務
A29: 常勤（人）
A30: 非常勤（人）
A31: 常勤換算後の人数（人）
A32: 基準上の必要人数（人）
A33: 障害児対象事業(該当する場合に選択。)
A35: 利用する障害児の推定数(人)(障害児対象事業に該当する場合記入)
A36: ○運営・設備に関する基準の確認に必要な事項
A37: 利用者の推定数(人)
A38: 営業日(該当する日に○) | C38: 日 | D38: 月 | E38: 火 | F38: 水 | G38: 木 | H38: 金 | J38: 土 | L38: 祝
C40: その他(年末年始等)
A41: 営業時間 | C41: 平日 | E41: ： | G41: ～ | J41: ：
C42: 土曜 | E42: ： | G42: ～ | J42: ：
C43: 日・祝 | E43: ： | G43: ～ | J43: ：
A44: 利用料 | C44: 運営規程に定めるとおり
A45: その他の費用 | C45: 運営規程に定めるとおり
A46: 通常の事業の実施地域
A47: 協力医療機関 | C47: 名称 | G47: 診療科名
A48: (備考)
A49: １．記入欄が不足する場合は、次頁の「記入欄不足時の資料」に記載して添付してください。
A50: ２．更新の場合には、「利用者の推定数」欄及び「利用する障害児の推定数」欄は前年度の平均利用者数を記入してください。
A51: ３．「その他の費用」欄には、利用者に直接金銭の負担を求める場合のサービス内容についても記載してく ださい。
A52: ４．「診療科名」欄には、主な診療科名１つを記載してください。
A53: 記入欄不足時の資料
A54: ■協力医療機関
A55: 協力医療機関 | C55: 名称 | G55: 診療科名
C56: 名称 | G56: 診療科名
C57: 名称 | G57: 診療科名
C58: 名称 | G58: 診療科名
C59: 名称 | G59: 診療科名

Sheet 付表５
A1: 付表５ 重度障害者等包括支援事業所の指定等に係る記載事項
A3: 事業所 | B3: フリガナ | C3: =指定申請書!D28 -> 0
B4: 名 称 | C4: =指定申請書!D29 -> 0 | P4: 「指定申請書」の事業所情報が自動で転記されます。
B5: 所在地 | C5: (郵便番号 | D5: =指定申請書!E30 -> 0 | E5: - | F5: =指定申請書!G30 -> 0 | G5: )
C6: =指定申請書!D31 -> 0
B8: 電話番号
B9: E-Mail
A10: 事業所以外の 事務所 | B10: フリガナ
B11: 名 称
B12: 所在地 | C12: (郵便番号 | E12: - | G12: )
B15: 電話番号
B16: E-Mail
A17: 管理者 | B17: フリガナ | F17: 生年月日
B18: 氏 名 | H18: 年 | J18: 月 | L18: 日
B19: 住 所 | C19: (郵便番号 | E19: - | G19: )
B22: 当該事業所で兼務する他の職種(兼務の場合選択)
B23: 他の事業所又は施設の従業者との兼務(兼務の場合記入) | D23: 事業所等の名称
D24: 兼務する職種及び勤務時間等
A27: 責任者 サービス提供 | B27: フリガナ | F27: 生年月日
B28: 氏 名 | H28: 年 | J28: 月 | L28: 日
B29: 住 所 | C29: (郵便番号 | E29: -
D30: 県 | F30: 市
A32: 実施主体が地方公共団体である場合は、当該事業の実施について定めてある条例等 | H32: 第 条 第 項 第 号
A33: ○人員に関する基準の確認に必要な事項
A34: 従業者の職種・員数 | C34: 居宅介護等従業者 | E34: その他の従業者
C35: 専従 | D35: 兼務 | E35: 専従 | F35: 兼務
A36: 常勤(人)
A37: 非常勤(人)
A38: 常勤換算後の人数(人)
A39: 基準上の必要人数(人)
A40: サービス提供責任者 | B40: フリガナ | F40: 生年月日
B41: 氏 名 | H41: 年 | J41: 月 | L41: 日
B42: 住 所 | C42: (郵便番号 | E42: - | G42: )
A45: 実施主体が地方公共団体である場合は、当該事業の実施について定めてある条例等 | H45: 第 条 第 項 第 号
A46: 障害児対象事業(該当する場合に選択。)
A48: 利用する障害児の推定数(人)(障害児対象事業に該当する場合記入)
A49: ○運営・設備に関する基準の確認に必要な事項
A50: 事業所の体制 | B50: 提供する障害福祉サービス | D50: 種類 | F50: 事業所名
B54: 第三者委託により提供する障害福祉サービス | D54: 種類 | F54: 事業所名 | J54: 所在地
B58: 利用者からの連絡対応体制の概要
A59: 利用者の推定数(人)
A60: 主たる対象者 (いずれかに○) | C60: 特定しない | E60: Ⅰ類型 | G60: Ⅱ類型 | J60: Ⅲ類型
A61: 営業日(該当する日に○) | C61: 日 | D61: 月 | E61: 火 | F61: 水 | G61: 木 | H61: 金 | J61: 土 | L61: 祝
C63: その他(年末年始等)
A64: 営業時間 | C64: 平日 | E64: ： | G64: ～ | J64: ：
C65: 土曜 | E65: ： | G65: ～ | J65: ：
C66: 日・祝 | E66: ： | G66: ～ | J66: ：
A67: 利用料 | C67: 運営規程に定めるとおり
A68: その他の費用 | C68: 運営規程に定めるとおり
A69: 通常の事業の実施地域
A70: 協力医療機関 | C70: 名称 | G70: 診療科名
A71: (備考)
A72: １．記入欄が不足する場合は、次頁の「記入欄不足時の資料」に記載して添付してください。
A73: ２．更新の場合には、「利用者の推定数」欄及び「利用する障害児の推定数」欄は前年度の平均利用者数を記入してください。
A74: ３．「その他の費用」欄には、利用者に直接金銭の負担を求める場合のサービス内容についても記載してく ださい。
A75: ４．「診療科名」欄には、主な診療科名１つを記載してください。
A76: 記入欄不足時の資料
A77: ■事業所以外の事務所
A78: 事業所以外の事務所 | B78: フリガナ
B79: 名 称
B80: 所在地 | C80: (郵便番号 | E80: - | G80: )
B83: 電話番号
B84: E-Mail
B85: フリガナ
B86: 名 称
B87: 所在地 | C87: (郵便番号 | E87: - | G87: )
B90: 電話番号
B91: E-Mail
B92: フリガナ
B93: 名 称
B94: 所在地 | C94: (郵便番号 | E94: - | G94: )
B97: 電話番号
B98: E-Mail
A99: ■サービス提供責任者
A100: サービス提供責任者 | B100: フリガナ | F100: 生年月日
B101: 氏 名 | H101: 年 | J101: 月 | L101: 日
B102: 住 所 | C102: (郵便番号 | E102: - | G102: )
B105: フリガナ | F105: 生年月日
B106: 氏 名 | H106: 年 | J106: 月 | L106: 日
B107: 住 所 | C107: (郵便番号 | E107: - | G107: )
B110: フリガナ | F110: 生年月日
B111: 氏 名 | H111: 年 | J111: 月 | L111: 日
B112: 住 所 | C112: (郵便番号 | E112: - | G112: )
B115: フリガナ | F115: 生年月日
B116: 氏 名 | H116: 年 | J116: 月 | L116: 日
B117: 住 所 | C117: (郵便番号 | E117: - | G117: )
B120: フリガナ | F120: 生年月日
B121: 氏 名 | H121: 年 | J121: 月 | L121: 日
B122: 住 所 | C122: (郵便番号 | E122: - | G122: )
B125: フリガナ | F125: 生年月日
B126: 氏 名 | H126: 年 | J126: 月 | L126: 日
B127: 住 所 | C127: (郵便番号 | E127: - | G127: )
A130: ■事業所の体制
A131: 事業所の体制 | B131: 他に指定を受けている障害福祉サービス等 | D131: 種類 | F131: 事業所名 | J131: 事業所番号
B137: 委託による提携事業所 | D137: 種類 | F137: 事業所名 | J137: 事業所番号
A143: ■協力医療機関
A144: 協力医療機関 | C144: 名称 | G144: 診療科名
C145: 名称 | G145: 診療科名
C146: 名称 | G146: 診療科名
C147: 名称 | G147: 診療科名
...

Sheet 付表６
A1: 付表６ 自立訓練(機能訓練・生活訓練)事業所の指定等に係る記載事項
A3: サービス種別(申請するものに○) | E3: 機能訓練 | G3: 生活訓練 | J3: 宿泊型自立訓練を実施する場合は○
A4: 事業所 | B4: フリガナ | C4: =指定申請書!D28 -> 0
B5: 名 称 | C5: =指定申請書!D29 -> 0 | P5: 「指定申請書」の事業所情報が自動で転記されます。
B6: 所在地 | C6: (郵便番号 | D6: =指定申請書!E30 -> 0 | E6: - | F6: =指定申請書!G30 -> 0 | G6: )
C7: =指定申請書!D31 -> 0
B9: 電話番号
B10: E-Mail
A11: 管理者 | B11: フリガナ | F11: 生年月日
B12: 氏 名 | H12: 年 | J12: 月 | L12: 日
B13: 住 所 | C13: (郵便番号 | E13: - | G13: )
B16: 当該事業所で兼務する他の職種(兼務の場合選択)
B17: 他の事業所又は施設の従業者との兼務(兼務の場合記入) | D17: 事業所等の名称
D18: 兼務する職種及び勤務時間等
A20: サービス管理責任者 | B20: フリガナ | F20: 生年月日
B21: 氏 名 | H21: 年 | J21: 月 | L21: 日
B22: 住 所 | C22: (郵便番号 | E22: - | G22: )
A25: 実施主体が地方公共団体である場合は、当該事業の実施について定めてある条例等 | H25: 第 条 第 項 第 号
A26: ○人員に関する基準の確認に必要な事項
A27: 従業者の職種・員数 | C27: 居宅介護等従業者 | E27: その他の従業者
C28: 専従 | D28: 兼務 | E28: 専従 | F28: 兼務
A29: 常勤（人）
A30: 非常勤（人）
A31: 常勤換算後の人数（人）
A32: 基準上の必要人数（人）
A33: ○運営・設備に関する基準の確認に必要な事項
A34: 訪問事業の実施 | C34: 有 | E34: 無
A35: 利用定員(人)
A36: 利用者の推定数(人)
A37: 営業日(該当する日に○) | C37: 日 | D37: 月 | E37: 火 | F37: 水 | G37: 木 | H37: 金 | J37: 土 | L37: 祝
C39: その他(年末年始等)
A40: 営業時間 | C40: 平日 | E40: ： | G40: ～ | J40: ：
C41: 土曜 | E41: ： | G41: ～ | J41: ：
C42: 日・祝 | E42: ： | G42: ～ | J42: ：
A43: 利用料 | C43: 運営規程に定めるとおり
A44: その他の費用 | C44: 運営規程に定めるとおり
A45: 通常の事業の実施地域
A46: 協力医療機関 | C46: 名称 | G46: 診療科名
A47: ○一体的に実施する従たる事業所の指定等に係る記載事項
A48: 事業所 | B48: フリガナ
B49: 名 称
B50: 所在地 | C50: (郵便番号 | E50: - | G50: )
B53: 電話番号
B54: E-Mail
A55: サービス管理責任者 | B55: フリガナ | F55: 生年月日
B56: 氏 名 | H56: 年 | J56: 月 | L56: 日
B57: 住 所 | C57: (郵便番号 | E57: - | G57: )
A60: 実施主体が地方公共団体である場合は、当該事業の実施について定めてある条例等 | H60: 第 条 第 項 第 号
A61: ○人員に関する基準の確認に必要な事項
A62: 従業者の職種・員数 | C62: 居宅介護等従業者 | E62: その他の従業者
C63: 専従 | D63: 兼務 | E63: 専従 | F63: 兼務
A64: 常勤（人）
A65: 非常勤（人）
A66: 常勤換算後の人数（人）
A67: 基準上の必要人数（人）
A68: 訪問事業の実施 | C68: 有 | E68: 無
A69: 利用定員(人)
A70: 利用者の推定数(人)
A71: 営業日(該当する日に○) | C71: 日 | D71: 月 | E71: 火 | F71: 水 | G71: 木 | H71: 金 | J71: 土 | L71: 祝
C73: その他(年末年始等)
A74: 営業時間 | C74: 平日 | E74: ： | G74: ～ | J74: ：
C75: 土曜 | E75: ： | G75: ～ | J75: ：
C76: 日・祝 | E76: ： | G76: ～ | J76: ：
A77: 利用料 | C77: 運営規程に定めるとおり
A78: その他の費用 | C78: 運営規程に定めるとおり
A79: 通常の事業の実施地域
A80: 協力医療機関 | C80: 名称 | G80: 診療科名
A81: (備考)
A82: １．記入欄が不足する場合は、次頁の「記入欄不足時の資料」に記載して添付してください。
A83: ２．更新の場合には、「利用者の推定数」欄は前年度の平均利用者数を記入してください。
A84: ３．「その他の費用」欄には、利用者に直接金銭の負担を求める場合のサービス内容についても記載してく ださい。
A85: ４．「診療科名」欄には、主な診療科名１つを記載してください。
A86: 記入欄不足時の資料
A87: ■サービス管理責任者
A88: サービス管理責任者 | B88: フリガナ | F88: 生年月日
B89: 氏 名 | H89: 年 | J89: 月 | L89: 日
B90: 住 所 | C90: (郵便番号 | E90: - | G90: )
B93: フリガナ | F93: 生年月日
B94: 氏 名 | H94: 年 | J94: 月 | L94: 日
B95: 住 所 | C95: (郵便番号 | E95: - | G95: )
B98: フリガナ | F98: 生年月日
B99: 氏 名 | H99: 年 | J99: 月 | L99: 日
B100: 住 所 | C100: (郵便番号 | E100: - | G100: )
B103: フリガナ | F103: 生年月日
B104: 氏 名 | H104: 年 | J104: 月 | L104: 日
B105: 住 所 | C105: (郵便番号 | E105: - | G105: )
B108: フリガナ | F108: 生年月日
B109: 氏 名 | H109: 年 | J109: 月 | L109: 日
B110: 住 所 | C110: (郵便番号 | E110: - | G110: )
B113: フリガナ | F113: 生年月日
B114: 氏 名 | H114: 年 | J114: 月 | L114: 日
B115: 住 所 | C115: (郵便番号 | E115: - | G115: )
A119: ■協力医療機関
A120: 協力医療機関 | C120: 名称 | G120: 診療科名
C121: 名称 | G121: 診療科名
C122: 名称 | G122: 診療科名
C123: 名称 | G123: 診療科名
C124: 名称 | G124: 診療科名

Sheet 付表８
A1: 付表８ 就労移行支援事業所の指定等に係る記載事項
A3: サービス種別(申請するものに○) | E3: 一般型 | G3: 資格取得型
A4: 事業所 | B4: フリガナ | C4: =指定申請書!D28 -> 0
B5: 名 称 | C5: =指定申請書!D29 -> 0 | P5: 「指定申請書」の事業所情報が自動で転記されます。
B6: 所在地 | C6: (郵便番号 | D6: =指定申請書!E30 -> 0 | E6: - | F6: =指定申請書!G30 -> 0 | G6: )
C7: =指定申請書!D31 -> 0
B9: 電話番号
B10: E-Mail
A11: 管理者 | B11: フリガナ | F11: 生年月日
B12: 氏 名 | H12: 年 | J12: 月 | L12: 日
B13: 住 所 | C13: (郵便番号 | E13: - | G13: )
B16: 当該事業所で兼務する他の職種(兼務の場合選択)
B17: 他の事業所又は施設の従業者との兼務(兼務の場合記入) | D17: 事業所等の名称
D18: 兼務する職種及び勤務時間等
A20: サービス管理責任者 | B20: フリガナ | F20: 生年月日
B21: 氏 名 | H21: 年 | J21: 月 | L21: 日
B22: 住 所 | C22: (郵便番号 | E22: - | G22: )
A25: 実施主体が地方公共団体である場合は、当該事業の実施について定めてある条例等 | H25: 第 条 第 項 第 号
A26: ○人員に関する基準の確認に必要な事項
A27: 従業者の職種・員数 | C27: 居宅介護等従業者 | E27: その他の従業者
C28: 専従 | D28: 兼務 | E28: 専従 | F28: 兼務
A29: 常勤（人）
A30: 非常勤（人）
A31: 常勤換算後の人数（人）
A32: 基準上の必要人数（人）
A33: ○運営・設備に関する基準の確認に必要な事項
A34: 利用定員(人)
A35: 利用者の推定数(人)
A36: 利用料
A37: その他の費用
A38: 通常の事業の実施地域
A39: 協力医療機関 | C39: 名称 | G39: 診療科名
A40: 提携就労支援機関
A41: ○一体的に実施する従たる事業所の指定等に係る記載事項
A42: 事業所 | B42: フリガナ
B43: 名 称
B44: 所在地 | C44: (郵便番号 | E44: - | G44: )
B47: 電話番号
B48: E-Mail
A49: サービス管理責任者 | B49: フリガナ | F49: 生年月日
B50: 氏 名 | H50: 年 | J50: 月 | L50: 日
B51: 住 所 | C51: (郵便番号 | E51: - | G51: )
A54: 実施主体が地方公共団体である場合は、当該事業の実施について定めてある条例等 | H54: 第 条 第 項 第 号
A55: 利用定員(人)
A56: 利用者の推定数(人)
A57: 利用料 | C57: 運営規程に定めるとおり
A58: その他の費用 | C58: 運営規程に定めるとおり
A59: 通常の事業の実施地域
A60: 協力医療機関 | C60: 名称 | G60: 診療科名
A61: 提携就労支援機関
A62: (備考)
A63: １．記入欄が不足する場合は、次頁の「記入欄不足時の資料」に記載して添付してください。
A64: ２．更新の場合には、「利用者の推定数」欄は前年度の平均利用者数を記入してください。
A65: ３．「その他の費用」欄には、利用者に直接金銭の負担を求める場合のサービス内容についても記載してく ださい。
A66: ４．「診療科名」欄には、主な診療科名１つを記載してください。
A67: 記入欄不足時の資料
A68: ■サービス管理責任者
A69: サービス管理責任者 | B69: フリガナ | F69: 生年月日
B70: 氏 名 | H70: 年 | J70: 月 | L70: 日
B71: 住 所 | C71: (郵便番号 | E71: - | G71: )
B74: フリガナ | F74: 生年月日
B75: 氏 名 | H75: 年 | J75: 月 | L75: 日
B76: 住 所 | C76: (郵便番号 | E76: - | G76: )
B79: フリガナ | F79: 生年月日
B80: 氏 名 | H80: 年 | J80: 月 | L80: 日
B81: 住 所 | C81: (郵便番号 | E81: - | G81: )
B84: フリガナ | F84: 生年月日
B85: 氏 名 | H85: 年 | J85: 月 | L85: 日
B86: 住 所 | C86: (郵便番号 | E86: - | G86: )
B89: フリガナ | F89: 生年月日
B90: 氏 名 | H90: 年 | J90: 月 | L90: 日
B91: 住 所 | C91: (郵便番号 | E91: - | G91: )
B94: フリガナ | F94: 生年月日
B95: 氏 名 | H95: 年 | J95: 月 | L95: 日
B96: 住 所 | C96: (郵便番号 | E96: - | G96: )
A100: ■協力医療機関
A101: 協力医療機関 | C101: 名称 | G101: 診療科名
C102: 名称 | G102: 診療科名
C103: 名称 | G103: 診療科名
C104: 名称 | G104: 診療科名
C105: 名称 | G105: 診療科名

Sheet 付表９
A1: 付表９ 就労継続支援事業所の指定等に係る記載事項
A3: サービス種別(申請するものに○) | E3: 就労継続支援Ａ型 | H3: 就労継続支援Ｂ型
A4: 事業所 | B4: フリガナ | C4: =指定申請書!D28 -> 0
B5: 名 称 | C5: =指定申請書!D29 -> 0 | P5: 「指定申請書」の事業所情報が自動で転記されます。
B6: 所在地 | C6: (郵便番号 | D6: =指定申請書!E30 -> 0 | E6: - | F6: =指定申請書!G30 -> 0 | G6: )
C7: =指定申請書!D31 -> 0
B9: 電話番号
B10: E-Mail
A11: 管理者 | B11: フリガナ | F11: 生年月日
B12: 氏 名 | H12: 年 | J12: 月 | L12: 日
B13: 住 所 | C13: (郵便番号 | E13: - | G13: )
B16: 当該事業所で兼務する他の職種(兼務の場合選択)
B17: 他の事業所又は施設の従業者との兼務(兼務の場合記入) | D17: 事業所等の名称
D18: 兼務する職種及び勤務時間等
A20: サービス管理責任者 | B20: フリガナ | F20: 生年月日
B21: 氏 名 | H21: 年 | J21: 月 | L21: 日
B22: 住 所 | C22: (郵便番号 | E22: -
A25: 実施主体が地方公共団体である場合は、当該事業の実施について定めてある条例等 | H25: 第 条 第 項 第 号
A26: ○人員に関する基準の確認に必要な事項
A27: 従業者の職種・員数 | C27: 居宅介護等従業者 | E27: その他の従業者
C28: 専従 | D28: 兼務 | E28: 専従 | F28: 兼務
A29: 常勤(人)
A30: 非常勤(人)
A31: 常勤換算後の人数(人)
A32: 基準上の必要人数(人)
A33: ○運営・設備に関する基準の確認に必要な事項
A34: 利用定員(人)
A35: 利用者の推定数(人)
A36: 利用料 | C36: 運営規程に定めるとおり
A37: その他の費用 | C37: 運営規程に定めるとおり
A38: 通常の事業の実施地域
A39: 協力医療機関 | C39: 名称 | G39: 診療科名
A40: ○一体的に実施する従たる事業所の指定等に係る記載事項
A41: 事業所 | B41: フリガナ
B42: 名 称
B43: 所在地 | C43: (郵便番号 | E43: - | G43: )
B46: 電話番号
B47: E-Mail
A48: サービス管理責任者 | B48: フリガナ | F48: 生年月日
B49: 氏 名 | H49: 年 | J49: 月 | L49: 日
B50: 住 所 | C50: (郵便番号 | E50: - | G50: )
A53: 実施主体が地方公共団体である場合は、当該事業の実施について定めてある条例等 | H53: 第 条 第 項 第 号
A54: 利用定員(人)
A55: 利用者の推定数(人)
A56: 利用料
A57: その他の費用
A58: 通常の事業の実施地域
A59: 協力医療機関 | C59: 名称 | G59: 診療科名
A60: (備考)
A61: １．記入欄が不足する場合は、次頁の「記入欄不足時の資料」に記載して添付してください。
A62: ２．更新の場合には、「利用者の推定数」欄は前年度の平均利用者数を記入してください。
A63: ３．「その他の費用」欄には、利用者に直接金銭の負担を求める場合のサービス内容についても記載してく ださい。
A64: ４．「診療科名」欄には、主な診療科名１つを記載してください。
A65: 記入欄不足時の資料
A66: ■サービス管理責任者
A67: サービス管理責任者 | B67: フリガナ | F67: 生年月日
B68: 氏 名 | H68: 年 | J68: 月 | L68: 日
B69: 住 所 | C69: (郵便番号 | E69: - | G69: )
B72: フリガナ | F72: 生年月日
B73: 氏 名 | H73: 年 | J73: 月 | L73: 日
B74: 住 所 | C74: (郵便番号 | E74: - | G74: )
B77: フリガナ | F77: 生年月日
B78: 氏 名 | H78: 年 | J78: 月 | L78: 日
B79: 住 所 | C79: (郵便番号 | E79: - | G79: )
B82: フリガナ | F82: 生年月日
B83: 氏 名 | H83: 年 | J83: 月 | L83: 日
B84: 住 所 | C84: (郵便番号 | E84: - | G84: )
B87: フリガナ | F87: 生年月日
B88: 氏 名 | H88: 年 | J88: 月 | L88: 日
B89: 住 所 | C89: (郵便番号 | E89: - | G89: )
B92: フリガナ | F92: 生年月日
B93: 氏 名 | H93: 年 | J93: 月 | L93: 日
B94: 住 所 | C94: (郵便番号 | E94: - | G94: )
A98: ■協力医療機関
A99: 協力医療機関 | C99: 名称 | G99: 診療科名
C100: 名称 | G100: 診療科名
C101: 名称 | G101: 診療科名
C102: 名称 | G102: 診療科名
C103: 名称 | G103: 診療科名

Sheet 付表１０
A1: 付表１０ 就労定着支援事業所の指定等に係る記載事項
A3: 事業所 | B3: フリガナ | C3: =指定申請書!D28 -> 0
B4: 名 称 | C4: =指定申請書!D29 -> 0 | P4: 「指定申請書」の事業所情報が自動で転記されます。
B5: 所在地 | C5: (郵便番号 | D5: =指定申請書!E30 -> 0 | E5: - | F5: =指定申請書!G30 -> 0 | G5: )
C6: =指定申請書!D31 -> 0
B8: 電話番号
B9: E-Mail
A10: 管理者 | B10: フリガナ | F10: 生年月日
B11: 氏 名 | H11: 年 | J11: 月 | L11: 日
B12: 住 所 | C12: (郵便番号 | E12: - | G12: )
B15: 当該事業所で兼務する他の職種(兼務の場合選択)
B16: 他の事業所又は施設の従業者との兼務(兼務の場合記入) | D16: 事業所等の名称
D17: 兼務する職種及び勤務時間等
A19: サービス管理責任者 | B19: フリガナ | F19: 生年月日
B20: 氏 名 | H20: 年 | J20: 月 | L20: 日
B21: 住 所 | C21: (郵便番号 | E21: - | G21: )
A24: 実施主体が地方公共団体である場合は、当該事業の実施について定めてある条例等 | H24: 第 条 第 項 第 号
A25: ○人員に関する基準の確認に必要な事項
A26: 従業者の職種・員数 | C26: 居宅介護等従業者 | E26: その他の従業者
C27: 専従 | D27: 兼務 | E27: 専従 | F27: 兼務
A28: 常勤(人)
A29: 非常勤(人)
A30: 常勤換算後の人数(人)
A31: 基準上の必要人数(人)
A32: ○運営・設備に関する基準の確認に必要な事項
A33: 利用者の推定数(人)
A34: 一体的に運営する事業所の前年度の平均利用者数(人)
A35: 営業日(該当する日に○) | C35: 日 | D35: 月 | E35: 火 | F35: 水 | G35: 木 | H35: 金 | J35: 土 | L35: 祝
C37: その他(年末年始等)
A38: 営業時間 | C38: 平日 | E38: ： | G38: ～ | J38: ：
C39: 土曜 | E39: ： | G39: ～ | J39: ：
C40: 日・祝 | E40: ： | G40: ～ | J40: ：
A41: 利用料 | C41: 運営規程に定めるとおり
A42: その他の費用 | C42: 運営規程に定めるとおり
A43: 通常の事業の実施地域
A44: (備考)
A45: １．記入欄が不足する場合は、次頁の「記入欄不足時の資料」に記載して添付してください。
A46: ２．更新の場合には、「利用者の推定数」欄は前年度の平均利用者数を記入してください。
A47: ３．「その他の費用」欄には、利用者に直接金銭の負担を求める場合のサービス内容についても記載してく ださい。
A48: 記入欄不足時の資料
A49: ■サービス管理責任者
A50: サービス管理責任者 | B50: フリガナ | F50: 生年月日
B51: 氏 名 | H51: 年 | J51: 月 | L51: 日
B52: 住 所 | C52: (郵便番号 | E52: - | G52: )
B55: フリガナ | F55: 生年月日
B56: 氏 名 | H56: 年 | J56: 月 | L56: 日
B57: 住 所 | C57: (郵便番号 | E57: - | G57: )
B60: フリガナ | F60: 生年月日
B61: 氏 名 | H61: 年 | J61: 月 | L61: 日
B62: 住 所 | C62: (郵便番号 | E62: - | G62: )
B65: フリガナ | F65: 生年月日
B66: 氏 名 | H66: 年 | J66: 月 | L66: 日
B67: 住 所 | C67: (郵便番号 | E67: - | G67: )
B70: フリガナ | F70: 生年月日
B71: 氏 名 | H71: 年 | J71: 月 | L71: 日
B72: 住 所 | C72: (郵便番号 | E72: - | G72: )
B75: フリガナ | F75: 生年月日
B76: 氏 名 | H76: 年 | J76: 月 | L76: 日
B77: 住 所 | C77: (郵便番号 | E77: - | G77: )

Sheet 付表１１
A1: 付表１１ 自立生活援助事業所の指定等に係る記載事項
A3: 事業所 | B3: フリガナ | C3: =指定申請書!D28 -> 0
B4: 名 称 | C4: =指定申請書!D29 -> 0 | P4: 「指定申請書」の事業所情報が自動で転記されます。
B5: 所在地 | C5: (郵便番号 | D5: =指定申請書!E30 -> 0 | E5: - | F5: =指定申請書!G30 -> 0 | G5: )
C6: =指定申請書!D31 -> 0
B8: 電話番号
B9: E-Mail
A10: 管理者 | B10: フリガナ | F10: 生年月日
B11: 氏 名 | H11: 年 | J11: 月 | L11: 日
B12: 住 所 | C12: (郵便番号 | E12: - | G12: )
B15: 当該事業所で兼務する他の職種(兼務の場合選択)
B16: 他の事業所又は施設の従業者との兼務(兼務の場合記入) | D16: 事業所等の名称
D17: 兼務する職種及び勤務時間等
A19: サービス管理責任者 | B19: フリガナ | F19: 生年月日
B20: 氏 名 | H20: 年 | J20: 月 | L20: 日
B21: 住 所 | C21: (郵便番号 | E21: - | G21: )
A24: 実施主体が地方公共団体である場合は、当該事業の実施について定めてある条例等 | H24: 第 条 第 項 第 号
A25: ○人員に関する基準の確認に必要な事項
A26: 従業者の職種・員数 | C26: 居宅介護等従業者 | E26: その他の従業者
C27: 専従 | D27: 兼務 | E27: 専従 | F27: 兼務
A28: 常勤(人)
A29: 非常勤(人)
A30: 常勤換算後の人数(人)
A31: 基準上の必要人数(人)
A32: ○運営・設備に関する基準の確認に必要な事項
A33: 利用者の推定数(人)
A34: 営業日(該当する日に○) | C34: 日 | D34: 月 | E34: 火 | F34: 水 | G34: 木 | H34: 金 | J34: 土 | L34: 祝
C36: その他(年末年始等)
A37: 営業時間 | C37: 平日 | E37: ： | G37: ～ | J37: ：
C38: 土曜 | E38: ： | G38: ～ | J38: ：
C39: 日・祝 | E39: ： | G39: ～ | J39: ：
A40: 利用料 | C40: 運営規程に定めるとおり
A41: その他の費用 | C41: 運営規程に定めるとおり
A42: 通常の事業の実施地域
A43: (備考)
A44: １．記入欄が不足する場合は、次頁の「記入欄不足時の資料」に記載して添付してください。
A45: ２．更新の場合には、「利用者の推定数」欄は前年度の平均利用者数を記入してください。
A46: ３．「その他の費用」欄には、利用者に直接金銭の負担を求める場合のサービス内容についても記載してく ださい。
A47: 記入欄不足時の資料
A48: ■サービス管理責任者
A49: サービス管理責任者 | B49: フリガナ | F49: 生年月日
B50: 氏 名 | H50: 年 | J50: 月 | L50: 日
B51: 住 所 | C51: (郵便番号 | E51: - | G51: )
B54: フリガナ | F54: 生年月日
B55: 氏 名 | H55: 年 | J55: 月 | L55: 日
B56: 住 所 | C56: (郵便番号 | E56: - | G56: )
B59: フリガナ | F59: 生年月日
B60: 氏 名 | H60: 年 | J60: 月 | L60: 日
B61: 住 所 | C61: (郵便番号 | E61: - | G61: )
B64: フリガナ | F64: 生年月日
B65: 氏 名 | H65: 年 | J65: 月 | L65: 日
B66: 住 所 | C66: (郵便番号 | E66: - | G66: )
B69: フリガナ | F69: 生年月日
B70: 氏 名 | H70: 年 | J70: 月 | L70: 日
B71: 住 所 | C71: (郵便番号 | E71: - | G71: )
B74: フリガナ | F74: 生年月日
B75: 氏 名 | H75: 年 | J75: 月 | L75: 日
B76: 住 所 | C76: (郵便番号 | E76: - | G76: )

Sheet 付表１２
A1: 付表１２ 共同生活援助事業所の指定等に係る記載事項
A3: 主たる事業所 | B3: フリガナ | C3: =指定申請書!D28 -> 0
B4: 名 称 | C4: =指定申請書!D29 -> 0 | P4: 「指定申請書」の事業所情報が自動で転記されます。
B5: 所在地 | C5: (郵便番号 | D5: =指定申請書!E30 -> 0 | E5: - | F5: =指定申請書!G30 -> 0 | G5: )
C6: =指定申請書!D31 -> 0
B8: 電話番号
B9: E-Mail
A10: 管理者 | B10: フリガナ | F10: 生年月日
B11: 氏 名 | H11: 年 | J11: 月 | L11: 日
B12: 住 所 | C12: (郵便番号 | E12: - | G12: )
B15: 当該事業所で兼務する他の職種(兼務の場合選択)
B16: 他の事業所又は施設の従業者との兼務(兼務の場合記入) | D16: 事業所等の名称
D17: 兼務する職種及び勤務時間等
A19: サービス管理責任者 | B19: フリガナ | F19: 生年月日
B20: 氏 名 | H20: 年 | J20: 月 | L20: 日
B21: 住 所 | C21: (郵便番号 | E21: -
A24: 実施主体が地方公共団体である場合は、当該事業の実施について定めてある条例等 | H24: 第 条 第 項 第 号
A25: ○人員に関する基準の確認に必要な事項
A26: 従業者の職種・員数 | C26: 居宅介護等従業者 | E26: その他の従業者
C27: 専従 | D27: 兼務 | E27: 専従 | F27: 兼務
A28: 常勤(人)
A29: 非常勤(人)
A30: 常勤換算後の人数(人)
A31: 基準上の必要人数(人)
A32: ○運営・設備に関する基準の確認に必要な事項
A33: サービスの提供形態(該当部分に○) | D33: 介護サービス包括型 | F33: 生活支援員の業務の外部委託の予定(該当の場合選択) | H33: 有 | K33: 無
D34: 日中サービス支援型 | H34: 有の場合の月間時間数
D35: 外部サービス利用型 | F35: 受託居宅介護サービス事業者が事業を行う事業所の名称及び所在地並びに当該事業者の名称及び所在地 | L35: 別紙のとおり
A36: 利用定員(人)
A37: 利用者の推定数(人)
A38: 指定障害福祉サービス事業所等との連携体制 | C38: 連携する施設の種別 | G38: 施設名
C39: 支援体制の概要
A40: 協力医療機関 | C40: 名称 | G40: 診療科名
A41: 協力歯科医療機関 | C41: 名称
A43: ○共同生活住居の情報
A44: 共同生活住居①(主たる事業所) | B44: フリガナ | C44: （前頁に記載）
B45: 名 称
B46: 所在地 | C46: （前頁に記載）
B49: 連 絡 先 | C49: （前頁に記載）
B50: 住居区分 （該当するものに○） | E50: 一戸建て | H50: アパート
E51: マンション | H51: その他
B52: 建物所有者名
B53: 賃貸借契約の内容 | D53: 家賃月額(円)
D54: 契約期間 | G54: ～
B55: 住居の利用定員(人) | F55: 居室数 | I55: 室(うち個室 | M55: 室)
B56: 入居者１人当たりの居室の最小床面積(㎡)
B57: 一体的に運営するサテライト型住居数(箇所)
B58: 主たる対象者 (対象とするものに○) | E58: 身体障害 | H58: 知的障害
E59: 精神障害 | H59: 難病等対象者
A60: 共同生活住居② | B60: フリガナ
B61: 名 称
B62: 所在地 | C62: (郵便番号 | E62: - | G62: )
B65: 電話番号
B66: 住居区分 （該当するものに○） | E66: 一戸建て | H66: アパート
E67: マンション | H67: その他
B68: 建物所有者名
B69: 賃貸借契約の内容 | D69: 家賃月額(円)
D70: 契約期間 | G70: ～
B71: 住居の利用定員(人) | F71: 居室数 | I71: 室(うち個室 | M71: 室)
B72: 入居者１人当たりの居室の最小床面積(㎡)
B73: 一体的に運営するサテライト型住居数(箇所)
B74: 主たる対象者 (対象とするものに○) | E74: 身体障害 | H74: 知的障害
E75: 精神障害 | H75: 難病等対象者
A76: 共同生活住居③ | B76: フリガナ
B77: 名 称
B78: 所在地 | C78: (郵便番号 | E78: - | G78: )
B81: 電話番号
B82: 住居区分 （該当するものに○） | E82: 一戸建て | H82: アパート
E83: マンション | H83: その他
B84: 建物所有者名
B85: 賃貸借契約の内容 | D85: 家賃月額(円)
D86: 契約期間 | G86: ～
B87: 住居の利用定員(人) | F87: 居室数 | I87: 室(うち個室 | M87: 室)
B88: 入居者１人当たりの居室の最小床面積(㎡)
B89: 一体的に運営するサテライト型住居数(箇所)
B90: 主たる対象者 (対象とするものに○) | E90: 身体障害 | H90: 知的障害
E91: 精神障害 | H91: 難病等対象者
A93: ○サテライト型住居の情報
A94: サテライト型住居① | B94: フリガナ
B95: 名 称
B96: 所在地 | C96: (郵便番号 | E96: - | G96: )
B99: 電話番号
B100: 住居区分 （該当するものに○） | E100: 一戸建て | H100: アパート
E101: マンション | H101: その他
B102: 建物所有者名
B103: 賃貸借契約の内容 | D103: 家賃月額(円)
D104: 契約期間 | G104: ～
B105: 住居の利用定員(人) | F105: 居室の最小床面積(㎡)
B106: 本体住居の名称
B107: 本体住居との距離(㎞)
B108: 利用者が本体住居への連絡に使用する通信機器
B109: 主たる対象者 (対象とするものに○) | E109: 身体障害 | H109: 知的障害
E110: 精神障害 | H110: 難病等対象者
A111: サテライト型住居② | B111: フリガナ
B112: 名 称
B113: 所在地 | C113: (郵便番号 | E113: - | G113: )
B116: 電話番号
B117: 住居区分 （該当するものに○） | E117: 一戸建て | H117: アパート
E118: マンション | H118: その他
B119: 建物所有者名
...

Sheet 付表１３
A1: 付表１３ 障害者支援施設の指定等に係る記載事項
A3: 施設 | B3: フリガナ | C3: =指定申請書!D28 -> 0
B4: 名 称 | C4: =指定申請書!D29 -> 0 | P4: 「指定申請書」の事業所情報が自動で転記されます。
B5: 所在地 | C5: (郵便番号 | D5: =指定申請書!E30 -> 0 | E5: - | F5: =指定申請書!G30 -> 0 | G5: )
C6: =指定申請書!D31 -> 0
B8: 電話番号
B9: E-Mail
A10: 管理者 | B10: フリガナ | F10: 生年月日
B11: 氏 名 | H11: 年 | J11: 月 | L11: 日
B12: 住 所 | C12: (郵便番号 | E12: - | G12: )
B15: 当該施設で兼務する他の職種(兼務の場合選択)
B16: 他の事業所又は施設の従業者との兼務(兼務の場合記入) | D16: 事業所等の名称
D17: 兼務する職種及び勤務時間等
A19: サービス管理責任者 | B19: フリガナ | F19: 生年月日
B20: 氏 名 | H20: 年 | J20: 月 | L20: 日
B21: 住 所 | C21: (郵便番号 | E21: - | G21: )
A24: 実施主体が地方公共団体である場合は、当該事業の実施について定めてある条例等 | H24: 第 条 第 項 第 号
A25: ○人員に関する基準の確認に必要な事項
A26: 従業者の職種・員数 | C26: 居宅介護等従業者 | E26: その他の従業者
C27: 専従 | D27: 兼務 | E27: 専従 | F27: 兼務
A28: 常勤(人)
A29: 非常勤(人)
A30: 常勤換算後の人数(人)
A31: 基準上の必要人数(人)
A32: ○運営・設備に関する基準の確認に必要な事項
A33: 居室 | B33: １室の最大定員(人)
B34: 入所者１人あたりの最小床面積(㎡)
A35: 廊下 | B35: 廊下の幅(ｍ)
B36: 中廊下の幅(ｍ)
A37: 既存施設からの移行の場合 | C37: 既存施設名
C38: 施設種別
C39: 経過措置 | E39: 有 | G39: 無
C40: 特定旧法受給者数(人)
A41: 協力医療機関 | C41: 名称 | G41: 診療科名
A42: 協力歯科医療機関 | C42: 名称
A43: (就労移行支援を行う場合のみ)提携就労支援機関 | F43: 名称
A44: ○昼間実施サービス及び施設入所支援に係る記載事項
A45: 昼間実施サービスの種類 | C45: 生活介護 | D45: 自立訓練 (機能訓練) | E45: 自立訓練 (生活訓練) | F45: 就労移行支援 (一般型) | G45: 就労移行支援 (資格取得型) | H45: 就労継続支援 (Ａ型) | J45: 就労移行支援 (Ｂ型)
B46: 実施有無
B47: 利用者の推定数
B48: 昼間多機能の実施 | D48: 有 | F48: 無 | H48: 昼間の総定員数(人)
A49: (生活介護を行う場合のみ) 利用者の推定数(人) | C49: 施設が申告する障害支援区分の平均値
C50: サービス単位 | E50: ４未満 | G50: ４以上５未満 | J50: ５以上
C51: サービス単位１
C52: サービス単位２
C53: サービス単位３
A54: 昼間実施サービスの定員(人) | C54: 介護給付対象者 | E54: 訓練等給付対象者 | G54: 特定旧法受給者 | J54: 合計
C56: 定員緩和措置の有無 | H56: 有 | K56: 無
A57: 施設入所支援の定員(人) | F57: 他の社会福祉施設との併設 | J57: 有 | L57: 無
B58: 併設施設の定員(人) | F58: 併設施設の種別
A59: 施設入所支援の利用者の推定数 | C59: サービス単位１
C60: サービス単位２
C61: サービス単位３
A62: 短期入所の実施 | C62: 併設型 | E62: 空床型 | G62: 無
C63: 短期入所の利用者の推定数(人)
A64: 営業日(該当する日に○) | C64: 日 | D64: 月 | E64: 火 | F64: 水 | G64: 木 | H64: 金 | J64: 土 | L64: 祝
C66: その他(年末年始等)
A67: 営業時間 | C67: 平日 | E67: ： | G67: ～ | J67: ：
C68: 土曜 | E68: ： | G68: ～ | J68: ：
C69: 日・祝 | E69: ： | G69: ～ | J69: ：
A70: 利用料 | C70: 運営規程に定めるとおり
A71: その他の費用 | C71: 運営規程に定めるとおり
A72: 通常の事業の実施地域
A73: (備考)
A74: １．記入欄が不足する場合は、次頁の「記入欄不足時の資料」に記載して添付してください。
A75: ２．更新の場合には、「利用者の推定数」欄は前年度の平均利用者数を記入してください。
A76: ３．「その他の費用」欄には、利用者に直接金銭の負担を求める場合のサービス内容についても記載してく ださい。
A77: ４．「診療科名」欄には、主な診療科名１つを記載してください。
A78: 記入欄不足時の資料
A79: ■サービス管理責任者
A80: サービス管理責任者 | B80: フリガナ | F80: 生年月日
B81: 氏 名 | H81: 年 | J81: 月 | L81: 日
B82: 住 所 | C82: (郵便番号 | E82: - | G82: )
B85: フリガナ | F85: 生年月日
B86: 氏 名 | H86: 年 | J86: 月 | L86: 日
B87: 住 所 | C87: (郵便番号 | E87: - | G87: )
B90: フリガナ | F90: 生年月日
B91: 氏 名 | H91: 年 | J91: 月 | L91: 日
B92: 住 所 | C92: (郵便番号 | E92: - | G92: )
B95: フリガナ | F95: 生年月日
B96: 氏 名 | H96: 年 | J96: 月 | L96: 日
B97: 住 所 | C97: (郵便番号 | E97: - | G97: )
B100: フリガナ | F100: 生年月日
B101: 氏 名 | H101: 年 | J101: 月 | L101: 日
B102: 住 所 | C102: (郵便番号 | E102: - | G102: )
B105: フリガナ | F105: 生年月日
B106: 氏 名 | H106: 年 | J106: 月 | L106: 日
B107: 住 所 | C107: (郵便番号 | E107: - | G107: )
A111: ■協力医療機関等
A112: 協力医療機関 | C112: 名称 | G112: 診療科名
C113: 名称 | G113: 診療科名
C114: 名称 | G114: 診療科名
A115: 協力歯科医療機関 | C115: 名称
C116: 名称
C117: 名称

Sheet 付表１４
A1: 付表１４ 指定一般相談支援事業所の指定等に係る記載事項
A3: サービス種別(申請するものに○) | E3: 地域移行支援 | H3: 地域定着支援
A4: 事業所 | B4: フリガナ | C4: =指定申請書!D28 -> 0
B5: 名 称 | C5: =指定申請書!D29 -> 0 | P5: 「指定申請書」の事業所情報が自動で転記されます。
B6: 所在地 | C6: (郵便番号 | D6: =指定申請書!E30 -> 0 | E6: - | F6: =指定申請書!G30 -> 0 | G6: )
C7: =指定申請書!D31 -> 0
B9: 電話番号
B10: E-Mail
A11: 管理者 | B11: フリガナ | F11: 生年月日
B12: 氏 名 | H12: 年 | J12: 月 | L12: 日
B13: 住 所 | C13: (郵便番号 | E13: - | G13: )
B16: 当該事業所における相談支援専門員との兼務の有無 | H16: 有 | K16: 無
B17: 他の事業所又は施設の従業者との兼務(兼務の場合記入) | D17: 事業所等の名称
D18: 兼務する職種及び勤務時間等
A20: 指定地域相談支援の提供に当たる者 | B20: フリガナ | F20: 生年月日
B21: 氏 名 | H21: 年 | J21: 月 | L21: 日
B22: 住 所 | C22: (郵便番号 | E22: - | G22: )
B25: フリガナ | F25: 生年月日
B26: 氏 名 | H26: 年 | J26: 月 | L26: 日
B27: 住 所 | C27: (郵便番号 | E27: - | G27: )
B30: フリガナ | F30: 生年月日
B31: 氏 名 | H31: 年 | J31: 月 | L31: 日
B32: 住 所 | C32: (郵便番号 | E32: - | G32: )
A35: 実施主体が地方公共団体である場合は、当該事業の実施について定めてある条例等 | H35: 第 条 第 項 第 号
A36: ○人員に関する基準の確認に必要な事項
A37: 従業者の職種・員数 | C37: 居宅介護等従業者 | E37: その他の従業者
C38: 専従 | D38: 兼務 | E38: 専従 | F38: 兼務
A39: 常勤(人)
A40: 非常勤(人)
A41: 常勤換算後の人数(人)
A42: 基準上の必要人数(人)
A43: ○運営・設備に関する基準の確認に必要な事項
A44: 常時の連絡体制の 確保の具体的方法 (地域定着支援のみ)
A45: 営業日(該当する日に○) | C45: 日 | D45: 月 | E45: 火 | F45: 水 | G45: 木 | H45: 金 | J45: 土 | L45: 祝
C47: その他(年末年始等)
A48: 営業時間 | C48: 平日 | E48: ： | G48: ～ | J48: ：
C49: 土曜 | E49: ： | G49: ～ | J49: ：
C50: 日・祝 | E50: ： | G50: ～ | J50: ：
A51: その他の費用 | C51: 運営規程に定めるとおり
A52: 通常の事業の実施地域
A53: (備考)
A54: １．記入欄が不足する場合は、次頁の「記入欄不足時の資料」に記載して添付してください。
A55: ２．「その他の費用」欄には、利用者に直接金銭の負担を求める場合のサービス内容についても記載してく ださい。
A56: 記入欄不足時の資料
A57: ■指定地域相談支援の提供に当たる者
A58: 指定地域相談支援の提供に当たる者 | B58: フリガナ | F58: 生年月日
B59: 氏 名 | H59: 年 | J59: 月 | L59: 日
B60: 住 所 | C60: (郵便番号 | E60: - | G60: )
B63: フリガナ | F63: 生年月日
B64: 氏 名 | H64: 年 | J64: 月 | L64: 日
B65: 住 所 | C65: (郵便番号 | E65: - | G65: )
B68: フリガナ | F68: 生年月日
B69: 氏 名 | H69: 年 | J69: 月 | L69: 日
B70: 住 所 | C70: (郵便番号 | E70: - | G70: )
B73: フリガナ | F73: 生年月日
B74: 氏 名 | H74: 年 | J74: 月 | L74: 日
B75: 住 所 | C75: (郵便番号 | E75: - | G75: )
B78: フリガナ | F78: 生年月日
B79: 氏 名 | H79: 年 | J79: 月 | L79: 日
B80: 住 所 | C80: (郵便番号 | E80: - | G80: )
B83: フリガナ | F83: 生年月日
B84: 氏 名 | H84: 年 | J84: 月 | L84: 日
B85: 住 所 | C85: (郵便番号 | E85: - | G85: )
