Workbook

Sheet 指定申請書
A1: 別紙様式第一号
A2: 指定障害福祉サービス事業所/指定障害者支援施設
A3: 指定一般相談支援事業所 | AE3: で着色したセルに必要事項を入力してください。
E5: 指定更新 | G5: 申請書
K6: 令和 | O6: 年 | R6: 月 | U6: 日
B7: 神奈川県 | D7: 知事 殿
H8: 所在地 | K8: =D18 -> 0 | AB8: 下の「申請者（設置者）」を記載すると、自動で転記されます。 | BG8: （押印不要）
G9: 申請者 | H9: 名 称 | K9: =D16 -> 0
H10: 代表者 | K10: =H24 -> 0
B12: 表題の事業所・施設に係る指定/指定の更新/指定の変更を受けたいので、下記のとおり、関係書類を添えて申請します。
F14: 法人番号(13桁)
A15: 申請者(設置者) | B15: フリガナ
B16: 名称
B17: 主たる事務所の所在地 | D17: (郵便番号 | F17: - | I17: ）
AB19: 法人に関する情報を記載します。
B20: 連絡先 | D20: 電話番号 | E20: (内線)
D21: E-mailアドレス
B22: 法人等の種類 | AB22: 登記簿謄本と相違ないように記載してください。
B23: 代表者の職名・氏名・生年月日 | D23: 職名 | G23: フリガナ | M23: 生年月日
G24: 氏名
B25: 代表者の住所 | D25: (郵便番号 | F25: - | I25: ）
A28: 指定を受けようとする事業所・施設の種類 | B28: フリガナ
B29: 名称
B30: 事業所(施設)の所在地 | D30: (郵便番号 | F30: - | I30: ）
B33: 多機能型事業所に係る指定の申請の場合は○
B34: 同一所在地において 行う事業等の種類 | F34: 今回の指定(更新・変更)申請をする対象事業等に○ | H34: 既に指定を受けている事業に○ | L34: 事業の開始予定年月日 | R34: 本申請書に添付して提出する様式(付表)
E35: 共生型サービスの指定を申請するものに○
B36: 指定障害福祉サービス事業所 | C36: 居宅介護 | L36: 年 月 日 | R36: 付表１
C37: 重度訪問介護 | L37: 年 月 日 | R37: 付表１
C38: 同行援護 | L38: 年 月 日 | R38: 付表１
C39: 行動援護 | L39: 年 月 日 | R39: 付表１
C40: 療養介護 | L40: 年 月 日 | R40: 付表２
C41: 生活介護 | L41: 年 月 日 | R41: 付表３
C42: 短期入所 | L42: 年 月 日 | R42: 付表４
C43: 重度障害者等包括支援 | L43: 年 月 日 | R43: 付表５ | AB43: 事業所に関する情報を記載します。
C44: 自立訓練(機能訓練) | L44: 年 月 日 | R44: 付表６
C45: 自立訓練(生活訓練) | L45: 年 月 日 | R45: 付表６
C46: 就労選択支援 | L46: 年 月 日 | R46: 付表７ | AB46: 事業所の名称・所在地は、運営規程と相違ないように記載してください。
C47: 就労移行支援 | L47: 年 月 日 | R47: 付表８
C48: 就労継続支援Ａ型 | L48: 年 月 日 | R48: 付表９
...

Sheet 付表１ 
A1: 付表１ 居宅介護・重度訪問介護・同行援護・行動援護事業所の指定等に係る記載事項
A3: 事業所 | B3: フリガナ | C3: =指定申請書!D28 -> 0
B4: 名 称 | C4: =指定申請書!D29 -> 0 | P4: 「指定申請書」の事業所情報が自動で転記されます。
B5: 所在地 | C5: (郵便番号 | D5: =指定申請書!E30 -> 0 | E5: - | F5: =指定申請書!G30 -> 0 | G5: ）
C6: =指定申請書!D31 -> 0
B8: 電話番号
B9: E-Mail
A10: 事業所以外の 事務所 | B10: フリガナ
B11: 名 称
B12: 所在地 | C12: (郵便番号 | E12: - | G12: )
B15: 電話番号
B16: E-Mail
A17: 管理者 | B17: フリガナ | F17: 生年月日
B18: 氏 名 | H18: 年 | J18: 月 | L18: 日
B19: 住 所 | C19: (郵便番号 | E19: - | G19: )
B22: 当該事業所で兼務する他の職種(兼務の場合選択)
B23: 他の事業所又は施設の従業者との兼務(兼務の場合記入) | D23: 事業所等の名称
D24: 兼務する職種及び勤務時間等
A26: サービス提供責任者 | B26: フリガナ | F26: 生年月日
B27: 氏 名 | H27: 年 | J27: 月 | L27: 日
B28: 住 所 | C28: (郵便番号 | E28: - | G28: )
A31: 実施主体が地方公共団体である場合は、当該事業の実施について定めてある条例等 | H31: 第 条 第 項 第 号
A32: 障害児対象事業(該当する場合に選択。重度訪問介護を除く。)
A34: 利用する障害児の推定数(人)(障害児対象事業に該当する場合記入)
A35: ○運営・設備に関する基準の確認に必要な事項
A36: 営業日(該当する日に○) | C36: 日 | D36: 月 | E36: 火 | F36: 水 | G36: 木 | H36: 金 | J36: 土 | L36: 祝
C38: その他(年末年始等)
A39: 営業時間 | C39: 平日 | E39: ： | G39: ～ | J39: ：
C40: 土曜 | E40: ： | G40: ～ | J40: ：
C41: 日・祝 | E41: ： | G41: ～ | J41: ：
A42: サービス内容 | C42: 身体介護 | F42: 身体介護(通院介助)
C43: 家事援助 | F43: 家事援助(通院介助)
C44: 通院等乗降介助
A45: 利用料 | C45: 運営規程に定めるとおり
A46: その他の費用 | C46: 運営規程に定めるとおり
A47: 通常の事業の実施地域
A48: (備考)
A49: １．記入欄が不足する場合は、次頁の「記入欄不足時の資料」に記載して添付してください。
A50: ２．更新の場合には、「利用する障害児の推定数」欄は前年度の平均利用者数を記入してください。
A51: ３．「その他の費用」欄には、利用者に直接金銭の負担を求める場合のサービス内容についても記載してく ださい。
...

Sheet 付表２
A1: 付表２ 療養介護事業所の指定等に係る記載事項
A3: 事業所 | B3: フリガナ | C3: =指定申請書!D28 -> 0
B4: 名 称 | C4: =指定申請書!D29 -> 0 | P4: 「指定申請書」の事業所情報が自動で転記されます。
B5: 所在地 | C5: (郵便番号 | D5: =指定申請書!E30 -> 0 | E5: - | F5: =指定申請書!G30 -> 0 | G5: )
C6: =指定申請書!D31 -> 0
B8: 連 絡 先 | C8: 電話番号
B9: E-Mail
A10: 管理者 | B10: フリガナ | F10: 生年月日
B11: 氏 名 | H11: 年 | J11: 月 | L11: 日
B12: 住 所 | C12: (郵便番号 | E12: - | G12: )
B15: 当該事業所で兼務する他の職種(兼務の場合選択)
B16: 他の事業所又は施設の従業者との兼務(兼務の場合記入) | D16: 事業所等の名称
D17: 兼務する職種及び勤務時間等
A19: サービス管理責任者 | B19: フリガナ | F19: 生年月日
B20: 氏 名 | H20: 年 | J20: 月 | L20: 日
B21: 住 所 | C21: (郵便番号 | E21: - | G21: )
A24: 実施主体が地方公共団体である場合は、当該事業の実施について定めてある条例等 | H24: 第 条 第 項 第 号
A25: ○人員に関する基準の確認に必要な事項
A26: 従業者の職種・員数 | C26: 居宅介護等従業者 | E26: その他の従業者
C27: 専従 | D27: 兼務 | E27: 専従 | F27: 兼務
A28: 常勤（人）
A29: 非常勤（人）
A30: 常勤換算後の人数（人）
A31: 基準上の必要人数（人）
A32: ○運営・設備に関する基準の確認に必要な事項
A33: 利用定員(人) | E33: 利用者の推定数(人)
A34: 営業日(該当する日に○) | C34: 日 | D34: 月 | E34: 火 | F34: 水 | G34: 木 | H34: 金 | J34: 土 | L34: 祝
C36: その他(年末年始等)
A37: 営業時間 | C37: 平日 | E37: ： | G37: ～ | J37: ：
C38: 土曜 | E38: ： | G38: ～ | J38: ：
C39: 日・祝 | E39: ： | G39: ～ | J39: ：
A40: 利用料 | C40: 運営規程に定めるとおり
A41: その他の費用 | C41: 運営規程に定めるとおり
A42: 通常の事業の実施地域
A43: 設備 | C43: 多目的室(デイルーム)の有無(いずれかに○) | H43: 有 | K43: 無
A44: (備考)
A45: １．記入欄が不足する場合は、次頁の「記入欄不足時の資料」に記載して添付してください。
A46: ２．更新の場合には、「利用者の推定数」欄は前年度の平均利用者数を記入してください。
A47: ３．「その他の費用」欄には、利用者に直接金銭の負担を求める場合のサービス内容についても記載してく ださい。
A48: 記入欄不足時の資料
...

Sheet 付表３－２
A1: 付表３－２ 一体的に実施する従たる事業所の指定に係る記載事項
L2: ※多機能型事業実施時は、各事業の付表と付表１３を併せて提出してください。
N4: 受付番号
B6: フリガナ
A7: 施 | B7: 名 称
B8: 所在地 | D8: （郵便番号 － ）
A9: 設 | F9: 県 | I9: 郡・市
B11: 連 絡 先 | D11: 電話番号 | K11: ＦＡＸ番号
A12: 実施主体が地方公共団体である場合は、当該事業の実施について定めてある条例等 | J12: 第 条第 項第 号
A13: サービス | C13: フリガナ | J13: 住 所 | L13: （郵便番号 － ）
A14: 管理責任者 | C14: 氏 名
A15: 従業者の職種・員数 | F15: 医 師 | I15: サービス管理責任者 | L15: 看護職員 | O15: 理学療法士 | R15: 作業療法士
F16: 専従 | G16: ※兼務 | I16: 専従 | J16: ※兼務 | L16: 専従 | M16: ※兼務 | O16: 専従 | P16: ※兼務 | R16: 専従 | S16: ※兼務
B17: 従業者数 | D17: 常勤（人）
D18: 非常勤（人）
B19: 常勤換算後の人数（人）
B20: 基準上の必要人数（人）
F21: 機能訓練指導員 | I21: 生活支援員 | L21: 精神保健福祉士 | O21: その他の従業者
F22: 専従 | G22: ※兼務 | I22: 専従 | J22: ※兼務 | L22: 専従 | M22: ※兼務 | O22: 専従 | P22: ※兼務
B23: 従業者数 | D23: 常勤（人）
D24: 非常勤（人）
B25: 常勤換算後の人数（人）
B26: 基準上の必要人数（人）
B27: 前年度の平均 実利用者数（人） | F27: 施設が申告する障害程度区分の平均値
F28: サービス単位 | I28: ４未満 | M28: ４以上５未満 | Q28: ５以上
F29: サービス単位１
F30: サービス単位２
F31: サービス単位３
A32: 主な掲示事項
B33: 営業日 | F33: 単位ごとの営業日
B34: 営業時間 | F34: 単位ごとのサービス提供時間（送迎時間を除く）（① ： ～ ： ② ： ～ ： ）
B35: 主たる対象者 | F35: 特定無し | H35: 身体障害者
H36: 細分無し | J36: 肢体不自由 | L36: 視覚障害 | N36: 聴覚・言語 | P36: 内部障害
F38: 知的障害者 | H38: 精神障害者 | J38: 難病等対象者
B41: 利用定員 | F41: 人（単位ごとの定員）（① ② ）
B42: 基準上の必要定員
B43: 多機能型実施の有無 | F43: 有 ・ 無
B44: 利用料
B46: その他の費用
B47: その他参考となる事項 | F47: 第三者評価の実施状況 | J47: している ・ していない
...

Sheet 付表３
A1: 付表３ 生活介護事業所の指定等に係る記載事項
A3: 事業所 | B3: フリガナ | C3: =指定申請書!D28 -> 0
B4: 名 称 | C4: =指定申請書!D29 -> 0 | P4: 「指定申請書」の事業所情報が自動で転記されます。
B5: 所在地 | C5: (郵便番号 | D5: =指定申請書!E30 -> 0 | E5: - | F5: =指定申請書!G30 -> 0 | G5: )
C6: =指定申請書!D31 -> 0
B8: 電話番号
B9: E-Mail
A10: 管理者 | B10: フリガナ | F10: 生年月日
B11: 氏 名 | H11: 年 | J11: 月 | L11: 日
B12: 住 所 | C12: (郵便番号 | E12: - | G12: )
B15: 当該事業所で兼務する他の職種(兼務の場合選択)
B16: 他の事業所又は施設の従業者との兼務(兼務の場合記入) | D16: 事業所等の名称
D17: 兼務する職種及び勤務時間等
A19: サービス管理責任者 | B19: フリガナ | F19: 生年月日
B20: 氏 名 | H20: 年 | J20: 月 | L20: 日
B21: 住 所 | C21: (郵便番号 | E21: - | G21: )
A24: 実施主体が地方公共団体である場合は、当該事業の実施について定めてある条例等 | H24: 第 条 第 項 第 号
A25: ○人員に関する基準の確認に必要な事項
A26: 従業者の職種・員数 | C26: 居宅介護等従業者 | E26: その他の従業者
C27: 専従 | D27: 兼務 | E27: 専従 | F27: 兼務
A28: 常勤（人）
A29: 非常勤（人）
A30: 常勤換算後の人数（人）
A31: 基準上の必要人数（人）
A32: ○運営・設備に関する基準の確認に必要な事項
A33: 利用定員(人)
A34: 利用者の推定数(人) | C34: 事業所が申告する障害支援区分の平均値
C35: サービス単位 | E35: ４未満 | G35: ４以上５未満 | J35: ５以上
C36: サービス単位１
C37: サービス単位２
C38: サービス単位３
A39: 営業日(該当する日に○) | C39: 日 | D39: 月 | E39: 火 | F39: 水 | G39: 木 | H39: 金 | J39: 土 | L39: 祝
C41: その他(年末年始等)
A42: 営業時間 | C42: 平日 | E42: ： | G42: ～ | J42: ：
C43: 土曜 | E43: ： | G43: ～ | J43: ：
C44: 日・祝 | E44: ： | G44: ～ | J44: ：
A45: 利用料 | C45: 運営規程に定めるとおり
A46: その他の費用 | C46: 運営規程に定めるとおり
A47: 通常の事業の実施地域
A48: 協力医療機関 | C48: 名称 | G48: 診療科名
...

Sheet 付表４
A1: 付表４ 短期入所事業所の指定等に係る記載事項
A3: 事業所 | B3: フリガナ | C3: =指定申請書!D28 -> 0
B4: 名 称 | C4: =指定申請書!D29 -> 0 | P4: 「指定申請書」の事業所情報が自動で転記されます。
B5: 所在地 | C5: (郵便番号 | D5: =指定申請書!E30 -> 0 | E5: - | F5: =指定申請書!G30 -> 0 | G5: )
C6: =指定申請書!D31 -> 0
B8: 電話番号
B9: E-Mail
A10: 管理者 | B10: フリガナ | F10: 生年月日
B11: 氏 名 | H11: 年 | J11: 月 | L11: 日
B12: 住 所 | C12: (郵便番号 | E12: - | G12: )
B15: 当該事業所で兼務する他の職種(兼務の場合選択)
B16: 他の事業所又は施設の従業者との兼務(兼務の場合記入) | D16: 事業所等の名称
D17: 兼務する職種及び勤務時間等
A19: 事業所の種別(いずれかに○)及び定員(人) | C19: 種別 | E19: 定員 | H19: 医療型・福祉型の別
D20: 空床型 | E20: 本体施設の空床の範囲内 | J20: 医療型
D21: 併設型 | J21: 福祉型
D22: 単独型
A23: 本体施設の種別・名称・定員・入所者数 | C23: 名称 | H23: 定員
C24: 種別 | H24: 前年度平均入所者数
A25: 実施主体が地方公共団体である場合は、当該事業の実施について定めてある条例等 | H25: 第 条 第 項 第 号
A26: ○人員に関する基準の確認に必要な事項
A27: 従業者の職種・員数 | C27: 居宅介護等従業者 | E27: その他の従業者
C28: 専従 | D28: 兼務 | E28: 専従 | F28: 兼務
A29: 常勤（人）
A30: 非常勤（人）
A31: 常勤換算後の人数（人）
A32: 基準上の必要人数（人）
A33: 障害児対象事業(該当する場合に選択。)
A35: 利用する障害児の推定数(人)(障害児対象事業に該当する場合記入)
A36: ○運営・設備に関する基準の確認に必要な事項
A37: 利用者の推定数(人)
A38: 営業日(該当する日に○) | C38: 日 | D38: 月 | E38: 火 | F38: 水 | G38: 木 | H38: 金 | J38: 土 | L38: 祝
C40: その他(年末年始等)
A41: 営業時間 | C41: 平日 | E41: ： | G41: ～ | J41: ：
C42: 土曜 | E42: ： | G42: ～ | J42: ：
C43: 日・祝 | E43: ： | G43: ～ | J43: ：
A44: 利用料 | C44: 運営規程に定めるとおり
A45: その他の費用 | C45: 運営規程に定めるとおり
A46: 通常の事業の実施地域
A47: 協力医療機関 | C47: 名称 | G47: 診療科名
...

Sheet 付表５
A1: 付表５ 重度障害者等包括支援事業所の指定等に係る記載事項
A3: 事業所 | B3: フリガナ | C3: =指定申請書!D28 -> 0
B4: 名 称 | C4: =指定申請書!D29 -> 0 | P4: 「指定申請書」の事業所情報が自動で転記されます。
B5: 所在地 | C5: (郵便番号 | D5: =指定申請書!E30 -> 0 | E5: - | F5: =指定申請書!G30 -> 0 | G5: )
C6: =指定申請書!D31 -> 0
B8: 電話番号
B9: E-Mail
A10: 事業所以外の 事務所 | B10: フリガナ
B11: 名 称
B12: 所在地 | C12: (郵便番号 | E12: - | G12: )
B15: 電話番号
B16: E-Mail
A17: 管理者 | B17: フリガナ | F17: 生年月日
B18: 氏 名 | H18: 年 | J18: 月 | L18: 日
B19: 住 所 | C19: (郵便番号 | E19: - | G19: )
B22: 当該事業所で兼務する他の職種(兼務の場合選択)
B23: 他の事業所又は施設の従業者との兼務(兼務の場合記入) | D23: 事業所等の名称
D24: 兼務する職種及び勤務時間等
A27: 責任者 サービス提供 | B27: フリガナ | F27: 生年月日
B28: 氏 名 | H28: 年 | J28: 月 | L28: 日
B29: 住 所 | C29: (郵便番号 | E29: -
D30: 県 | F30: 市
A32: 実施主体が地方公共団体である場合は、当該事業の実施について定めてある条例等 | H32: 第 条 第 項 第 号
A33: ○人員に関する基準の確認に必要な事項
A34: 従業者の職種・員数 | C34: 居宅介護等従業者 | E34: その他の従業者
C35: 専従 | D35: 兼務 | E35: 専従 | F35: 兼務
A36: 常勤(人)
A37: 非常勤(人)
A38: 常勤換算後の人数(人)
A39: 基準上の必要人数(人)
A40: サービス提供責任者 | B40: フリガナ | F40: 生年月日
B41: 氏 名 | H41: 年 | J41: 月 | L41: 日
B42: 住 所 | C42: (郵便番号 | E42: - | G42: )
A45: 実施主体が地方公共団体である場合は、当該事業の実施について定めてある条例等 | H45: 第 条 第 項 第 号
A46: 障害児対象事業(該当する場合に選択。)
A48: 利用する障害児の推定数(人)(障害児対象事業に該当する場合記入)
A49: ○運営・設備に関する基準の確認に必要な事項
A50: 事業所の体制 | B50: 提供する障害福祉サービス | D50: 種類 | F50: 事業所名
B54: 第三者委託により提供する障害福祉サービス | D54: 種類 | F54: 事業所名 | J54: 所在地
B58: 利用者からの連絡対応体制の概要
...

Sheet 付表６
A1: 付表６ 自立訓練(機能訓練・生活訓練)事業所の指定等に係る記載事項
A3: サービス種別(申請するものに○) | E3: 機能訓練 | G3: 生活訓練 | J3: 宿泊型自立訓練を実施する場合は○
A4: 事業所 | B4: フリガナ | C4: =指定申請書!D28 -> 0
B5: 名 称 | C5: =指定申請書!D29 -> 0 | P5: 「指定申請書」の事業所情報が自動で転記されます。
B6: 所在地 | C6: (郵便番号 | D6: =指定申請書!E30 -> 0 | E6: - | F6: =指定申請書!G30 -> 0 | G6: )
C7: =指定申請書!D31 -> 0
B9: 電話番号
B10: E-Mail
A11: 管理者 | B11: フリガナ | F11: 生年月日
B12: 氏 名 | H12: 年 | J12: 月 | L12: 日
B13: 住 所 | C13: (郵便番号 | E13: - | G13: )
B16: 当該事業所で兼務する他の職種(兼務の場合選択)
B17: 他の事業所又は施設の従業者との兼務(兼務の場合記入) | D17: 事業所等の名称
D18: 兼務する職種及び勤務時間等
A20: サービス管理責任者 | B20: フリガナ | F20: 生年月日
B21: 氏 名 | H21: 年 | J21: 月 | L21: 日
B22: 住 所 | C22: (郵便番号 | E22: - | G22: )
A25: 実施主体が地方公共団体である場合は、当該事業の実施について定めてある条例等 | H25: 第 条 第 項 第 号
A26: ○人員に関する基準の確認に必要な事項
A27: 従業者の職種・員数 | C27: 居宅介護等従業者 | E27: その他の従業者
C28: 専従 | D28: 兼務 | E28: 専従 | F28: 兼務
A29: 常勤（人）
A30: 非常勤（人）
A31: 常勤換算後の人数（人）
A32: 基準上の必要人数（人）
A33: ○運営・設備に関する基準の確認に必要な事項
A34: 訪問事業の実施 | C34: 有 | E34: 無
A35: 利用定員(人)
A36: 利用者の推定数(人)
A37: 営業日(該当する日に○) | C37: 日 | D37: 月 | E37: 火 | F37: 水 | G37: 木 | H37: 金 | J37: 土 | L37: 祝
C39: その他(年末年始等)
A40: 営業時間 | C40: 平日 | E40: ： | G40: ～ | J40: ：
C41: 土曜 | E41: ： | G41: ～ | J41: ：
C42: 日・祝 | E42: ： | G42: ～ | J42: ：
A43: 利用料 | C43: 運営規程に定めるとおり
A44: その他の費用 | C44: 運営規程に定めるとおり
A45: 通常の事業の実施地域
A46: 協力医療機関 | C46: 名称 | G46: 診療科名
A47: ○一体的に実施する従たる事業所の指定等に係る記載事項
A48: 事業所 | B48: フリガナ
...

Sheet 付表８
A1: 付表８ 就労移行支援事業所の指定等に係る記載事項
A3: サービス種別(申請するものに○) | E3: 一般型 | G3: 資格取得型
A4: 事業所 | B4: フリガナ | C4: =指定申請書!D28 -> 0
B5: 名 称 | C5: =指定申請書!D29 -> 0 | P5: 「指定申請書」の事業所情報が自動で転記されます。
B6: 所在地 | C6: (郵便番号 | D6: =指定申請書!E30 -> 0 | E6: - | F6: =指定申請書!G30 -> 0 | G6: )
C7: =指定申請書!D31 -> 0
B9: 電話番号
B10: E-Mail
A11: 管理者 | B11: フリガナ | F11: 生年月日
B12: 氏 名 | H12: 年 | J12: 月 | L12: 日
B13: 住 所 | C13: (郵便番号 | E13: - | G13: )
B16: 当該事業所で兼務する他の職種(兼務の場合選択)
B17: 他の事業所又は施設の従業者との兼務(兼務の場合記入) | D17: 事業所等の名称
D18: 兼務する職種及び勤務時間等
A20: サービス管理責任者 | B20: フリガナ | F20: 生年月日
B21: 氏 名 | H21: 年 | J21: 月 | L21: 日
B22: 住 所 | C22: (郵便番号 | E22: - | G22: )
A25: 実施主体が地方公共団体である場合は、当該事業の実施について定めてある条例等 | H25: 第 条 第 項 第 号
A26: ○人員に関する基準の確認に必要な事項
A27: 従業者の職種・員数 | C27: 居宅介護等従業者 | E27: その他の従業者
C28: 専従 | D28: 兼務 | E28: 専従 | F28: 兼務
A29: 常勤（人）
A30: 非常勤（人）
A31: 常勤換算後の人数（人）
A32: 基準上の必要人数（人）
A33: ○運営・設備に関する基準の確認に必要な事項
A34: 利用定員(人)
A35: 利用者の推定数(人)
A36: 利用料
A37: その他の費用
A38: 通常の事業の実施地域
A39: 協力医療機関 | C39: 名称 | G39: 診療科名
A40: 提携就労支援機関
A41: ○一体的に実施する従たる事業所の指定等に係る記載事項
A42: 事業所 | B42: フリガナ
B43: 名 称
B44: 所在地 | C44: (郵便番号 | E44: - | G44: )
B47: 電話番号
B48: E-Mail
A49: サービス管理責任者 | B49: フリガナ | F49: 生年月日
...

Sheet 付表９
A1: 付表９ 就労継続支援事業所の指定等に係る記載事項
A3: サービス種別(申請するものに○) | E3: 就労継続支援Ａ型 | H3: 就労継続支援Ｂ型
A4: 事業所 | B4: フリガナ | C4: =指定申請書!D28 -> 0
B5: 名 称 | C5: =指定申請書!D29 -> 0 | P5: 「指定申請書」の事業所情報が自動で転記されます。
B6: 所在地 | C6: (郵便番号 | D6: =指定申請書!E30 -> 0 | E6: - | F6: =指定申請書!G30 -> 0 | G6: )
C7: =指定申請書!D31 -> 0
B9: 電話番号
B10: E-Mail
A11: 管理者 | B11: フリガナ | F11: 生年月日
B12: 氏 名 | H12: 年 | J12: 月 | L12: 日
B13: 住 所 | C13: (郵便番号 | E13: - | G13: )
B16: 当該事業所で兼務する他の職種(兼務の場合選択)
B17: 他の事業所又は施設の従業者との兼務(兼務の場合記入) | D17: 事業所等の名称
D18: 兼務する職種及び勤務時間等
A20: サービス管理責任者 | B20: フリガナ | F20: 生年月日
B21: 氏 名 | H21: 年 | J21: 月 | L21: 日
B22: 住 所 | C22: (郵便番号 | E22: -
A25: 実施主体が地方公共団体である場合は、当該事業の実施について定めてある条例等 | H25: 第 条 第 項 第 号
A26: ○人員に関する基準の確認に必要な事項
A27: 従業者の職種・員数 | C27: 居宅介護等従業者 | E27: その他の従業者
C28: 専従 | D28: 兼務 | E28: 専従 | F28: 兼務
A29: 常勤(人)
A30: 非常勤(人)
A31: 常勤換算後の人数(人)
A32: 基準上の必要人数(人)
A33: ○運営・設備に関する基準の確認に必要な事項
A34: 利用定員(人)
A35: 利用者の推定数(人)
A36: 利用料 | C36: 運営規程に定めるとおり
A37: その他の費用 | C37: 運営規程に定めるとおり
A38: 通常の事業の実施地域
A39: 協力医療機関 | C39: 名称 | G39: 診療科名
A40: ○一体的に実施する従たる事業所の指定等に係る記載事項
A41: 事業所 | B41: フリガナ
B42: 名 称
B43: 所在地 | C43: (郵便番号 | E43: - | G43: )
B46: 電話番号
B47: E-Mail
A48: サービス管理責任者 | B48: フリガナ | F48: 生年月日
B49: 氏 名 | H49: 年 | J49: 月 | L49: 日
...

Sheet 付表１０
A1: 付表１０ 就労定着支援事業所の指定等に係る記載事項
A3: 事業所 | B3: フリガナ | C3: =指定申請書!D28 -> 0
B4: 名 称 | C4: =指定申請書!D29 -> 0 | P4: 「指定申請書」の事業所情報が自動で転記されます。
B5: 所在地 | C5: (郵便番号 | D5: =指定申請書!E30 -> 0 | E5: - | F5: =指定申請書!G30 -> 0 | G5: )
C6: =指定申請書!D31 -> 0
B8: 電話番号
B9: E-Mail
A10: 管理者 | B10: フリガナ | F10: 生年月日
B11: 氏 名 | H11: 年 | J11: 月 | L11: 日
B12: 住 所 | C12: (郵便番号 | E12: - | G12: )
B15: 当該事業所で兼務する他の職種(兼務の場合選択)
B16: 他の事業所又は施設の従業者との兼務(兼務の場合記入) | D16: 事業所等の名称
D17: 兼務する職種及び勤務時間等
A19: サービス管理責任者 | B19: フリガナ | F19: 生年月日
B20: 氏 名 | H20: 年 | J20: 月 | L20: 日
B21: 住 所 | C21: (郵便番号 | E21: - | G21: )
A24: 実施主体が地方公共団体である場合は、当該事業の実施について定めてある条例等 | H24: 第 条 第 項 第 号
A25: ○人員に関する基準の確認に必要な事項
A26: 従業者の職種・員数 | C26: 居宅介護等従業者 | E26: その他の従業者
C27: 専従 | D27: 兼務 | E27: 専従 | F27: 兼務
A28: 常勤(人)
A29: 非常勤(人)
A30: 常勤換算後の人数(人)
A31: 基準上の必要人数(人)
A32: ○運営・設備に関する基準の確認に必要な事項
A33: 利用者の推定数(人)
A34: 一体的に運営する事業所の前年度の平均利用者数(人)
A35: 営業日(該当する日に○) | C35: 日 | D35: 月 | E35: 火 | F35: 水 | G35: 木 | H35: 金 | J35: 土 | L35: 祝
C37: その他(年末年始等)
A38: 営業時間 | C38: 平日 | E38: ： | G38: ～ | J38: ：
C39: 土曜 | E39: ： | G39: ～ | J39: ：
C40: 日・祝 | E40: ： | G40: ～ | J40: ：
A41: 利用料 | C41: 運営規程に定めるとおり
A42: その他の費用 | C42: 運営規程に定めるとおり
A43: 通常の事業の実施地域
A44: (備考)
A45: １．記入欄が不足する場合は、次頁の「記入欄不足時の資料」に記載して添付してください。
A46: ２．更新の場合には、「利用者の推定数」欄は前年度の平均利用者数を記入してください。
A47: ３．「その他の費用」欄には、利用者に直接金銭の負担を求める場合のサービス内容についても記載してく ださい。
A48: 記入欄不足時の資料
...

Sheet 付表１１
A1: 付表１１ 自立生活援助事業所の指定等に係る記載事項
A3: 事業所 | B3: フリガナ | C3: =指定申請書!D28 -> 0
B4: 名 称 | C4: =指定申請書!D29 -> 0 | P4: 「指定申請書」の事業所情報が自動で転記されます。
B5: 所在地 | C5: (郵便番号 | D5: =指定申請書!E30 -> 0 | E5: - | F5: =指定申請書!G30 -> 0 | G5: )
C6: =指定申請書!D31 -> 0
B8: 電話番号
B9: E-Mail
A10: 管理者 | B10: フリガナ | F10: 生年月日
B11: 氏 名 | H11: 年 | J11: 月 | L11: 日
B12: 住 所 | C12: (郵便番号 | E12: - | G12: )
B15: 当該事業所で兼務する他の職種(兼務の場合選択)
B16: 他の事業所又は施設の従業者との兼務(兼務の場合記入) | D16: 事業所等の名称
D17: 兼務する職種及び勤務時間等
A19: サービス管理責任者 | B19: フリガナ | F19: 生年月日
B20: 氏 名 | H20: 年 | J20: 月 | L20: 日
B21: 住 所 | C21: (郵便番号 | E21: - | G21: )
A24: 実施主体が地方公共団体である場合は、当該事業の実施について定めてある条例等 | H24: 第 条 第 項 第 号
A25: ○人員に関する基準の確認に必要な事項
A26: 従業者の職種・員数 | C26: 居宅介護等従業者 | E26: その他の従業者
C27: 専従 | D27: 兼務 | E27: 専従 | F27: 兼務
A28: 常勤(人)
A29: 非常勤(人)
A30: 常勤換算後の人数(人)
A31: 基準上の必要人数(人)
A32: ○運営・設備に関する基準の確認に必要な事項
A33: 利用者の推定数(人)
A34: 営業日(該当する日に○) | C34: 日 | D34: 月 | E34: 火 | F34: 水 | G34: 木 | H34: 金 | J34: 土 | L34: 祝
C36: その他(年末年始等)
A37: 営業時間 | C37: 平日 | E37: ： | G37: ～ | J37: ：
C38: 土曜 | E38: ： | G38: ～ | J38: ：
C39: 日・祝 | E39: ： | G39: ～ | J39: ：
A40: 利用料 | C40: 運営規程に定めるとおり
A41: その他の費用 | C41: 運営規程に定めるとおり
A42: 通常の事業の実施地域
A43: (備考)
A44: １．記入欄が不足する場合は、次頁の「記入欄不足時の資料」に記載して添付してください。
A45: ２．更新の場合には、「利用者の推定数」欄は前年度の平均利用者数を記入してください。
A46: ３．「その他の費用」欄には、利用者に直接金銭の負担を求める場合のサービス内容についても記載してく ださい。
A47: 記入欄不足時の資料
A48: ■サービス管理責任者
...

Sheet 付表１２
A1: 付表１２ 共同生活援助事業所の指定等に係る記載事項
A3: 主たる事業所 | B3: フリガナ | C3: =指定申請書!D28 -> 0
B4: 名 称 | C4: =指定申請書!D29 -> 0 | P4: 「指定申請書」の事業所情報が自動で転記されます。
B5: 所在地 | C5: (郵便番号 | D5: =指定申請書!E30 -> 0 | E5: - | F5: =指定申請書!G30 -> 0 | G5: )
C6: =指定申請書!D31 -> 0
B8: 電話番号
B9: E-Mail
A10: 管理者 | B10: フリガナ | F10: 生年月日
B11: 氏 名 | H11: 年 | J11: 月 | L11: 日
B12: 住 所 | C12: (郵便番号 | E12: - | G12: )
B15: 当該事業所で兼務する他の職種(兼務の場合選択)
B16: 他の事業所又は施設の従業者との兼務(兼務の場合記入) | D16: 事業所等の名称
D17: 兼務する職種及び勤務時間等
A19: サービス管理責任者 | B19: フリガナ | F19: 生年月日
B20: 氏 名 | H20: 年 | J20: 月 | L20: 日
B21: 住 所 | C21: (郵便番号 | E21: -
A24: 実施主体が地方公共団体である場合は、当該事業の実施について定めてある条例等 | H24: 第 条 第 項 第 号
A25: ○人員に関する基準の確認に必要な事項
A26: 従業者の職種・員数 | C26: 居宅介護等従業者 | E26: その他の従業者
C27: 専従 | D27: 兼務 | E27: 専従 | F27: 兼務
A28: 常勤(人)
A29: 非常勤(人)
A30: 常勤換算後の人数(人)
A31: 基準上の必要人数(人)
A32: ○運営・設備に関する基準の確認に必要な事項
A33: サービスの提供形態(該当部分に○) | D33: 介護サービス包括型 | F33: 生活支援員の業務の外部委託の予定(該当の場合選択) | H33: 有 | K33: 無
D34: 日中サービス支援型 | H34: 有の場合の月間時間数
D35: 外部サービス利用型 | F35: 受託居宅介護サービス事業者が事業を行う事業所の名称及び所在地並びに当該事業者の名称及び所在地 | L35: 別紙のとおり
A36: 利用定員(人)
A37: 利用者の推定数(人)
A38: 指定障害福祉サービス事業所等との連携体制 | C38: 連携する施設の種別 | G38: 施設名
C39: 支援体制の概要
A40: 協力医療機関 | C40: 名称 | G40: 診療科名
A41: 協力歯科医療機関 | C41: 名称
A43: ○共同生活住居の情報
A44: 共同生活住居①(主たる事業所) | B44: フリガナ | C44: （前頁に記載）
B45: 名 称
B46: 所在地 | C46: （前頁に記載）
B49: 連 絡 先 | C49: （前頁に記載）
B50: 住居区分 （該当するものに○） | E50: 一戸建て | H50: アパート
...

Sheet 付表１３
A1: 付表１３ 障害者支援施設の指定等に係る記載事項
A3: 施設 | B3: フリガナ | C3: =指定申請書!D28 -> 0
B4: 名 称 | C4: =指定申請書!D29 -> 0 | P4: 「指定申請書」の事業所情報が自動で転記されます。
B5: 所在地 | C5: (郵便番号 | D5: =指定申請書!E30 -> 0 | E5: - | F5: =指定申請書!G30 -> 0 | G5: )
C6: =指定申請書!D31 -> 0
B8: 電話番号
B9: E-Mail
A10: 管理者 | B10: フリガナ | F10: 生年月日
B11: 氏 名 | H11: 年 | J11: 月 | L11: 日
B12: 住 所 | C12: (郵便番号 | E12: - | G12: )
B15: 当該施設で兼務する他の職種(兼務の場合選択)
B16: 他の事業所又は施設の従業者との兼務(兼務の場合記入) | D16: 事業所等の名称
D17: 兼務する職種及び勤務時間等
A19: サービス管理責任者 | B19: フリガナ | F19: 生年月日
B20: 氏 名 | H20: 年 | J20: 月 | L20: 日
B21: 住 所 | C21: (郵便番号 | E21: - | G21: )
A24: 実施主体が地方公共団体である場合は、当該事業の実施について定めてある条例等 | H24: 第 条 第 項 第 号
A25: ○人員に関する基準の確認に必要な事項
A26: 従業者の職種・員数 | C26: 居宅介護等従業者 | E26: その他の従業者
C27: 専従 | D27: 兼務 | E27: 専従 | F27: 兼務
A28: 常勤(人)
A29: 非常勤(人)
A30: 常勤換算後の人数(人)
A31: 基準上の必要人数(人)
A32: ○運営・設備に関する基準の確認に必要な事項
A33: 居室 | B33: １室の最大定員(人)
B34: 入所者１人あたりの最小床面積(㎡)
A35: 廊下 | B35: 廊下の幅(ｍ)
B36: 中廊下の幅(ｍ)
A37: 既存施設からの移行の場合 | C37: 既存施設名
C38: 施設種別
C39: 経過措置 | E39: 有 | G39: 無
C40: 特定旧法受給者数(人)
A41: 協力医療機関 | C41: 名称 | G41: 診療科名
A42: 協力歯科医療機関 | C42: 名称
A43: (就労移行支援を行う場合のみ)提携就労支援機関 | F43: 名称
A44: ○昼間実施サービス及び施設入所支援に係る記載事項
A45: 昼間実施サービスの種類 | C45: 生活介護 | D45: 自立訓練 (機能訓練) | E45: 自立訓練 (生活訓練) | F45: 就労移行支援 (一般型) | G45: 就労移行支援 (資格取得型) | H45: 就労継続支援 (Ａ型) | J45: 就労移行支援 (Ｂ型)
B46: 実施有無
B47: 利用者の推定数
...

Sheet 付表１４
A1: 付表１４ 指定一般相談支援事業所の指定等に係る記載事項
A3: サービス種別(申請するものに○) | E3: 地域移行支援 | H3: 地域定着支援
A4: 事業所 | B4: フリガナ | C4: =指定申請書!D28 -> 0
B5: 名 称 | C5: =指定申請書!D29 -> 0 | P5: 「指定申請書」の事業所情報が自動で転記されます。
B6: 所在地 | C6: (郵便番号 | D6: =指定申請書!E30 -> 0 | E6: - | F6: =指定申請書!G30 -> 0 | G6: )
C7: =指定申請書!D31 -> 0
B9: 電話番号
B10: E-Mail
A11: 管理者 | B11: フリガナ | F11: 生年月日
B12: 氏 名 | H12: 年 | J12: 月 | L12: 日
B13: 住 所 | C13: (郵便番号 | E13: - | G13: )
B16: 当該事業所における相談支援専門員との兼務の有無 | H16: 有 | K16: 無
B17: 他の事業所又は施設の従業者との兼務(兼務の場合記入) | D17: 事業所等の名称
D18: 兼務する職種及び勤務時間等
A20: 指定地域相談支援の提供に当たる者 | B20: フリガナ | F20: 生年月日
B21: 氏 名 | H21: 年 | J21: 月 | L21: 日
B22: 住 所 | C22: (郵便番号 | E22: - | G22: )
B25: フリガナ | F25: 生年月日
B26: 氏 名 | H26: 年 | J26: 月 | L26: 日
B27: 住 所 | C27: (郵便番号 | E27: - | G27: )
B30: フリガナ | F30: 生年月日
B31: 氏 名 | H31: 年 | J31: 月 | L31: 日
B32: 住 所 | C32: (郵便番号 | E32: - | G32: )
A35: 実施主体が地方公共団体である場合は、当該事業の実施について定めてある条例等 | H35: 第 条 第 項 第 号
A36: ○人員に関する基準の確認に必要な事項
A37: 従業者の職種・員数 | C37: 居宅介護等従業者 | E37: その他の従業者
C38: 専従 | D38: 兼務 | E38: 専従 | F38: 兼務
A39: 常勤(人)
A40: 非常勤(人)
A41: 常勤換算後の人数(人)
A42: 基準上の必要人数(人)
A43: ○運営・設備に関する基準の確認に必要な事項
A44: 常時の連絡体制の 確保の具体的方法 (地域定着支援のみ)
A45: 営業日(該当する日に○) | C45: 日 | D45: 月 | E45: 火 | F45: 水 | G45: 木 | H45: 金 | J45: 土 | L45: 祝
C47: その他(年末年始等)
A48: 営業時間 | C48: 平日 | E48: ： | G48: ～ | J48: ：
C49: 土曜 | E49: ： | G49: ～ | J49: ：
C50: 日・祝 | E50: ： | G50: ～ | J50: ：
A51: その他の費用 | C51: 運営規程に定めるとおり
A52: 通常の事業の実施地域
...
