Workbook

Sheet 業務管理体制の整備に係る報告書
X1: 令和 | AB1: 年 | AE1: 月 | AH1: 日 | AI1: 提出
A4: 神奈川県福祉子どもみらい局福祉部障害サービス課長 殿
R6: 法人名
R8: 代表者名
R10: 記入者名
G13: 業務管理体制の整備に係る確認書
G15: 報告書を作成する前に必ず確認してください
L17: 提出書類の確認チャート
B19: Ｑ１ | D19: ；指定障害福祉サービス事業者又は指定障害支援施設の設置者として、以下の枠内の障
B20: 害福祉サービス事業所の指定を受けていますか。 | V20: 〇 | W20: を選択してください。（複数回答可）
F22: 居宅介護 | N22: 生活介護 | X22: 自立訓練(機能訓練)
F23: 重度訪問介護 | N23: 短期入所 | X23: 自立生活援助
F24: 行動援護 | N24: 障害者支援施設 | X24: 就労移行支援
F25: 同行援護 | N25: 共同生活援助 | X25: 就労継続支援(Ａ型)
F26: 重度包括 | N26: 宿泊型自立訓練 | X26: 就労継続支援(Ｂ型)
F27: 療養介護 | N27: 自立訓練(生活訓練) | X27: 就労定着支援
E29: 上記に該当の障害福祉サービスがない場合は、
G30: 今年度の一般検査の対象外です。提出の必要はありません。
B32: Ｑ２ | D32: ；指定を受けた上記枠内の指定障害福祉サービス事業所は、複数の都道府県に所在してい
B33: ますか。
H35: はい | P35: いいえ | S35: → Ｑ３に進む
E37: ※ | F37: はい〇の場合は、Ｑ２までを入力し、提出してください。
B39: Ｑ３ | D39: ；指定を受けた上記枠内の指定障害福祉サービス事業所の神奈川県内の所在地は、次の
B40: ①～④のうちひとつの市のみにありますか。
M41: ①横浜市内にのみ所在している
M42: ②川崎市内にのみ所在している
M43: ③相模原市内にのみ所在している
M44: ④横須賀市内にのみ所在している
F46: ・はい → この確認書のみを提出してください。 | Z46: ・いいえ
G47: （※）横浜市、川崎市、相模原市、横須賀市
I48: が所管の事業者です
H52: 様式２の報告を行っていただく対象事業者となります。
H54: 以下の様式２に記載をいただき、神奈川県障害サービス課監査グループあてにこの確認書とともに、 令和７年７月31日までにエクセルファイルのまま電子申請で提出してください。
E56: 注)事業者（法人）ごとに提出を行うものであり、事業所ごとの提出ではありません。
A59: 様式２
H60: 業務管理体制の整備に係る報告書
Y62: 令和 | AC62: 年 | AF62: 月 | AI62: 日 | AJ62: 提出
A65: 神奈川県福祉子どもみらい局福祉部障害サービス課長 殿
S67: 法人区分 | W67: 以下から選択してください。
S69: 法人名
S71: 代表者名
W74: の欄を選択または記入をしてください。
A76: 法人の主たる事務所の所在地
A78: 問合せ先 | J78: 電話 | T78: 電子 メール
J80: 記入者氏名
A82: 事業所数 | J82: 以下から選択してください。
A84: Ⅰ 業務管理体制に係る届出内容の確認項目
A86: 直近の届出年月日 | K86: 平成・令和 | R86: 年 | U86: 月 | X86: 日 | AE86: 届出なし | AI86: ※
A88: 届出内容 | C88: 法令遵守責任者 | K88: 氏名
C90: 法令遵守規程 | M90: 規程の写しを提出済み(20以上の事業所等経営事業者） | AG90: 届出対象外
C92: 業務執行状況監査 | M92: 監査概要を提出済み(100以上の事業所等経営事業者） | AG92: 届出対象外
C94: 届出内容の変更有無 | M94: 有 | O94: 内容
D96: ※ | E96: この報告書は届出書ではありません。届出していない事業者は、速やかに神奈川県のホームページの
E97: 業務分類から探す⇒産業働く⇒介護・福祉サービス業⇒業務管理体制の整備に関する届出を郵送してください。
A98: Ⅱ 業務管理体制の整備・運営状況確認項目
A100: 1 | C100: 法令等遵守についての方針(基本的な考え方)等を定めていますか。
C104: ＊ | D104: 定めている場合は、具体的な内容を記載してください(既存の資料添付でも構いません。)。
A105: 2 | C105: １で方針等を定めている場合は、法人等役員、従業者に周知していますか。
C109: ＊ | D109: 周知している場合は、具体的な内容を記載してください(既存の資料添付でも構いません。)。
A110: 3 | C110: 法令遵守責任者の役割を定めていますか。
C114: ＊ | D114: 定めている場合は、具体的な内容を記載してください(既存の資料添付でも構いません。)。
AH115: 裏面に続く
A121: 4 | C121: 法令遵守責任者の役割を法人等役員、従業者に周知していますか。
C125: ＊ | D125: 具体的な周知の方法等を記載してください(既存の資料添付でも構いません。)。
A126: 5 | C126: 業務が法令に適合することを確保するための規程(法令遵守規程)を法人等役員、職員に周知していますか。 | AD126: ＊ | AE126: 法令遵守規程等を策定している場合
C131: ＊ | D131: 周知している場合は、具体的な内容を記載してください(既存の資料添付でも構いません。)。
A132: 6 | C132: 法令等遵守のための法人等役員、従業者への研修を行っていますか。
C136: ＊ | D136: 実施している場合は、具体的な内容を記載してください(既存の資料添付でも構いません。)。
A137: 7 | C137: 各事業所の運営状況(サービス提供状況及び給付費等請求状況)について、法令に準じて、適正に行われているかどうかを把握する仕組み(報告や通報を含む。）はありますか。
C142: ＊ | D142: 把握及び指導している場合は、具体的な内容を記載してください(既存の資料添付でも構いません。)。

Sheet データ取得
A1: 報告年月日 | B1: 法人名 | C1: 代表者名 | D1: 記入者名 | E1: 居宅介護 | F1: 重度訪問介護 | G1: 行動援護 | H1: 同行援護 | I1: 重度包括 | J1: 療養介護 | K1: 生活介護 | L1: 短期入所 | M1: 障害者支援施設 | N1: 共同生活援助 | O1: 宿泊型自立訓練 | P1: 自立訓練(生活訓練) | Q1: 自立訓練(機能訓練) | R1: 自立生活援助 | S1: 就労移行支援 | T1: 就労継続支援(Ａ型) | U1: 就労継続支援(Ｂ型) | V1: 就労定着支援 | W1: 複数の都道府県 はい | X1: 複数の都道府県 いいえ | Y1: ①横浜市内にのみ所在している | Z1: ②川崎市内にのみ所在している | AA1: ③相模原市内にのみ所在している | AB1: ④横須賀市内にのみ所在している | AC1: ①～④に該当しますか。はい | AD1: ①～④に該当しますか。いいえ | AE1: 提出年 | AF1: 法人区分 | AG1: 法人名 | AH1: 代表者名 | AI1: 法人の主たる事務所の所在地 | AJ1: 電話番号 | AK1: 電子メール | AL1: 記入者名 | AM1: 事業所数 | AN1: 直近の届出元号 | AO1: 直近の届出年月日 | AP1: 届出なし | AQ1: 法令遵守責任者 | AR1: 法令遵守規程 | AS1: 届出対象外 | AT1: 業務執行状況監査 | AU1: 届出対象外 | AV1: 届出内容の変更有無 | AW1: 内容 | AX1: 無 | AY1: 法令等遵守についての方針(基本的な考え方)等を定めていますか。 | AZ1: 内容 | BA1: １で方針等を定めている場合は、法人等役員、従業者に周知していますか。 | BB1: 内容 | BC1: 法令遵守責任者の役割を定めていますか。 | BD1: 内容 | BE1: 法令遵守責任者の役割を法人等役員、従業者に周知していますか。 | BF1: 内容 | BG1: 業務が法令に適合することを確保するための規程(法令遵守規程)を法人等役員、職員に周知していますか。 | BH1: 内容 | BI1: 法令等遵守のための法人等役員、従業者への研修を行っていますか。 | BJ1: 内容 | BK1: 各事業所の運営状況(サービス提供状況及び給付費等請求状況)について、法令に準じて、適正に行われているかどうかを把握する仕組み(報告や通報を含む。）はありますか。 | BL1: 内容
A2: =2025&"/"&業務管理体制の整備に係る報告書!Z1&"/"&業務管理体制の整備に係る報告書!AC1&"/"&業務管理体制の整備に係る報告書!AF1 -> 2025/// | B2: =業務管理体制の整備に係る報告書!V6 -> 0 | C2: =業務管理体制の整備に係る報告書!V8 -> 0 | D2: =業務管理体制の整備に係る報告書!V10 -> 0 | E2: =業務管理体制の整備に係る報告書!$E22 -> 0 | F2: =業務管理体制の整備に係る報告書!$E23 -> 0 | G2: =業務管理体制の整備に係る報告書!$E24 -> 0 | H2: =業務管理体制の整備に係る報告書!$E25 -> 0 | I2: =業務管理体制の整備に係る報告書!$E26 -> 0 | J2: =業務管理体制の整備に係る報告書!$M22 -> 0 | K2: =業務管理体制の整備に係る報告書!$M23 -> 0 | L2: =業務管理体制の整備に係る報告書!$M24 -> 0 | M2: =業務管理体制の整備に係る報告書!$M25 -> 0 | N2: =業務管理体制の整備に係る報告書!$M25 -> 0 | O2: =業務管理体制の整備に係る報告書!$M26 -> 0 | P2: =業務管理体制の整備に係る報告書!$M27 -> 0 | Q2: =業務管理体制の整備に係る報告書!$W22 -> 0 | R2: =業務管理体制の整備に係る報告書!$W23 -> 0 | S2: =業務管理体制の整備に係る報告書!$W24 -> 0 | T2: =業務管理体制の整備に係る報告書!$W25 -> 0 | U2: =業務管理体制の整備に係る報告書!$W26 -> 0 | V2: =業務管理体制の整備に係る報告書!$W27 -> 0 | W2: =業務管理体制の整備に係る報告書!F35 -> 0 | X2: =業務管理体制の整備に係る報告書!O35 -> 0 | Y2: =業務管理体制の整備に係る報告書!L41 -> 0 | Z2: =業務管理体制の整備に係る報告書!L42 -> 0 | AA2: =業務管理体制の整備に係る報告書!L43 -> 0 | AB2: =業務管理体制の整備に係る報告書!L44 -> 0 | AC2: =業務管理体制の整備に係る報告書!E46 -> 0 | AD2: =業務管理体制の整備に係る報告書!Y46 -> 0 | AE2: =2025&"/"&業務管理体制の整備に係る報告書!AD62&"/"&業務管理体制の整備に係る報告書!AG62 -> 2025// | AF2: =業務管理体制の整備に係る報告書!W68 -> 0 | AG2: =業務管理体制の整備に係る報告書!W69 -> 0 | AH2: =業務管理体制の整備に係る報告書!W71 -> 0 | AI2: =業務管理体制の整備に係る報告書!J76 -> 0 | AJ2: =業務管理体制の整備に係る報告書!L78 -> 0 | AK2: =業務管理体制の整備に係る報告書!W78 -> 0 | AL2: =業務管理体制の整備に係る報告書!P80 -> 0 | AM2: =業務管理体制の整備に係る報告書!J83 -> 0 | AN2: =IF(業務管理体制の整備に係る報告書!P86>7,"平成","令和") -> 令和 | AO2: =業務管理体制の整備に係る報告書!P86&"/"&業務管理体制の整備に係る報告書!S86&"/"&業務管理体制の整備に係る報告書!V86 -> // | AP2: =業務管理体制の整備に係る報告書!AC86 -> 0 | AQ2: =業務管理体制の整備に係る報告書!M88 -> 0 | AR2: =業務管理体制の整備に係る報告書!K90 -> 0 | AS2: =業務管理体制の整備に係る報告書!AE90 -> 0 | AT2: =業務管理体制の整備に係る報告書!K92 -> 0 | AU2: =業務管理体制の整備に係る報告書!AE92 -> 0 | AV2: =業務管理体制の整備に係る報告書!K94 -> 0 | AW2: =業務管理体制の整備に係る報告書!Q94 -> 0 | AX2: =業務管理体制の整備に係る報告書!AH94 -> 0 | AY2: =業務管理体制の整備に係る報告書!A102 -> 0 | AZ2: =業務管理体制の整備に係る報告書!C102 -> 0 | BA2: =業務管理体制の整備に係る報告書!A107 -> 0 | BB2: =業務管理体制の整備に係る報告書!C107 -> 0 | BC2: =業務管理体制の整備に係る報告書!A112 -> 0 | BD2: =業務管理体制の整備に係る報告書!C112 -> 0 | BE2: =業務管理体制の整備に係る報告書!A123 -> 0 | BF2: =業務管理体制の整備に係る報告書!C123 -> 0 | BG2: =業務管理体制の整備に係る報告書!A129 -> 0 | BH2: =業務管理体制の整備に係る報告書!C129 -> 0 | BI2: =業務管理体制の整備に係る報告書!A134 -> 0 | BJ2: =業務管理体制の整備に係る報告書!C134 -> 0 | BK2: =業務管理体制の整備に係る報告書!A140 -> 0 | BL2: =業務管理体制の整備に係る報告書!C140 -> 0
