Workbook
Name ___________kk29: #REF!
Name __________kk06: #REF!
Name __________kk29: #REF!
Name _________kk06: #REF!
Name _________kk29: #REF!
Name ________kk06: #REF!
Name ________kk29: #REF!
Name _______kk06: #REF!
Name _______kk29: #REF!
Name ______kk06: #REF!
Name ______kk1: #REF!
Name ______kk29: #REF!
Name _____kk06: #REF!
Name _____kk1: #REF!
Name _____kk29: #REF!
Name ____kk06: #REF!
Name ____kk1: #REF!
Name ____kk29: #REF!
Name ___kk06: #REF!
Name ___kk1: #REF!
Name ___kk29: #REF!
Name __kk06: #REF!
Name __kk06: #REF!
Name __kk1: #REF!
Name __kk29: #REF!
Name __kk29: #REF!
Name _kk06: #REF!
Name _kk06: #REF!
Name _kk1: #REF!
Name _kk1: #REF!
Name _kk29: #REF!
Name _kk29: #REF!
Name ▼選択してください。: #REF!
Name ▼選択してください。: #REF!
Name ②従業者の員数: #REF!
Name aa: #REF!
Name aaa: #REF!
Name aaaaa: #REF!
Name as: #REF!
Name Avrg: #REF!
Name Avrg: #REF!
Name avrg1: #REF!
Name avrg1: #REF!
Name CSV_サービス情報: CSV用!$Y$5:$AE$74
Name CSV_サービス情報: #REF!
Name CSV_サービス情報: #REF!
Name CSV_口座振込依頼書: CSV用!$I$5:$O$28
Name CSV_口座振込依頼書: #REF!
Name CSV_口座振込依頼書: #REF!
Name CSV_施設種別: #REF!
Name CSV_施設種別: #REF!
Name CSV_施設種別: 様式第１号!$AS$81:$AS$83
Name CSV_追加情報: CSV用!$Q$5:$W$17
Name CSV_追加情報: #REF!
Name CSV_追加情報: #REF!
Name CSV_付表１: CSV用!$AG$5:$AM$109
Name CSV_付表１: #REF!
Name CSV_付表１: #REF!
Name CSV_付表１＿１: #REF!
Name CSV_付表１＿１: #REF!

Sheet 必要書類一覧 
A1: ○：必ず提出していただくもの △：該当がなければ省略可能 ※必要かどうかわからない場合、省略せず提出してください。
B2: 必要書類一覧 | D2: 一般相談支援 | H2: VER.5（20210112～）
D3: 地域移行支援 | E3: 地域定着支援
B4: 第1号様式 | C4: 申請書 | D4: ○ | E4: ○
C5: 別紙 | D5: ○ なければ不要 | E5: ○ なければ不要
B6: 付表 | D6: 〇 付表14 | E6: 〇 付表14
B7: 定款、履歴事項全部証明書 | D7: ○ | E7: ○
B8: 別紙２ | C8: 勤務形態 | D8: ○ | E8: ○
C9: 従業者の要件を確認できる書類 (実務経験証明書、資格証や研修修了証の写し等) | D9: ○ | E9: ○
B10: 運営規程 | D10: ○ | E10: ○
B11: その他必要なもの | D11: ○ | E11: ○
B12: 参考様式１ | C12: 平面図 | D12: ○ | E12: ○
B13: 参考様式３ | C13: 設備 | D13: ○ | E13: ○
C14: 写真 | D14: ○ | E14: ○
B15: 参考様式４ | C15: 経歴書 （管理者） | D15: ○ | E15: ○
C16: 経歴書 （相談支援専門員） | D16: ○ | E16: ○
C17: 相談支援専従事者初任者研修の終了証・現任研修の終了証 | D17: ○ | E17: ○
B18: 参考様式５ | C18: 実務経験 | D18: ○ | E18: ○
B19: 参考様式６ | C19: 苦情解決 | D19: ○ | E19: ○
B20: 参考様式７ | C20: 主たる対象者 | D20: △ | E20: △
B21: 参考様式８ | C21: 誓約書 | D21: ○ | E21: ○
B22: 管理者の誓約書 | D22: ○ | E22: ○
B23: 参考様式９ | C23: 指定障害者支援施設等との連携体制及び支援の体制の概要 | D23: ○ | E23: ○
B24: 参考様式１０ | C24: 障害福祉サービス事業等開始届出書 | D24: ○ | E24: ○
B25: 参考様式１１ | C25: 常時の連絡体制の確保の具体的方法 | E25: ○
B26: 資産の状況 | C26: 財産目録または決算書 | D26: ○ | E26: ○
B27: その他 | C27: 事業計画書 | D27: ○ | E27: ○
C28: 収支予算書 | D28: ○ | E28: ○
C29: 賠償責任保険証書の写し | D29: ○ | E29: ○
C30: 情報公表システム 法人ID発行/事業所情報登録依頼票 | D30: ○ | E30: ○
C31: 建物賃貸借契約書 | D31: ○ | E31: ○
C32: 防火対象物使用開始届出書の副本の写し | D32: △ | E32: △
C33: パンフレット等（事業所の特色・年間予定・週間予定・一日の流れ等） | D33: △ | E33: △
C34: 業務管理体制の届出 | D34: △ | E34: △
C35: 介護給付費等算定に係る体制等に関する届出書 | D35: ○ | E35: ○
C36: 指定書送付用レターパックライト（３７０円） | D36: ○ | E36: ○
C37: 提出書類確認票 | D37: ○ | E37: ○

Sheet 提出書類の説明
A1: 指定一般相談支援事業所指定更新申請に係る 添付書類、参考様式の種類と記載時の留意事項・説明
I2: 【令和６年２月現在】
A3: ◇申請書・添付書類の様式等は、ウェブサイト「障害福祉情報サービスかながわ」（http://www.rakuraku.or.jp/shienhi/）の「書式ライブラリ」よりダウンロードできます。 ◇必ず最新版のものをダウンロードして使用してください。
A4: 様式名等 | E4: 記載時の留意事項・説明 | J4: 提出
A5: 第１号様式 | B5: 指定申請書 | E5: ・「指定（更新）申請書」は通所・入所共通の様式です。 ・「付表」は指定を受けようとする事業の種類により異なります(様式第1号に必要事項を入力すると、事業に対応した付表が表示されます)。 ※「指定申請書」、「口座振込(変更)依頼書」、「付表」はＡ４の紙に出力し押印(必要なもののみ）したものを提出ください。
A6: 口座振込(変更)依頼書
A7: 各種付表
A8: 別紙１ | B8: 同一法人において既に指定を受けている事業等について | E8: 同一法人において既に指定を受けている事業がある場合記載してください(児童福祉法・障害者総合支援法・介護保険法等)。ない場合は別紙添付の必要はありません。
A9: 申請者の定款、寄附行為等及びその登記簿謄本（又は条例） | E9: ・申請に係る事業を実施する旨の認可がされていることが必要です。
E10: ・登記簿は、履歴事項全部証明を提出ください。複数のサービスを同時に申請する場合は、原本は１部で差支えありませんが、他の申請書には写しを必ず添付してください。
A11: 別紙２ | B11: 従業者の勤務の体制及び勤務形態一覧表 | E11: ・従業者の一ヶ月の勤務体制について記入してください。
A12: 運営規程 | E12: ・多機能型で指定を受けようとする場合でも、それぞれの事業ごとに作成してください。
A13: 参考様式１ | B13: 事業所・施設の平面図 | E13: ・既製の平面図（建築図面等）がある場合はそれをＡ3（またはＡ4）に縮尺の上、添付してください。複数の事業所で同じ建物を使う場合は、事業で使う場所が分かるように色分け等をしてください。
E14: ・事業所の写真（外観及び内部）を添付してください。写真には、どの部分の写真であるか記載してください。写真は現像したものではなく、Ａ４紙等に印刷したものでかまいません。（様子が確認できるように、可能な限りカラーでお願いします。） ・指定上必要な設備・備品のほか、個人情報に配慮した設備(例；鍵付書庫等)、消防設備(例；消火器、火災報知機等)、感染症予防（例；手指消毒）の写真も添付してください。
A15: 参考様式３ | B15: 事業所の設備・備品等一覧表 | E15: ・消防設備、個人情報保護の為の設備、衛生用品を含め、事業所の設備・備品等について、基準条例の規定に沿って配慮、措置している事項について記載してください。
A16: 参考様式４ | B16: 管理者・相談支援専門員の経歴書 | E16: ・管理者、相談支援専門員について、それぞれ別に作成してください。兼務する場合は1枚で構いません。
A17: 参考様式５ | B17: 実務経験（見込）証明書 | E17: ・相談支援専門員について、実務要件や研修要件について確認のうえ提出してください。 ・業務に従事した日数を必ず記載してください。
A18: 資格証の写し | E18: ・相談支援専門員について、実務経験年数（日数）に必要な場合（資格により実務経験年数が短縮される場合）は、資格を証する書面の写しを添付してください。 （居宅介護初任者研修修了証、社会福祉主事の任用資格証 保育士証等）
A19: 研修修了証 | E19: ・相談支援従事者初任者研修の受講証明書に加えて次のいずれかの修了証。 ※相談支援従事者現任研修を修了した場合は、現任研修終了証も提出してください。
A20: 参考様式６ | B20: 利用者（入所者）又はその家族からの苦情を解決するために講ずる措置の概要 | E20: ・利用者（入所者）からの苦情を解決するために講じる具体的な方法を記入してください。苦情解決に関して法人の内規等がある場合は一部添付してください。（連絡先や担当者名は必ず記入してください。）
A21: 参考様式７ | B21: 組織体制図 | E21: ・職種だけでなく個人名を入れて作成してください。事業所に既存の組織体制図があればその写しで構いません。 | J21: 削除
A22: 参考様式７ | B22: 主たる対象とする障害の種類を定める理由等 | E22: ・主たる対象者を特定している場合に提出してください。特定しない場合は提出の必要はありません。
A23: 参考様式８ | B23: 障害者の日常生活及び社会生活を総合的に支援するための法律第３６条第３項各号の規定に該当しない旨の誓約書 | E23: ・複数の事業所について同時申請する場合や多機能型事業所の場合は、原本は1部で差支えありませんが、他の申請書には写しを必ず添付してください。
A24: 管理者誓約書 | E24: 管理者については、個人印が必要です。
A25: 参考様式９ | B25: 指定障害者支援施設等との連携体制及び支援の体制の概要 | E25: ・連携体制を整えるよう施設等と調整し、連携の方法を記載してください。
A26: 参考様式10 | B26: 障害福祉サービス事業等開始届出書 | E26: ・運営規程等を参考に記載してください。職員定数等が運営規程や別紙２の内容と矛盾しないか確認して下さい。
A27: 参考様式11 | B27: 常時の連絡体制の確保の具体的方法 | E27: ・営業時間外の事業所の人員体制（宿直等）や利用者との連絡体制を含め、具体的に記載してください。
A28: 申請する事業の資産の状況
A29: ・財産目録又は決算書等 | E29: ・法人の「財産目録」又は「決算書」（直近のもの）を添付してください。
A30: ・事業計画書 | E30: ・「事業計画書」は当該事業所の指定日が属する年度の事業計画を作成（様式は任意）し添付してください。 ・研修計画については、具体的な研修名、内容及び実施スケジュールを記載してください。
A31: ・収支予算書 | E31: ・「収支予算書」は、事業計画を基に、申請事業に係る当該事業所の収支予算を作成してください。（事業開始後12か月分※必ず利用者の見込数を記載すること）
A32: 事業者指定前の確認・誓約事項 | E32: 内容を確認の上、法人印を押印の上、提出してください。
A33: 社会保険及び労働保険への加入状況にかかる確認票 | E33: ・リーフレット「社会保険への加入手続きはお済みですか？」及び「労働保険への加入手続きはお済みですか？」をご確認ください。 ・社会保険・労働保険の適用が確認できない場合は、厚生労働省からの依頼に基づき、厚生労働省に情報提供いたします。
A34: その他必要なもの | E34: ・有資格職として配置する従業員（社会福祉士、介護福祉士、保育士、看護師、理学療法士等）については、資格を証する書面の写しを添付してください。
E35: ○ 事業所の建物が賃貸等の場合は、「建物賃貸借契約書」等の写しを添付してください。
E36: ○ 防火対象物使用開始届出書（副本）の写しを添付してください。
E37: ○情報公表システム・法人ID発行/事業所情報登録依頼票を提出してください。
E38: ○加算を取得する場合は「介護給付費等算定に係る体制等に関する届出書」を提出してください。
E39: ○ 不慮の事故等に備えた、「損害賠償責任保険証書」の写しを添付してください。 （事故が発生した場合の補償の概要がわかる資料の写しも添付してください。）
E40: ○必要に応じ、「業務管理体制に関する届出書」を提出してください。
...

Sheet 指定申請書類チェックシート
A1: 指定申請書類チェックシート
A2: 必ず以下のチェック項目について確認をした上で書類を提出ください。
A4: ※申請するサービスにより提出が必要な様式が異なります。必要な様式は、サービスごとの必要書類一覧を確認ください。
A5: ※以下のチェック事項にない事項でも、記載に誤りがあれば修正が必要となります。
A6: 様式 | B6: チェック事項（よくある誤り） | I6: 確認
A7: 全様式共通 | B7: 右上の日付欄は書類の発送日を記載してください。
B8: 法人の所在地は、履歴事項全部証明書にある所在地と完全に一致させてください。
B9: 法人名称は、履歴事項全部証明書にある名称と完全に一致させてください。（スペースの有無も完全に一致させる） 【よくある誤り：「登記では「○○ 株式会社」とあるものを、書類には「○○株式会社」と記載している】
B10: 半角カタカナでフリガナを記載する欄は、必ず半角カタカナで記載してください。
B11: 職員の氏名を正しく記載してください。（「高」と「髙」の違い、「沢」と「澤」の違い 等）
B12: 職員の氏名は、苗字の名前の間を１文字開けてください。（フリガナも同様）
B13: 申請先を記載する書類は、申請先を必ず「相模原市長」にしてください。
B14: 代表者氏名には必ず肩書きを記載してください。
B15: 日付は全て和暦（令和○年○月○日）で記載してください。（西暦や、Ｒ○年 という記載は×）
B16: 事業所の所在地は全ての書類で一致させてください。
B17: 既に市内に所在する他の事業所と類似した事業所名をつけないようにしてください。 （障害福祉情報サービスかながわで類似した事業所名がないか確認してください。）
B18: 事業所の名称は全ての書類で一致させてください。（名称内のスペースの有無も完全に一致させてください。）
A19: 第１号様式（指定申請書） | B19: 住所は、数字も含めて全て全角で記載してください。
B20: 営利法人の場合、「法人所轄庁」欄は空欄としてください。
B21: 「主たる事業所名称」欄の記載漏れに注意してください。
B22: 「指定有効終了年月日」欄には指定有効開始年月日の６年後の日付を記載してください。
B23: 「※」がついた欄には記載しないでください。
A24: 別紙１ | B24: 他の法律において指定を受けている全ての事業所を記載してください。（他県も含む）
A25: 口座振込（変更）依頼書 | B25: 「名義人」の「フリガナ」は、通帳を開いたページに記載のあるフリガナと完全に一致させてください。（※半角） 【よくある誤り 通帳：カ）サガミハラフクシカイ カナガワ イチロウ 誤り例１：カブシキガイシャ カナガワ イチロウ （法人名称を略語にしていないため×） 誤り例２：カ）サガミハラフクシカイ カナガワイチロウ（スペースの位置が一致していないため×）
B26: 「名義人」の「氏名」は、通帳の表紙に記載のある氏名と完全に一致させてください。 【よくある誤り 通帳：株式会社さがみはら福祉会 神奈川 一郎 誤り例：株式会社さがみはら福祉会 神奈川一郎（スペースの位置が一致していないため×）
A27: 通帳の写し | B27: 通帳の写し（表紙及び開いたページ）を添付するか、金融機関の確認印を受けてください。
A28: 付表 ※サービスにより様式が異なるため、該当しない項目もあります。 | B28: 事業所の「電話番号」及び「ＦＡＸ番号」は、体制届に記載する番号と一致させてください。
B29: 「当該事業の実施について定めてある定款・寄付行為又は条例等」欄は、条番だけでなく、定めるものの名称も必ず記載してください。 【例 「定款第○条第○項第○号」「寄付行為第○条第○項第○号」】
B30: 管理者が、申請をするサービスの他の職種と兼務をする場合は、「兼務の有無」欄を「有」としてください。
B31: 管理者及びサービス管理責任者・サービス提供責任者・児童発達支援管理責任者の住所は、経歴書（参考様式４）と完全に一致させてください。
B32: 「従業者の職種・員数」は、運営規程及び勤務形態一覧表（別紙２）と完全に一致させてください。
B33: 「前年度の平均利用者数」欄には、定員の９０％を記載してください。
B34: 「営業時間」は、半角数字で「00：00」という形式で記載してください。 【よくある誤り：「9～17」×】
B35: 「主たる対象者」は、運営規程の規定と完全に一致させてください。
B36: 「利用料」「その他費用」欄は、「運営規程に定めるとおり」として良いですが、漢字の誤りのないようお気を付けください。 【よくある誤り：「運営規程」を、「運営規定」と記載している】
B37: 「通常の事業の実施地域」は、運営規程の規定と完全に一致させてください。
B38: 「苦情解決の措置概要」の「窓口（連絡先）」欄には、苦情解決窓口の電話番号を記載してください。（※参考様式６に記載する番号と一致させてください。）
B39: 「苦情解決の措置概要」の「担当者」は、参考様式６に記載する担当者名と一致させてください。
B40: 「協力医療機関」の「名称」は、参考様式１０にある医療機関の名称と一致させてください。
... B42: 「※」がついた欄には記載しないでください。
...

Sheet 【要提出】提出書類確認票
A1: 提出書類確認票 | J1: 居宅介護
A2: サービス種別 | J2: 重度訪問介護
A3: 事業所名 | J3: 行動援護
A4: 担当者 | J4: 同行援護
A5: TEL・E-mail | B5: TEL： | D5: E-mail: | J5: 療養介護
A6: 提出が「必須」でないものについては、変更がある場合には変更届と共に提出ください。 | J6: 生活介護
A7: 様式名等 | C7: 提出 | D7: 確認欄 | E7: 備考 | J7: 短期入所
A8: 第１号様式 | J8: 施設入所支援
A9: 別紙１ | E9: ※他法で指定を受けている事業がある場合のみ ※他法による指定通知書の写しを添付 | J9: 共同生活援助
A10: 付表 | E10: ※サービスごとに書式が異なる | J10: 自立生活援助
A11: 定款、履歴事項全部証明書 | E11: ※発行後３ヶ月以内の原本
A12: 別紙２（勤務形態） | E12: ※サービスごとに書式が異なる
A13: 運営規程
A14: 参考様式１（平面図） | E14: ※他業種と併設の場合は事業ごとに色分けする | J14: 就労継続支援Ａ型
A15: 参考様式３（設備） | J15: 就労定着支援
A16: 事業所のカラー写真 | J16: 計画相談支援
A17: 参考様式４（経歴書） | J17: 地域相談支援（地域移行支援）
A18: 参考様式５（実務経験） | J18: 地域相談支援（地域定着支援）
A19: 資格証の写し
A20: 研修修了証の写し
A21: 参考様式６（苦情解決） | E21: ※法人の内規があれば別途添付 | J21: 障害児相談支援
A22: 参考様式７（主たる対象） | E22: ※主たる対象者を限定する場合のみ
A23: 参考様式８（誓約書）
A24: 管理者の誓約書 | E24: ※サービスごとに書式が異なる
A25: 参考様式９（障害者施設等の連絡体制）
A26: 参考様式１０（開始届出書）
A27: 参考様式１１（常時の連絡体制）
A28: 財産目録又は決算報告書
A29: 事業計画書
A30: 収支予算書
A31: 賠償責任保険証書の写し
A32: 情報公表システム 法人ID発行/事業所情報登録依頼票
A33: 事業所物件の賃貸借契約書の写し | E33: ※自社物件の場合、所有状況がわかるもの
A34: パンフレット等 | E34: ※パンフレット等ございましたら、ご提出ください。
A35: 業務管理体制の届出 | E35: ※運営している事業所が相模原市内のみの場合
A36: 体制届 | E36: ※加算を取得する場合
A37: 指定書送付用レターパックライト （３７０円）
A38: 提出書類確認票

Sheet CSV用
A1: CSV_様式第１号 | I1: CSV_口座振込依頼書 | Q1: CSV_追加情報 | Y1: CSV_サービス情報 | AG1: CSV_付表１ | AO1: CSV_付表１＿２ | AW1: CSV_付表２ | BE1: CSV_付表３ | BM1: CSV_付表３＿２ | BU1: CSV_付表４ | CC1: CSV_付表５ | CK1: CSV_付表６ | CS1: CSV_付表７ | DA1: CSV_付表８その１ | DI1: CSV_付表８その２ | DQ1: CSV_付表８その３ | DY1: CSV_付表９ | EG1: CSV_付表９＿２ | EO1: CSV_付表１０ | EW1: CSV_付表１０＿２ | FE1: CSV_付表１１ | FM1: CSV_付表１１＿２ | FU1: CSV_付表１２ | GC1: CSV_付表１２＿２ | GK1: CSV_付表１３その１ | GS1: CSV_付表１３その２ | HA1: CSV_付表１４ | HI1: CSV_付表７＿２＿１ | HQ1: CSV_付表７＿２＿２ | HY1: CSV_付表１５ | IG1: CSV_付表１６
A2: 項目名称 | B2: 出力用 位置 | C2: 取込用 位置 | D2: 変換 方式 | E2: 初期値 | F2: ﾄﾞﾛｯﾌﾟﾀﾞｳﾝ | G2: 備考 | I2: 項目名称 | J2: 出力用 位置 | K2: 取込用 位置 | L2: 変換 方式 | M2: 初期値 | N2: ﾄﾞﾛｯﾌﾟﾀﾞｳﾝ | O2: 備考 | Q2: 項目名称 | R2: 出力用 位置 | S2: 取込用 位置 | T2: 変換 方式 | U2: 初期値 | V2: ﾄﾞﾛｯﾌﾟﾀﾞｳﾝ | W2: 備考 | Y2: 項目名称 | Z2: 出力用 位置 | AA2: 取込用 位置 | AB2: 変換 方式 | AC2: 初期値 | AD2: ﾄﾞﾛｯﾌﾟﾀﾞｳﾝ | AE2: 備考 | AG2: 項目名称 | AH2: 出力用 位置 | AI2: 取込用 位置 | AJ2: 変換 方式 | AK2: 初期値 | AL2: ﾄﾞﾛｯﾌﾟﾀﾞｳﾝ | AM2: 備考 | AO2: 項目名称 | AP2: 出力用 位置 | AQ2: 取込用 位置 | AR2: 変換 方式 | AS2: 初期値 | AT2: ﾄﾞﾛｯﾌﾟﾀﾞｳﾝ | AU2: 備考 | AW2: 項目名称 | AX2: 出力用 位置 | AY2: 取込用 位置 | AZ2: 変換 方式 | BA2: 初期値 | BB2: ﾄﾞﾛｯﾌﾟﾀﾞｳﾝ | BC2: 備考 | BE2: 項目名称 | BF2: 出力用 | BG2: 取込用 | BH2: 変換 | BI2: 初期値 | BJ2: ﾄﾞﾛｯﾌﾟﾀﾞｳﾝ | BK2: 備考 | BM2: 項目名称 | BN2: 出力用 位置 | BO2: 取込用 位置 | BP2: 変換 方式 | BQ2: 初期値 | BR2: ﾄﾞﾛｯﾌﾟﾀﾞｳﾝ | BS2: 備考 | BU2: 項目名称 | BV2: 出力用 位置 | BW2: 取込用 位置 | BX2: 変換 方式 | BY2: 初期値 | BZ2: ﾄﾞﾛｯﾌﾟﾀﾞｳﾝ | CA2: 備考 | CC2: 項目名称 | CD2: 出力用 位置 | CE2: 取込用 位置 | CF2: 変換 方式 | CG2: 初期値 | CH2: ﾄﾞﾛｯﾌﾟﾀﾞｳﾝ | CI2: 備考 | CK2: 項目名称 | CL2: 出力用 位置 | CM2: 取込用 位置 | CN2: 変換 方式 | CO2: 初期値 | CP2: ﾄﾞﾛｯﾌﾟﾀﾞｳﾝ | CQ2: 備考 | CS2: 項目名称 | CT2: 出力用 位置 | CU2: 取込用 位置 | CV2: 変換 方式 | CW2: 初期値 | CX2: ﾄﾞﾛｯﾌﾟﾀﾞｳﾝ | CY2: 備考 | DA2: 項目名称 | DB2: 出力用 位置 | DC2: 取込用 位置 | DD2: 変換 方式 | DE2: 初期値 | DF2: ﾄﾞﾛｯﾌﾟﾀﾞｳﾝ | DG2: 備考 | DI2: 項目名称 | DJ2: 出力用 位置 | DK2: 取込用 位置 | DL2: 変換 方式 | DM2: 初期値 | DN2: ﾄﾞﾛｯﾌﾟﾀﾞｳﾝ | DO2: 備考 | DQ2: 項目名称 | DR2: 出力用 位置 | DS2: 取込用 位置 | DT2: 変換 方式 | DU2: 初期値 | DV2: ﾄﾞﾛｯﾌﾟﾀﾞｳﾝ | DW2: 備考 | DY2: 項目名称 | DZ2: 出力用 位置 | EA2: 取込用 位置 | EB2: 変換 方式 | EC2: 初期値 | ED2: ﾄﾞﾛｯﾌﾟﾀﾞｳﾝ | EE2: 備考 | EG2: 項目名称 | EH2: 出力用 位置 | EI2: 取込用 位置 | EJ2: 変換 方式 | EK2: 初期値 | EL2: ﾄﾞﾛｯﾌﾟﾀﾞｳﾝ | EM2: 備考 | EO2: 項目名称 | EP2: 出力用 位置 | EQ2: 取込用 位置 | ER2: 変換 方式 | ES2: 初期値 | ET2: ﾄﾞﾛｯﾌﾟﾀﾞｳﾝ | EU2: 備考 | EW2: 項目名称 | EX2: 出力用 位置 | EY2: 取込用 位置 | EZ2: 変換 方式 | FA2: 初期値 | FB2: ﾄﾞﾛｯﾌﾟﾀﾞｳﾝ | FC2: 備考 | FE2: 項目名称 | FF2: 出力用 位置 | FG2: 取込用 位置 | FH2: 変換 方式 | FI2: 初期値 | FJ2: ﾄﾞﾛｯﾌﾟﾀﾞｳﾝ | FK2: 備考 | FM2: 項目名称 | FN2: 出力用 位置 | FO2: 取込用 位置 | FP2: 変換 方式 | FQ2: 初期値 | FR2: ﾄﾞﾛｯﾌﾟﾀﾞｳﾝ | FS2: 備考 | FU2: 項目名称 | FV2: 出力用 位置 | FW2: 取込用 位置 | FX2: 変換 方式 | FY2: 初期値 | FZ2: ﾄﾞﾛｯﾌﾟﾀﾞｳﾝ | GA2: 備考 | GC2: 項目名称 | GD2: 出力用 位置 | GE2: 取込用 位置 | GF2: 変換 方式 | GG2: 初期値 | GH2: ﾄﾞﾛｯﾌﾟﾀﾞｳﾝ | GI2: 備考 | GK2: 項目名称 | GL2: 出力用 位置 | GM2: 取込用 位置 | GN2: 変換 方式 | GO2: 初期値 | GP2: ﾄﾞﾛｯﾌﾟﾀﾞｳﾝ | GQ2: 備考 | GS2: 項目名称 | GT2: 出力用 位置 | GU2: 取込用 位置 | GV2: 変換 方式 | GW2: 初期値 | GX2: ﾄﾞﾛｯﾌﾟﾀﾞｳﾝ | GY2: 備考 | HA2: 項目名称 | HB2: 出力用 位置 | HC2: 取込用 位置 | HD2: 変換 方式 | HE2: 初期値 | HF2: ﾄﾞﾛｯﾌﾟﾀﾞｳﾝ | HG2: 備考 | HI2: 項目名称 | HJ2: 出力用 位置 | HK2: 取込用 位置 | HL2: 変換 方式 | HM2: 初期値 | HN2: ﾄﾞﾛｯﾌﾟﾀﾞｳﾝ | HO2: 備考 | HQ2: 項目名称 | HR2: 出力用 位置 | HS2: 取込用 位置 | HT2: 変換 方式 | HU2: 初期値 | HV2: ﾄﾞﾛｯﾌﾟﾀﾞｳﾝ | HW2: 備考 | HY2: 項目名称 | HZ2: 出力用 位置 | IA2: 取込用 位置 | IB2: 変換 方式 | IC2: 初期値 | ID2: ﾄﾞﾛｯﾌﾟﾀﾞｳﾝ | IE2: 備考 | IG2: 項目名称 | IH2: 出力用 位置 | II2: 取込用 位置 | IJ2: 変換 方式 | IK2: 初期値 | IL2: ﾄﾞﾛｯﾌﾟﾀﾞｳﾝ | IM2: 備考
BF3: 位置 | BG3: 位置 | BH3: 方式
G4: 備考 | O4: 備考 | W4: 備考 | AE4: 備考 | AM4: 備考 | AU4: 備考 | BC4: 備考 | BK4: 備考 | BS4: 備考 | CA4: 備考 | CI4: 備考 | CQ4: 備考 | CY4: 備考 | DG4: 備考 | DO4: 備考 | DW4: 備考 | EE4: 備考 | EM4: 備考 | EU4: 備考 | FC4: 備考 | FK4: 備考 | FS4: 備考 | GA4: 備考 | GI4: 備考 | GQ4: 備考 | GY4: 備考 | HG4: 備考 | HO4: 備考 | HW4: 備考 | IE4: 備考 | IM4: 備考
A5: 交換情報識別番号 | D5: 8 | G5: ※不要 | I5: 交換情報識別番号 | L5: 8 | O5: ※不要 | Q5: 交換情報識別番号 | T5: 8 | W5: ※不要 | X5: 1 | Y5: 交換情報識別番号 | AB5: 8 | AE5: ※不要 | AG5: 交換情報識別番号 | AJ5: 8 | AM5: ※不要 | AO5: 交換情報識別番号 | AR5: 8 | AU5: ※不要 | AW5: 交換情報識別番号 | AZ5: 8 | BC5: ※不要 | BD5: 1 | BE5: 交換情報識別番号 | BH5: 8 | BK5: ※不要 | BM5: 交換情報識別番号 | BP5: 8 | BS5: ※不要 | BU5: 交換情報識別番号 | BX5: 8 | CA5: ※不要 | CB5: 1 | CC5: 交換情報識別番号 | CF5: 8 | CI5: ※不要 | CK5: 交換情報識別番号 | CN5: 8 | CQ5: ※不要 | CR5: 1 | CS5: 交換情報識別番号 | CV5: 8 | CY5: ※不要 | DA5: 交換情報識別番号 | DD5: 8 | DG5: ※不要 | DI5: 交換情報識別番号 | DL5: 8 | DO5: ※不要 | DQ5: 交換情報識別番号 | DT5: 8 | DW5: ※不要 | DY5: 交換情報識別番号 | EB5: 8 | EE5: ※不要 | EG5: 交換情報識別番号 | EJ5: 8 | EM5: ※不要 | EO5: 交換情報識別番号 | ER5: 8 | EU5: ※不要 | EW5: 交換情報識別番号 | EZ5: 8 | FC5: ※不要 | FD5: 1 | FE5: 交換情報識別番号 | FH5: 8 | FK5: ※不要 | FM5: 交換情報識別番号 | FP5: 8 | FS5: ※不要 | FT5: 1 | FU5: 交換情報識別番号 | FX5: 8 | GA5: ※不要 | GC5: 交換情報識別番号 | GF5: 8 | GI5: ※不要 | GK5: 交換情報識別番号 | GN5: 8 | GQ5: ※不要 | GS5: 交換情報識別番号 | GV5: 8 | GY5: ※不要 | HA5: 交換情報識別番号 | HD5: 8 | HG5: ※不要 | HI5: 枚中 | HJ5: Y77 | HK5: Y77 | HL5: 9 | HQ5: 枚中 | HR5: Y5 | HS5: Y5 | HT5: 9 | HY5: 交換情報識別番号 | IB5: 8 | IE5: ※不要 | IG5: 交換情報識別番号 | IJ5: 8 | IM5: ※不要
A6: 異動年月日 | C6: AA8 | I6: 異動年月日 | L6: 8 | O6: ※不要 | Q6: 異動年月日 | T6: 8 | W6: ※不要 | X6: 2 | Y6: 異動年月日 | AB6: 8 | AE6: ※不要 | AG6: 異動年月日 | AJ6: 8 | AM6: ※不要 | AO6: 異動年月日 | AR6: 8 | AU6: ※不要 | AW6: 異動年月日 | AZ6: 8 | BC6: ※不要 | BD6: 2 | BE6: 異動年月日 | BH6: 8 | BK6: ※不要 | BM6: 異動年月日 | BP6: 8 | BS6: ※不要 | BU6: 異動年月日 | BX6: 8 | CA6: ※不要 | CB6: 2 | CC6: 異動年月日 | CF6: 8 | CI6: ※不要 | CK6: 異動年月日 | CN6: 8 | CQ6: ※不要 | CR6: 2 | CS6: サービス提供単位番号 | CV6: 8 | CY6: ※不要 | DA6: 異動年月日 | DD6: 8 | DG6: ※不要 | DI6: 異動年月日 | DL6: 8 | DO6: ※不要 | DQ6: 異動年月日 | DT6: 8 | DW6: ※不要 | DY6: 異動年月日 | EB6: 8 | EE6: ※不要 | EG6: 異動年月日 | EJ6: 8 | EM6: ※不要 | EO6: 異動年月日 | ER6: 8 | EU6: ※不要 | EW6: 異動年月日 | EZ6: 8 | FC6: ※不要 | FD6: 2 | FE6: 異動年月日 | FH6: 8 | FK6: ※不要 | FM6: 異動年月日 | FP6: 8 | FS6: ※不要 | FT6: 2 | FU6: 異動年月日 | FX6: 8 | GA6: ※不要 | GC6: 異動年月日 | GF6: 8 | GI6: ※不要 | GK6: 異動年月日 | GN6: 8 | GQ6: ※不要 | GS6: 異動年月日 | GV6: 8 | GY6: ※不要 | HA6: 異動年月日 | HD6: 8 | HG6: ※不要 | HI6: 枚目 | HJ6: AE77 | HK6: AE77 | HL6: 9 | HQ6: 枚目 | HR6: AE5 | HS6: AE5 | HT6: 9 | HY6: 異動年月日 | IB6: 8 | IE6: ※不要 | IG6: 異動年月日 | IJ6: 8 | IM6: ※不要
A7: 異動区分 | C7: AA7 | I7: 異動区分コード | L7: 8 | O7: ※不要 | Q7: 異動区分コード | T7: 8 | W7: ※不要 | X7: 3 | Y7: 異動区分コード | AB7: 8 | AE7: ※不要 | AG7: 受付番号 | AH7: AE2 | AI7: AE2 | AO7: 受付番号 | AP7: AE2 | AQ7: AE2 | AW7: 受付番号 | AX7: AE2 | AY7: AE2 | BD7: 3 | BE7: 受付番号 | BF7: AE2 | BG7: AE2 | BM7: 受付番号 | BN7: AE2 | BO7: AE2 | BU7: フラグ | BV7: AL3 | BW7: AL3 | BX7: 9 | CB7: 3 | CC7: 受付番号 | CD7: AE2 | CE7: AE2 | CK7: 受付番号 | CL7: AE2 | CM7: AE2 | CR7: 3 | CS7: 異動年月日 | CV7: 8 | CY7: ※不要 | DA7: 受付番号 | DB7: AE2 | DC7: AE2 | DI7: 受付番号 | DJ7: AE2 | DK7: AE2 | DQ7: 受付番号 | DR7: AE2 | DS7: AE2 | DY7: 受付番号 | DZ7: AE2 | EA7: AE2 | EG7: 受付番号 | EH7: AE2 | EI7: AE2 | EO7: 隠し項目１ | EP7: AL3 | EQ7: AL3 | ER7: 9 | EW7: 受付番号 | EX7: AE2 | EY7: AE2 | FD7: 3 | FE7: 受付番号 | FF7: AE4 | FG7: AE4 | FM7: 受付番号 | FN7: AE2 | FO7: AE2 | FT7: 3 | FU7: 受付番号 | FV7: AE4 | FW7: AE4 | GC7: 受付番号 | GD7: AE2 | GE7: AE2 | GK7: 受付番号 | GL7: AE4 | GM7: AE4 | GS7: 受付番号 | GT7: AE2 | GU7: AE2 | HA7: 受付番号 | HB7: AE2 | HC7: AE2 | HH7: 1 | HI7: 交換情報識別番号 | HL7: 8 | HO7: ※不要 | HQ7: 交換情報識別番号 | HT7: 8 | HW7: ※不要 | HY7: 受付番号 | HZ7: AE3 | IA7: AE3 | IG7: 受付番号 | IH7: AE3 | II7: AE3
A8: 異動事由 | D8: 8 | G8: ※不要 | I8: 異動事由 | L8: 8 | O8: ※不要 | Q8: 異動事由 | T8: 8 | W8: ※不要 | X8: 4 | Y8: 異動事由 | AB8: 8 | AE8: ※不要 | AG8: 事業所電話番号 | AH8: M9 | AI8: M9 | AO8: 出張所番号 | AP8: AE3 | AQ8: AE3 | AW8: 事業所電話番号 | AX8: M9 | AY8: M9 | BD8: 4 | BE8: 事業所電話番号 | BF8: M9 | BG8: M9 | BM8: 事業所ﾌﾘｶﾞﾅ | BN8: I4 | BO8: I4 | BU8: 受付番号 | BV8: AE2 | BW8: AE2 | CB8: 4 | CC8: 事業所電話番号 | CD8: M9 | CE8: M9 | CK8: 事業所電話番号 | CL8: M9 | CM8: M9 | CR8: 4 | CS8: 受付番号 | CT8: AE4 | CU8: AE4 | DA8: 事業所電話番号 | DB8: M9 | DC8: M9 | DI8: 昼間実施サービス-実施ｻｰﾋﾞｽ-生活介護の有無 | DJ8: AL17 | DK8: AL17 | DL8: 4 | DM8: 2 | DQ8: 定款・寄付行為等又は条例等 | DR8: W15 | DS8: W15 | DY8: 事業所電話番号 | DZ8: M9 | EA8: M9 | EG8: 事業所ﾌﾘｶﾞﾅ | EH8: I3 | EI8: I3 | EO8: 隠し項目２ | EP8: AM3 | EQ8: AM3 | ER8: 9 | EW8: 事業所ﾌﾘｶﾞﾅ | EX8: I3 | EY8: I3 | FD8: 4 | FE8: 事業所電話番号 | FF8: M11 | FG8: M11 | FM8: 事業所ﾌﾘｶﾞﾅ | FN8: I3 | FO8: I3 | FT8: 4 | FU8: 事業所電話番号 | FV8: M11 | FW8: M11 | GC8: 事業所ﾌﾘｶﾞﾅ | GD8: I3 | GE8: I3 | GK8: 定員-合計 | GL8: E10 | GM8: E10 | GN8: 2 | GS8: 従業員職種-責任者 専従 常勤 | GT8: I8 | GU8: I8 | GV8: 2 | HA8: 事業所 連絡先 電話番号 | HB8: M9 | HC8: M9 | HH8: 2 | HI8: 共同生活住居-単位番号 | HJ8: AI78 | HK8: AI78 | HL8: 14 | HQ8: 共同生活住居-単位番号 | HR8: AI6 | HS8: AI6 | HT8: 14 | HY8: 事業所 連絡先 電話番号 | HZ8: M10 | IA8: M10 | IG8: 事業所 連絡先 電話番号 | IH8: M10 | II8: M10
A9: 事業所番号 | C9: AA4 | I9: 事業所番号 | L9: 8 | O9: ※不要 | Q9: 事業所番号 | T9: 8 | W9: ※不要 | X9: 5 | Y9: 事業所番号 | AB9: 8 | AE9: ※不要 | AG9: 事業所ＦＡＸ番号 | AH9: AA9 | AI9: AA9 | AO9: 事業所ﾌﾘｶﾞﾅ | AP9: I4 | AQ9: I4 | AW9: 事業所ＦＡＸ番号 | AX9: AA9 | AY9: AA9 | BD9: 5 | BE9: 事業所ＦＡＸ番号 | BF9: AA9 | BG9: AA9 | BM9: 事業所名称 | BN9: I5 | BO9: I5 | BU9: 事業所電話番号 | BV9: M9 | BW9: M9 | CB9: 5 | CC9: 事業所ＦＡＸ番号 | CD9: AA9 | CE9: AA9 | CK9: 事業所ＦＡＸ番号 | CL9: AA9 | CM9: AA9 | CR9: 5 | CS9: 事業所電話番号 | CT9: M11 | CU9: M11 | DA9: 事業所ＦＡＸ番号 | DB9: AA9 | DC9: AA9 | DI9: 昼間実施サービス-前年度平均利用者数-生活介護 有 | DJ9: M18 | DK9: M18 | DL9: 2 | DQ9: 施設入所支援-前年度平均利用者数-ｻｰﾋﾞｽ単位1 | DR9: W16 | DS9: W16 | DT9: 2 | DY9: 事業所ＦＡＸ番号 | DZ9: AA9 | EA9: AA9 | EG9: 事業所名称 | EH9: I4 | EI9: I4 | EO9: 受付番号 | EP9: AE4 | EQ9: AE4 | EW9: 事業所名称 | EX9: I4 | EY9: I4 | FD9: 5 | FE9: 事業所ＦＡＸ番号 | FF9: AA11 | FG9: AA11 | FM9: 事業所名称 | FN9: I4 | FO9: I4 | FT9: 5 | FU9: 事業所ＦＡＸ番号 | FV9: AA11 | FW9: AA11 | GC9: 事業所名称 | GD9: I4 | GE9: I4 | GK9: 生活介護-単位有無 | GL9: AL8 | GM9: AL8 | GN9: 3 | GO9: FALSE | GS9: 従業員職種-責任者 専従 非常勤 | GT9: I9 | GU9: I9 | GV9: 2 | HA9: 事業所 連絡先 ＦＡＸ番号 | HB9: AA9 | HC9: AA9 | HH9: 3 | HI9: 共同生活住居-フリガナ | HJ9: I78 | HK9: I78 | HQ9: 共同生活住居-フリガナ | HR9: I6 | HS9: I6 | HY9: 事業所 連絡先 ＦＡＸ番号 | HZ9: AA10 | IA9: AA10 | IG9: 事業所 連絡先 ＦＡＸ番号 | IH9: AA10 | II9: AA10
A10: 申請者-氏名(ｶﾅ) | C10: G23 | I10: 法人名称 | K10: I11 | L10: 8 | O10: ※不要 | Q10: 支払区分 | S10: AA10 | T10: 13 | X10: 6 | Y10: 管理者-氏名（ｶﾅ） | AB10: 8 | AE10: ※不要 | AG10: 定款・寄付行為等又は条例等 | AH10: W10 | AI10: W10 | AO10: 事業所名称 | AP10: I5 | AQ10: I5 | AW10: 定款・寄付行為等又は条例等 | AX10: W10 | AY10: W10 | BD10: 6 | BE10: 定款・寄付行為等又は条例等 | BF10: W10 | BG10: W10 | BM10: 事業所郵便番号 | BN10: K6 | BO10: K6 | BP10: 1 | BU10: 事業所ＦＡＸ番号 | BV10: AA9 | BW10: AA9 | CB10: 6 | CC10: 定款・寄付行為等又は条例等 | CD10: W10 | CE10: W10 | CK10: 定款・寄付行為等又は条例等 | CL10: W10 | CM10: W10 | CR10: 6 | CS10: 事業所ＦＡＸ番号 | CT10: AA11 | CU10: AA11 | DA10: 管理者ﾌﾘｶﾞﾅ | DB10: I10 | DC10: I10 | DI10: 昼間実施サービス-前年度平均利用者数-生活介護 無 | DJ10: P18 | DK10: P18 | DL10: 2 | DQ10: 施設入所支援-前年度平均利用者数-ｻｰﾋﾞｽ単位2 | DR10: W17 | DS10: W17 | DT10: 2 | DY10: 定款・寄付行為等又は条例等 | DZ10: W10 | EA10: W10 | EG10: 事業所郵便番号 | EH10: K5 | EI10: K5 | EJ10: 1 | EO10: 事業所電話番号 | EP10: M11 | EQ10: M11 | EW10: 事業所郵便番号 | EX10: K5 | EY10: K5 | EZ10: 1 | FD10: 6 | FE10: 定款・寄付行為等又は条例等 | FF10: W12 | FG10: W12 | FM10: 事業所郵便番号 | FN10: K5 | FO10: K5 | FP10: 1 | FT10: 6 | FU10: 定款・寄付行為等又は条例等 | FV10: W12 | FW10: W12 | GC10: 事業所郵便番号 | GD10: K5 | GE10: K5 | GF10: 1 | GK10: 生活介護-単位1-定員 | GL10: M9 | GM10: M9 | GN10: 2 | GS10: 従業員職種-責任者 兼務 常勤 | GT10: K8 | GU10: K8 | GV10: 2 | HA10: 定款・寄付行為等又は条例等 | HB10: W10 | HC10: W10 | HH10: 4 | HI10: 共同生活住居-名称 | HJ10: I79 | HK10: I79 | HQ10: 共同生活住居-名称 | HR10: I7 | HS10: I7 | HY10: 定款・寄付行為等又は条例等 | HZ10: W11 | IA10: W11 | IG10: 定款・寄付行為等又は条例等 | IH10: W11 | II10: W11
A11: 申請者-氏名(漢字) | C11: G24 | I11: 郵便番号 | K11: K13 | L11: 8 | O11: ※不要 | Q11: 申請先 | T11: 8 | W11: ※不要 | X11: 7 | Y11: 管理者-氏名（漢字） | AB11: 8 | AE11: ※不要 | AG11: 管理者ﾌﾘｶﾞﾅ | AH11: I11 | AI11: I11 | AO11: 事業所郵便番号 | AP11: K6 | AQ11: K6 | AR11: 1 | AW11: 管理者ﾌﾘｶﾞﾅ | AX11: I11 | AY11: I11 | BD11: 7 | BE11: 管理者ﾌﾘｶﾞﾅ | BF11: I11 | BG11: I11 | BM11: 事業所所在地上段 | BN11: I7 | BO11: I7 | BU11: 定款・寄付行為等又は条例等 | BV11: W10 | BW11: W10 | CB11: 7 | CC11: 管理者ﾌﾘｶﾞﾅ | CD11: I11 | CE11: I11 | CK11: 管理者ﾌﾘｶﾞﾅ | CL11: I11 | CM11: I11 | CR11: 7 | CS11: 定款・寄付行為等又は条例等 | CT11: W12 | CU11: W12 | DA11: 管理者氏名 | DB11: I11 | DC11: I11 | DI11: 昼間実施サービス-実施ｻｰﾋﾞｽ-自立訓練-機能 | DJ11: AM17 | DK11: AM17 | DL11: 3 | DM11: FALSE | DQ11: 施設入所支援-前年度平均利用者数-ｻｰﾋﾞｽ単位3 | DR11: W18 | DS11: W18 | DT11: 2 | DY11: 管理者ﾌﾘｶﾞﾅ | DZ11: I11 | EA11: I11 | EG11: 事業所所在地上段 | EH11: I6 | EI11: I6 | EO11: 事業所ＦＡＸ番号 | EP11: AA11 | EQ11: AA11 | EW11: 事業所所在地上段 | EX11: I6 | EY11: I6 | FD11: 7 | FE11: 管理者ﾌﾘｶﾞﾅ | FF11: I13 | FG11: I13 | FM11: 事業所所在地上段 | FN11: I6 | FO11: I6 | FT11: 7 | FU11: 管理者ﾌﾘｶﾞﾅ | FV11: I13 | FW11: I13 | GC11: 事業所所在地上段 | GD11: I6 | GE11: I6 | GK11: 生活介護-単位2-定員 | GL11: M10 | GM11: M10 | GN11: 2 | GS11: 従業員職種-責任者 兼務 非常勤 | GT11: K9 | GU11: K9 | GV11: 2 | HA11: 管理者 ﾌﾘｶﾞﾅ | HB11: I11 | HC11: I11 | HH11: 5 | HI11: 共同生活住居-郵便番号 | HJ11: K80 | HK11: K80 | HL11: 1 | HQ11: 共同生活住居-郵便番号 | HR11: K8 | HS11: K8 | HT11: 1 | HY11: 管理者 ﾌﾘｶﾞﾅ | HZ11: I12 | IA11: I12 | IG11: 管理者 ﾌﾘｶﾞﾅ | IH11: I12 | II11: I12
A12: 申請者-郵便番号 | C12: H25 | D12: 1 | I12: 所在地上段 | K12: I14 | L12: 8 | O12: ※不要 | Q12: 所在地市町村番号 | S12: Q37 | X12: 8 | Y12: 管理者-郵便番号 | AB12: 8 | AE12: ※不要 | AG12: 管理者氏名 | AH12: I12 | AI12: I12 | AO12: 事業所所在地上段 | AP12: I7 | AQ12: I7 | AW12: 管理者氏名 | AX12: I12 | AY12: I12 | BD12: 8 | BE12: 管理者氏名 | BF12: I12 | BG12: I12 | BM12: 事業所所在地下段 | BN12: I8 | BO12: I8 | BU12: 管理者ﾌﾘｶﾞﾅ | BV12: I11 | BW12: I11 | CB12: 8 | CC12: 管理者氏名 | CD12: I12 | CE12: I12 | CK12: 管理者氏名 | CL12: I12 | CM12: I12 | CR12: 8 | CS12: 管理者ﾌﾘｶﾞﾅ | CT12: I13 | CU12: I13 | DA12: 管理者郵便番号 | DB12: K12 | DC12: K12 | DD12: 1 | DI12: 昼間実施サービス-実施ｻｰﾋﾞｽ-自立訓練-生活 | DJ12: AN17 | DK12: AN17 | DL12: 3 | DM12: FALSE | DQ12: 設備-1室最大定員 | DR12: O20 | DS12: O20 | DT12: 2 | DY12: 管理者氏名 | DZ12: I12 | EA12: I12 | EG12: 事業所所在地下段 | EH12: I7 | EI12: I7 | EO12: 定款・寄付行為等又は条例等 | EP12: W12 | EQ12: W12 | EW12: 事業所所在地下段 | EX12: I7 | EY12: I7 | FD12: 8 | FE12: 管理者氏名 | FF12: I14 | FG12: I14 | FM12: 事業所所在地下段 | FN12: I7 | FO12: I7 | FT12: 8 | FU12: 管理者氏名 | FV12: I14 | FW12: I14 | GC12: 事業所所在地下段 | GD12: I7 | GE12: I7 | GK12: 生活介護-単位3-定員 | GL12: M11 | GM12: M11 | GN12: 2 | GS12: 従業員職種-責任者 常勤換算後の人数 | GT12: I10 | GU12: I10 | GV12: 2 | HA12: 管理者 氏名 | HB12: I12 | HC12: I12 | HH12: 6 | HI12: 共同生活住居-所在地上段 | HJ12: I81 | HK12: I81 | HQ12: 共同生活住居-所在地上段 | HR12: I9 | HS12: I9 | HY12: 管理者 氏名 | HZ12: I13 | IA12: I13 | IG12: 管理者 氏名 | IH12: I13 | II12: I13
A13: 申請者-住所(ｶﾅ) | D13: 8 | G13: ※不要 | I13: 所在地下段 | K13: I16 | L13: 8 | O13: ※不要 | Q13: 事業所・施設の種類 | S13: N4 | X13: 9 | Y13: 管理者-住所（ｶﾅ） | AB13: 8 | AE13: ※不要 | AG13: 管理者郵便番号 | AH13: K13 | AI13: K13 | AJ13: 1 | AO13: 事業所所在地下段 | AP13: I8 | AQ13: I8 | AW13: 管理者郵便番号 | AX13: K13 | AY13: K13 | AZ13: 1 | BD13: 9 | BE13: 管理者郵便番号 | BF13: K13 | BG13: K13 | BH13: 1 | BM13: 事業所電話番号 | BN13: M9 | BO13: M9 | BU13: 管理者氏名 | BV13: I12 | BW13: I12 | CB13: 9 | CC13: 管理者郵便番号 | CD13: K13 | CE13: K13 | CF13: 1 | CK13: 管理者郵便番号 | CL13: K13 | CM13: K13 | CN13: 1 | CR13: 9 | CS13: 管理者氏名 | CT13: I14 | CU13: I14 | DA13: 管理者住所上段 | DB13: I13 | DC13: I13 | DI13: 昼間実施サービス-前年度平均利用者数-自立訓練-機能 | DJ13: S18 | DK13: S18 | DL13: 2 | DQ13: 設備-1室最大定員-基準上必要値 | DR13: W20 | DS13: W20 | DT13: 2 | DY13: 管理者郵便番号 | DZ13: K13 | EA13: K13 | EB13: 1 | EG13: 事業所電話番号 | EH13: M8 | EI13: M8 | EO13: 管理者ﾌﾘｶﾞﾅ | EP13: I13 | EQ13: I13 | EW13: 事業所電話番号 | EX13: M8 | EY13: M8 | FD13: 9 | FE13: 管理者郵便番号 | FF13: K15 | FG13: K15 | FH13: 1 | FM13: 事業所電話番号 | FN13: M8 | FO13: M8 | FT13: 9 | FU13: 管理者郵便番号 | FV13: K15 | FW13: K15 | FX13: 1 | GC13: 事業所電話番号 | GD13: M8 | GE13: M8 | GK13: 生活介護-単位4-定員 | GL13: M12 | GM13: M12 | GN13: 2 | GS13: 従業員職種-責任者 基準上の必要人数 | GT13: I11 | GU13: I11 | GV13: 2 | HA13: 管理者 住所 郵便 | HB13: K13 | HC13: K13 | HD13: 1 | HH13: 7 | HI13: 共同生活住居-所在地下段 | HJ13: I82 | HK13: I82 | HQ13: 共同生活住居-所在地下段 | HR13: I10 | HS13: I10 | HY13: 管理者 住所 郵便 | HZ13: K14 | IA13: K14 | IB13: 1 | IG13: 管理者 住所 郵便 | IH13: K14 | II13: K14 | IJ13: 1
A14: 申請者-住所(漢字) | C14: G26 | D14: 7 | G14: 住所分割 | I14: 代表者氏名 | K14: I18 | L14: 8 | O14: ※不要 | Q14: その他情報1 | T14: 8 | W14: ※不要 | X14: 10 | Y14: 管理者-住所（漢字） | AB14: 8 | AE14: ※不要 | AG14: 管理者住所上段 | AH14: I14 | AI14: I14 | AO14: 事業所電話番号 | AP14: M9 | AQ14: M9 | AW14: 管理者住所上段 | AX14: I14 | AY14: I14 | BD14: 10 | BE14: 管理者住所上段 | BF14: I14 | BG14: I14 | BM14: 事業所ＦＡＸ番号 | BN14: AA9 | BO14: AA9 | BU14: 管理者郵便番号 | BV14: K13 | BW14: K13 | BX14: 1 | CB14: 10 | CC14: 管理者住所上段 | CD14: I14 | CE14: I14 | CK14: 管理者住所上段 | CL14: I14 | CM14: I14 | CR14: 10 | CS14: 管理者郵便番号 | CT14: K15 | CU14: K15 | CV14: 1 | DA14: 管理者住所下段 | DB14: I14 | DC14: I14 | DI14: 昼間実施サービス-前年度平均利用者数-自立訓練-生活 | DJ14: V18 | DK14: V18 | DL14: 2 | DQ14: 設備-入所者１人あたり最小床面積 | DR14: O21 | DS14: O21 | DT14: 2 | DY14: 管理者住所上段 | DZ14: I14 | EA14: I14 | EG14: 事業所ＦＡＸ番号 | EH14: AA8 | EI14: AA8 | EO14: 管理者氏名 | EP14: I14 | EQ14: I14 | EW14: 事業所ＦＡＸ番号 | EX14: AA8 | EY14: AA8 | FD14: 10 | FE14: 管理者住所上段 | FF14: I16 | FG14: I16 | FM14: 事業所ＦＡＸ番号 | FN14: AA8 | FO14: AA8 | FT14: 10 | FU14: 管理者住所上段 | FV14: I16 | FW14: I16 | GC14: 事業所ＦＡＸ番号 | GD14: AA8 | GE14: AA8 | GK14: 生活介護-単位5-定員 | GL14: M13 | GM14: M13 | GN14: 2 | GS14: 従業員職種-医師 専従 常勤 | GT14: M8 | GU14: M8 | GV14: 2 | HA14: 管理者 住所 １ | HB14: I14 | HC14: I14 | HH14: 8 | HI14: 共同生活住居-電話番号 | HJ14: M84 | HK14: M84 | HQ14: 共同生活住居-電話番号 | HR14: M12 | HS14: M12 | HY14: 管理者 住所 １ | HZ14: I15 | IA14: I15 | IG14: 管理者 住所 １ | IH14: I15 | II14: I15
A15: 申請者-電話番号 | C15: J28 | I15: 事業所名称 | K15: I20 | L15: 8 | O15: ※不要 | Q15: その他情報2 | T15: 8 | W15: ※不要 | X15: 11 | Y15: 事業所-名称（ｶﾅ） | AA15: G35 | AG15: 管理者住所下段 | AH15: I15 | AI15: I15 | AO15: 事業所ＦＡＸ番号 | AP15: AA9 | AQ15: AA9 | AW15: 管理者住所下段 | AX15: I15 | AY15: I15 | BD15: 11 | BE15: 管理者住所下段 | BF15: I15 | BG15: I15 | BM15: 従業員職種 医師 専従 常勤 | BN15: I12 | BO15: I12 | BP15: 2 | BU15: 管理者住所上段 | BV15: I14 | BW15: I14 | CB15: 11 | CC15: 管理者住所下段 | CD15: I15 | CE15: I15 | CK15: 管理者住所下段 | CL15: I15 | CM15: I15 | CR15: 11 | CS15: 管理者住所上段 | CT15: I16 | CU15: I16 | DA15: 昼間実施サービス-合計 | DB15: C17 | DC15: C17 | DD15: 2 | DI15: 昼間実施サービス-実施ｻｰﾋﾞｽ-就労移行支援-通常 | DJ15: AO17 | DK15: AO17 | DL15: 3 | DM15: FALSE | DQ15: 設備-入所者１人あたり最小床面積-基準上必要値 | DR15: W21 | DS15: W21 | DT15: 2 | DY15: 管理者住所下段 | DZ15: I15 | EA15: I15 | EG15: 従業員職種 責任者 専従 常勤 | EH15: I12 | EI15: I12 | EJ15: 2 | EO15: 管理者郵便番号 | EP15: K15 | EQ15: K15 | ER15: 1 | EW15: 従業員職種 責任者 専従 常勤 | EX15: I12 | EY15: I12 | EZ15: 2 | FD15: 11 | FE15: 管理者住所下段 | FF15: I17 | FG15: I17 | FM15: 従業員職種-責任者 専従 常勤 | FN15: I12 | FO15: I12 | FP15: 2 | FT15: 11 | FU15: 管理者住所下段 | FV15: I17 | FW15: I17 | GC15: 従業員職種-職業指導員 専従 常勤 | GD15: I11 | GE15: I11 | GF15: 2 | GK15: 児童デイ-単位有無 | GL15: AM8 | GM15: AM8 | GN15: 3 | GO15: FALSE | GS15: 従業員職種-医師 専従 非常勤 | GT15: M9 | GU15: M9 | GV15: 2 | HA15: 管理者 住所 ２ | HB15: I15 | HC15: I15 | HH15: 9 | HI15: 共同生活住居-FAX番号 | HJ15: AA84 | HK15: AA84 | HQ15: 共同生活住居-FAX番号 | HR15: AA12 | HS15: AA12 | HY15: 管理者 住所 ２ | HZ15: I16 | IA15: I16 | IG15: 管理者 住所 ２ | IH15: I16 | II15: I16
A16: 申請者-FAX番号 | C16: R28 | I16: 事業所番号 | K16: I22 | L16: 8 | O16: ※不要 | Q16: その他情報3 | T16: 8 | W16: ※不要 | X16: 12 | Y16: 事業所-名称（漢字） | AA16: G36 | AG16: 管理者-兼務の有無 | AH16: W16 | AI16: W16 | AJ16: 4 | AK16: 2 | AO16: 営業日-月 | AP16: AL10 | AQ16: AL10 | AR16: 3 | AS16: FALSE | AW16: 管理者-兼務する他の職種 | AX16: W16 | AY16: W16 | BD16: 12 | BE16: 管理者-兼務する他の職種 | BF16: W16 | BG16: W16 | BM16: 従業員職種 医師 専従 非常勤 | BN16: I13 | BO16: I13 | BP16: 2 | BU16: 管理者住所下段 | BV16: I15 | BW16: I15 | CB16: 12 | CC16: 管理者-兼務する他の職種 | CD16: W16 | CE16: W16 | CK16: 管理者-サービス提供責任者との兼務の有無 | CL16: W16 | CM16: W16 | CN16: 4 | CO16: 2 | CR16: 12 | CS16: 管理者住所下段 | CT16: I17 | CU16: I17 | DA16: 昼間実施サービス-介護給付対象者 | DB16: I17 | DC16: I17 | DD16: 2 | DI16: 昼間実施サービス-実施ｻｰﾋﾞｽ-就労移行支援-資格 | DJ16: AP17 | DK16: AP17 | DL16: 3 | DM16: FALSE | DQ16: 設備-廊下幅 | DR16: O22 | DS16: O22 | DT16: 2 | DY16: 管理者-兼務する他の職種 | DZ16: W16 | EA16: W16 | EG16: 従業員職種 責任者 専従 非常勤 | EH16: I13 | EI16: I13 | EJ16: 2 | EO16: 管理者住所上段 | EP16: I16 | EQ16: I16 | EW16: 従業員職種 責任者 専従 非常勤 | EX16: I13 | EY16: I13 | EZ16: 2 | FD16: 12 | FE16: 管理者-兼務する他の職種 | FF16: W18 | FG16: W18 | FM16: 従業員職種-責任者 専従 非常勤 | FN16: I13 | FO16: I13 | FP16: 2 | FT16: 12 | FU16: 管理者-兼務する他の職種 | FV16: W18 | FW16: W18 | GC16: 従業員職種-職業指導員 専従 非常勤 | GD16: I12 | GE16: I12 | GF16: 2 | GK16: 児童デイ-単位1-定員 | GL16: P9 | GM16: P9 | GN16: 2 | GS16: 従業員職種-医師 兼務 常勤 | GT16: O8 | GU16: O8 | GV16: 2 | HA16: 管理者 当該事業所における相談支援専門員との兼務の有無 | HB16: W16 | HC16: W16 | HD16: 4 | HE16: 2 | HH16: 10 | HI16: 共同生活住居-建物形態 | HJ16: I85 | HK16: I85 | HQ16: 共同生活住居-建物形態 | HR16: I13 | HS16: I13 | HY16: 管理者 当該事業所で兼務する他の職種 | HZ16: W17 | IA16: W17 | IG16: 管理者 当該事業所で兼務する他の職種 | IH16: W17 | II16: W17
A17: 代表者-氏名(ｶﾅ) | D17: 8 | G17: ※不要 | I17: 金融機関名 | K17: I37 | Q17: WAMサービス区分 | R17: O6 | S17: M6 | T17: 14 | X17: 13 | Y17: 事業所-郵便番号 | AA17: H37 | AB17: 1 | AG17: 管理者-同一敷地内の兼務-事業所等の名称 | AH17: W17 | AI17: W17 | AO17: 営業日-火 | AP17: AM10 | AQ17: AM10 | AR17: 3 | AS17: FALSE | AW17: 管理者-他事業所又は施設従業者との兼務-事業所等の名称 | AX17: W17 | AY17: W17 | BD17: 13 | BE17: 管理者-他事業所又は施設従業者との兼務-事業所等の名称 | BF17: W17 | BG17: W17 | BM17: 従業員職種 医師 兼務 常勤 | BN17: K12 | BO17: K12 | BP17: 2 | BU17: 管理者-兼務する他の職種 | BV17: W16 | BW17: W16 | CB17: 13 | CC17: 管理者-他事業所又は施設従業者との兼務-事業所等の名称 | CD17: W17 | CE17: W17 | CK17: 管理者-兼務する他の職種 | CL17: W17 | CM17: W17 | CR17: 13 | CS17: 管理者-他事業所又は施設従業者との兼務-事業所等の名称 | CT17: W18 | CU17: W18 | DA17: 昼間実施サービス-訓練等給付対象者 | DB17: O17 | DC17: O17 | DD17: 2 | DI17: 昼間実施サービス-前年度平均利用者数-就労移行支援-通常 | DJ17: Y18 | DK17: Y18 | DL17: 2 | DQ17: 設備-廊下幅-基準上必要地 | DR17: W22 | DS17: W22 | DT17: 2 | DY17: 管理者-他事業所又は施設従業者との兼務-事業所等の名称 | DZ17: W17 | EA17: W17 | EG17: 従業員職種 責任者 兼務 常勤 | EH17: L12 | EI17: L12 | EJ17: 2 | EO17: 管理者住所下段 | EP17: I17 | EQ17: I17 | EW17: 従業員職種 責任者 兼務 常勤 | EX17: L12 | EY17: L12 | EZ17: 2 | FD17: 13 | FE17: 管理者-他事業所又は施設従業者との兼務-事業所等の名称 | FF17: W19 | FG17: W19 | FM17: 従業員職種-責任者 兼務 常勤 | FN17: L12 | FO17: L12 | FP17: 2 | FT17: 13 | FU17: 管理者-他事業所又は施設従業者との兼務-事業所等の名称 | FV17: W19 | FW17: W19 | GC17: 従業員職種-職業指導員 兼務 常勤 | GD17: L11 | GE17: L11 | GF17: 2 | GK17: 児童デイ-単位2-定員 | GL17: P10 | GM17: P10 | GN17: 2 | GS17: 従業員職種-医師 兼務 非常勤 | GT17: O9 | GU17: O9 | GV17: 2 | HA17: 管理者 施設の従業者との兼務 事業所等の名称 | HB17: W17 | HC17: W17 | HH17: 11 | HI17: 共同生活住居-住居区分 | HJ17: I86 | HK17: I86 | HL17: 4 | HM17: 4 | HQ17: 共同生活住居-住居区分 | HR17: I14 | HS17: I14 | HT17: 4 | HU17: 4 | HY17: 管理者 施設の従業者との兼務 事業所等の名称 | HZ17: W18 | IA17: W18 | IG17: 管理者 施設の従業者との兼務 事業所等の名称 | IH17: W18 | II17: W18
A18: 代表者-氏名(漢字) | C18: G31 | I18: 金融機関コード | K18: AH37 | L18: 15 | X18: 14 | Y18: 事業所-住所（ｶﾅ） | AB18: 8 | AE18: ※不要 | AG18: 管理者-同一敷地内の兼務-兼務する職種 | AH18: W18 | AI18: W18 | AO18: 営業日-水 | AP18: AN10 | AQ18: AN10 | AR18: 3 | AS18: FALSE | AW18: 管理者-他事業所又は施設従業者との兼務-兼務する職種 | AX18: W18 | AY18: W18 | BD18: 14 | BE18: 管理者-他事業所又は施設従業者との兼務-兼務する職種 | BF18: W18 | BG18: W18 | BM18: 従業員職種 医師 兼務 非常勤 | BN18: K13 | BO18: K13 | BP18: 2 | BU18: 管理者-他事業所又は施設従業者との兼務-事業所等の名称 | BV18: W17 | BW18: W17 | CB18: 14 | CC18: 管理者-他事業所又は施設従業者との兼務-兼務する職種 | CD18: W18 | CE18: W18 | CK18: 管理者-他事業所又は施設従業者との兼務-事業所等の名称 | CL18: W18 | CM18: W18 | CR18: 14 | CS18: 管理者-他事業所又は施設従業者との兼務-兼務する職種 | CT18: W19 | CU18: W19 | DA18: 昼間実施サービス-特定旧法受給者 | DB18: U17 | DC18: U17 | DD18: 2 | DI18: 昼間実施サービス-前年度平均利用者数-就労移行支援-資格 | DJ18: AB18 | DK18: AB18 | DL18: 2 | DQ18: 設備-中廊下幅 | DR18: O23 | DS18: O23 | DT18: 2 | DY18: 管理者-他事業所又は施設従業者との兼務-兼務する職種 | DZ18: W18 | EA18: W18 | EG18: 従業員職種 責任者 兼務 非常勤 | EH18: L13 | EI18: L13 | EJ18: 2 | EO18: 管理者-兼務する他の職種 | EP18: W18 | EQ18: W18 | EW18: 従業員職種 責任者 兼務 非常勤 | EX18: L13 | EY18: L13 | EZ18: 2 | FD18: 14 | FE18: 管理者-他事業所又は施設従業者との兼務-兼務する職種 | FF18: W20 | FG18: W20 | FM18: 従業員職種-責任者 兼務 非常勤 | FN18: L13 | FO18: L13 | FP18: 2 | FT18: 14 | FU18: 管理者-他事業所又は施設従業者との兼務-兼務する職種 | FV18: W20 | FW18: W20 | GC18: 従業員職種-職業指導員 兼務 非常勤 | GD18: L12 | GE18: L12 | GF18: 2 | GK18: 児童デイ-単位3-定員 | GL18: P11 | GM18: P11 | GN18: 2 | GS18: 従業員職種-医師 常勤換算後の人数 | GT18: M10 | GU18: M10 | GV18: 2 | HA18: 管理者 施設の従業者との兼務 兼務する職種 | HB18: W18 | HC18: W18 | HH18: 12 | HI18: 共同生活住居-住居区分その他 | HJ18: AE86 | HK18: AE86 | HQ18: 共同生活住居-住居区分その他 | HR18: AE14 | HS18: AE14 | HY18: 管理者 施設の従業者との兼務 兼務する職種 | HZ18: W19 | IA18: W19 | IG18: 管理者 施設の従業者との兼務 兼務する職種 | IH18: W19 | II18: W19
A19: 代表者-職名 | C19: G30 | I19: 店舗名 | K19: I39 | X19: 15 | Y19: 事業所-住所（漢字） | AA19: G38 | AB19: 7 | AE19: 住所分割 | AG19: 管理者-同一敷地内の兼務-勤務時間 | AH19: W19 | AI19: W19 | AO19: 営業日-木 | AP19: AO10 | AQ19: AO10 | AR19: 3 | AS19: FALSE | AW19: 管理者-他事業所又は施設従業者との兼務-勤務時間 | AX19: W19 | AY19: W19 | BD19: 15 | BE19: 管理者-他事業所又は施設従業者との兼務-勤務時間 | BF19: W19 | BG19: W19 | BM19: 従業員職種 医師 常勤換算後の人数 | BN19: I14 | BO19: I14 | BP19: 2 | BU19: 管理者-他事業所又は施設従業者との兼務-兼務する職種 | BV19: W18 | BW19: W18 | CB19: 15 | CC19: 管理者-他事業所又は施設従業者との兼務-勤務時間 | CD19: W19 | CE19: W19 | CK19: 管理者-他事業所又は施設従業者との兼務-兼務する職種 | CL19: W19 | CM19: W19 | CR19: 15 | CS19: 管理者-他事業所又は施設従業者との兼務-勤務時間 | CT19: W20 | CU19: W20 | DA19: 昼間実施サービス-定員緩和措置の有無 | DB19: AA17 | DC19: AA17 | DD19: 4 | DE19: 2 | DI19: 昼間実施サービス-実施ｻｰﾋﾞｽ-就労継続支援-A型 | DJ19: AQ17 | DK19: AQ17 | DL19: 3 | DM19: FALSE | DQ19: 設備-中廊下幅-基準上必要地 | DR19: W23 | DS19: W23 | DT19: 2 | DY19: 管理者-他事業所又は施設従業者との兼務-勤務時間 | DZ19: W19 | EA19: W19 | EG19: 従業員職種 責任者 常勤換算後の人数 | EH19: I14 | EI19: I14 | EJ19: 2 | EO19: 管理者-他事業所又は施設従業者との兼務-事業所等の名称 | EP19: W19 | EQ19: W19 | EW19: 従業員職種 責任者 常勤換算後の人数 | EX19: I14 | EY19: I14 | EZ19: 2 | FD19: 15 | FE19: 管理者-他事業所又は施設従業者との兼務-勤務時間 | FF19: W21 | FG19: W21 | FM19: 従業員職種-責任者 常勤換算後の人数 | FN19: I14 | FO19: I14 | FP19: 2 | FT19: 15 | FU19: 管理者-他事業所又は施設従業者との兼務-勤務時間 | FV19: W21 | FW19: W21 | GC19: 従業員職種-職業指導員 常勤換算後の人数 | GD19: I13 | GE19: I13 | GF19: 2 | GK19: 児童デイ-単位4-定員 | GL19: P12 | GM19: P12 | GN19: 2 | GS19: 従業員職種-医師 基準上の必要人数 | GT19: M11 | GU19: M11 | GV19: 2 | HA19: 管理者 施設の従業者との兼務 勤務時間 | HB19: W19 | HC19: W19 | HH19: 13 | HI19: 共同生活住居-建物所有者名 | HJ19: I87 | HK19: I87 | HQ19: 共同生活住居-建物所有者名 | HR19: I15 | HS19: I15 | HY19: 管理者 施設の従業者との兼務 勤務時間 | HZ19: W20 | IA19: W20 | IG19: 管理者 施設の従業者との兼務 勤務時間 | IH19: W20 | II19: W20
A20: 代表者-郵便番号 | C20: H32 | D20: 1 | I20: 店舗コード | K20: AJ39 | L20: 15 | X20: 16 | Y20: 事業所-電話番号 | AB20: 8 | AE20: ※不要 | AG20: サービス提供責任者ﾌﾘｶﾞﾅ | AH20: I20 | AI20: I20 | AO20: 営業日-金 | AP20: AP10 | AQ20: AP10 | AR20: 3 | AS20: FALSE | AW20: サービス管理責任者ﾌﾘｶﾞﾅ | AX20: I20 | AY20: I20 | BD20: 16 | BE20: サービス管理責任者ﾌﾘｶﾞﾅ | BF20: I20 | BG20: I20 | BM20: 従業員職種 医師 基準上の必要人数 | BN20: I15 | BO20: I15 | BP20: 2 | BU20: 管理者-他事業所又は施設従業者との兼務-勤務時間 | BV20: W19 | BW20: W19 | CB20: 16 | CC20: 事業所種別-併設型 | CD20: AL20 | CE20: AL20 | CF20: 3 | CG20: FALSE | CK20: 管理者-他事業所又は施設従業者との兼務-勤務時間 | CL20: W20 | CM20: W20 | CR20: 16 | CS20: 事業所全体の利用定員 | CT20: I21 | CU20: I21 | CV20: 2 | DA20: 施設入所支援の定員 | DB20: I18 | DC20: I18 | DI20: 昼間実施サービス-実施ｻｰﾋﾞｽ-就労継続支援-B型 | DJ20: AR17 | DK20: AR17 | DL20: 3 | DM20: FALSE | DQ20: 設備-短期入所実施有無 | DR20: AE21 | DS20: AE21 | DT20: 4 | DU20: 2 | DY20: 訪問事業実施の有無 | DZ20: I20 | EA20: I20 | EB20: 4 | EC20: 2 | EG20: 従業員職種 責任者 基準上の必要人数 | EH20: I15 | EI20: I15 | EJ20: 2 | EO20: 管理者-他事業所又は施設従業者との兼務-兼務する職種 | EP20: W20 | EQ20: W20 | EW20: 従業員職種 責任者 基準上の必要人数 | EX20: I15 | EY20: I15 | EZ20: 2 | FD20: 16 | FE20: サービス管理責任者ﾌﾘｶﾞﾅ | FF20: I22 | FG20: I22 | FM20: 従業員職種-責任者 基準上の必要人数 | FN20: I15 | FO20: I15 | FP20: 2 | FT20: 16 | FU20: サービス管理責任者ﾌﾘｶﾞﾅ | FV20: I22 | FW20: I22 | GC20: 従業員職種-職業指導員 基準上の必要人数 | GD20: I14 | GE20: I14 | GF20: 2 | GK20: 児童デイ-単位5-定員 | GL20: P13 | GM20: P13 | GN20: 2 | GS20: 従業員職種-看護職員 専従 常勤 | GT20: Q8 | GU20: Q8 | GV20: 2 | HA20: 事業開始時の利用者の予定数 | HB20: I20 | HC20: I20 | HD20: 2 | HH20: 14 | HI20: 共同生活住居-敷金 | HJ20: K88 | HK20: K88 | HL20: 2 | HQ20: 共同生活住居-敷金 | HR20: K16 | HS20: K16 | HT20: 2 | HY20: サービス管理責任者 ﾌﾘｶﾞﾅ | HZ20: I21 | IA20: I21 | IG20: サービス管理責任者 ﾌﾘｶﾞﾅ | IH20: I21 | II20: I21
A21: 代表者-住所(ｶﾅ) | D21: 8 | G21: ※不要 | I21: 口座番号 | K21: I41 | L21: 15 | X21: 17 | Y21: 事業所-FAX番号 | AB21: 8 | AE21: ※不要 | AG21: サービス提供責任者氏名 | AH21: I21 | AI21: I21 | AO21: 営業日-土 | AP21: AQ10 | AQ21: AQ10 | AR21: 3 | AS21: FALSE | AW21: サービス管理責任者氏名 | AX21: I21 | AY21: I21 | BD21: 17 | BE21: サービス管理責任者氏名 | BF21: I21 | BG21: I21 | BM21: 従業員職種 管理責任者 専従 常勤 | BN21: N12 | BO21: N12 | BP21: 2 | BU21: サービス管理責任者ﾌﾘｶﾞﾅ | BV21: I20 | BW21: I20 | CB21: 17 | CC21: 事業所種別-空床型 | CD21: AM20 | CE21: AM20 | CF21: 3 | CG21: FALSE | CK21: サービス管理責任者ﾌﾘｶﾞﾅ | CL21: I21 | CM21: I21 | CR21: 17 | CS21: 前年度の平均利用者数 | CT21: I22 | CU21: I22 | CV21: 2 | DA21: 他の社会福祉施設との併設の有無 | DB21: I19 | DC21: I19 | DD21: 4 | DE21: 2 | DI21: 昼間実施サービス-前年度平均利用者数-就労継続支援-A型 | DJ21: AE18 | DK21: AE18 | DL21: 2 | DQ21: 旧法施設からの移行-施設名 | DR21: O24 | DS21: O24 | DY21: サービス管理責任者ﾌﾘｶﾞﾅ | DZ21: I21 | EA21: I21 | EG21: 従業員職種 看護職員 専従 常勤 | EH21: O12 | EI21: O12 | EJ21: 2 | EO21: 管理者-他事業所又は施設従業者との兼務-勤務時間 | EP21: W21 | EQ21: W21 | EW21: 従業員職種 看護職員 専従 常勤 | EX21: O12 | EY21: O12 | EZ21: 2 | FD21: 17 | FE21: サービス管理責任者氏名 | FF21: I23 | FG21: I23 | FM21: 従業員職種-職業指導員 専従 常勤 | FN21: O12 | FO21: O12 | FP21: 2 | FT21: 17 | FU21: サービス管理責任者氏名 | FV21: I23 | FW21: I23 | GC21: 従業員職種-生活支援員 専従 常勤 | GD21: O11 | GE21: O11 | GF21: 2 | GK21: 自立訓練-機能-単位有無 | GL21: AN8 | GM21: AN8 | GN21: 3 | GO21: FALSE | GS21: 従業員職種-看護職員 専従 非常勤 | GT21: Q9 | GU21: Q9 | GV21: 2 | HA21: 相談支援専門員 ﾌﾘｶﾞﾅ | HB21: I21 | HC21: I21 | HH21: 15 | HI21: 共同生活住居-礼金 | HJ21: T88 | HK21: T88 | HL21: 2 | HQ21: 共同生活住居-礼金 | HR21: T16 | HS21: T16 | HT21: 2 | HY21: サービス管理責任者 氏名 | HZ21: I22 | IA21: I22 | IG21: サービス管理責任者 氏名 | IH21: I22 | II21: I22
A22: 代表者-住所(漢字) | C22: G33 | D22: 7 | G22: 住所分割 | I22: 預金種別 | K22: AC41 | L22: 4 | M22: 1 | X22: 18 | Y22: サービス種類コード | Z22: N6 | AA22: L6 | AB22: 11 | AG22: サービス提供責任者郵便番号 | AH22: K22 | AI22: K22 | AJ22: 1 | AO22: 営業日-日 | AP22: AR10 | AQ22: AR10 | AR22: 3 | AS22: FALSE | AW22: サービス管理責任者郵便番号 | AX22: K22 | AY22: K22 | AZ22: 1 | BD22: 18 | BE22: サービス管理責任者郵便番号 | BF22: K22 | BG22: K22 | BH22: 1 | BM22: 従業員職種 管理責任者 専従 非常勤 | BN22: N13 | BO22: N13 | BP22: 2 | BU22: サービス管理責任者氏名 | BV22: I21 | BW22: I21 | CB22: 18 | CC22: 事業所種別-単独型 | CD22: AN20 | CE22: AN20 | CF22: 3 | CG22: FALSE | CK22: サービス管理責任者氏名 | CL22: I22 | CM22: I22 | CR22: 18 | CS22: サービス管理責任者ﾌﾘｶﾞﾅ | CT22: I23 | CU22: I23 | DA22: 併設施設の種別 | DB22: Y19 | DC22: Y19 | DI22: 昼間実施サービス-前年度平均利用者数-就労継続支援-B型 | DJ22: AH18 | DK22: AH18 | DL22: 2 | DQ22: 旧法施設からの移行-施設種別 | DR22: O25 | DS22: O25 | DY22: サービス管理責任者氏名 | DZ22: I22 | EA22: I22 | EG22: 従業員職種 看護職員 専従 非常勤 | EH22: O13 | EI22: O13 | EJ22: 2 | EO22: 訪問事業実施の有無 | EP22: I22 | EQ22: I22 | ER22: 4 | ES22: 2 | EW22: 従業員職種 看護職員 専従 非常勤 | EX22: O13 | EY22: O13 | EZ22: 2 | FD22: 18 | FE22: サービス管理責任者郵便番号 | FF22: K24 | FG22: K24 | FH22: 1 | FM22: 従業員職種-職業指導員 専従 非常勤 | FN22: O13 | FO22: O13 | FP22: 2 | FT22: 18 | FU22: サービス管理責任者郵便番号 | FV22: K24 | FW22: K24 | FX22: 1 | GC22: 従業員職種-生活支援員 専従 非常勤 | GD22: O12 | GE22: O12 | GF22: 2 | GK22: 自立訓練-機能-単位1-定員 | GL22: S9 | GM22: S9 | GN22: 2 | GS22: 従業員職種-看護職員 兼務 常勤 | GT22: S8 | GU22: S8 | GV22: 2 | HA22: 相談支援専門員 氏名 | HB22: I22 | HC22: I22 | HH22: 16 | HI22: 共同生活住居-月額家賃 | HJ22: AD88 | HK22: AD88 | HL22: 2 | HQ22: 共同生活住居-月額家賃 | HR22: AD16 | HS22: AD16 | HT22: 2 | HY22: サービス管理責任者 郵便 | HZ22: K23 | IA22: K23 | IB22: 1 | IG22: サービス管理責任者 郵便 | IH22: K23 | II22: K23 | IJ22: 1
A23: 主たる事業所名称 | C23: G43 | I23: 名義人ﾌﾘｶﾞﾅ | K23: I43 | X23: 19 | Y23: サービス種類単位番号 | AB23: 8 | AE23: ※不要 | AG23: サービス提供責任者住所上段 | AH23: I23 | AI23: I23 | AO23: 営業時間-平日-開始 | AP23: L11 | AQ23: L11 | AW23: サービス管理責任者住所上段 | AX23: I23 | AY23: I23 | BD23: 19 | BE23: サービス管理責任者住所上段 | BF23: I23 | BG23: I23 | BM23: 従業員職種 管理責任者 兼務 常勤 | BN23: P12 | BO23: P12 | BP23: 2 | BU23: サービス管理責任者郵便番号 | BV23: K22 | BW23: K22 | BX23: 1 | CB23: 19 | CC23: 事業所種別-利用定員 | CD23: R21 | CE23: R21 | CF23: 2 | CK23: サービス管理責任者郵便番号 | CL23: K23 | CM23: K23 | CN23: 1 | CR23: 19 | CS23: サービス管理責任者氏名 | CT23: I24 | CU23: I24 | DA23: 併設施設の定員 | DB23: Y20 | DC23: Y20 | DI23: 昼間実施サービス-昼間多機能の有無 | DJ23: I19 | DK23: I19 | DL23: 4 | DM23: 2 | DQ23: 旧法施設からの移行-経過措置の有無 | DR23: O26 | DS23: O26 | DT23: 4 | DU23: 2 | DY23: サービス管理責任者郵便番号 | DZ23: K23 | EA23: K23 | EB23: 1 | EG23: 従業員職種 看護職員 兼務 常勤 | EH23: R12 | EI23: R12 | EJ23: 2 | EO23: サービス管理責任者ﾌﾘｶﾞﾅ | EP23: I23 | EQ23: I23 | EW23: 従業員職種 看護職員 兼務 常勤 | EX23: R12 | EY23: R12 | EZ23: 2 | FD23: 19 | FE23: サービス管理責任者住所上段 | FF23: I25 | FG23: I25 | FM23: 従業員職種-職業指導員 兼務 常勤 | FN23: R12 | FO23: R12 | FP23: 2 | FT23: 19 | FU23: サービス管理責任者住所上段 | FV23: I25 | FW23: I25 | GC23: 従業員職種-生活支援員 兼務 常勤 | GD23: R11 | GE23: R11 | GF23: 2 | GK23: 自立訓練-生活-単位有無 | GL23: AO8 | GM23: AO8 | GN23: 3 | GO23: FALSE | GS23: 従業員職種-看護職員 兼務 非常勤 | GT23: S9 | GU23: S9 | GV23: 2 | HA23: 相談支援専門員 住所 郵便 | HB23: K23 | HC23: K23 | HD23: 1 | HH23: 17 | HI23: 共同生活住居-契約期間 | HJ23: M89 | HK23: M89 | HQ23: 共同生活住居-契約期間 | HR23: M17 | HS23: M17 | HY23: サービス管理責任者 住所 １ | HZ23: I24 | IA23: I24 | IG23: サービス管理責任者 住所 １ | IH23: I24 | II23: I24
A24: 法人種別コード | C24: N5 | G24: VLOOKUPなし | I24: 名義人氏名 | K24: I45 | X24: 20 | Y24: 事業実施区分 | AB24: 8 | AE24: ※不要 | AG24: サービス提供責任者住所下段 | AH24: I24 | AI24: I24 | AO24: 営業時間-平日-終了 | AP24: Q11 | AQ24: Q11 | AW24: サービス管理責任者住所下段 | AX24: I24 | AY24: I24 | BD24: 20 | BE24: サービス管理責任者住所下段 | BF24: I24 | BG24: I24 | BM24: 従業員職種 管理責任者 兼務 非常勤 | BN24: P13 | BO24: P13 | BP24: 2 | BU24: サービス管理責任者住所上段 | BV24: I23 | BW24: I23 | CB24: 20 | CC24: 事業所種別-利用前年度平均入所者数 | CD24: R22 | CE24: R22 | CF24: 2 | CK24: サービス管理責任者住所上段 | CL24: I24 | CM24: I24 | CR24: 20 | CS24: サービス管理責任者郵便番号 | CT24: K25 | CU24: K25 | CV24: 1 | DA24: 従業員職種-責任者 専従 常勤 | DB24: I24 | DC24: I24 | DD24: 2 | DI24: 昼間実施サービス-昼間の総定員数 | DJ24: Y19 | DK24: Y19 | DL24: 2 | DQ24: 旧法施設からの移行-特定旧法受給者数 | DR24: AC26 | DS24: AC26 | DT24: 2 | DY24: サービス管理責任者住所上段 | DZ24: I24 | EA24: I24 | EG24: 従業員職種 看護職員 兼務 非常勤 | EH24: R13 | EI24: R13 | EJ24: 2 | EO24: サービス管理責任者氏名 | EP24: I24 | EQ24: I24 | EW24: 従業員職種 看護職員 兼務 非常勤 | EX24: R13 | EY24: R13 | EZ24: 2 | FD24: 20 | FE24: サービス管理責任者住所下段 | FF24: I26 | FG24: I26 | FM24: 従業員職種-職業指導員 兼務 非常勤 | FN24: R13 | FO24: R13 | FP24: 2 | FT24: 20 | FU24: サービス管理責任者住所下段 | FV24: I26 | FW24: I26 | GC24: 従業員職種-生活支援員 兼務 非常勤 | GD24: R12 | GE24: R12 | GF24: 2 | GK24: 自立訓練-生活-単位1-定員 | GL24: V9 | GM24: V9 | GN24: 2 | GS24: 従業員職種-看護職員 常勤換算後の人数 | GT24: Q10 | GU24: Q10 | GV24: 2 | HA24: 相談支援専門員 住所 １ | HB24: I24 | HC24: I24 | HH24: 18 | HI24: 共同生活住居-賃借料がない理由 | HJ24: Y89 | HK24: Y89 | HQ24: 共同生活住居-賃借料がない理由 | HR24: Y17 | HS24: Y17 | HY24: サービス管理責任者 住所 ２ | HZ24: I25 | IA24: I25 | IG24: サービス管理責任者 住所 ２ | IH24: I25 | II24: I25
A25: 指定／基準該当等事業所区分コード | D25: 8 | G25: ※不要 | I25: 委任状年 | K25: X8 | X25: 21 | Y25: 地域区分コード | AA25: V37 | AG25: 従業者数-居宅介護-専従-常勤 | AH25: I27 | AI25: I27 | AJ25: 2 | AO25: 営業時間-土曜-開始 | AP25: W11 | AQ25: W11 | AW25: 従業員職種 責任者 専従 常勤 | AX25: I27 | AY25: I27 | AZ25: 2 | BD25: 21 | BE25: 従業員職種 責任者 専従 常勤 | BF25: I27 | BG25: I27 | BH25: 2 | BM25: 従業員職種 管理責任者 常勤換算後の人数 | BN25: N14 | BO25: N14 | BP25: 2 | BU25: サービス管理責任者住所下段 | BV25: I24 | BW25: I24 | CB25: 21 | CC25: 併設施設-名称 | CD25: R23 | CE25: R23 | CK25: サービス管理責任者住所下段 | CL25: I25 | CM25: I25 | CR25: 21 | CS25: サービス管理責任者住所上段 | CT25: I26 | CU25: I26 | DA25: 従業員職種-責任者 専従 非常勤 | DB25: I25 | DC25: I25 | DD25: 2 | DI25: 定款・寄付行為等又は条例等 | DJ25: W20 | DK25: W20 | DQ25: 栄養管理体制加算基準 | DR25: I27 | DS25: I27 | DT25: 4 | DU25: 4 | DY25: サービス管理責任者住所下段 | DZ25: I25 | EA25: I25 | EG25: 従業員職種 看護職員 常勤換算後の人数 | EH25: O14 | EI25: O14 | EJ25: 2 | EO25: サービス管理責任者郵便番号 | EP25: K25 | EQ25: K25 | ER25: 1 | EW25: 従業員職種 看護職員 常勤換算後の人数 | EX25: O14 | EY25: O14 | EZ25: 2 | FD25: 21 | FE25: 従業員職種-責任者 専従 常勤 | FF25: I30 | FG25: I30 | FH25: 2 | FM25: 従業員職種-職業指導員 常勤換算後の人数 | FN25: O14 | FO25: O14 | FP25: 2 | FT25: 21 | FU25: 従業員職種-職業指導員 専従 常勤 | FV25: I29 | FW25: I29 | FX25: 2 | GC25: 従業員職種-生活支援員 常勤換算後の人数 | GD25: O13 | GE25: O13 | GF25: 2 | GK25: 就労移行支援-通常-単位有無 | GL25: AP8 | GM25: AP8 | GN25: 3 | GO25: FALSE | GS25: 従業員職種-看護職員 基準上の必要人数 | GT25: Q11 | GU25: Q11 | GV25: 2 | HA25: 相談支援専門員 住所 ２ | HB25: I25 | HC25: I25 | HH25: 19 | HI25: 共同生活住居-住居の利用定員 | HJ25: I90 | HK25: I90 | HQ25: 共同生活住居-住居の利用定員 | HR25: I18 | HS25: I18 | HY25: サービス管理責任者 専従 常勤 | HZ25: I29 | IA25: I29 | IG25: サービス管理責任者 専従 常勤 | IH25: I29 | II25: I29
A26: 社会福祉法人等軽減申し出有無 | C26: AA11 | D26: 10 | E26: FALSE | G26: 有無逆仕様 | I26: 委任状月 | K26: AD8 | X26: 22 | Y26: 事業開始年月日 | AA26: M42 | AG26: 従業者数-居宅介護-専従-非常勤 | AH26: I28 | AI26: I28 | AJ26: 2 | AO26: 営業時間-土曜-終了 | AP26: AB11 | AQ26: AB11 | AW26: 従業員職種 責任者 専従 非常勤 | AX26: I28 | AY26: I28 | AZ26: 2 | BD26: 22 | BE26: 従業員職種 責任者 専従 非常勤 | BF26: I28 | BG26: I28 | BH26: 2 | BM26: 従業員職種 管理責任者 基準上の必要人数 | BN26: N15 | BO26: N15 | BP26: 2 | BU26: 従業員職種 責任者 専従 常勤 | BV26: I27 | BW26: I27 | BX26: 2 | CB26: 22 | CC26: 併設施設-施設種別など | CD26: R24 | CE26: R24 | CK26: 事業所体制-他指定障害福祉ｻｰﾋﾞｽ-種類-１ | CL26: I27 | CM26: I27 | CR26: 22 | CS26: サービス管理責任者住所下段 | CT26: I27 | CU26: I27 | DA26: 従業員職種-責任者 兼務 常勤 | DB26: K24 | DC26: K24 | DD26: 2 | DI26: 生活介護を行う場合-全年度平均利用者数-ｻｰﾋﾞｽ単位1 | DJ26: P22 | DK26: P22 | DL26: 4 | DM26: 4 | DQ26: 新事業移行施設区分 | DR26: AD27 | DS26: AD27 | DT26: 4 | DU26: 2 | DY26: 従業員職種 責任者 専従 常勤 | DZ26: I29 | EA26: I29 | EB26: 2 | EG26: 従業員職種 看護職員 基準上の必要人数 | EH26: O15 | EI26: O15 | EJ26: 2 | EO26: サービス管理責任者住所上段 | EP26: I26 | EQ26: I26 | EW26: 従業員職種 看護職員 基準上の必要人数 | EX26: O15 | EY26: O15 | EZ26: 2 | FD26: 22 | FE26: 従業員職種-責任者 専従 非常勤 | FF26: I31 | FG26: I31 | FH26: 2 | FM26: 従業員職種-職業指導員 基準上の必要人数 | FN26: O15 | FO26: O15 | FP26: 2 | FT26: 22 | FU26: 従業員職種-職業指導員 専従 非常勤 | FV26: I30 | FW26: I30 | FX26: 2 | GC26: 従業員職種-生活支援員 基準上の必要人数 | GD26: O14 | GE26: O14 | GF26: 2 | GK26: 就労移行支援-通常-単位1-定員 | GL26: Y9 | GM26: Y9 | GN26: 2 | GS26: 従業員職種-生活支援員-合計 専従 常勤 | GT26: U8 | GU26: U8 | GV26: 2 | HA26: 相談支援専門員 専従 常勤 | HB26: I29 | HC26: I29 | HH26: 20 | HI26: 共同生活住居-居室数 | HJ26: I91 | HK26: I91 | HQ26: 共同生活住居-居室数 | HR26: I19 | HS26: I19 | HY26: サービス管理責任者 専従 非常勤 | HZ26: I30 | IA26: I30 | IG26: サービス管理責任者 専従 非常勤 | IH26: I30 | II26: I30
A27: 軽減開始年月日 | D27: 8 | G27: ※不要 | I27: 委任状日 | K27: AJ8 | X27: 23 | Y27: 事業休止年月日 | AB27: 8 | AE27: ※不要 | AG27: 従業者数-居宅介護-兼務-常勤 | AH27: L27 | AI27: L27 | AJ27: 2 | AO27: 営業時間-日曜-開始 | AP27: L12 | AQ27: L12 | AW27: 従業員職種 責任者 兼務 常勤 | AX27: L27 | AY27: L27 | AZ27: 2 | BD27: 23 | BE27: 従業員職種 責任者 兼務 常勤 | BF27: K27 | BG27: K27 | BH27: 2 | BM27: 従業員職種 看護職員 専従 常勤 | BN27: S12 | BO27: S12 | BP27: 2 | BU27: 従業員職種 責任者 専従 非常勤 | BV27: I28 | BW27: I28 | BX27: 2 | CB27: 23 | CC27: 併設施設-入所者の定員 | CD27: R25 | CE27: R25 | CF27: 2 | CK27: 事業所体制-他指定障害福祉ｻｰﾋﾞｽ-事業所名-１ | CL27: Q27 | CM27: Q27 | CR27: 23 | CS27: 従業員職種-世話人 専従 常勤 | CT27: I30 | CU27: I30 | CV27: 2 | DA27: 従業員職種-責任者 兼務 非常勤 | DB27: K25 | DC27: K25 | DD27: 2 | DI27: 生活介護を行う場合-全年度平均利用者数-ｻｰﾋﾞｽ単位2 | DJ27: P23 | DK27: P23 | DL27: 4 | DM27: 4 | DQ27: 保障単位数 | DR27: I28 | DS27: I28 | DY27: 従業員職種 責任者 専従 非常勤 | DZ27: I30 | EA27: I30 | EB27: 2 | EG27: 従業員職種 理学-理学・作業療法士 専従 常勤 | EH27: U12 | EI27: U12 | EJ27: 2 | EO27: サービス管理責任者住所下段 | EP27: I27 | EQ27: I27 | EW27: 従業員職種-生活支援員-通所 専従 常勤 | EX27: U12 | EY27: U12 | EZ27: 2 | FD27: 23 | FE27: 従業員職種-責任者 兼務 常勤 | FF27: L30 | FG27: L30 | FH27: 2 | FM27: 従業員職種-生活支援員 専従 常勤 | FN27: U12 | FO27: U12 | FP27: 2 | FT27: 23 | FU27: 従業員職種-職業指導員 兼務 常勤 | FV27: L29 | FW27: L29 | FX27: 2 | GC27: 従業員職種-空き１ 専従 常勤 | GD27: U11 | GE27: U11 | GF27: 2 | GK27: 就労移行支援-資格-単位有無 | GL27: AQ8 | GM27: AQ8 | GN27: 3 | GO27: FALSE | GS27: 従業員職種-生活支援員-合計 専従 非常勤 | GT27: U9 | GU27: U9 | GV27: 2 | HA27: 相談支援専門員 専従 非常勤 | HB27: I30 | HC27: I30 | HH27: 21 | HI27: 共同生活住居-うち個室 | HJ27: X91 | HK27: X91 | HQ27: 共同生活住居-うち個室 | HR27: X19 | HS27: X19 | HY27: サービス管理責任者 兼務 常勤 | HZ27: L29 | IA27: L29 | IG27: サービス管理責任者 兼務 常勤 | IH27: L29 | II27: L29
A28: 法人所轄庁 | C28: R29 | I28: 委任者 | K28: I53 | L28: 8 | O28: ※不要 | X28: 24 | Y28: 事業廃止年月日 | AB28: 8 | AE28: ※不要 | AG28: 従業者数-居宅介護-兼務-非常勤 | AH28: L28 | AI28: L28 | AJ28: 2 | AO28: 営業時間-日曜-終了 | AP28: Q12 | AQ28: Q12 | AW28: 従業員職種 責任者 兼務 非常勤 | AX28: L28 | AY28: L28 | AZ28: 2 | BD28: 24 | BE28: 従業員職種 責任者 兼務 非常勤 | BF28: K28 | BG28: K28 | BH28: 2 | BM28: 従業員職種 看護職員 専従 非常勤 | BN28: S13 | BO28: S13 | BP28: 2 | BU28: 従業員職種 責任者 兼務 常勤 | BV28: L27 | BW28: L27 | BX28: 2 | CB28: 24 | CC28: 単独事業所居室-1室の最大定員 | CD28: R26 | CE28: R26 | CF28: 2 | CK28: 事業所体制-他指定障害福祉ｻｰﾋﾞｽ-事業所番号-１ | CL28: AE27 | CM28: AE27 | CR28: 24 | CS28: 従業員職種-世話人 専従 非常勤 | CT28: I31 | CU28: I31 | CV28: 2 | DA28: 従業員職種-責任者 常勤換算後の人数 | DB28: I26 | DC28: I26 | DD28: 2 | DI28: 生活介護を行う場合-全年度平均利用者数-ｻｰﾋﾞｽ単位3 | DJ28: P24 | DK28: P24 | DL28: 4 | DM28: 4 | DQ28: 単位1-施設障害福祉サービスの種類 | DR28: I42 | DS28: I42 | DY28: 従業員職種 責任者 兼務 常勤 | DZ28: L29 | EA28: L29 | EB28: 2 | EG28: 従業員職種 理学-理学・作業療法士 専従 非常勤 | EH28: U13 | EI28: U13 | EJ28: 2 | EO28: 従業員職種 責任者 専従 常勤 | EP28: I31 | EQ28: I31 | ER28: 2 | EW28: 従業員職種-生活支援員-通所 専従 非常勤 | EX28: U13 | EY28: U13 | EZ28: 2 | FD28: 24 | FE28: 従業員職種-責任者 兼務 非常勤 | FF28: L31 | FG28: L31 | FH28: 2 | FM28: 従業員職種-生活支援員 専従 非常勤 | FN28: U13 | FO28: U13 | FP28: 2 | FT28: 24 | FU28: 従業員職種-職業指導員 兼務 非常勤 | FV28: L30 | FW28: L30 | FX28: 2 | GC28: 従業員職種-空き１ 専従 非常勤 | GD28: U12 | GE28: U12 | GF28: 2 | GK28: 就労移行支援-資格-単位1-定員 | GL28: AB9 | GM28: AB9 | GN28: 2 | GS28: 従業員職種-生活支援員-合計 兼務 常勤 | GT28: W8 | GU28: W8 | GV28: 2 | HA28: 相談支援専門員 兼務 常勤 | HB28: L29 | HC28: L29 | HH28: 22 | HI28: 共同生活住居-入居者一人あたり居室最小床面積 | HJ28: R92 | HK28: R92 | HL28: 2 | HQ28: 共同生活住居-入居者一人あたり居室最小床面積 | HR28: R20 | HS28: R20 | HT28: 2 | HY28: サービス管理責任者 兼務 非常勤 | HZ28: L30 | IA28: L30 | IG28: サービス管理責任者 兼務 非常勤 | IH28: L30 | II28: L30
A29: 事業所・施設の種類 名称ｶﾅ | D29: 8 | G29: ※不要 | X29: 25 | Y29: 事業再開年月日 | AB29: 8 | AE29: ※不要 | AG29: 常勤換算後の人数-居宅介護 | AH29: I29 | AI29: I29 | AJ29: 2 | AO29: 営業時間-祝日-開始 | AP29: W12 | AQ29: W12 | AW29: 従業員職種 責任者 常勤換算後の人数 | AX29: I29 | AY29: I29 | AZ29: 2 | BD29: 25 | BE29: 従業員職種 責任者 常勤換算後の人数 | BF29: I29 | BG29: I29 | BH29: 2 | BM29: 従業員職種 看護職員 兼務 常勤 | BN29: U12 | BO29: U12 | BP29: 2 | BU29: 従業員職種 責任者 兼務 非常勤 | BV29: L28 | BW29: L28 | BX29: 2 | CB29: 25 | CC29: 単独事業所居室-入居者一人あたり最小床面積 | CD29: R27 | CE29: R27 | CF29: 2 | CK29: 事業所体制-他指定障害福祉ｻｰﾋﾞｽ-種類-２ | CL29: I28 | CM29: I28 | CR29: 25 | CS29: 従業員職種-世話人 兼務 常勤 | CT29: L30 | CU29: L30 | CV29: 2 | DA29: 従業員職種-責任者 基準上の必要人数 | DB29: I27 | DC29: I27 | DD29: 2 | DI29: 生活介護を行う場合-全年度平均利用者数-ｻｰﾋﾞｽ単位4 | DJ29: P25 | DK29: P25 | DL29: 4 | DM29: 4 | DQ29: 単位1-単位番号 | DR29: AI42 | DS29: AI42 | DT29: 14 | DU29: 000 | DY29: 従業員職種 責任者 兼務 非常勤 | DZ29: L30 | EA29: L30 | EB29: 2 | EG29: 従業員職種 理学-理学・作業療法士 兼務 常勤 | EH29: X12 | EI29: X12 | EJ29: 2 | EO29: 従業員職種 責任者 専従 非常勤 | EP29: I32 | EQ29: I32 | ER29: 2 | EW29: 従業員職種-生活支援員-通所 兼務 常勤 | EX29: X12 | EY29: X12 | EZ29: 2 | FD29: 25 | FE29: 従業員職種-責任者 常勤換算後の人数 | FF29: I32 | FG29: I32 | FH29: 2 | FM29: 従業員職種-生活支援員 兼務 常勤 | FN29: X12 | FO29: X12 | FP29: 2 | FT29: 25 | FU29: 従業員職種-職業指導員 常勤換算後の人数 | FV29: I31 | FW29: I31 | FX29: 2 | GC29: 従業員職種-空き１ 兼務 常勤 | GD29: X11 | GE29: X11 | GF29: 2 | GK29: 就労継続支援-Ａ型-単位有無 | GL29: AR8 | GM29: AR8 | GN29: 3 | GO29: FALSE | GS29: 従業員職種-生活支援員-合計 兼務 非常勤 | GT29: W9 | GU29: W9 | GV29: 2 | HA29: 相談支援専門員 兼務 非常勤 | HB29: L30 | HC29: L30 | HH29: 23 | HI29: 共同生活住居-主たる対象者-知的障害者 | HJ29: AL93 | HK29: AL93 | HL29: 3 | HM29: FALSE | HQ29: 共同生活住居-主たる対象者-知的障害者 | HR29: AL21 | HS29: AL21 | HT29: 3 | HU29: FALSE | HY29: サービス管理責任者 常勤換算後の人数 | HZ29: I31 | IA29: I31 | IG29: サービス管理責任者 常勤換算後の人数 | IH29: I31 | II29: I31
A30: 事業所・施設の種類 名称漢字 | D30: 8 | G30: ※不要 | X30: 26 | Y30: 適用年月日 | AB30: 8 | AE30: ※不要 | AG30: 基準上の必要人数-居宅介護 | AH30: I30 | AI30: I30 | AJ30: 2 | AO30: 営業時間-祝日-終了 | AP30: AB12 | AQ30: AB12 | AW30: 従業員職種 責任者 基準上の必要人数 | AX30: I30 | AY30: I30 | AZ30: 2 | BD30: 26 | BE30: 従業員職種 責任者 基準上の必要人数 | BF30: I30 | BG30: I30 | BH30: 2 | BM30: 従業員職種 看護職員 兼務 非常勤 | BN30: U13 | BO30: U13 | BP30: 2 | BU30: 従業員職種 責任者 常勤換算後の人数 | BV30: I29 | BW30: I29 | BX30: 2 | CB30: 26 | CC30: 従業員職種-責任者 専従 常勤 | CD30: I31 | CE30: I31 | CF30: 2 | CK30: 事業所体制-他指定障害福祉ｻｰﾋﾞｽ-事業所名-２ | CL30: Q28 | CM30: Q28 | CR30: 26 | CS30: 従業員職種-世話人 兼務 非常勤 | CT30: L31 | CU30: L31 | CV30: 2 | DA30: 従業員職種-医師 専従 常勤 | DB30: M24 | DC30: M24 | DD30: 2 | DI30: 利用料 | DJ30: I26 | DK30: I26 | DQ30: 単位1-責任者 専従 常勤 | DR30: I45 | DS30: I45 | DT30: 2 | DY30: 従業員職種 責任者 常勤換算後の人数 | DZ30: I31 | EA30: I31 | EB30: 2 | EG30: 従業員職種 理学-理学・作業療法士 兼務 非常勤 | EH30: X13 | EI30: X13 | EJ30: 2 | EO30: 従業員職種 責任者 兼務 常勤 | EP30: L31 | EQ30: L31 | ER30: 2 | EW30: 従業員職種-生活支援員-通所 兼務 非常勤 | EX30: X13 | EY30: X13 | EZ30: 2 | FD30: 26 | FE30: 従業員職種-責任者 基準上の必要人数 | FF30: I33 | FG30: I33 | FH30: 2 | FM30: 従業員職種-生活支援員 兼務 非常勤 | FN30: X13 | FO30: X13 | FP30: 2 | FT30: 26 | FU30: 従業員職種-職業指導員 基準上の必要人数 | FV30: I32 | FW30: I32 | FX30: 2 | GC30: 従業員職種-空き１ 兼務 非常勤 | GD30: X12 | GE30: X12 | GF30: 2 | GK30: 就労継続支援-Ａ型-単位1-定員 | GL30: AE9 | GM30: AE9 | GN30: 2 | GS30: 従業員職種-生活支援員-合計 常勤換算後の人数 | GT30: U10 | GU30: U10 | GV30: 2 | HA30: 相談支援専門員 常勤換算後の人数 | HB30: I31 | HC30: I31 | HH30: 24 | HI30: 共同生活住居-主たる対象者-精神障害者 | HJ30: AM93 | HK30: AM93 | HL30: 3 | HM30: FALSE | HQ30: 共同生活住居-主たる対象者-精神障害者 | HR30: AM21 | HS30: AM21 | HT30: 3 | HU30: FALSE | HY30: サービス管理責任者 基準上の必要人数 | HZ30: I32 | IA30: I32 | IG30: サービス管理責任者 基準上の必要人数 | IH30: I32 | II30: I32
A31: 事業所・施設の種類 所在地郵便 | D31: 8 | G31: ※不要 | X31: 27 | Y31: 施設等の区分 | AB31: 8 | AE31: ※不要 | AG31: 従業者数-その他-専従-常勤 | AH31: O27 | AI31: O27 | AJ31: 2 | AO31: 営業時間-備考 | AP31: AE12 | AQ31: AE12 | AW31: 従業員職種 医師 専従 常勤 | AX31: O27 | AY31: O27 | AZ31: 2 | BD31: 27 | BE31: 単位１ 医師 専従 常勤 | BF31: N27 | BG31: N27 | BH31: 2 | BM31: 従業員職種 看護職員 常勤換算後の人数 | BN31: S14 | BO31: S14 | BP31: 2 | BU31: 従業員職種 責任者 基準上の必要人数 | BV31: I30 | BW31: I30 | BX31: 2 | CB31: 27 | CC31: 従業員職種-責任者 専従 非常勤 | CD31: I32 | CE31: I32 | CF31: 2 | CK31: 事業所体制-他指定障害福祉ｻｰﾋﾞｽ-事業所番号-２ | CL31: AE28 | CM31: AE28 | CR31: 27 | CS31: 従業員職種-世話人 常勤換算後の人数 | CT31: I32 | CU31: I32 | CV31: 2 | DA31: 従業員職種-医師 専従 非常勤 | DB31: M25 | DC31: M25 | DD31: 2 | DI31: その他費用 | DJ31: I27 | DK31: I27 | DQ31: 単位1-責任者 専従 非常勤 | DR31: I46 | DS31: I46 | DT31: 2 | DY31: 従業員職種 責任者 基準上の必要人数 | DZ31: I32 | EA31: I32 | EB31: 2 | EG31: 従業員職種 理学-理学・作業療法士 常勤換算後の人数 | EH31: U14 | EI31: U14 | EJ31: 2 | EO31: 従業員職種 責任者 兼務 非常勤 | EP31: L32 | EQ31: L32 | ER31: 2 | EW31: 従業員職種-生活支援員-通所 常勤換算後の人数 | EX31: U14 | EY31: U14 | EZ31: 2 | FD31: 27 | FE31: 従業員職種-職業指導員 専従 常勤 | FF31: O30 | FG31: O30 | FH31: 2 | FM31: 従業員職種-生活支援員 常勤換算後の人数 | FN31: U14 | FO31: U14 | FP31: 2 | FT31: 27 | FU31: 従業員職種-生活支援員 専従 常勤 | FV31: O29 | FW31: O29 | FX31: 2 | GC31: 従業員職種-空き１ 常勤換算後の人数 | GD31: U13 | GE31: U13 | GF31: 2 | GK31: 就労継続支援-Ｂ型-単位有無 | GL31: AS8 | GM31: AS8 | GN31: 3 | GO31: FALSE | GS31: 従業員職種-生活支援員-合計 基準上の必要人数 | GT31: U11 | GU31: U11 | GV31: 2 | HA31: 相談支援専門員 基準上の必要人数 | HB31: I32 | HC31: I32 | HH31: 25 | HI31: 共同生活住居-利用料 | HJ31: I94 | HK31: I94 | HQ31: 共同生活住居-利用料 | HR31: I22 | HS31: I22 | HY31: 地域生活支援員 専従 常勤 | HZ31: O29 | IA31: O29 | IG31: 就労定着支援員 専従 常勤 | IH31: O29 | II31: O29
A32: 事業所・施設の種類 所在地住所 | D32: 8 | G32: ※不要 | X32: 28 | Y32: 人員配置区分 | AB32: 8 | AE32: ※不要 | AG32: 従業者数-その他-専従-非常勤 | AH32: O28 | AI32: O28 | AJ32: 2 | AO32: サービス内容-身体介護 | AP32: AL13 | AQ32: AL13 | AR32: 3 | AS32: FALSE | AW32: 従業員職種 医師 専従 非常勤 | AX32: O28 | AY32: O28 | AZ32: 2 | BD32: 28 | BE32: 単位１ 医師 専従 非常勤 | BF32: N28 | BG32: N28 | BH32: 2 | BM32: 従業員職種 看護職員 基準上の必要人数 | BN32: S15 | BO32: S15 | BP32: 2 | BU32: 単位１ 指導員 専従 常勤 | BV32: I33 | BW32: I33 | BX32: 2 | CB32: 28 | CC32: 従業員職種-責任者 兼務 常勤 | CD32: K31 | CE32: K31 | CF32: 2 | CK32: 事業所体制-他指定障害福祉ｻｰﾋﾞｽ-種類-３ | CL32: I29 | CM32: I29 | CR32: 28 | CS32: 従業員職種-世話人 基準上の必要人数 | CT32: I33 | CU32: I33 | CV32: 2 | DA32: 従業員職種-医師 兼務 常勤 | DB32: O24 | DC32: O24 | DD32: 2 | DI32: 通常の事業の実施地域-1-1 上左 | DJ32: I28 | DK32: I28 | DQ32: 単位1-責任者 兼務 常勤 | DR32: L45 | DS32: L45 | DT32: 2 | DY32: 従業員職種 看護職員 専従 常勤 | DZ32: O29 | EA32: O29 | EB32: 2 | EG32: 従業員職種 理学-理学・作業療法士 基準上の必要人数 | EH32: U15 | EI32: U15 | EJ32: 2 | EO32: 従業員職種 責任者 常勤換算後の人数 | EP32: I33 | EQ32: I33 | ER32: 2 | EW32: 従業員職種-生活支援員-通所 基準上の必要人数 | EX32: U15 | EY32: U15 | EZ32: 2 | FD32: 28 | FE32: 従業員職種-職業指導員 専従 非常勤 | FF32: O31 | FG32: O31 | FH32: 2 | FM32: 従業員職種-生活支援員 基準上の必要人数 | FN32: U15 | FO32: U15 | FP32: 2 | FT32: 28 | FU32: 従業員職種-生活支援員 専従 非常勤 | FV32: O30 | FW32: O30 | FX32: 2 | GC32: 従業員職種-空き１ 基準上の必要人数 | GD32: U14 | GE32: U14 | GF32: 2 | GK32: 就労継続支援-Ｂ型-単位1-定員 | GL32: AH9 | GM32: AH9 | GN32: 2 | GS32: 従業員職種-生活支援員-通所 専従 常勤 | GT32: Y8 | GU32: Y8 | GV32: 2 | HA32: その他の者 専従 常勤 | HB32: O29 | HC32: O29 | HH32: 26 | HI32: 共同生活住居-その他費用 | HJ32: I95 | HK32: I95 | HQ32: 共同生活住居-その他費用 | HR32: I23 | HS32: I23 | HY32: 地域生活支援員 専従 非常勤 | HZ32: O30 | IA32: O30 | IG32: 就労定着支援員 専従 非常勤 | IH32: O30 | II32: O30
A33: 事業所・施設の種類 事業開始予定年月日 | C33: M42 | X33: 29 | Y33: 定員区分 | AB33: 8 | AE33: ※不要 | AG33: 従業者数-その他-兼務-常勤 | AH33: R27 | AI33: R27 | AJ33: 2 | AO33: サービス内容-乗降介助 | AP33: AM13 | AQ33: AM13 | AR33: 3 | AS33: FALSE | AW33: 従業員職種 医師 兼務 常勤 | AX33: R27 | AY33: R27 | AZ33: 2 | BD33: 29 | BE33: 単位１ 医師 兼務 常勤 | BF33: P27 | BG33: P27 | BH33: 2 | BM33: 従業員職種 理学療法士 専従 常勤 | BN33: X12 | BO33: X12 | BP33: 2 | BU33: 単位１ 指導員 専従 非常勤 | BV33: I34 | BW33: I34 | BX33: 2 | CB33: 29 | CC33: 従業員職種-責任者 兼務 非常勤 | CD33: K32 | CE33: K32 | CF33: 2 | CK33: 事業所体制-他指定障害福祉ｻｰﾋﾞｽ-事業所名-３ | CL33: Q29 | CM33: Q29 | CR33: 29 | CS33: 従業員職種-生活支援員 専従 常勤 | CT33: O30 | CU33: O30 | CV33: 2 | DA33: 従業員職種-医師 兼務 非常勤 | DB33: O25 | DC33: O25 | DD33: 2 | DI33: 通常の事業の実施地域-1-2 上右 | DJ33: N28 | DK33: N28 | DQ33: 単位1-責任者 兼務 非常勤 | DR33: L46 | DS33: L46 | DT33: 2 | DY33: 従業員職種 看護職員 専従 非常勤 | DZ33: O30 | EA33: O30 | EB33: 2 | EG33: 従業員職種 理学-機能訓練指導員 専従 常勤 | EH33: AA12 | EI33: AA12 | EJ33: 2 | EO33: 従業員職種 責任者 基準上の必要人数 | EP33: I34 | EQ33: I34 | ER33: 2 | EW33: 従業員職種-生活支援員-訪問 専従 常勤 | EX33: AA12 | EY33: AA12 | EZ33: 2 | FD33: 29 | FE33: 従業員職種-職業指導員 兼務 常勤 | FF33: R30 | FG33: R30 | FH33: 2 | FM33: 従業員職種-就労支援員 専従 常勤 | FN33: AA12 | FO33: AA12 | FP33: 2 | FT33: 29 | FU33: 従業員職種-生活支援員 兼務 常勤 | FV33: R29 | FW33: R29 | FX33: 2 | GC33: 従業員職種-空き２ 専従 常勤 | GD33: AA11 | GE33: AA11 | GF33: 2 | GK33: 定員緩和措置の有無 | GL33: I14 | GM33: I14 | GN33: 4 | GO33: 2 | GS33: 従業員職種-生活支援員-通所 専従 非常勤 | GT33: Y9 | GU33: Y9 | GV33: 2 | HA33: その他の者 専従 非常勤 | HB33: O30 | HC33: O30 | HH33: 27 | HI33: 共同生活住居-重度障害者支援加算 | HJ33: I96 | HK33: I96 | HO33: ※未使用 | HQ33: 共同生活住居-重度障害者支援加算 | HR33: I24 | HS33: I24 | HW33: ※未使用 | HY33: 地域生活支援員 兼務 常勤 | HZ33: R29 | IA33: R29 | IG33: 就労定着支援員 兼務 常勤 | IH33: R29 | II33: R29
