Workbook
Name CSV_施設種別: #REF!
Name CSV_施設種別: 第２号様式!$AS$84:$AS$85
Name ＧＨ夜間防災体制加算: 第２号様式!$AT$284:$AT$289
Name WAM対応1: #REF!
Name WAM対応1: 第２号様式!$AS$88:$AX$109
Name WAM対応2: #REF!
Name WAM対応2: 第２号様式!$AX$88:$BB$96
Name WAM対応3: #REF!
Name WAM対応3: 第２号様式!$BC$88:$BG$88
Name リスト_ＣＨ夜間支援体制加算: [1]様式第１号!$AT$271:$AT$280
Name リスト_ＣＨ夜間支援体制加算: [2]様式第１号!$AT$271:$AT$280
Name リスト_ＣＨ夜間支援体制加算: [2]様式第１号!$AT$271:$AT$280
Name リスト_ＣＨ夜間支援体制加算: [2]様式第１号!$AT$271:$AT$280
Name リスト_ＣＨ夜間支援体制加算: [2]様式第１号!$AT$271:$AT$280
Name リスト_ＣＨ夜間支援体制加算: [2]様式第１号!$AT$271:$AT$280
Name リスト_ＣＨ夜間支援体制加算: 第２号様式!$AT$271:$AT$280
Name リスト_ＧＨ夜間防災体制加算: [1]様式第１号!$AT$284:$AT$289
Name リスト_ＧＨ夜間防災体制加算: [2]様式第１号!$AT$284:$AT$289
Name リスト_ＧＨ夜間防災体制加算: [2]様式第１号!$AT$284:$AT$289
Name リスト_ＧＨ夜間防災体制加算: [2]様式第１号!$AT$284:$AT$289
Name リスト_ＧＨ夜間防災体制加算: [2]様式第１号!$AT$284:$AT$289
Name リスト_ＧＨ夜間防災体制加算: [2]様式第１号!$AT$284:$AT$289
Name リスト_ＧＨ夜間防災体制加算: 第２号様式!$AT$284:$AT$289
Name リスト_サービス種類1: #REF!
Name リスト_サービス種類1: 第２号様式!$AV$88:$AV$89
Name リスト_サービス種類2: #REF!
Name リスト_サービス種類3: #REF!
Name リスト_委任状元号: 第２号様式!$AT$149:$AT$150
Name リスト_施設等の区分_児童デイ: [1]様式第１号!$AT$241:$AT$243
Name リスト_施設等の区分_児童デイ: #REF!
Name リスト_施設等の区分_児童デイ: [2]様式第１号!$AT$241:$AT$243
Name リスト_施設等の区分_児童デイ: [2]様式第１号!$AT$241:$AT$243
Name リスト_施設等の区分_児童デイ: [2]様式第１号!$AT$241:$AT$243
Name リスト_施設等の区分_児童デイ: [2]様式第１号!$AT$241:$AT$243
Name リスト_施設等の区分_児童デイ: [2]様式第１号!$AT$241:$AT$243
Name リスト_施設等の区分_児童デイ: 第２号様式!$AT$241:$AT$243
Name リスト_主たるサービス種類_付１０: 第２号様式!$AT$331:$AT$332
Name リスト_主たるサービス種類_付１１: [1]様式第１号!$AT$336:$AT$337
Name リスト_主たるサービス種類_付１１: [2]様式第１号!$AT$336:$AT$337
Name リスト_主たるサービス種類_付１１: [2]様式第１号!$AT$336:$AT$337
Name リスト_主たるサービス種類_付１１: [2]様式第１号!$AT$336:$AT$337
Name リスト_主たるサービス種類_付１１: [2]様式第１号!$AT$336:$AT$337
Name リスト_主たるサービス種類_付１１: [2]様式第１号!$AT$336:$AT$337
Name リスト_主たるサービス種類_付１１: 第２号様式!$AT$336:$AT$337
Name リスト_主たるサービス種類_付１２: [1]様式第１号!$AT$341:$AT$342
Name リスト_主たるサービス種類_付１２: [2]様式第１号!$AT$341:$AT$342
Name リスト_主たるサービス種類_付１２: [2]様式第１号!$AT$341:$AT$342
Name リスト_主たるサービス種類_付１２: [2]様式第１号!$AT$341:$AT$342
Name リスト_主たるサービス種類_付１２: [2]様式第１号!$AT$341:$AT$342
Name リスト_主たるサービス種類_付１２: [2]様式第１号!$AT$341:$AT$342
Name リスト_主たるサービス種類_付１２: 第２号様式!$AT$341:$AT$342
Name リスト_主たるサービス種類_付３: [1]様式第１号!$AT$311:$AT$312
Name リスト_主たるサービス種類_付３: [2]様式第１号!$AT$311:$AT$312
Name リスト_主たるサービス種類_付３: [2]様式第１号!$AT$311:$AT$312
Name リスト_主たるサービス種類_付３: [2]様式第１号!$AT$311:$AT$312
Name リスト_主たるサービス種類_付３: [2]様式第１号!$AT$311:$AT$312
Name リスト_主たるサービス種類_付３: [2]様式第１号!$AT$311:$AT$312
Name リスト_主たるサービス種類_付３: 第２号様式!$AT$311:$AT$312
Name リスト_主たるサービス種類_付５: [1]様式第１号!$AT$316:$AU$323
Name リスト_主たるサービス種類_付５: [2]様式第１号!$AT$316:$AU$323

Sheet 必要書類一覧
A1: ○：必ず提出していただくもの △：該当がない書類等は省略可能 ※該当するかどうかわからない場合、省略せず提出してください。
B2: 必要書類一覧 | D2: 特定相談支援 | E2: 障害児相談支援
D3: 計画相談支援 | E3: 障害児相談支援
B4: 第2号様式 | C4: 申請書 | D4: ○ | E4: ○
C5: 別紙1 | D5: ○ なければ不要 | E5: ○ なければ不要
B6: 付表 | D6: 〇 付表１ | E6: 〇 付表１
B7: 定款、履歴事項全部証明書 | D7: ○ | E7: ○
B8: 別紙２ | C8: 勤務形態 | D8: ○ | E8: ○
C9: 従業者の要件を確認できる書類 (実務経験証明書、資格証や研修修了証の写し等) | D9: ○ | E9: ○
B10: 運営規程 | D10: ○ | E10: ○
B11: その他必要なもの | D11: ○ | E11: ○
B12: 参考様式１ | C12: 平面図 | D12: ○ | E12: ○
B13: 参考様式３ | C13: 設備 | D13: ○ | E13: ○
C14: 写真 | D14: ○ | E14: ○
B15: 参考様式４ | C15: 経歴書 （管理者） | D15: ○ | E15: ○
C16: 経歴書 （相談支援専門員） | D16: ○ | E16: ○
C17: 相談支援専従事者初任者研修の終了証・現任研修の終了証 | D17: ○ | E17: ○
B18: 参考様式５ | C18: 実務経験 | D18: ○ | E18: ○
B19: 参考様式６ | C19: 苦情解決 | D19: ○ | E19: ○
B20: 参考様式７ | C20: 主たる対象者 | D20: ○ | E20: ○
B21: 参考様式８ | C21: 誓約書 | D21: ○ | E21: ○
B22: 管理者の誓約書 | D22: ○ | E22: ○
B23: 参考様式９ | C23: 協力機関 | D23: ○ | E23: ○
B24: 参考様式１０ | C24: 事業計画書 | D24: ○ | E24: ○
B25: 参考様式１１ | C25: 計画相談・障害児相談支援事業 開始届出書 | D25: ○ | E25: ○
B26: 参考様式１２ | C26: 収支予算書 | D26: ○ | E26: ○
B27: 資産の状況 | C27: 財産目録または決算書 | D27: ○ | E27: ○
B28: その他 | C28: 建物賃貸借契約書 | D28: ○ | E28: ○
C29: 防火対象物使用開始届出書の副本の写し | D29: △ | E29: △
C30: 賠償責任保険証書の写し | D30: ○ | E30: ○
C31: パンフレット等（事業所の特色・年間予定・週間予定・一日の流れ等） | D31: △ | E31: △
C32: 情報公表システム 法人ID発行/事業所情報登録依頼票 | D32: ○ | E32: ○
C33: 業務管理体制の届出 | D33: △ | E33: △
C34: 介護給付費等算定に係る体制等に関する届出書 | D34: ○ | E34: ○
C35: 指定書送付用レターパックライト（３７０円） | D35: ○ | E35: ○
C36: 提出書類確認票 | D36: ○ | E36: ○

Sheet 提出書類の説明
A1: 指定通所支援及び指定障害児入所施設指定申請に係る 添付書類、参考様式の種類と記載時の留意事項・説明
I2: 【令和５年１１月現在】
A3: ◇申請書・添付書類の様式等は、ウェブサイト「障害福祉情報サービスかながわ」（http://www.rakuraku.or.jp/shienhi/）の「書式ライブラリ」よりダウンロードできます。 ◇必ず最新版のものをダウンロードして使用してください。
A4: 様式名等 | E4: 記載時の留意事項・説明 | J4: 提出
A5: 第２号様式 | B5: 指定申請書 | E5: ・「指定申請書」は通所・入所共通の様式です。 ・「付表」は指定を受けようとする事業の種類により異なります(様式第1号に必要事項を入力すると、事業に対応した付表が表示されます)。 ※「指定申請書」、「口座振込(変更)依頼書」、「付表」はＡ４の紙に出力し押印(必要なもののみ）したものを提出ください。
A6: 口座振込(変更)依頼書
A7: 各種付表
A8: 別紙１ | B8: 同一法人において既に指定を受けている事業等について | E8: 同一法人において既に指定を受けている事業がある場合記載してください(児童福祉法・障害者総合支援法・介護保険法等)。ない場合は別紙添付の必要はありません。
A9: 申請者の定款、寄附行為等及びその登記簿謄本（又は条例） | E9: ・申請に係る事業を実施する旨の認可がされていることが必要です。
E10: ・登記簿は、履歴事項全部証明を提出ください。複数のサービスを同時に申請する場合は、原本は１部で差支えありませんが、他の申請書には写しを必ず添付してください。
A11: 別紙２ | B11: 従業者の勤務の体制及び勤務形態一覧表 | E11: ・従業者の一ヶ月の勤務体制について記入してください。
A12: 運営規程 | E12: ・それぞれの事業ごとに作成してください。
A13: 参考様式１ | B13: 事業所・施設の平面図 | E13: ・既製の平面図（建築図面等）がある場合はそれをＡ3（またはＡ4）に縮尺の上、添付してください。複数の事業所で同じ建物を使う場合は、事業で使う場所が分かるように色分け等をしてください。
E14: ・事業所の写真（外観及び内部）を添付してください。写真には、どの部分の写真であるか記載してください。写真は現像したものではなく、Ａ４紙等に印刷したものでかまいません。（様子が確認できるように、可能な限りカラーでお願いします。） ・指定上必要な設備・備品のほか、個人情報に配慮した設備(例；鍵付書庫等)、消防設備(例；消火器、火災報知機等)、感染症予防（例；手指消毒）の写真も添付してください。
A15: 参考様式３ | B15: 事業所の設備・備品等一覧表 | E15: ・消防設備、個人情報保護の為の設備、衛生用品を含め、事業所の設備・備品等について、基準条例の規定に沿って配慮、措置している事項について記載してください。
A16: 参考様式４ | B16: 管理者・相談支援専門員の経歴書 | E16: ・管理者、相談支援専門員について、それぞれ別に作成してください。兼務する場合は1枚で構いません。
A17: 参考様式５ | B17: 実務経験（見込）証明書 | E17: ・相談支援専門員について、実務要件や研修要件について確認のうえ提出してください。 ・業務に従事した日数を必ず記載してください。
A18: 資格証の写し | E18: ・相談支援専門員について、実務経験年数（日数）に必要な場合（資格により実務経験年数が短縮される場合）は、資格を証する書面の写しを添付してください。 （居宅介護初任者研修修了証、社会福祉主事の任用資格証 保育士証等）
A19: 研修修了証 | E19: ・相談支援従事者初任者研修の受講証明書に加えて次のいずれかの修了証。 ・相談支援従事者現任研修を修了した場合は、現任研修終了証も提出してください。
A20: 参考様式６ | B20: 利用者（入所者）又はその家族からの苦情を解決するために講ずる措置の概要 | E20: ・利用者（入所者）からの苦情を解決するために講じる具体的な方法を記入してください。苦情解決に関して法人の内規等がある場合は一部添付してください。（連絡先や担当者名は必ず記入してください。）
A21: 参考様式７ | B21: 主たる対象とする障害の種類を定める理由等 | E21: ・主たる対象者を特定している場合に提出してください。特定しない場合は提出の必要はありません。
A22: 参考様式８ | B22: ・指定特定相談支援事業者の指定に係る誓約書 ・指定障害児相談支援事業者の指定に係る誓約書 | E22: ・複数の事業所について同時申請する場合や多機能型事業所の場合は、原本は1部で差支えありませんが、他の申請書には写しを必ず添付してください。
A23: 管理者誓約書 | E23: 指定計画相談支援事業所用、指定障害児相談支援事業所用に分かれていますので、該当するものを使用してください。管理者については、個人印が必要です。
A24: 参考様式９ | B24: 関係機関との協力体制 | E24: ・主たる対象とする障害以外の利用者等から支援の依頼があった場合や、それぞれの事業所で対応が困難なケースについて、どのように連携して対応していくか記載してください。
A25: 参考様式１０ | B25: 事業計画書 | E25: ・「事業計画書」は当該事業所の指定日が属する年度の事業計画を作成（様式は任意）し添付してください。 ・研修計画については、具体的な研修名、内容及び実施スケジュールを記載してください。
A26: 参考様式１１ | B26: 開始届出書 | E26: ・運営規程等を参考に記載してください。職員定数等が運営規程や別紙２の内容と矛盾しないか確認して下さい。
A27: 参考様式１２ | B27: 収支予算書 | E27: ・「収支予算書」は、事業計画を基に、申請事業に係る当該事業所の収支予算を作成してください。（事業開始後12か月分※必ず利用者の見込数を記載すること）
A28: 申請する事業の資産の状況
A29: ・財産目録又は決算書等 | E29: ・法人の「財産目録」又は「決算書」（直近のもの）を添付してください。
A30: 事業者指定前の確認・誓約事項 | E30: 内容を確認の上、法人印を押印の上、提出してください。
A31: 社会保険及び労働保険への加入状況にかかる確認票 | E31: ・リーフレット「社会保険への加入手続きはお済みですか？」及び「労働保険への加入手続きはお済みですか？」をご確認ください。 ・社会保険・労働保険の適用が確認できない場合は、厚生労働省からの依頼に基づき、厚生労働省に情報提供いたします。
A32: その他必要なもの | E32: ・有資格職として配置する従業員（社会福祉士、介護福祉士、保育士、看護師、理学療法士等）については、資格を証する書面の写しを添付してください。
E33: ○ 事業所の建物が賃貸等の場合は、「建物賃貸借契約書」等の写しを添付してください。
E34: ○ 防火対象物使用開始届出書（副本）の写しを添付してください。
E35: ○情報公表システム・法人ID発行/事業所情報登録依頼票を提出してください。
E36: ○加算を取得する場合は「介護給付費等算定に係る体制等に関する届出書」を提出してください。
E37: ○ 不慮の事故等に備えた、「損害賠償責任保険証書」の写しを添付してください。 （事故が発生した場合の補償の概要がわかる資料の写しも添付してください。）
E38: ○必要に応じ、「業務管理体制に関する届出書」を提出してください。
E39: ○ 指定書送付用送付用レターパックライト（３７０円）に宛名（当該事業所）を記入して、提出してください。 ※念のため追跡番号をお控えください。
E40: ○ 提出書類確認票を添付してください。

Sheet 指定申請書類チェックシート
A1: 指定申請書類チェックシート
A2: 必ず以下のチェック項目について確認をした上で書類を提出ください。
A4: ※申請するサービスにより提出が必要な様式が異なります。必要な様式は、サービスごとの必要書類一覧を確認ください。
A5: ※以下のチェック事項にない事項でも、記載に誤りがあれば修正が必要となります。
A6: 様式 | B6: チェック事項（よくある誤り） | I6: 確認
A7: 全様式共通 | B7: 右上の日付欄は書類の発送日を記載してください。
B8: 法人の所在地は、履歴事項全部証明書にある所在地と完全に一致させてください。
B9: 法人名称は、履歴事項全部証明書にある名称と完全に一致させてください。（スペースの有無も完全に一致させる） 【よくある誤り：「登記では「○○ 株式会社」とあるものを、書類には「○○株式会社」と記載している】
B10: 半角カタカナでフリガナを記載する欄は、必ず半角カタカナで記載してください。
B11: 職員の氏名を正しく記載してください。（「高」と「髙」の違い、「沢」と「澤」の違い 等）
B12: 職員の氏名は、苗字の名前の間を１文字開けてください。（フリガナも同様）
B13: 申請先を記載する書類は、申請先を必ず「相模原市長」にしてください。
B14: 代表者氏名には必ず肩書きを記載してください。
B15: 日付は全て和暦（令和○年○月○日）で記載してください。（西暦や、Ｒ○年 という記載は×）
B16: 事業所の所在地は全ての書類で一致させてください。
B17: 既に市内に所在する他の事業所と類似した事業所名をつけないようにしてください。 （障害福祉情報サービスかながわで類似した事業所名がないか確認してください。）
B18: 事業所の名称は全ての書類で一致させてください。（名称内のスペースの有無も完全に一致させてください。）
A19: 第２号様式（指定申請書） | B19: 住所は、数字も含めて全て全角で記載してください。
B20: 営利法人の場合、「法人所轄庁」欄は空欄としてください。
B21: 「主たる事業所名称」欄の記載漏れに注意してください。
B22: 「指定有効終了年月日」欄には指定有効開始年月日の６年後の日付を記載してください。
B23: 「※」がついた欄には記載しないでください。
A24: 別紙１ | B24: 他の法律において指定を受けている全ての事業所を記載してください。（他県も含む）
A25: 口座振込（変更）依頼書 | B25: 「名義人」の「フリガナ」は、通帳を開いたページに記載のあるフリガナと完全に一致させてください。（※半角） 【よくある誤り 通帳：カ）サガミハラフクシカイ カナガワ イチロウ 誤り例１：カブシキガイシャ カナガワ イチロウ （法人名称を略語にしていないため×） 誤り例２：カ）サガミハラフクシカイ カナガワイチロウ（スペースの位置が一致していないため×）
B26: 「名義人」の「氏名」は、通帳の表紙に記載のある氏名と完全に一致させてください。 【よくある誤り 通帳：株式会社さがみはら福祉会 神奈川 一郎 誤り例：株式会社さがみはら福祉会 神奈川一郎（スペースの位置が一致していないため×）
A27: 通帳の写し | B27: 通帳の写し（表紙及び開いたページ）を添付するか、金融機関の確認印を受けてください。
A28: 付表 ※サービスにより様式が異なるため、該当しない項目もあります。 | B28: 事業所の「電話番号」及び「ＦＡＸ番号」は、体制届に記載する番号と一致させてください。
B29: 「当該事業の実施について定めてある定款・寄付行為又は条例等」欄は、条番だけでなく、定めるものの名称も必ず記載してください。 【例 「定款第○条第○項第○号」「寄付行為第○条第○項第○号」】
B30: 管理者が、申請をするサービスの他の職種と兼務をする場合は、「兼務の有無」欄を「有」としてください。
B31: 管理者及びサービス管理責任者・サービス提供責任者・児童発達支援管理責任者の住所は、経歴書（参考様式４）と完全に一致させてください。
B32: 「従業者の職種・員数」は、運営規程及び勤務形態一覧表（別紙２）と完全に一致させてください。
B33: 「前年度の平均利用者数」欄には、定員の９０％を記載してください。
B34: 「営業時間」は、半角数字で「00：00」という形式で記載してください。 【よくある誤り：「9～17」×】
B35: 「主たる対象者」は、運営規程の規定と完全に一致させてください。
B36: 「利用料」「その他費用」欄は、「運営規程に定めるとおり」として良いですが、漢字の誤りのないようお気を付けください。 【よくある誤り：「運営規程」を、「運営規定」と記載している】
B37: 「通常の事業の実施地域」は、運営規程の規定と完全に一致させてください。
B38: 「苦情解決の措置概要」の「窓口（連絡先）」欄には、苦情解決窓口の電話番号を記載してください。（※参考様式６に記載する番号と一致させてください。）
B39: 「苦情解決の措置概要」の「担当者」は、参考様式６に記載する担当者名と一致させてください。
B40: 「協力医療機関」の「名称」は、参考様式１０にある医療機関の名称と一致させてください。
... B42: 「※」がついた欄には記載しないでください。
...

Sheet 【要提出】提出書類確認票
A1: 提出書類確認票 | J1: 居宅介護
A2: サービス種別 | J2: 重度訪問介護
A3: 事業所名 | J3: 行動援護
A4: 担当者 | J4: 同行援護
A5: TEL・E-mail | B5: TEL： | D5: E-mail: | J5: 療養介護
A6: 提出が「必須」でないものについては、変更がある場合には変更届と共に提出ください。 | J6: 生活介護
A7: 様式名等 | C7: 提出 | D7: 確認欄 | E7: 備考 | J7: 短期入所
A8: 第２号様式 | J8: 施設入所支援
A9: 別紙１ | E9: ※他法で指定を受けている事業がある場合のみ ※他法による指定通知書の写しを添付 | J9: 共同生活援助
A10: 付表 | E10: ※サービスごとに書式が異なる | J10: 自立生活援助
A11: 定款、履歴事項全部証明書 | E11: ※発行後３ヶ月以内の原本 | J11: 自立訓練（機能訓練）
A12: 別紙２（勤務形態） | E12: ※サービスごとに書式が異なる | J12: 自立訓練（生活訓練）
A13: 運営規程 | J13: 就労継続支援Ｂ型
A14: 前回指定を受けた際の指定書の写し | J14: 就労定着支援
A15: 参考様式１（平面図） | E15: ※他業種と併設の場合は事業ごとに色分けする | J15: 計画相談支援
A16: 参考様式３（設備） | J16: 地域相談支援（地域定着支援）
A17: 事業所のカラー写真 | J17: 障害児相談支援
A18: 参考様式４（経歴書）
A19: 参考様式５（実務経験）
A20: 資格証の写し
A21: 研修修了証の写し
A22: 参考様式６（苦情解決） | E22: ※法人の内規があれば別途添付
A23: 参考様式７（主たる対象） | E23: ※主たる対象者を限定する場合のみ
A24: 参考様式８（誓約書） | J24: 就労移行支援
A25: 管理者の誓約書 | E25: ※サービスごとに書式が異なる | J25: 就労継続支援Ａ型
A26: 参考様式９（協力体制）
A27: 参考様式１０（事業計画書）
A28: 参考様式１１（開始届出書）
A29: 参考様式１２（収支予算書）
A30: 財産目録又は決算報告書
A31: 賠償責任保険証書の写し
A32: 情報公表システム 法人ID発行/事業所情報登録依頼票
A33: 事業所物件の賃貸借契約書の写し | E33: ※自社物件の場合、所有状況がわかるもの
A34: パンフレット等 | E34: ※パンフレット等ございましたら、ご提出ください。
A35: 業務管理体制の届出 | E35: ※運営している事業所が相模原市内のみの場合
A36: 体制届 | E36: ※加算を取得する場合
A37: 指定書送付用レターパックライト （３７０円）
A38: 提出書類確認票

Sheet 第２号様式
B2: ＊次のいずれかを選択し、下の申請書に必要事項を入力してください。 | Z2: ※神奈川県使用欄
B4: 申請する事業所(施設）の種類 | O4: =AV83 -> 7 | Z4: 事業所番号
B5: 申請者の法人の種類 | Z5: サービス種類 | AA5: =IF($N$6<>"",VLOOKUP($N$6,$AS$88:$AV$89,4,FALSE),"")
B6: 申請する事業の種類 | N6: =AW83 | O6: 1
Z7: 異動区分
Z8: 異動年月日
B9: （第２号様式） | W9: 1
Q10: ※受付番号 | Z10: 支払方法
E11: 指定特定相談支援事業所 指定障害児相談支援事業所 | Q11: ※指定市町村番号 | Z11: 社福・A型減免 | AA11: FALSE
M12: 指定（更新）申請書
Q13: 令和 年 月 日
B14: （申請先） | H14: （申請者）
B15: 相模原市長 | I15: 所 在 地
I17: 名 称
I18: 代表者氏名
B20: =IF(N4=1,"障害者の日常生活及び社会生活を総合的に支援するための法律",IF(N4=2,"児童福祉法","")) | O20: に規定する
B21: =IF(OR($N$4=1,$N$4=2),VLOOKUP($N$4,$AS$84:$AT$85,2,FALSE),"") | G21: に係る指定を受けたいので、下記のとおり、関係書類を添えて申請します。
B23: 申請者（設置者） | C23: ﾌ ﾘ ｶﾞ ﾅ
C24: 名 称
C25: 主たる事務所の 所在地 | G25: 〒 | L25: ←郵便番号を半角数字７桁で記載してください
C28: 連絡先 | G28: 電話番号 | O28: ＦＡＸ番号
C29: 法人の種類 | G29: =IF(OR(N5=1,N5=2,N5=3,N5=4,N5=5,N5=6,N5=7,N5=8,N5=9,N5=10,N5=11,N5=12,N5=13,N5=14,N5=15),VLOOKUP(N5,AS111:AU125,2,FALSE),"") | O29: 法人所轄庁
C30: 代表者 | E30: 役 職
E31: 氏 名
E32: 住 所 | G32: 〒 | L32: ←郵便番号を半角数字７桁で記載してください
B35: 指定を受けようとする 事業所・施設の種類 | C35: ﾌ ﾘ ｶﾞ ﾅ
C36: 名 称
C37: 事業所（施設） の所在地 | G37: 〒 | L37: ※事業所(施設)所在地市町村番号 | T37: ※級地区分
C40: 事業等の種類 | G40: =IF($N$4="","",VLOOKUP($N$4,$AS$84:$AT$85,2,FALSE))
G41: =IF($L$6<>"",IF($N$4=1,VLOOKUP($N$6,$AS$88:$AT$88,2,FALSE),IF($N$4=2,VLOOKUP($N$6,$AS$92:$AT$92,2,FALSE),"")),"") | M41: 指定申請をする事業等の 事業開始予定年月日 | S41: 付表 | T41: 備考
S42: =IF($N$6<>"",IF($N$4=1,VLOOKUP($N$6,$AS$88:$AV$88,3,FALSE),IF($N$4=2,VLOOKUP($N$6,$AS$92:$AV$92,3,FALSE),)),"")
B43: 主たる事業所名称
B44: 同一の法律において既に 指定を受けている場合 | G44: サービスの種類 | P44: 事業所番号
G45: 事業所名称
B46: 指定有効開始年月日 | L46: 指定有効終了年月日
B47: 指定更新申請中区分 | G47: 2 | L47: 地域生活支援拠点等区分 | Q47: 2
B48: 効力停止開始年月 | L48: 効力停止終了年月日
B49: 事業変更年月日
B50: （備考）
B51: １ 「※」のついた欄には記載しないでください。
...

Sheet 口座振込依頼書
A1: 口座振込（変更）依頼書（兼 受領委任状）
A4: 神奈川県国民健康保険団体連合会理事長 殿
A6: 以下の口座に，次に掲げる介護給付費等の振込を依頼します。
U8: 令和 | AA8: 年 | AG8: 月 | AM8: 日
A11: 申請者（債権者） | C11: 法人名称 ( 開 設 者 ) | I11: =IF(第２号様式!G24<>"",第２号様式!G24,"") | AG11: 届出印
C13: 郵便番号 | I13: 〒 | K13: =IF(第２号様式!$H$25<>"",IF(LEN(第２号様式!$H$25)>6,LEFT(第２号様式!$H$25,1),LEFT(REPT("0",7-LEN(第２号様式!$H$25))&第２号様式!$H$25,1)),"") | L13: =IF(第２号様式!$H$25<>"",IF(LEN(第２号様式!$H$25)>6,MID(第２号様式!$H$25,2,1),MID(REPT("0",7-LEN(第２号様式!$H$25))&第２号様式!$H$25,2,1)),"") | M13: =IF(第２号様式!$H$25<>"",IF(LEN(第２号様式!$H$25)>6,MID(第２号様式!$H$25,3,1),MID(REPT("0",7-LEN(第２号様式!$H$25))&第２号様式!$H$25,3,1)),"") | N13: - | O13: =IF(第２号様式!$H$25<>"",IF(LEN(第２号様式!$H$25)>6,MID(第２号様式!$H$25,4,1),MID(REPT("0",7-LEN(第２号様式!$H$25))&第２号様式!$H$25,4,1)),"") | P13: =IF(第２号様式!$H$25<>"",IF(LEN(第２号様式!$H$25)>6,MID(第２号様式!$H$25,5,1),MID(REPT("0",7-LEN(第２号様式!$H$25))&第２号様式!$H$25,5,1)),"") | Q13: =IF(第２号様式!$H$25<>"",IF(LEN(第２号様式!$H$25)>6,MID(第２号様式!$H$25,6,1),MID(REPT("0",7-LEN(第２号様式!$H$25))&第２号様式!$H$25,6,1)),"") | R13: =IF(第２号様式!$H$25<>"",IF(LEN(第２号様式!$H$25)>6,MID(第２号様式!$H$25,7,1),MID(REPT("0",7-LEN(第２号様式!$H$25))&第２号様式!$H$25,7,1)),"")
C14: 事業所 所在地 | I14: =IF(第２号様式!G26<>"",第２号様式!G26,"")
I16: =IF(第２号様式!G27<>"",第２号様式!G27,"")
C18: 代表者氏名 | I18: =IF(第２号様式!G31<>"",第２号様式!G31,"")
C20: 事業所名称 | I20: =IF(第２号様式!G36<>"",第２号様式!G36,"")
C22: 事業所番号 | I22: =IF(第２号様式!AA4<>"",LEFT(REPT("0",10-LEN(第２号様式!AA4))&第２号様式!AA4,1),"") | K22: =IF(第２号様式!AA4<>"",MID(REPT("0",10-LEN(第２号様式!AA4))&第２号様式!AA4,2,1),"") | M22: =IF(第２号様式!AA4<>"",MID(REPT("0",10-LEN(第２号様式!AA4))&第２号様式!AA4,3,1),"") | O22: =IF(第２号様式!AA4<>"",MID(REPT("0",10-LEN(第２号様式!AA4))&第２号様式!AA4,4,1),"") | Q22: =IF(第２号様式!AA4<>"",MID(REPT("0",10-LEN(第２号様式!AA4))&第２号様式!AA4,5,1),"") | S22: =IF(第２号様式!AA4<>"",MID(REPT("0",10-LEN(第２号様式!AA4))&第２号様式!AA4,6,1),"") | U22: =IF(第２号様式!AA4<>"",MID(REPT("0",10-LEN(第２号様式!AA4))&第２号様式!AA4,7,1),"") | W22: =IF(第２号様式!AA4<>"",MID(REPT("0",10-LEN(第２号様式!AA4))&第２号様式!AA4,8,1),"") | Y22: =IF(第２号様式!AA4<>"",MID(REPT("0",10-LEN(第２号様式!AA4))&第２号様式!AA4,9,1),"") | AA22: =IF(第２号様式!AA4<>"",MID(REPT("0",10-LEN(第２号様式!AA4))&第２号様式!AA4,10,1),"")
C24: 対象事業名 | I24: =第２号様式!AA5 | K24: =第２号様式!G41
A27: 送付先 | C27: 郵便番号 | I27: 〒 | K27: =IF(#REF!="","",LEFT(#REF!,3)) -> #REF! | N27: - | O27: =IF(#REF!="","",RIGHT(#REF!,4)) -> #REF!
C28: 送付先住所 | I28: =IF(#REF!="","",#REF!) -> #REF!
I30: =IF(#REF!="","",#REF!) -> #REF!
C32: 宛名 | I32: =IF(#REF!="","",#REF!) -> #REF!
C34: 電話番号 | I34: =IF(#REF!="","",#REF!) -> #REF! | L34: =IF(I34="","","-") -> #REF! | M34: =IF(#REF!="","",#REF!) -> #REF! | P34: =IF(M34="","","-") -> #REF! | Q34: =IF(#REF!="","",#REF!) -> #REF!
A37: 振込先 | C37: 金融機関名 | Y37: 金 融 機 関 コ ー ド
C39: 支店名 | Y39: 支 店 コ ー ド
C41: 口座番号 | W41: 預金種目 | AC41: 1
C43: 口座名義人 | E43: ﾌﾘｶﾞﾅ
E45: 氏名
A49: 受領委任状
C50: 申請者（債権者）は，口座名義人（受任者）に，上記介護給付費等の受領に関する一切の権限を
C51: 委任します。
C52: =U8 -> 令和 | F52: =IF(X8<>"",X8,"") | I52: 年 | J52: =IF(AD8<>"",AD8,"") | M52: 月 | N52: =IF(AJ8<>"",AJ8,"") | Q52: 日
C54: 委任者 | I54: =IF(I18<>"",I18,"") | AK54: 印
I57: ※振込エラー防止のためどちらか一方にチェックをお願いします。
E58: 取扱金融機関の確認を以下に明記します。 | V58: ２枚目に通帳のコピーを添付します。
A60: 金 融 機 関 記 載 欄
I61: 上記口座が存在することを確認しました。
K63: 金融機関名
K65: 確認年月日 | AH65: ㊞
A69: 【振込先金融機関 通帳の写し添付様式】
U72: =$U$8 -> 令和 | X72: =IF(X8<>"",X8,"") | AA72: 年 | AD72: =IF(AD8<>"",AD8,"") | AG72: 月 | AJ72: =IF(AJ8<>"",AJ8,"") | AM72: 日
E75: 事業所名 | K75: =IF(I20<>"",I20,"")
E81: ※振込先金融機関の通帳の表面の名義人名の写し
D98: こちらに通帳の表面の写しを貼ってください。
E106: ※振込先金融機関の通帳の名義人名カタカナの写し
E123: こちらにカタカナ部分の写しを貼ってください。

Sheet 付表別紙
A2: 付表 別紙 | F2: 他の事業所又は施設の従事者と兼務する相談支援専門員について
A5: 他の事業所又は施設の従業者と兼務する相談支援専門員を全て記載してください。 ※記入欄が不足する場合は追加して記入してください。
A6: 1 | C6: 氏 名 | K6: 事業所の名称
C7: フリガナ | K7: 事業の種類 | T7: 兼務する職種
C8: 氏名 | K8: 勤務時間
A9: 2 | C9: 氏 名 | K9: 事業所の名称
C10: フリガナ | K10: 事業の種類 | T10: 兼務する職種
C11: 氏名 | K11: 勤務時間
A12: 3 | C12: 氏 名 | K12: 事業所の名称
C13: フリガナ | K13: 事業の種類 | T13: 兼務する職種
C14: 氏名 | K14: 勤務時間
A15: 4 | C15: 氏 名 | K15: 事業所の名称
C16: フリガナ | K16: 事業の種類 | T16: 兼務する職種
C17: 氏名 | K17: 勤務時間
A18: 5 | C18: 氏 名 | K18: 事業所の名称
C19: フリガナ | K19: 事業の種類 | T19: 兼務する職種
C20: 氏名 | K20: 勤務時間

Sheet 【記載例】付表別紙
A2: 付表 別紙 | F2: 他の事業所又は施設の従事者と兼務する相談支援専門員について
A5: 他の事業所又は施設の従業者と兼務する相談支援専門員を全て記載してください。 ※記入欄が不足する場合は追加して記入してください。
A6: 1 | C6: 氏 名 | K6: 事業所の名称 | O6: ○○ヘルパーサービス
C7: フリガナ | F7: ｻｶﾞﾐ ｼﾞﾛｳ | K7: 事業の種類 | O7: 居宅介護 | T7: 兼務する職種 | X7: 管理者
C8: 氏名 | F8: 相模 次郎 | K8: 勤務時間 | O8: 平日（月曜日～金曜日） 10時から12時まで
A9: 2 | C9: 氏 名 | K9: 事業所の名称
C10: フリガナ | K10: 事業の種類 | T10: 兼務する職種
C11: 氏名 | K11: 勤務時間
A12: 3 | C12: 氏 名 | K12: 事業所の名称
C13: フリガナ | K13: 事業の種類 | T13: 兼務する職種
C14: 氏名 | K14: 勤務時間
A15: 4 | C15: 氏 名 | K15: 事業所の名称
C16: フリガナ | K16: 事業の種類 | T16: 兼務する職種
C17: 氏名 | K17: 勤務時間
A18: 5 | C18: 氏 名 | K18: 事業所の名称
C19: フリガナ | K19: 事業の種類 | T19: 兼務する職種
C20: 氏名 | K20: 勤務時間

Sheet 付表１
A1: 付表１ 指定特定相談支援事業所及び障害児相談支援支援事業所の指定に係る記載事項
AA2: ※受付番号
A4: 事業所 | C4: ﾌﾘｶﾞﾅ | I4: =IF(第２号様式!S42=1,IF(第２号様式!G35<>"",第２号様式!G35,""),"")
C5: 名 称 | I5: =IF(第２号様式!S42=1,IF(第２号様式!G36<>"",第２号様式!G36,""),"")
C6: 所在地 | I6: 〒 | K6: =IF(第２号様式!S42=1,IF(第２号様式!H37<>"",第２号様式!H37,""),"") | Q6: ←郵便番号を半角数字７桁で入力してください
I7: =IF(第２号様式!S42=1,IF(第２号様式!G38<>"",第２号様式!G38,""),"")
I8: =IF(第２号様式!S42=1,IF(第２号様式!G39<>"",第２号様式!G39,""),"")
C9: 連 絡 先 | I9: 電話番号 | W9: ＦＡＸ番号
A10: 当該事業の実施について定めてある定款・寄付行為等又は条例等
A11: 管理者 | C11: ﾌﾘｶﾞﾅ
C12: 氏 名
C13: 住 所 | I13: 〒 | Q13: ←郵便番号を半角数字７桁で入力してください
C16: 当該事業所における相談支援専門員との兼務の有無 | W16: 2
C17: 同一敷地内の他の事業所又は施設の従業者との兼務（兼務の場合記入） | O17: 事業所等の名称
O18: 事業の種類
O19: 兼務する職種
O20: 勤務時間
A21: 相談支援専門員 | C21: ﾌﾘｶﾞﾅ
C22: 氏 名
C23: 住 所 | I23: 〒 | Q23: ←郵便番号を半角数字７桁で入力してください
A26: 従業者の職種 ・員数 | C26: (単位：人） | I26: 相談支援専門員 | O26: その他の者 | U26: 他の事業所又は施設の従業者との兼務
I27: 専従 | L27: 兼務 | O27: 専従 | R27: 兼務 | U27: 1
C28: 従業者数 | F28: 常勤 | U28: 2
F29: 非常勤
C30: 常勤換算後の人数
C31: ※基準上の必要人数
A32: 主な掲示事項 | C32: 営業日 | AL32: FALSE | AM32: FALSE | AN32: FALSE | AO32: FALSE | AP32: FALSE | AQ32: FALSE | AR32: FALSE
C33: 営業時間 | I33: 平日 | O33: ～ | T33: 土曜 | Z33: ～ | AE33: 備考
I34: 日曜 | O34: ～ | T34: 祝日 | Z34: ～
C35: 主たる対象者 | AL35: FALSE | AM35: FALSE | AN35: FALSE | AO35: FALSE | AP35: FALSE
C36: 利用料 | AL36: ※未使用
C37: その他費用
C38: 通常の事業 の実施地域
A42: 総合的な相談支援の実施体制の具体的な方法 | C42: 主たる対象としていない者への対応体制
C43: 医療機関や行政との連携体制
C44: 計画的な研修又は当該事業所における事例の検討等を行う体制 | AL44: 1
A45: 相談支援機能強化型体制 | I45: 1 | R45: 行動障害支援体制加算 | Z45: 2
A46: 要医療児者支援体制加算 | I46: 2 | R46: 精神障害者支援体制加算 | Z46: 2
A47: 主任相談支援専門員配置加算 | I47: 2 | R47: ピアサポート体制加算 | Z47: 2
A48: （備考）
...

Sheet 付表１－２
A1: 付表１－２ 居宅介護等を事業所所在地以外の場所で一部実施する場合の記載事項
AA2: ※受付番号
AA3: ※出張所番号
A4: 事業所 | C4: ﾌﾘｶﾞﾅ
C5: 名 称
C6: 所在地 | I6: 〒 | Q6: ←郵便番号を半角数字７桁で入力してください
C9: 連 絡 先 | I9: 電話番号 | W9: ＦＡＸ番号
A10: 主な掲示事項 | C10: 営業日 | AL10: FALSE | AM10: FALSE | AN10: FALSE | AO10: FALSE | AP10: FALSE | AQ10: FALSE | AR10: FALSE
C11: 営業時間 | I11: 平日 | O11: ～ | T11: 土曜 | Z11: ～ | AE11: 備考
I12: 日曜 | O12: ～ | T12: 祝日 | Z12: ～
C13: サービス内容 | I13: 居宅介護 | AL13: FALSE | AM13: FALSE | AN13: FALSE
I14: 重度訪問介護 | W14: 行動援護 | AL14: FALSE | AM14: FALSE
I15: 同行援護 | AL15: FALSE
C16: 主たる対象者 | I16: 居宅介護 | AL16: FALSE | AM16: FALSE | AN16: FALSE | AO16: FALSE | AP16: FALSE
I17: 行動援護 | AL17: FALSE | AM17: FALSE | AN17: FALSE | AO17: FALSE
I18: 同行援護 | AL18: FALSE | AM18: FALSE
C19: 利用料
C20: その他費用
C21: 通常の事業 の実施地域
C25: その他参考 となる事項 | I25: 第三者評価の実施状況 | R25: 2
I26: 苦情解決の措置概要 | R26: 窓口（連絡先）
R27: 担当者
I28: その他
A29: （備考）
A30: １．「※」のついた欄には、記載しないでください。
A31: ２．「主な掲示事項」欄には、その内容を簡潔に記載してください。
A32: ３．「その他の費用」欄には、利用者に直接金銭の負担を求める場合のサービス内容について記載してください。
A33: ４．「通常の事業の実施地域」欄には、市区町村名を記載することとし、当該区域の全部又は一部の別を記載して
A34: ください。なお、一部の地域が実施地域である場合は適宜地図を添付してください。

Sheet 付表２
A1: 付表２ 療養介護事業所の指定に係る記載事項
AA2: ※受付番号
A4: 事業所 | C4: ﾌﾘｶﾞﾅ | I4: =IF(第２号様式!S42=2,IF(第２号様式!G35<>"",第２号様式!G35,""),"")
C5: 名 称 | I5: =IF(第２号様式!S42=2,IF(第２号様式!G36<>"",第２号様式!G36,""),"")
C6: 所在地 | I6: 〒 | K6: =IF(第２号様式!S42=2,IF(第２号様式!H37<>"",第２号様式!H37,""),"") | Q6: ←郵便番号を半角数字７桁で入力してください
I7: =IF(第２号様式!S42=2,IF(第２号様式!G38<>"",第２号様式!G38,""),"")
I8: =IF(第２号様式!S42=2,IF(第２号様式!G39<>"",第２号様式!G39,""),"")
C9: 連 絡 先 | I9: 電話番号 | W9: ＦＡＸ番号
A10: 当該事業の実施について定めてある定款・寄付行為等又は条例等
A11: 管理者 | C11: ﾌﾘｶﾞﾅ
C12: 氏 名
C13: 住 所 | I13: 〒 | Q13: ←郵便番号を半角数字７桁で入力してください
C16: 当該療養介護事業所で兼務する他の職種（兼務の場合のみ記入） | W16: 2
C17: 他の事業所又は施設の従業者との兼務（兼務の場合記入） | O17: 事業所等の名称
O18: 兼務する職種
O19: 勤務時間
A20: サービス 管理責任者 | C20: ﾌﾘｶﾞﾅ
C21: 氏 名
C22: 住 所 | I22: 〒 | Q22: ←郵便番号を半角数字７桁で入力してください
A25: 従業者の職種 ・員数（共通） | C25: (単位：人） | I25: サービス管理責任者 | O25: 医師
I26: 専従 | L26: 兼務 | O26: 専従 | R26: 兼務
C27: 従業者数 | F27: 常勤
F28: 非常勤
C29: 常勤換算後の人数
C30: ※基準上の必要人数
A31: 単位１ | C31: (単位：人） | I31: 生活支援員 | O31: 看護職員
I32: 専従 | L32: 兼務 | O32: 専従 | R32: 兼務 | U32: 専従 | X32: 兼務 | AA32: 専従 | AD32: 兼務
C33: 従業者数 | F33: 常勤
F34: 非常勤
C35: 常勤換算後の人数
C36: ※基準上の必要人数
C37: 前年度の平均利用者数 | O37: 人（単位ごとの利用者数。＊新規の場合は推定数）
C38: 単位ごとの利用定員 | O38: 人（単位ごとの利用定員）
C39: ※基準上の必要定員 | O39: 人 | AE39: ※単位番号
C40: ※利用定員超過減算 | N40: ※職員欠如減算 | S40: 2 | X40: ※人員配置区分 | AC40: 1 | AD40: =IF(ISNA(VLOOKUP(AC40, 出力変換_人員配置区分_療養介護,4,FALSE)),0, VLOOKUP(AC40, 出力変換_人員配置区分_療養介護,4,FALSE)) & "" -> 0 | AE40: 00 | AF40: =IF(ISNA(VLOOKUP(AE40, 取込変換_人員配置区分_療養介護,2,FALSE)),1, VLOOKUP(AE40, 取込変換_人員配置区分_療養介護,2,FALSE)) & "" -> 1
A41: 療養介護全体の利用定員 | O41: 人
A42: 前年度の平均利用者数 | O42: 人（事業所全体の利用者数。＊新規の場合は推定数）
A43: 主たる設備 | I43: 多目的室 | Y43: 2
I44: 医療法の規定により病院に置くべきものとされる設備 | Y44: 2
A45: 主な掲示事項 | C45: 利用料
...

Sheet 付表３
A1: 付表３ 生活介護事業所の指定に係る記載事項
D2: ＊１ 従たる事業所のある場合は、付表３－２を併せて提出してください。 | AA2: ※受付番号
D3: ＊２ 多機能型事業実施時は、各事業の付表と付表13を併せて提出してください。
A4: 事業所 | C4: ﾌﾘｶﾞﾅ | I4: =IF(第２号様式!S42=3,IF(第２号様式!G35<>"",第２号様式!G35,""),"")
C5: 名 称 | I5: =IF(第２号様式!S42=3,IF(第２号様式!G36<>"",第２号様式!G36,""),"")
C6: 所在地 | I6: 〒 | K6: =IF(第２号様式!S42=3,IF(第２号様式!H37<>"",第２号様式!H37,""),"") | Q6: ←郵便番号を半角数字７桁で入力してください
I7: =IF(第２号様式!S42=3,IF(第２号様式!G38<>"",第２号様式!G38,""),"")
I8: =IF(第２号様式!S42=3,IF(第２号様式!G39<>"",第２号様式!G39,""),"")
C9: 連 絡 先 | I9: 電話番号 | W9: ＦＡＸ番号
A10: 当該事業の実施について定めてある定款・寄付行為等又は条例等
A11: 管理者 | C11: ﾌﾘｶﾞﾅ
C12: 氏 名
C13: 住 所 | I13: 〒 | Q13: ←郵便番号を半角数字７桁で入力してください
C16: 当該生活介護事業所で兼務する他の職種（兼務の場合のみ記入） | W16: 2
C17: 他の事業所又は施設の従業者との兼務（兼務の場合記入） | O17: 事業所等の名称
O18: 兼務する職種
O19: 勤務時間
A20: サービス 管理責任者 | C20: ﾌﾘｶﾞﾅ
C21: 氏 名
C22: 住 所 | I22: 〒 | Q22: ←郵便番号を半角数字７桁で入力してください
A25: 従業者の職種 ・員数(共通) | C25: (単位：人） | I25: サービス管理責任者 | N25: 医師
I26: 専従 | K26: 兼務 | N26: 専従 | P26: 兼務
C27: 従業者数 | F27: 常勤
F28: 非常勤
C29: 常勤換算後の人数
C30: ※基準上の必要人数
A31: 単位１ | C31: (単位：人） | I31: 看護職員 | N31: 理学療法士 | S31: 作業療法士 | X31: 機能訓練指導員 | AC31: 生活支援員
I32: 専従 | K32: 兼務 | N32: 専従 | P32: 兼務 | S32: 専従 | U32: 兼務 | X32: 専従 | Z32: 兼務 | AC32: 専従 | AE32: 兼務 | AL32: FALSE | AM32: FALSE | AN32: FALSE | AO32: FALSE | AP32: FALSE | AQ32: FALSE | AR32: FALSE
C33: 従業者数 | F33: 常勤
F34: 非常勤
C35: 常勤換算後の人数 | AL35: FALSE | AM35: FALSE | AN35: FALSE | AO35: FALSE | AP35: FALSE
C36: ※基準上の必要人数
C37: (単位：人） | I37: 精神保健福祉士
I38: 専従 | K38: 兼務 | N38: 専従 | P38: 兼務 | S38: 専従 | U38: 兼務 | X38: 専従 | Z38: 兼務 | AC38: 専従 | AE38: 兼務
C39: 従業者数 | F39: 常勤
F40: 非常勤
C41: 常勤換算後の人数
C42: ※基準上の必要人数
C43: 前年度の障害程度区分の平均値 | I43: 1
C44: 前年度の平均利用者数 | O44: 人（単位ごとの利用者数。＊新規の場合は推定数）
...

Sheet 付表３－２
A1: 付表３－２ 一体的に実施する従たる事業所の指定に係る記載事項
D2: ＊ 多機能型事業実施時は、各事業の付表と付表13を併せて提出してください。 | AA2: ※受付番号
A4: 事業所 | C4: ﾌﾘｶﾞﾅ
C5: 名 称
C6: 所在地 | I6: 〒 | Q6: ←郵便番号を半角数字７桁で入力してください
C9: 連 絡 先 | I9: 電話番号 | W9: ＦＡＸ番号
A10: 従業者の職種・員数 | C10: (単位：人） | I10: 医師 | N10: サービス管理責任者 | S10: 看護職員 | X10: 理学療法士 | AC10: 作業療法士
I11: 専従 | K11: 兼務 | N11: 専従 | P11: 兼務 | S11: 専従 | U11: 兼務 | X11: 専従 | Z11: 兼務 | AC11: 専従 | AE11: 兼務
C12: 従業者数 | F12: 常勤
F13: 非常勤
C14: 常勤換算後の人数
C15: ※基準上の必要人数
C16: (単位：人） | I16: 機能訓練指導員 | N16: 生活支援員 | S16: 精神保健福祉士
I17: 専従 | K17: 兼務 | N17: 専従 | P17: 兼務 | S17: 専従 | U17: 兼務 | X17: 専従 | Z17: 兼務 | AC17: 専従 | AE17: 兼務
C18: 従業者数 | F18: 常勤
F19: 非常勤
C20: 常勤換算後の人数
C21: ※基準上の必要人数
A22: 従たる事業所の利用定員 | O22: 人
A23: （備考）
A24: １．「※」のついた欄には、記載しないでください。
A25: ２．「看護職員」とは保健師、看護師、准看護師のことを言います。
A26: ３．「兼務」欄は、施設入所支援事業以外との兼務を行う職員について記載してください。

Sheet 付表４
A1: 付表４ 児童デイサービス事業所の指定に係る記載事項
AA2: ※受付番号
AL3: TRUE
A4: 事業所 | C4: ﾌﾘｶﾞﾅ | I4: =IF(第２号様式!S42=4,IF(第２号様式!G35<>"",第２号様式!G35,""),"")
C5: 名 称 | I5: =IF(第２号様式!S42=4,IF(第２号様式!G36<>"",第２号様式!G36,""),"")
C6: 所在地 | I6: 〒 | K6: =IF(第２号様式!S42=4,IF(第２号様式!H37<>"",第２号様式!H37,""),"") | Q6: ←郵便番号を半角数字７桁で入力してください
I7: =IF(第２号様式!S42=4,IF(第２号様式!G38<>"",第２号様式!G38,""),"")
I8: =IF(第２号様式!S42=4,IF(第２号様式!G39<>"",第２号様式!G39,""),"")
C9: 連 絡 先 | I9: 電話番号 | W9: ＦＡＸ番号
A10: 当該事業の実施について定めてある定款・寄付行為等又は条例等
A11: 管理者 | C11: ﾌﾘｶﾞﾅ
C12: 氏 名
C13: 住 所 | I13: 〒 | Q13: ←郵便番号を半角数字７桁で入力してください
C16: 当該児童デイサービス事業所で兼務する他の職種（兼務の場合のみ記入） | W16: 2
C17: 他の事業所又は施設の従業者との兼務（兼務の場合記入） | O17: 事業所等の名称
O18: 兼務する職種
O19: 勤務時間
A20: サービス 管理責任者 | C20: ﾌﾘｶﾞﾅ
C21: 氏 名
C22: 住 所 | I22: 〒 | Q22: ←郵便番号を半角数字７桁で入力してください
A25: 従業者の職種 ・員数(共通) | C25: (単位：人） | I25: サービス管理責任者
I26: 専従 | L26: 兼務
C27: 従業者数 | F27: 常勤
F28: 非常勤
C29: 常勤換算後の人数
C30: ※基準上の必要人数
A31: 単位１ | C31: (単位：人） | I31: 指導員 | O31: 保育士
I32: 専従 | L32: 兼務 | O32: 専従 | R32: 兼務 | U32: 専従 | X32: 兼務 | AA32: 専従 | AD32: 兼務
C33: 従業者数 | F33: 常勤
F34: 非常勤
C35: 常勤換算後の人数
C36: ※基準上の必要人数
C37: 営業日 | AL37: FALSE | AM37: FALSE | AN37: FALSE | AO37: FALSE | AP37: FALSE | AQ37: FALSE | AR37: FALSE
C38: 営業時間 | I38: 平日 | O38: ～ | T38: 土曜 | Z38: ～ | AE38: 備考
I39: 日曜 | O39: ～ | T39: 祝日 | Z39: ～
C40: 単位ごとの利用定員 | O40: 人（単位ごとの利用定員） | AE40: ※単位番号
C41: ※利用定員超過減算 | N41: ※職員欠如減算 | S41: 2 | X41: ※施設等の区分 | AC41: 1 | AD41: =IF(ISNA(VLOOKUP(AC41, 出力変換_施設等の区分_児童デイ,4,FALSE)),0, VLOOKUP(AC41, 出力変換_施設等の区分_児童デイ,4,FALSE)) & "" -> 0 | AE41: 0 | AF41: =IF(ISNA(VLOOKUP(AE41, 取込変換_施設等の区分_児童デイ,2,FALSE)),1, VLOOKUP(AE41, 取込変換_施設等の区分_児童デイ,2,FALSE)) & "" -> 1
C42: ※指導員加配加算 | I42: 2
A43: 主な掲示事項 | C43: 児童デイ全体の利用定員 | O43: 人
C44: 多機能型実施の有無 | I44: 2
...

Sheet 付表４－２
A1: 付表４－２ 一体的に実施する従たる事業所の指定に係る記載事項
AA2: ※受付番号
A4: 事業所 | C4: ﾌﾘｶﾞﾅ
C5: 名 称
C6: 所在地 | I6: 〒 | Q6: ←郵便番号を半角数字７桁で入力してください
C9: 連 絡 先 | I9: 電話番号 | W9: ＦＡＸ番号
A10: 従業者の職種 ・員数 | C10: (単位：人） | I10: 指導員 | O10: 保育士
I11: 専従 | L11: 兼務 | O11: 専従 | R11: 兼務 | U11: 専従 | X11: 兼務 | AA11: 専従 | AD11: 兼務
C12: 従業者数 | F12: 常勤
F13: 非常勤
C14: 常勤換算後の人数
C15: ※基準上の必要人数
A16: 従たる事業所の利用定員 | O16: 人
A17: （備考）
A18: １．「※」のついた欄には、記載しないでください。

Sheet 付表５
A1: 付表５ 短期入所事業所の指定に係る記載事項
AA2: ※受付番号
AL3: FALSE
A4: 事業所 | C4: ﾌﾘｶﾞﾅ | I4: =IF(第２号様式!S42=5,IF(第２号様式!G35<>"",第２号様式!G35,""),"")
C5: 名 称 | I5: =IF(第２号様式!S42=5,IF(第２号様式!G36<>"",第２号様式!G36,""),"")
C6: 所在地 | I6: 〒 | K6: =IF(第２号様式!S42=5,IF(第２号様式!H37<>"",第２号様式!H37,""),"") | Q6: ←郵便番号を半角数字７桁で入力してください
I7: =IF(第２号様式!S42=5,IF(第２号様式!G38<>"",第２号様式!G38,""),"")
I8: =IF(第２号様式!S42=5,IF(第２号様式!G39<>"",第２号様式!G39,""),"")
C9: 連 絡 先 | I9: 電話番号 | W9: ＦＡＸ番号
A10: 当該事業の実施について定めてある定款・寄付行為等又は条例等
A11: 管理者 | C11: ﾌﾘｶﾞﾅ
C12: 氏 名
C13: 住 所 | I13: 〒 | Q13: ←郵便番号を半角数字７桁で入力してください
C16: 当該短期入所事業所で兼務する他の職種（兼務の場合のみ記入） | W16: 2
C17: 他の事業所又は施設の従業者との兼務（兼務の場合記入） | O17: 事業所等の名称
O18: 兼務する職種
O19: 勤務時間
A20: 事業所の種別 | AL20: FALSE | AM20: FALSE | AN20: FALSE
C21: 併設型・単独型 の場合 | I21: 利用定員(人） | AI21: 人
I22: 前年度の平均入所者数（人） | AI22: 人
A23: 併設（本体）施設 | I23: 名称
I24: 施設種別等
I25: 入所者の定員 | AI25: 人
A26: 単独事業所の居室 | I26: １室の最大定員 | AI26: 人
I27: 入所者１人あたりの最小床面積 | AI27: ㎡
A28: 従業者の職種・員数 | C28: (単位：人） | I28: サービス 管理責任者 | M28: 医師 | Q28: 看護職員 | AG28: 心理判定員
Q29: 合計 | U29: 保健師 | Y29: 看護師 | AC29: 准看護師
I30: 専従 | K30: 兼務 | M30: 専従 | O30: 兼務 | Q30: 専従 | S30: 兼務 | U30: 専従 | W30: 兼務 | Y30: 専従 | AA30: 兼務 | AC30: 専従 | AE30: 兼務 | AG30: 専従 | AI30: 兼務
C31: 従業者数 | F31: 常勤
F32: 非常勤
C33: 常勤換算後の人数
C34: ※基準上の必要人数
C35: (単位：人） | I35: 職能判定員 | M35: 理学療法士等 | AC35: あんまマッサージ指圧師 | AG35: 生活支援員
M36: 合計 | Q36: 理学療法士 | U36: 作業療法士 | Y36: 機能訓練指導員
I37: 専従 | K37: 兼務 | M37: 専従 | O37: 兼務 | Q37: 専従 | S37: 兼務 | U37: 専従 | W37: 兼務 | Y37: 専従 | AA37: 兼務 | AC37: 専従 | AE37: 兼務 | AG37: 専従 | AI37: 兼務
C38: 従業者数 | F38: 常勤
F39: 非常勤
C40: 常勤換算後の人数
C41: ※基準上の必要人数
C42: (単位：人） | I42: 職業訓練員 | M42: 就労支援員 | Q42: 介護職員 | U42: 児童指導員 | Y42: 保育士 | AC42: 精神保健福祉士
...

Sheet 付表６
A1: 付表６ 重度障害者等包括支援事業所の指定に係る記載事項
AA2: ※受付番号
A4: 事業所 | C4: ﾌﾘｶﾞﾅ | I4: =IF([2]様式第１号!S42=6,IF([2]様式第１号!G35<>"",[2]様式第１号!G35,""),"")
C5: 名 称 | I5: =IF([2]様式第１号!S42=6,IF([2]様式第１号!G36<>"",[2]様式第１号!G36,""),"")
C6: 所在地 | I6: 〒 | K6: =IF([2]様式第１号!S42=6,IF([2]様式第１号!H37<>"",[2]様式第１号!H37,""),"") | Q6: ←郵便番号を半角数字７桁で入力してください
I7: =IF([2]様式第１号!S42=6,IF([2]様式第１号!G38<>"",[2]様式第１号!G38,""),"")
I8: =IF([2]様式第１号!S42=6,IF([2]様式第１号!G39<>"",[2]様式第１号!G39,""),"")
C9: 連 絡 先 | I9: 電話番号 | W9: ＦＡＸ番号
A10: 当該事業の実施について定めてある定款・寄付行為等又は条例等
A11: 管理者 | C11: ﾌﾘｶﾞﾅ
C12: 氏 名
C13: 住 所 | I13: 〒 | Q13: ←郵便番号を半角数字７桁で入力してください
C16: サービス提供責任者との兼務の有無 | W16: 2
C17: 当該重度障害者等包括支援事業所で兼務する他の職種（兼務の場合のみ記入
C18: 他の事業所又は施設の従業者との兼務（兼務の場合記入） | O18: 事業所等の名称
O19: 兼務する職種
O20: 勤務時間
A21: サービス 提供責任者 | C21: ﾌﾘｶﾞﾅ
C22: 氏 名
C23: 住 所 | I23: 〒 | Q23: ←郵便番号を半角数字７桁で入力してください
A26: 事業所の体制 | C26: 他に指定を 受けている 障害福祉 サービス等 | I26: 種類 | Q26: 事業所名 | AE26: 事業所番号
C32: 委託による 提携事業所 | I32: 種類 | Q32: 事業所名 | AE32: 事業所番号
C38: 協力医療機関 | E38: 名 称 | R38: 主 な 診療科名
E40: 名 称 | R40: 主 な 診療科名
E42: 名 称 | R42: 主 な 診療科名
C44: 利用者からの連絡対応体制の概要
A45: 主な掲示事項 | C45: 主たる対象者 | I45: 身体障害者 | W45: 障害児 | AL45: FALSE | AM45: FALSE
I46: 知的障害者 | W46: 精神障害者 | AL46: FALSE | AM46: FALSE
C47: 利用者数 | R47: 人
C48: 利用料
C49: その他費用
C50: 通常の事業 の実施地域
C54: その他参考 となる事項 | I54: 第三者評価の実施状況 | R54: 2
I55: 苦情解決の措置概要 | R55: 窓口（連絡先）
R56: 担当者
I57: その他
A58: ※加算等 | C58: 類型 | AL58: FALSE | AM58: FALSE | AN58: FALSE
C59: 処遇改善助成金交付 | I59: 2 | R59: 処遇改善助成金 キャリアパス区分
A60: （備考）
A61: １．「※」のついた欄には、記載しないでください。
...

Sheet 付表７
A1: 付表７ 共同生活介護事業所（ケアホーム）・共同生活援助事業所（グループホーム）の指定に係る記載事項
AG2: その１
A4: ※申請する事業 | F4: =IF([2]様式第１号!S42=7,IF([2]様式第１号!AS136<>"",[2]様式第１号!AS136,""),"") | AA4: ※受付番号
A6: 主たる事業所 | C6: ﾌﾘｶﾞﾅ | I6: =IF([2]様式第１号!S42=7,IF([2]様式第１号!G35<>"",[2]様式第１号!G35,""),"")
C7: 名 称 | I7: =IF([2]様式第１号!S42=7,IF([2]様式第１号!G36<>"",[2]様式第１号!G36,""),"")
C8: 所在地 | I8: 〒 | K8: =IF([2]様式第１号!S42=7,IF([2]様式第１号!H37<>"",[2]様式第１号!H37,""),"") | Q8: ←郵便番号を半角数字７桁で入力してください
I9: =IF([2]様式第１号!S42=7,IF([2]様式第１号!G38<>"",[2]様式第１号!G38,""),"")
I10: =IF([2]様式第１号!S42=7,IF([2]様式第１号!G39<>"",[2]様式第１号!G39,""),"")
C11: 連 絡 先 | I11: 電話番号 | W11: ＦＡＸ番号
A12: 当該事業の実施について定めてある定款・寄付行為等又は条例等
A13: 管理者 | C13: ﾌﾘｶﾞﾅ
C14: 氏 名
C15: 住 所 | I15: 〒 | Q15: ←郵便番号を半角数字７桁で入力してください
C18: 他の事業所、施設又は医療機関の従業者との兼務（兼務の場合記入） | O18: 事業所等の名称
O19: 兼務する職種
O20: 勤務時間
A21: 利用定員 | O21: 人（事業所全体の利用者数。）
A22: 前年度の平均利用者数 | O22: 人（事業所全体の利用者数。＊新規の場合は推定数）
A23: サービス 管理責任者 | C23: ﾌﾘｶﾞﾅ
C24: 氏 名
C25: 住 所 | I25: 〒 | Q25: ←郵便番号を半角数字７桁で入力してください
A28: 従業者の職種 ・員数 | C28: (単位：人） | I28: 世話人 | O28: 生活支援員 | U28: サービス管理責任者
I29: 専従 | L29: 兼務 | O29: 専従 | R29: 兼務 | U29: 専従 | X29: 兼務
C30: 従業者数 | F30: 常勤
F31: 非常勤
C32: 常勤換算後の人数
C33: ※基準上の必要人数
A34: 地域移行型ホーム の場合 | I34: 同一敷地内にある入所施設又は病院 | O34: 名 称
O35: 所在地
A36: 共同生活介護の場合 | R36: 2 | Z36: 「有」の場合 | AE36: 月 | AI36: 時間
A37: 障害者支援施設等 との連携体制等 | I37: 連携施設 | O37: 名 称
O38: 所在地
I39: 支援体制の概要
A40: その他参考となる事項 | I40: 第三者評価の実施状況 | R40: 2
I41: 苦情解決の措置概要 | R41: 窓口（連絡先）
R42: 担当者
I43: その他
A44: 協力医療機関 | C44: 名 称 | R44: 主 な 診療科名
AL45: FALSE | AM45: FALSE
C46: 名 称 | R46: 主 な 診療科名 | AL46: FALSE | AM46: FALSE
...

Sheet 付表８その１
A1: 付表８ その１ 障害者支援施設の指定に係る記載事項
AA2: ※受付番号
A4: 施設 | C4: ﾌﾘｶﾞﾅ | I4: =IF([2]様式第１号!S42=8,IF([2]様式第１号!G35<>"",[2]様式第１号!G35,""),"")
C5: 名 称 | I5: =IF([2]様式第１号!S42=8,IF([2]様式第１号!G36<>"",[2]様式第１号!G36,""),"")
C6: 所在地 | I6: 〒 | K6: =IF([2]様式第１号!S42=8,IF([2]様式第１号!H37<>"",[2]様式第１号!H37,""),"") | Q6: ←郵便番号を半角数字７桁で入力してください
I7: =IF([2]様式第１号!S42=8,IF([2]様式第１号!G38<>"",[2]様式第１号!G38,""),"")
I8: =IF([2]様式第１号!S42=8,IF([2]様式第１号!G39<>"",[2]様式第１号!G39,""),"")
C9: 連 絡 先 | I9: 電話番号 | W9: ＦＡＸ番号
A10: 管理者 | C10: ﾌﾘｶﾞﾅ
C11: 氏 名
C12: 住 所 | I12: 〒 | Q12: ←郵便番号を半角数字７桁で入力してください
A15: 昼間実施サービスの定員
C16: 合計 | I16: 介護給付対象者 | O16: 訓練等給付対象者 | U16: 特定旧法受給者 | AA16: 定員緩和措置の有無
G17: 人 | M17: 人 | S17: 人 | Y17: 人 | AA17: 2
A18: 施設入所支援の定員 | Y18: 人
A19: 他の社会福祉施設 との併設の有無 | I19: 2 | S19: 併設施設の種別
S20: 併設施設の定員 | AI20: 人
A21: 従業者の職種・員数 | C21: (単位：人） | I21: サービス 管理責任者 | M21: 医師 | Q21: 看護職員
Q22: 合計 | U22: 保健師 | Y22: 看護師 | AC22: 准看護師
I23: 専従 | K23: 兼務 | M23: 専従 | O23: 兼務 | Q23: 専従 | S23: 兼務 | U23: 専従 | W23: 兼務 | Y23: 専従 | AA23: 兼務 | AC23: 専従 | AE23: 兼務
C24: 従業者数 | F24: 常勤
F25: 非常勤
C26: 常勤換算後の人数
C27: ※基準上の必要人数
C28: (単位：人） | I28: 理学療法士等 | Y28: 生活支援員
I29: 合計 | M29: 理学療法士 | Q29: 作業療法士 | U29: 機能訓練指導員 | Y29: 合計 | AC29: 通所 | AG29: 訪問
I30: 専従 | K30: 兼務 | M30: 専従 | O30: 兼務 | Q30: 専従 | S30: 兼務 | U30: 専従 | W30: 兼務 | Y30: 専従 | AA30: 兼務 | AC30: 専従 | AE30: 兼務 | AG30: 専従 | AI30: 兼務
C31: 従業者数 | F31: 常勤
F32: 非常勤
C33: 常勤換算後の人数
C34: ※基準上の必要人数
C35: (単位：人） | I35: 職業指導員 | U35: 就労支援員 | Y35: 栄養士
I36: 合計 | M36: 右記以外 | Q36: 兼教官
I37: 専従 | K37: 兼務 | M37: 専従 | O37: 兼務 | Q37: 専従 | S37: 兼務 | U37: 専従 | W37: 兼務 | Y37: 専従 | AA37: 兼務 | AC37: 専従 | AE37: 兼務 | AG37: 専従 | AI37: 兼務
C38: 従業者数 | F38: 常勤
F39: 非常勤
C40: 常勤換算後の人数
C41: ※基準上の必要人数
A42: 主な掲示事項 | C42: 主たる対象者 | I42: 身体障害者 | AL42: FALSE | AM42: FALSE | AN42: FALSE | AO42: FALSE | AP42: FALSE
I43: 知的障害者 | W43: 精神障害者 | AL43: FALSE | AM43: FALSE
...

Sheet 付表８その２
A1: 付表８ その２ 昼間実施サービスに係る記載事項
AA2: ※受付番号
A4: 施設 | C4: ﾌﾘｶﾞﾅ | I4: =IF([2]付表８その１!I4<>"",[2]付表８その１!I4,"")
C5: 名 称 | I5: =IF([2]付表８その１!I5<>"",[2]付表８その１!I5,"")
C6: 所在地 | I6: 〒 | K6: =IF([2]付表８その１!K6<>"",[2]付表８その１!K6,"") | Q6: ←郵便番号を半角数字７桁で入力してください
I7: =IF([2]付表８その１!I7<>"",[2]付表８その１!I7,"")
I8: =IF([2]付表８その１!I8<>"",[2]付表８その１!I8,"")
C9: 連 絡 先 | I9: 電話番号 | M9: =IF([2]付表８その１!M9<>"",[2]付表８その１!M9,"") | W9: ＦＡＸ番号 | AA9: =IF([2]付表８その１!AA9<>"",[2]付表８その１!AA9,"")
A10: 管理者 | C10: ﾌﾘｶﾞﾅ | I10: =IF([2]付表８その１!I10<>"",[2]付表８その１!I10,"")
C11: 氏 名 | I11: =IF([2]付表８その１!I11<>"",[2]付表８その１!I11,"")
C12: 住 所 | I12: 〒 | K12: =IF([2]付表８その１!K12<>"",[2]付表８その１!K12,"") | Q12: ←郵便番号を半角数字７桁で入力してください
I13: =IF([2]付表８その１!I13<>"",[2]付表８その１!I13,"")
I14: =IF([2]付表８その１!I14<>"",[2]付表８その１!I14,"")
A15: 昼間実施サービスの種類 | I15: 生活介護 | S15: 自立訓練 | Y15: 就労移行支援 | AE15: 就労継続支援
S16: （機能） | V16: （生活） | Y16: （通常） | AB16: （資格） | AE16: （Ａ型） | AH16: （Ｂ型）
C17: 実施するサービス | I17: 単位の有無
C18: 前年度の平均利用者数 | O18: 人 | R18: 人 | U18: 人 | X18: 人 | AA18: 人 | AD18: 人 | AG18: 人 | AJ18: 人
C19: 昼間多機能の有無 | I19: 2 | S19: 昼間の総定員数 | AI19: 人
A20: 当該事業の実施について定めてある定款・寄付行為等又は条例等
A21: ＊生活介護を行う場合のみ記入 | P21: 施設が申告する障害程度区分の平均値
C22: 前年度の平均 実利用者数 | I22: サービス単位１ | P22: 4
I23: サービス単位２ | P23: 4
I24: サービス単位３ | P24: 4
I25: サービス単位４ | P25: 4
A26: 主な掲示事項 | C26: 利用料
C27: その他費用
C28: 通常の事業 の実施地域 | U28: 2
C32: その他
A33: 施設障害福祉サービスの種類 | AE33: ※単位番号
A34: 単位 | C34: (単位：人） | I34: サービス 管理責任者 | M34: 医師 | Q34: 看護職員 | U34: 理学療法士等 | AG34: 就労支援員
U35: 合計 | Y35: ＯＴ・ＰＴ | AC35: 機能訓練指導員
I36: 専従 | K36: 兼務 | M36: 専従 | O36: 兼務 | Q36: 専従 | S36: 兼務 | U36: 専従 | W36: 兼務 | Y36: 専従 | AA36: 兼務 | AC36: 専従 | AE36: 兼務 | AG36: 専従 | AI36: 兼務
C37: 従業者数 | F37: 常勤
F38: 非常勤
C39: 常勤換算後の人数
C40: ※基準上の必要人数
C41: (単位：人） | I41: 職業指導員 | U41: 生活支援員 | AG41: 栄養士
I42: 合計 | M42: 右記以外 | Q42: 兼教官 | U42: 合計 | Y42: 通所 | AC42: 訪問 | AL42: FALSE | AM42: FALSE | AN42: FALSE | AO42: FALSE | AP42: FALSE
I43: 専従 | K43: 兼務 | M43: 専従 | O43: 兼務 | Q43: 専従 | S43: 兼務 | U43: 専従 | W43: 兼務 | Y43: 専従 | AA43: 兼務 | AC43: 専従 | AE43: 兼務 | AG43: 専従 | AI43: 兼務 | AL43: FALSE | AM43: FALSE
C44: 従業者数 | F44: 常勤
...

Sheet 付表８その３
A1: 付表８ その３ 施設入所支援に係る記載事項
AA2: ※受付番号
A4: 施設 | C4: ﾌﾘｶﾞﾅ | I4: =IF([2]付表８その１!I4<>"",[2]付表８その１!I4,"")
C5: 名 称 | I5: =IF([2]付表８その１!I5<>"",[2]付表８その１!I5,"")
C6: 所在地 | I6: 〒 | K6: =IF([2]付表８その１!K6<>"",[2]付表８その１!K6,"") | Q6: ←郵便番号を半角数字７桁で入力してください
I7: =IF([2]付表８その１!I7<>"",[2]付表８その１!I7,"")
I8: =IF([2]付表８その１!I8<>"",[2]付表８その１!I8,"")
C9: 連 絡 先 | I9: 電話番号 | W9: ＦＡＸ番号
A10: 管理者 | C10: ﾌﾘｶﾞﾅ | I10: =IF([2]付表８その１!I10<>"",[2]付表８その１!I10,"")
C11: 氏 名
C12: 住 所 | K12: =IF([2]付表８その１!K12<>"",[2]付表８その１!K12,"") | Q12: ←郵便番号を半角数字７桁で入力してください
I13: =IF([2]付表８その１!I13<>"",[2]付表８その１!I13,"")
A15: 当該事業の実施について定めてある定款・寄付行為等又は条例等
A16: 施設入所支援 | I16: 前年度の平均 実利用者数 | O16: サービス単位１ | W16: 2 | AI16: 人
O17: サービス単位２ | AI17: 人
O18: サービス単位３ | AI18: 人
A19: 設備 | AE19: 短期入所実施の有無
C20: 居室 | I20: １室の最大定員 | U20: 人 | AB20: 人以下
I21: 入所者１人あたりの最小床面積 | U21: ㎡ | AB21: ㎡ | AE21: 2
C22: 廊下 | U22: ｍ | AB22: ｍ
I23: 中廊下の幅 | U23: ｍ | AB23: ｍ
A24: 旧法施設からの 移行の場合
I26: 経過措置の有無 | O26: 2 | W26: 特定旧法受給者数 | AI26: 人
A27: ※栄養士配置加算 | I27: 4 | AD27: 2
A28: ※保障単位数（９割保障） | Q28: ※夜間看護体制加算 | Y28: 2
A29: ※地域生活移行個別支援特別加算 | Q29: ※小規模定員加算 | Y29: 2
A30: ※夜勤職員配置体制加算
A31: ※処遇改善助成金交付 | Q31: ※処遇改善助成金 キャリアパス区分
A32: ※保障単位数 （移行時運営安定化事業） | O32: 単位 | AL32: FALSE | AM32: FALSE | AN32: FALSE | AO32: FALSE | AP32: FALSE | AQ32: FALSE | AR32: FALSE
A33: 移行時運営安定化事業
A41: 施設障害福祉サービスの種類 | AE41: ※単位番号 | AL41: FALSE | AM41: FALSE | AN41: FALSE
A42: 単位１ | C42: (単位：人） | I42: サービス管理責任者 | O42: 生活支援員 | U42: 栄養士
I43: 専従 | L43: 兼務 | O43: 専従 | R43: 兼務 | U43: 専従 | X43: 兼務 | AA43: 専従 | AC43: 兼務 | AF43: 専従 | AH43: 兼務
C44: 従業者数 | F44: 常勤
F45: 非常勤
C46: 常勤換算後の人数
C47: ※基準上の必要人数
C48: 単位ごとの利用定員 | W48: ※基準上の必要定員 | AI48: 人
C49: 主たる対象者 | I49: 身体障害者 | AL49: FALSE | AM49: FALSE | AN49: FALSE | AO49: FALSE | AP49: FALSE
I50: 知的障害者 | W50: 精神障害者 | AL50: FALSE | AM50: FALSE | AN50: FALSE
...

Sheet 付表９
A1: 付表９ 自立訓練（機能訓練）事業所の指定に係る記載事項
D2: ＊１ 従たる事業所のある場合は、付表９－２を併せて提出してください。 | AA2: ※受付番号
D3: ＊２ 多機能型事業実施時は、各事業の付表と付表13を併せて提出してください。
A4: 事業所 | C4: ﾌﾘｶﾞﾅ | I4: =IF([2]様式第１号!S42=9,IF([2]様式第１号!G35<>"",[2]様式第１号!G35,""),"")
C5: 名 称 | I5: =IF([2]様式第１号!S42=9,IF([2]様式第１号!G36<>"",[2]様式第１号!G36,""),"")
C6: 所在地 | I6: 〒 | K6: =IF([2]様式第１号!S42=9,IF([2]様式第１号!H37<>"",[2]様式第１号!H37,""),"") | Q6: ←郵便番号を半角数字７桁で入力してください
I7: =IF([2]様式第１号!S42=9,IF([2]様式第１号!G38<>"",[2]様式第１号!G38,""),"")
I8: =IF([2]様式第１号!S42=9,IF([2]様式第１号!G39<>"",[2]様式第１号!G39,""),"")
C9: 連 絡 先 | I9: 電話番号 | W9: ＦＡＸ番号
A10: 当該事業の実施について定めてある定款・寄付行為等又は条例等
A11: 管理者 | C11: ﾌﾘｶﾞﾅ
C12: 氏 名
C13: 住 所 | I13: 〒 | Q13: ←郵便番号を半角数字７桁で入力してください
C16: 当該自立訓練事業所で兼務する他の職種（兼務の場合のみ記入） | W16: 2
C17: 他の事業所又は施設の従業者との兼務（兼務の場合記入） | O17: 事業所等の名称
O18: 兼務する職種
O19: 勤務時間
A20: 訪問事業実施の有無 | I20: 2
A21: サービス 管理責任者 | C21: ﾌﾘｶﾞﾅ
C22: 氏 名
C23: 住 所 | I23: 〒 | Q23: ←郵便番号を半角数字７桁で入力してください
A26: 従業者の職種・員数 | C26: (単位：人） | I26: サービス 管理責任者 | O26: 看護職員 | U26: 理学療法士等 | AF26: 歩行訓練士
U27: 理学療法士・作業療法士 | AA27: 機能訓練指導員
I28: 専従 | L28: 兼務 | O28: 専従 | R28: 兼務 | U28: 専従 | X28: 兼務 | AA28: 専従 | AC28: 兼務 | AF28: 専従 | AH28: 兼務
C29: 従業者数 | F29: 常勤
F30: 非常勤
C31: 常勤換算後の人数
C32: ※基準上の必要人数
C33: (単位：人） | I33: 生活支援員 | U33: その他の従業者
I34: 通所 | O34: 訪問
I35: 専従 | L35: 兼務 | O35: 専従 | R35: 兼務 | U35: 専従 | X35: 兼務 | AA35: 専従 | AC35: 兼務 | AF35: 専従 | AH35: 兼務
C36: 従業者数 | F36: 常勤
F37: 非常勤
C38: 常勤換算後の人数
C39: ※基準上の必要人数
A40: 機能訓練全体の利用定員 | O40: 人
A41: 前年度の平均利用者数 | O41: 人（＊新規の場合は、推定数）
A42: 主な掲示事項 | C42: 営業日 | AL42: FALSE | AM42: FALSE | AN42: FALSE | AO42: FALSE | AP42: FALSE | AQ42: FALSE | AR42: FALSE
C43: 営業時間 | I43: 平日 | O43: ～ | T43: 土曜 | Z43: ～ | AE43: 備考
I44: 日曜 | O44: ～ | T44: 祝日 | Z44: ～
...

Sheet 付表９－２
A1: 付表９－２ 一体的に実施する従たる事業所の指定に係る記載事項
D2: ＊ 多機能型事業実施時は、各事業の付表と付表13を併せて提出してください。 | AA2: ※受付番号
A3: 事業所 | C3: ﾌﾘｶﾞﾅ
C4: 名 称
C5: 所在地 | I5: 〒 | Q5: ←郵便番号を半角数字７桁で入力してください
C8: 連 絡 先 | I8: 電話番号 | W8: ＦＡＸ番号
A9: 従業者の職種・員数 | C9: (単位：人） | I9: サービス 管理責任者 | O9: 看護職員 | U9: 理学療法士等 | AF9: 歩行訓練士
U10: 理学療法士・作業療法士 | AA10: 機能訓練指導員
I11: 専従 | L11: 兼務 | O11: 専従 | R11: 兼務 | U11: 専従 | X11: 兼務 | AA11: 専従 | AC11: 兼務 | AF11: 専従 | AH11: 兼務
C12: 従業者数 | F12: 常勤
F13: 非常勤
C14: 常勤換算後の人数
C15: ※基準上の必要人数
C16: (単位：人） | I16: 生活支援員 | U16: その他の従業者
I17: 通所 | O17: 訪問
I18: 専従 | L18: 兼務 | O18: 専従 | R18: 兼務 | U18: 専従 | X18: 兼務 | AA18: 専従 | AC18: 兼務 | AF18: 専従 | AH18: 兼務
C19: 従業者数 | F19: 常勤
F20: 非常勤
C21: 常勤換算後の人数
C22: ※基準上の必要人数
A23: 従たる事業所の利用定員 | O23: 人
A24: （備考）
A25: １．「※」のついた欄には、記載しないでください。
A26: ２．「看護職員」とは保健師、看護師、准看護師のことを言います。

Sheet 付表１０
A1: 付表10 自立訓練（生活訓練）事業所の指定に係る記載事項
D2: ＊１ 従たる事業所のある場合は、付表10-2を併せて提出してください。
D3: ＊２ 多機能型事業実施時は、各事業の付表と付表13を併せて提出してください。
A4: ※申請する事業 | F4: =IF([2]様式第１号!S42=10,IF([2]様式第１号!AS136<>"",[2]様式第１号!AS136,""),"") | AA4: ※受付番号
A6: 事業所 | C6: ﾌﾘｶﾞﾅ | I6: =IF([2]様式第１号!S42=10,IF([2]様式第１号!G35<>"",[2]様式第１号!G35,""),"")
C7: 名 称 | I7: =IF([2]様式第１号!S42=10,IF([2]様式第１号!G36<>"",[2]様式第１号!G36,""),"")
C8: 所在地 | I8: 〒 | K8: =IF([2]様式第１号!S42=10,IF([2]様式第１号!H37<>"",[2]様式第１号!H37,""),"") | Q8: ←郵便番号を半角数字７桁で入力してください
I9: =IF([2]様式第１号!S42=10,IF([2]様式第１号!G38<>"",[2]様式第１号!G38,""),"")
I10: =IF([2]様式第１号!S42=10,IF([2]様式第１号!G39<>"",[2]様式第１号!G39,""),"")
C11: 連 絡 先 | I11: 電話番号 | W11: ＦＡＸ番号
A12: 当該事業の実施について定めてある定款・寄付行為等又は条例等
A13: 管理者 | C13: ﾌﾘｶﾞﾅ
C14: 氏 名
C15: 住 所 | I15: 〒 | Q15: ←郵便番号を半角数字７桁で入力してください
C18: 当該自立訓練事業所で兼務する他の職種（兼務の場合のみ記入）
C19: 他の事業所又は施設の従業者との兼務（兼務の場合記入） | O19: 事業所等の名称
O20: 兼務する職種
O21: 勤務時間
A22: 訪問事業実施の有無
A23: サービス 管理責任者 | C23: ﾌﾘｶﾞﾅ
C24: 氏 名
C25: 住 所 | I25: 〒 | Q25: ←郵便番号を半角数字７桁で入力してください
A28: 従業者の職種 ・員数 | C28: (単位：人） | I28: サービス 管理責任者 | O28: 看護職員 | U28: 生活支援員
U29: 通所 | AA29: 訪問
I30: 専従 | L30: 兼務 | O30: 専従 | R30: 兼務 | U30: 専従 | X30: 兼務 | AA30: 専従 | AC30: 兼務 | AF30: 専従 | AH30: 兼務
C31: 従業者数 | F31: 常勤
F32: 非常勤
C33: 常勤換算後の人数
C34: ※基準上の必要人数
A35: 生活訓練全体の利用定員 | O35: 人
A36: 前年度の平均利用者数 | O36: 人（＊新規の場合は、推定数）
A37: 主な掲示事項 | C37: 営業日 | AL37: FALSE | AM37: FALSE | AN37: FALSE | AO37: FALSE | AP37: FALSE | AQ37: FALSE | AR37: FALSE
C38: 営業時間 | I38: 平日 | O38: ～ | T38: 土曜 | Z38: ～ | AE38: 備考
I39: 日曜 | O39: ～ | T39: 祝日 | Z39: ～
C40: 主たる対象者 | I40: 知的障害者 | W40: 精神障害者 | AM40: FALSE | AN40: FALSE
C41: 多機能型実施の有無
C42: 利用定員 | O42: 人 | T42: ※基準上の必要定員 | AF42: 人
C43: 利用料
C44: その他費用
C45: その他参考 となる事項 | I45: 第三者評価の実施状況 | R45: 2
...

Sheet 付表１０－２
A1: 付表10－２ 一体的に実施する従たる事業所の指定に係る記載事項
D2: ＊ 多機能型事業実施時は、各事業の付表と付表13を併せて提出してください。 | AA2: ※受付番号
A3: 事業所 | C3: ﾌﾘｶﾞﾅ
C4: 名 称
C5: 所在地 | I5: 〒 | Q5: ←郵便番号を半角数字７桁で入力してください
C8: 連 絡 先 | I8: 電話番号 | W8: ＦＡＸ番号
A9: 従業者の職種 ・員数 | C9: (単位：人） | I9: サービス 管理責任者 | O9: 看護職員 | U9: 生活支援員
U10: 通所 | AA10: 訪問
I11: 専従 | L11: 兼務 | O11: 専従 | R11: 兼務 | U11: 専従 | X11: 兼務 | AA11: 専従 | AC11: 兼務 | AF11: 専従 | AH11: 兼務
C12: 従業者数 | F12: 常勤
F13: 非常勤
C14: 常勤換算後の人数
C15: ※基準上の必要人数
A16: 従たる事業所の利用定員 | O16: 人
A17: （備考）
A18: １．「※」のついた欄には、記載しないでください。
A19: ２．「看護職員」とは保健師、看護師、准看護師のことを言います。

Sheet 付表１１
A1: 付表11 就労移行支援事業所の指定に係る記載事項 | AE1: =IF([2]様式第１号!S42=11,IF([2]様式第１号!G38<>"",[2]様式第１号!G38,""),"")
D2: ＊１ 従たる事業所のある場合は、付表11－２を併せて提出してください。
D3: ＊２ 多機能型事業実施時は、各事業の付表と付表13を併せて提出してください。
A4: ※申請する事業 | F4: =IF([2]様式第１号!S42=11,IF([2]様式第１号!AS136<>"",[2]様式第１号!AS136,""),"") | AA4: ※受付番号
A6: 事業所 | C6: ﾌﾘｶﾞﾅ | I6: =IF([2]様式第１号!S42=11,IF([2]様式第１号!G35<>"",[2]様式第１号!G35,""),"")
C7: 名 称 | I7: =IF([2]様式第１号!S42=11,IF([2]様式第１号!G36<>"",[2]様式第１号!G36,""),"")
C8: 所在地 | I8: 〒 | K8: =IF([2]様式第１号!S42=11,IF([2]様式第１号!H37<>"",[2]様式第１号!H37,""),"") | Q8: ←郵便番号を半角数字７桁で入力してください
I9: =IF([2]様式第１号!S42=11,IF([2]様式第１号!G38<>"",[2]様式第１号!G38,""),"")
I10: =IF([2]様式第１号!S42=11,IF([2]様式第１号!G39<>"",[2]様式第１号!G39,""),"")
C11: 連 絡 先 | I11: 電話番号 | W11: ＦＡＸ番号
A12: 当該事業の実施について定めてある定款・寄付行為等又は条例等
A13: 管理者 | C13: ﾌﾘｶﾞﾅ
C14: 氏 名
C15: 住 所 | I15: 〒 | Q15: ←郵便番号を半角数字７桁で入力してください
C18: 当該自立訓練事業所で兼務する他の職種（兼務の場合のみ記入）
C19: 他の事業所又は施設の従業者との兼務（兼務の場合記入） | O19: 事業所等の名称
O20: 兼務する職種
O21: 勤務時間
A22: サービス 管理責任者 | C22: ﾌﾘｶﾞﾅ
C23: 氏 名
C24: 住 所 | I24: 〒 | Q24: ←郵便番号を半角数字７桁で入力してください
A27: 従業者の職種 ・員数 | C27: (単位：人） | I27: サービス 管理責任者 | O27: 職業指導員 | U27: 生活支援員 | AA27: 就労支援員
I29: 専従 | L29: 兼務 | O29: 専従 | R29: 兼務 | U29: 専従 | X29: 兼務 | AA29: 専従 | AC29: 兼務 | AF29: 専従 | AH29: 兼務
C30: 従業者数 | F30: 常勤
F31: 非常勤
C32: 常勤換算後の人数
C33: ※基準上の必要人数
A34: 就労移行支援全体の利用定員 | O34: 人
A35: 前年度の平均利用者数 | O35: 人（＊新規の場合は、推定数）
A36: 主な掲示事項 | C36: 多機能型実施の有無
C37: 利用定員 | O37: 人 | T37: ※基準上の必要定員 | AF37: 人
C38: 主たる対象者 | I38: 身体障害者 | AL38: FALSE | AM38: FALSE | AN38: FALSE | AO38: FALSE | AP38: FALSE
I39: 知的障害者 | W39: 精神障害者 | AL39: FALSE | AM39: FALSE | AN39: FALSE
C40: 利用料
C41: その他費用
C42: その他参考 となる事項 | I42: 第三者評価の実施状況
I43: 苦情解決の措置概要 | R43: 窓口（連絡先）
R44: 担当者
I45: その他
C46: 協力医療機関 | E46: 名 称 | R46: 主 な 診療科名
...

Sheet 付表１１－２
A1: 付表11－２ 一体的に事業所の指定に係る記載事項
D2: ＊ 多機能型事業実施時は、各事業の付表と付表13を併せて提出してください。 | AA2: ※受付番号
A3: 事業所 | C3: ﾌﾘｶﾞﾅ
C4: 名 称
C5: 所在地 | I5: 〒 | Q5: ←郵便番号を半角数字７桁で入力してください
C8: 連 絡 先 | I8: 電話番号 | W8: ＦＡＸ番号
A9: 従業者の職種 ・員数 | C9: (単位：人） | I9: サービス 管理責任者 | O9: 職業指導員 | U9: 生活支援員 | AA9: 就労支援員
I11: 専従 | L11: 兼務 | O11: 専従 | R11: 兼務 | U11: 専従 | X11: 兼務 | AA11: 専従 | AC11: 兼務 | AF11: 専従 | AH11: 兼務
C12: 従業者数 | F12: 常勤
F13: 非常勤
C14: 常勤換算後の人数
C15: ※基準上の必要人数
A16: 従たる事業所の利用定員 | O16: 人
A17: １．「※」のついた欄には、記載しないでください。
A18: ２．「兼務」欄は、施設入所支援事業以外との兼務を行う職員について記載してください。

Sheet 付表１２
A1: 付表12 就労継続支援事業所の指定に係る記載事項
D2: ＊１ 従たる事業所のある場合は、付表12－2を併せて提出してください。
D3: ＊２ 多機能型事業実施時は、各事業の付表と付表13を併せて提出してください。
A4: ※申請する事業 | F4: =IF([2]様式第１号!S42=12,IF([2]様式第１号!AS136<>"",[2]様式第１号!AS136,""),"") | AA4: ※受付番号
A6: 事業所 | C6: ﾌﾘｶﾞﾅ | I6: =IF([2]様式第１号!S42=12,IF([2]様式第１号!G35<>"",[2]様式第１号!G35,""),"")
C7: 名 称 | I7: =IF([2]様式第１号!S42=12,IF([2]様式第１号!G36<>"",[2]様式第１号!G36,""),"")
C8: 所在地 | I8: 〒 | K8: =IF([2]様式第１号!S42=12,IF([2]様式第１号!H37<>"",[2]様式第１号!H37,""),"") | Q8: ←郵便番号を半角数字７桁で入力してください
I9: =IF([2]様式第１号!S42=12,IF([2]様式第１号!G38<>"",[2]様式第１号!G38,""),"")
I10: =IF([2]様式第１号!S42=12,IF([2]様式第１号!G39<>"",[2]様式第１号!G39,""),"")
C11: 連 絡 先 | I11: 電話番号 | W11: ＦＡＸ番号
A12: 当該事業の実施について定めてある定款・寄付行為等又は条例等
A13: 管理者 | C13: ﾌﾘｶﾞﾅ
C14: 氏 名
C15: 住 所 | I15: 〒 | Q15: ←郵便番号を半角数字７桁で入力してください
C18: 当該自立訓練事業所で兼務する他の職種（兼務の場合のみ記入）
C19: 他の事業所又は施設の従業者との兼務（兼務の場合記入） | O19: 事業所等の名称
O20: 兼務する職種
O21: 勤務時間
A22: サービス 管理責任者 | C22: ﾌﾘｶﾞﾅ
C23: 氏 名
C24: 住 所 | I24: 〒 | Q24: ←郵便番号を半角数字７桁で入力してください
A27: 従業者の職種 ・員数 | C27: (単位：人） | I27: 職業指導員 | O27: 生活支援員
I28: 専従 | L28: 兼務 | O28: 専従 | R28: 兼務 | U28: 専従 | X28: 兼務 | AA28: 専従 | AD28: 兼務
C29: 従業者数 | F29: 常勤
F30: 非常勤
C31: 常勤換算後の人数
C32: ※基準上の必要人数
A33: 就労継続支援全体の利用定員 | O33: 人
A34: 前年度の平均利用者数 | O34: 人（＊新規の場合は、推定数）
A35: 主な掲示事項 | C35: 多機能型実施の有無 | I35: 2
C36: 利用定員 | O36: 人 | T36: ※基準上の必要定員 | AF36: 人
C37: 主たる対象者 | I37: 身体障害者 | AL37: FALSE | AM37: FALSE | AN37: FALSE | AO37: FALSE | AP37: FALSE
I38: 知的障害者 | W38: 精神障害者 | AL38: FALSE | AM38: FALSE | AN38: FALSE
C39: 利用料
C40: その他費用
C41: その他参考 となる事項 | I41: 第三者評価の実施状況 | R41: 2
I42: 苦情解決の措置概要 | R42: 窓口（連絡先）
R43: 担当者
I44: その他
C45: 協力医療機関 | E45: 名 称 | R45: 主 な 診療科名
...

Sheet 付表１２－２
A1: 付表12－2 一体的に実施する従たる事業所の指定に係る記載事項
D2: ＊ 多機能型事業実施時は、各事業の付表と付表13を併せて提出してください。 | AA2: ※受付番号
A3: 事業所 | C3: ﾌﾘｶﾞﾅ
C4: 名 称
C5: 所在地 | I5: 〒 | Q5: ←郵便番号を半角数字７桁で入力してください
C8: 連 絡 先 | I8: 電話番号 | W8: ＦＡＸ番号
A9: 従業者の職種 ・員数 | C9: (単位：人） | I9: 職業指導員 | O9: 生活支援員
I10: 専従 | L10: 兼務 | O10: 専従 | R10: 兼務 | U10: 専従 | X10: 兼務 | AA10: 専従 | AD10: 兼務
C11: 従業者数 | F11: 常勤
F12: 非常勤
C13: 常勤換算後の人数
C14: ※基準上の必要人数
A15: 従たる事業所の利用定員 | O15: 人
A16: （備考）
A17: １．「※」のついた欄には、記載しないでください。
A18: ２．「兼務」欄は、施設入所支援事業以外との兼務を行う職員について記載してください。

Sheet 付表１３その１
A1: 付表13 その１
A2: 指定障害福祉サービス事業所にかかる多機能型による事業を実施する場合の記載事項（総括表）
D4: ＊ 多機能型事業実施時は、各事業の付表とこの付表を併せて提出してください。 | AA4: ※受付番号
A6: 実施事業 | M6: 生活介護 | P6: 児童デイ | S6: 自立訓練 | Y6: 就労移行支援 | AE6: 就労継続支援
S7: （機能） | V7: （生活） | Y7: （通常） | AB7: （資格） | AE7: （Ａ型） | AH7: （Ｂ型） | AL7: 0
I8: 単位の有無 | AL8: FALSE | AM8: FALSE | AN8: FALSE | AO8: FALSE | AP8: FALSE | AQ8: FALSE | AR8: FALSE | AS8: FALSE
A9: 定員 | E9: 合計 | I9: 単位① | O9: 人 | R9: 人 | U9: 人 | X9: 人 | AA9: 人 | AD9: 人 | AG9: 人 | AJ9: 人
H10: 人 | I10: 単位② | O10: 人 | R10: 人
I11: 単位③ | O11: 人 | R11: 人
I12: 単位④ | O12: 人 | R12: 人
I13: 単位⑤ | O13: 人 | R13: 人
A14: 定員緩和措置の有無
A15: 申請に係る 事業所 | C15: ﾌﾘｶﾞﾅ
C16: 名 称
C17: 所在地 | I17: 〒 | Q17: ←郵便番号を半角数字７桁で入力してください
C20: 連 絡 先 | I20: 電話番号 | W20: ＦＡＸ番号
A21: 多機能型の他の 事業所Ⅰ | C21: サービス種類 | T21: 事業所番号
C22: ﾌﾘｶﾞﾅ
C23: 名 称
C24: 所在地 | I24: 〒 | Q24: ←郵便番号を半角数字７桁で入力してください
C27: 連 絡 先 | I27: 電話番号 | W27: ＦＡＸ番号
A28: 多機能型の他の 事業所Ⅱ | C28: サービス種類
C29: ﾌﾘｶﾞﾅ
C30: 名 称
C31: 所在地 | I31: 〒 | Q31: ←郵便番号を半角数字７桁で入力してください
C34: 連 絡 先 | I34: 電話番号 | W34: ＦＡＸ番号
A35: 多機能型の他の 事業所Ⅲ | C35: サービス種類
C36: ﾌﾘｶﾞﾅ
C37: 名 称
C38: 所在地 | I38: 〒 | Q38: ←郵便番号を半角数字７桁で入力してください
C41: 連 絡 先 | I41: 電話番号 | W41: ＦＡＸ番号
A42: 多機能型の他の 事業所Ⅳ | C42: サービス種類
C43: ﾌﾘｶﾞﾅ
C44: 名 称
C45: 所在地 | I45: 〒 | Q45: ←郵便番号を半角数字７桁で入力してください
C48: 連 絡 先 | I48: 電話番号 | W48: ＦＡＸ番号
A49: 管理者 | C49: ﾌﾘｶﾞﾅ
C50: 氏 名
C51: 住 所 | I51: 〒 | Q51: ←郵便番号を半角数字７桁で入力してください
C54: 他の事業所又は施設の従業者との兼務（兼務の場合記入） | O54: 事業所等の名称
...

Sheet 付表１３その２
A1: 付表13 その２
AA2: ※受付番号
A4: 従業者の職種・員数
A5: (単位：人） | I5: サービス 管理責任者 | M5: 医師 | Q5: 看護職員 | U5: 生活支援員 | AG5: 就労支援員
U6: 合計 | Y6: 通所 | AC6: 訪問
I7: 専従 | K7: 兼務 | M7: 専従 | O7: 兼務 | Q7: 専従 | S7: 兼務 | U7: 専従 | W7: 兼務 | Y7: 専従 | AA7: 兼務 | AC7: 専従 | AE7: 兼務 | AG7: 専従 | AI7: 兼務
A8: 合計 | C8: 従業者数 | F8: 常勤
F9: 非常勤
C10: 常勤換算後の人数
C11: ※基準上の必要人数
A12: (単位：人） | I12: 理学療法士等 | Y12: 職業指導員
I13: 合計 | M13: 理学療法士 | Q13: 作業療法士 | U13: 機能訓練指導員 | Y13: 合計 | AC13: 右記以外 | AG13: 兼教官
I14: 専従 | K14: 兼務 | M14: 専従 | O14: 兼務 | Q14: 専従 | S14: 兼務 | U14: 専従 | W14: 兼務 | Y14: 専従 | AA14: 兼務 | AC14: 専従 | AE14: 兼務 | AG14: 専従 | AI14: 兼務
A15: 合計 | C15: 従業者数 | F15: 常勤
F16: 非常勤 | W16: 2
C17: 常勤換算後の人数
C18: ※基準上の必要人数
A19: (単位：人） | I19: その他の従業者
I21: 専従 | K21: 兼務 | M21: 専従 | O21: 兼務 | Q21: 専従 | S21: 兼務 | U21: 専従 | W21: 兼務 | Y21: 専従 | AA21: 兼務 | AC21: 専従 | AE21: 兼務 | AG21: 専従 | AI21: 兼務
A22: 合計 | C22: 従業者数 | F22: 常勤
F23: 非常勤
C24: 常勤換算後の人数
C25: ※基準上の必要人数
A26: （備考）
A27: １．「※」のついた欄には、記載しないでください。
A28: ２．「定員緩和措置の有無」欄は、指定基準省令第二百十四条第二項に基づく利用定員緩和措置の適用の有無について
A29: 記載してください。
A30: ３． 新設の場合には、「前年度平均入所者数」欄は推定数を記入してください。

Sheet 付表１４
A1: 付表14 指定相談支援事業所の指定に係る記載事項
AA2: ※受付番号
A4: 事業所 | C4: ﾌﾘｶﾞﾅ | I4: =IF([2]様式第１号!S42=14,IF([2]様式第１号!G35<>"",[2]様式第１号!G35,""),"")
C5: 名 称 | I5: =IF([2]様式第１号!S42=14,IF([2]様式第１号!G36<>"",[2]様式第１号!G36,""),"")
C6: 所在地 | I6: 〒 | K6: =IF([2]様式第１号!S42=14,IF([2]様式第１号!H37<>"",[2]様式第１号!H37,""),"") | Q6: ←郵便番号を半角数字７桁で入力してください
I7: =IF([2]様式第１号!S42=14,IF([2]様式第１号!G38<>"",[2]様式第１号!G38,""),"")
I8: =IF([2]様式第１号!S42=14,IF([2]様式第１号!G39<>"",[2]様式第１号!G39,""),"")
C9: 連 絡 先 | I9: 電話番号 | W9: ＦＡＸ番号
A10: 当該事業の実施について定めてある定款・寄付行為等又は条例等
A11: 管理者 | C11: ﾌﾘｶﾞﾅ
C12: 氏 名
C13: 住 所 | I13: 〒 | Q13: ←郵便番号を半角数字７桁で入力してください
C16: 当該相談支援事業所における相談支援専門員との兼務の有無 | W16: 2
C17: 同一敷地内の他の事業所又は施設の従業者との兼務（兼務の場合記入） | O17: 事業所等の名称
O18: 兼務する職種
O19: 勤務時間
A20: 事業開始時の利用者の予定数 | O20: 人
A21: 従業者の職種 ・員数 | C21: (単位：人） | I21: 相談支援専門員
I22: 専従 | L22: 兼務
C23: 従業者数 | F23: 常勤
F24: 非常勤
C25: 常勤換算後の人数
C26: ※基準上の必要人数
A27: 主な掲示事項 | C27: 営業日 | AL27: FALSE | AM27: FALSE | AN27: FALSE | AO27: FALSE | AP27: FALSE | AQ27: FALSE | AR27: FALSE
C28: 営業時間 | I28: 平日 | O28: ～ | T28: 土曜 | Z28: ～ | AE28: 備考
I29: 日曜 | O29: ～ | T29: 祝日 | Z29: ～
C30: 主たる対象者 | AL30: FALSE | AM30: FALSE | AN30: FALSE | AO30: FALSE | AP30: FALSE
C31: 利用料
C32: その他費用
C33: 通常の事業 の実施地域
A37: ※加算等 | C37: 相談支援特定 事業所加算
A38: （備考）
A39: １．「※」のついた欄は、記入しないでください。
A40: ２．「主な掲示事項」欄には、その内容を簡潔に記載して下さい。
A41: ３． 当該指定相談支援サービス以外のサービスを実施する場合には、当該指定相談支援サービス部分と
A42: それ以外のサービス部分の料金の状況が分かるような料金表を提出してください。
