Workbook

Sheet 指定申請書
A1: 別紙様式第一号
A3: 指定障害児通所支援事業所/指定障害児入所施設 | AE3: で着色したセルに必要事項を入力してください。
G5: 申請書
K6: 令和 | O6: 年 | R6: 月 | U6: 日
B7: 神奈川県 | D7: 知事 殿
H8: 所在地 | K8: =D18 -> 0 | AB8: 下の「申請者（設置者）」を記載すると、自動で転記されます。 | BG8: （押印不要）
G9: 申請者 | H9: 名 称 | K9: =D16 -> 0
H10: 代表者 | K10: =H24 -> 0
B12: 表題の事業所・施設に係る指定/指定の更新/指定の変更を受けたいので、下記のとおり、関係書類を添えて申請します。
F14: 法人番号(13桁)
A15: 申請者(設置者) | B15: フリガナ
B16: 名称
B17: 主たる事務所の所在地 | D17: (郵便番号 | F17: - | I17: ）
AB19: 法人に関する情報を記載します。
B20: 連絡先 | D20: 電話番号 | E20: (内線)
D21: E-mailアドレス
B22: 法人等の種類 | AB22: 登記簿謄本と相違ないように記載してください。
B23: 代表者の職名・氏名・生年月日 | D23: 職名 | G23: フリガナ | M23: 生年月日
G24: 氏名
B25: 代表者の住所 | D25: (郵便番号 | F25: - | I25: ）
A28: 指定を受けようとする事業所・施設の種類 | B28: フリガナ
B29: 名称
B30: 事業所(施設)の所在地 | D30: (郵便番号 | F30: - | I30: ）
B33: 多機能型事業所に係る指定の申請の場合は○
B34: 同一所在地において 行う事業等の種類 | F34: 今回の指定(更新・変更)申請をする対象事業等に○ | H34: 既に指定を受けている事業に○ | L34: 事業の開始予定年月日 | R34: 本申請書に添付して提出する様式(付表)
E35: 共生型サービスの指定を申請するものに○
B36: 指定障害福祉サービス事業所 | C36: 居宅介護 | R36: 付表１
C37: 重度訪問介護 | R37: 付表１
C38: 同行援護 | R38: 付表１
C39: 行動援護 | R39: 付表１
C40: 療養介護 | R40: 付表２
C41: 生活介護 | R41: 付表３
C42: 短期入所 | R42: 付表４
C43: 重度障害者等包括支援 | R43: 付表５ | AB43: 事業所に関する情報を記載します。
C44: 自立訓練(機能訓練) | R44: 付表６
C45: 自立訓練(生活訓練) | R45: 付表６
C46: 就労選択支援 | R46: 付表７ | AB46: 事業所の名称・所在地は、運営規程と相違ないように記載してください。
C47: 就労移行支援 | R47: 付表８
C48: 就労継続支援Ａ型 | R48: 付表９
C49: 就労継続支援Ｂ型 | R49: 付表９
C50: 就労定着支援 | R50: 付表１０
C51: 自立生活援助 | R51: 付表１１
C52: 共同生活援助 | R52: 付表１２
B53: 指定障害者支援施設(施設入所支援) | R53: 付表１３
B54: 指定一般相談支援事業所 | C54: 地域移行支援 | R54: 付表１４
C55: 地域定着支援 | R55: 付表１４
B56: 指定特定相談支援事業所 | R56: 付表１５
B57: 指定障害児通所支援事業所 | C57: 児童発達支援 | L57: 年 月 日 | R57: 付表１６
C58: 放課後等デイサービス | L58: 年 月 日 | R58: 付表１６
C59: 居宅訪問型児童発達支援 | L59: 年 月 日 | R59: 付表１７
C60: 保育所等訪問支援 | L60: 年 月 日 | R60: 付表１８
B61: 指定障害児入所施設 | L61: 年 月 日 | R61: 付表１９/２０
B62: 指定障害児相談支援事業所 | R62: 付表１５
A63: 【既に指定を受けている場合】事業所番号
A64: (備考)
A65: 1 | B65: 本申請書の表題は、指定の更新の申請の際には「指定更新申請書」に、指定の変更の申請の際には「指定変更申請書」に変更して使用してください。
A66: 2 | B66: 「法人等の種類」欄には、「社会福祉法人(社協以外)」、「社会福祉法人(社協)」、「医療法人」、「社団・財団」、「営利法人」、「非営利法人(ＮＰＯ)」、「農協」、「生協」、「その他法人」、「地方公共団体(都道府県)」、「地方公共団体(市町村)」、「地方公共団体(広域連合・一部事務組合等)」、「非法人」、「その他」のいずれかを記入してください。
A67: 3 | B67: 「同一所在地において行う事業等の種類」欄には、今回申請をする事業及び既に指定を受けている事業のそれぞれに「○」を記載してください。
A68: 4 | B68: 「【既に指定を受けている場合】事業所番号」欄には、申請を行う都道府県等において既に事業所としての指定を受け、番号が付番されている場合に、その事業所番号を記載してください。
A69: 5 | B69: 「事業の開始予定年月日」欄については、更新の場合にあっては、現に受けている指定の有効期間満了日を記載してください。

Sheet 付表３－２
A1: 付表３－２ 一体的に実施する従たる事業所の指定に係る記載事項
L2: ※多機能型事業実施時は、各事業の付表と付表１３を併せて提出してください。
N4: 受付番号
B6: フリガナ
A7: 施 | B7: 名 称
B8: 所在地 | D8: （郵便番号 － ）
A9: 設 | F9: 県 | I9: 郡・市
B11: 連 絡 先 | D11: 電話番号 | K11: ＦＡＸ番号
A12: 実施主体が地方公共団体である場合は、当該事業の実施について定めてある条例等 | J12: 第 条第 項第 号
A13: サービス | C13: フリガナ | J13: 住 所 | L13: （郵便番号 － ）
A14: 管理責任者 | C14: 氏 名
A15: 従業者の職種・員数 | F15: 医 師 | I15: サービス管理責任者 | L15: 看護職員 | O15: 理学療法士 | R15: 作業療法士
F16: 専従 | G16: ※兼務 | I16: 専従 | J16: ※兼務 | L16: 専従 | M16: ※兼務 | O16: 専従 | P16: ※兼務 | R16: 専従 | S16: ※兼務
B17: 従業者数 | D17: 常勤（人）
D18: 非常勤（人）
B19: 常勤換算後の人数（人）
B20: 基準上の必要人数（人）
F21: 機能訓練指導員 | I21: 生活支援員 | L21: 精神保健福祉士 | O21: その他の従業者
F22: 専従 | G22: ※兼務 | I22: 専従 | J22: ※兼務 | L22: 専従 | M22: ※兼務 | O22: 専従 | P22: ※兼務
B23: 従業者数 | D23: 常勤（人）
D24: 非常勤（人）
B25: 常勤換算後の人数（人）
B26: 基準上の必要人数（人）
B27: 前年度の平均 実利用者数（人） | F27: 施設が申告する障害程度区分の平均値
F28: サービス単位 | I28: ４未満 | M28: ４以上５未満 | Q28: ５以上
F29: サービス単位１
F30: サービス単位２
F31: サービス単位３
A32: 主な掲示事項
B33: 営業日 | F33: 単位ごとの営業日
B34: 営業時間 | F34: 単位ごとのサービス提供時間（送迎時間を除く）（① ： ～ ： ② ： ～ ： ）
B35: 主たる対象者 | F35: 特定無し | H35: 身体障害者
H36: 細分無し | J36: 肢体不自由 | L36: 視覚障害 | N36: 聴覚・言語 | P36: 内部障害
F38: 知的障害者 | H38: 精神障害者 | J38: 難病等対象者
B41: 利用定員 | F41: 人（単位ごとの定員）（① ② ）
B42: 基準上の必要定員
B43: 多機能型実施の有無 | F43: 有 ・ 無
B44: 利用料
B46: その他の費用
B47: その他参考となる事項 | F47: 第三者評価の実施状況 | J47: している ・ していない
F48: 苦情解決の措置概要 | J48: 窓口（連絡先） | N48: 担当者
F49: その他
A50: 協力医療機関 | F50: 名 称 | L50: 主な診療科名
A51: 一体的に管理運営する 他の事業所
A52: 添付書類 | F52: 別添のとおり（登記簿謄本又は条例等、事業所平面図、経歴書、運営規程、利用者からの苦情を解決するために講ずる措置の概要、勤務体制・形態一覧表、設備・備品等一覧表、協力医療機関との契約内容がわかるもの）、事業計画書
A53: （備考）
A54: １．「受付番号」「基準上の必要人数」「基準上の必要値」「基準上の必要定員」欄には、記載しないでください。
A55: ２．記入欄が不足する場合は、適宜欄を設けて記載するか又は別葉に記載した書類を添付してください。
A56: ３．「看護職員」とは保健師、看護師、准看護師のことを言います。
A57: ４．新設の場合には、「前年度の平均利用者数」欄は推定数を記入してください。
A58: ５．「主な掲示事項」欄には、その内容を簡潔に記載してください。
A59: ６．「※兼務」欄は、施設入所支援事業以外との兼務を行う職員について記載してください。
A60: ７．「その他の費用」欄には、入所者に直接金銭の負担を求める場合のサービス内容について記載してください。

Sheet 付表１６
A1: 付表１６ 児童発達支援事業所及び放課後等デイサービス事業所の指定等に係る記載事項
A3: サービス種別(申請する種別に○) | E3: 児童発達支援 | H3: 放課後等デイサービス | N3: ※保育所等訪問支援は付表18へ記載すること。
A4: 児童発達支援センター （該当する場合は、○）
A6: 事業所 | B6: フリガナ | C6: =指定申請書!D28 -> 0
B7: 名 称 | C7: =指定申請書!D29 -> 0 | P7: 「指定申請書」の事業所情報が自動で転記されます。
B8: 所在地 | C8: (郵便番号 | D8: =指定申請書!E30 -> 0 | E8: - | F8: =指定申請書!G30 -> 0 | G8: ）
C9: =指定申請書!D31 -> 0
B11: 電話番号
B12: E-Mail
A13: 管理者 | B13: フリガナ | F13: 生年月日
B14: 氏 名 | H14: 年 | J14: 月 | L14: 日
B15: 住 所 | C15: (郵便番号 | E15: - | G15: )
B18: 当該施設で兼務する他の職種(兼務の場合記入)
B19: 他の事業所又は施設の従業者との兼務(兼務の場合記入) | D19: 事業所等の名称
D20: 兼務する職種
D21: 勤務時間等 | F21: ： ～ ：
A22: 児童発達支援管理責任者 | B22: フリガナ | F22: 生年月日
B23: 氏 名 | H23: 年 | J23: 月 | L23: 日
B24: 住 所 | C24: (郵便番号 | E24: - | G24: )
A27: 実施主体が地方公共団体である場合は、当該事業の実施について定めてある条例等 | H27: 第 条 第 項 第 号
A28: ○人員に関する基準の確認に必要な事項
A29: 従業者の職種・員数 | C29: 居宅介護等従業者 | E29: その他の従業者
C30: 専従 | D30: 兼務 | E30: 専従 | F30: 兼務
A31: 常勤(人)
A32: 非常勤(人)
A33: 常勤換算後の人数(人)
A34: 基準上の必要人数(人)
A35: ○運営・設備に関する基準の確認に必要な事項
A36: 利用定員(人/日)
A37: 利用者の推定数(人/日) | N37: ※新規指定の場合は、利用人数×0.9の人数を記載してください。（更新の場合は、前年度の平均利用者数を記載）
A38: 営業日(該当する日に○) | C38: 日 | D38: 月 | E38: 火 | F38: 水 | G38: 木 | H38: 金 | J38: 土 | L38: 祝
C40: その他(年末年始等)
A41: 営業時間 | C41: 平日 | E41: ： | G41: ～ | J41: ：
C42: 土曜 | E42: ： | G42: ～ | J42: ：
C43: 日・祝 | E43: ： | G43: ～ | J43: ：
A44: 送迎の有無 | N44: 有 | O44: 無
A45: 利用料 | C45: 運営規定に定めるとおり
A46: その他の費用 | C46: 運営規定に定めるとおり
A47: 通常の事業の実施地域
A48: 協力医療機関 | C48: 名称 | G48: 主な診療科名
A49: ○一体的に実施する従たる事業所の指定等に係る記載事項
A50: 事業所 | B50: フリガナ | N50: ※従たる事業所がある場合のみ記入（ない場合は、記載不要）
B51: 名 称
B52: 所在地 | C52: (郵便番号 | E52: - | G52: )
C53: 神奈川 | D53: 県
B55: 電話番号
B56: E-Mail
A57: 管理者 | B57: フリガナ | F57: 生年月日
B58: 氏 名 | H58: 年 | J58: 月 | L58: 日
B59: 住 所 | C59: (郵便番号 | E59: - | G59: )
B62: 他の事業所又は施設の従業者との兼務(兼務の場合記入) | D62: 事業所等の名称
D63: 兼務する職種及び勤務時間等
A65: 児童発達支援管理責任者 | B65: フリガナ | F65: 生年月日
B66: 氏 名 | H66: 年 | J66: 月 | L66: 日
B67: 住 所 | C67: (郵便番号 | E67: - | G67: )
A70: 実施主体が地方公共団体である場合は、当該事業の実施について定めてある条例等 | H70: 第 条 第 項 第 号
A71: 利用定員(人/日)
A72: 利用者の推定数(人/日) | N72: ※新規指定の場合は、利用人数×0.9の人数を記載してください。（更新の場合は、前年度の平均利用者数を記載）
A73: 営業日(該当する日に○) | C73: 日 | D73: 月 | E73: 火 | F73: 水 | G73: 木 | H73: 金 | J73: 土 | L73: 祝
C75: その他(年末年始等)
A76: 営業時間 | C76: 平日 | E76: ： | G76: ～ | J76: ：
C77: 土曜 | E77: ： | G77: ～ | J77: ：
C78: 日・祝 | E78: ： | G78: ～ | J78: ：
A79: 送迎の有無 | D79: ○
A80: 利用料 | C80: 運営規定に定めるとおり
A81: その他の費用 | C81: 運営規定に定めるとおり
A82: 通常の事業の実施地域
A83: 協力医療機関 | C83: 名称 | G83: 主な診療科名
A84: (備考)
A85: １．記入欄が不足する場合は、次頁の「記入欄不足時の資料」に記載して添付してください。
A86: ２．更新の場合には、「利用者の推定数」欄は前年度の平均利用者数を記入してください。
A87: ３．「その他の費用」欄には、利用者に直接金銭の負担を求める場合のサービス内容についても記載してく ださい。
A88: 記入欄不足時の資料
A89: ■児童発達支援管理責任者 | N89: ※児童発達支援管理責任者を複数人配置している場合に記載（ない場合は、記載不要）
A90: 児童発達支援管理責任者 | B90: フリガナ | F90: 生年月日
B91: 氏 名 | H91: 年 | J91: 月 | L91: 日
B92: 住 所 | C92: (郵便番号 | E92: - | G92: )
B95: フリガナ | F95: 生年月日
B96: 氏 名 | H96: 年 | J96: 月 | L96: 日
B97: 住 所 | C97: (郵便番号 | E97: - | G97: )
B100: フリガナ | F100: 生年月日
B101: 氏 名 | H101: 年 | J101: 月 | L101: 日
B102: 住 所 | C102: (郵便番号 | E102: - | G102: )
B105: フリガナ | F105: 生年月日
B106: 氏 名 | H106: 年 | J106: 月 | L106: 日
B107: 住 所 | C107: (郵便番号 | E107: - | G107: )
B110: フリガナ | F110: 生年月日
B111: 氏 名 | H111: 年 | J111: 月 | L111: 日
B112: 住 所 | C112: (郵便番号 | E112: - | G112: )
B115: フリガナ | F115: 生年月日
B116: 氏 名 | H116: 年 | J116: 月 | L116: 日
B117: 住 所 | C117: (郵便番号 | E117: - | G117: )
A121: ■協力医療機関 | N121: ※協力医療機関が複数ある場合に記載（ない場合は、記載不要）
A122: 協力医療機関 | C122: 名称 | G122: 主な診療科名
C123: 名称 | G123: 主な診療科名
C124: 名称 | G124: 主な診療科名
C125: 名称 | G125: 主な診療科名
C126: 名称 | G126: 主な診療科名

Sheet 付表１７
A1: 付表１７ 居宅訪問型児童発達支援事業所の指定等に係る記載事項
A3: 事業所 | B3: フリガナ | C3: =指定申請書!D28 -> 0
B4: 名 称 | C4: =指定申請書!D29 -> 0 | P4: 「指定申請書」の事業所情報が自動で転記されます。
B5: 所在地 | C5: (郵便番号 | D5: =指定申請書!E30 -> 0 | E5: - | F5: =指定申請書!G30 -> 0 | G5: ）
C6: =指定申請書!D31 -> 0
B8: 電話番号
B9: E-Mail
A10: 管理者 | B10: フリガナ | F10: 生年月日
B11: 氏 名 | H11: 年 | J11: 月 | L11: 日
B12: 住 所 | C12: (郵便番号 | E12: - | G12: )
B15: 当該施設で兼務する他の職種(兼務の場合記入)
B16: 他の事業所又は施設の従業者との兼務(兼務の場合記入) | D16: 事業所等の名称
D17: 兼務する職種
D18: 勤務時間等 | F18: ： ～ ：
A19: 児童発達支援管理責任者 | B19: フリガナ | F19: 生年月日
B20: 氏 名 | H20: 年 | J20: 月 | L20: 日
B21: 住 所 | C21: (郵便番号 | E21: - | G21: )
A24: 実施主体が地方公共団体である場合は、当該事業の実施について定めてある条例等 | H24: 第 条 第 項 第 号
A25: ○人員に関する基準の確認に必要な事項
A26: 従業者の職種・員数 | C26: 居宅介護等従業者 | E26: その他の従業者
C27: 専従 | D27: 兼務 | E27: 専従 | F27: 兼務
A28: 常勤(人)
A29: 非常勤(人)
A30: 常勤換算後の人数(人)
A31: 基準上の必要人数(人)
A32: ○運営・設備に関する基準の確認に必要な事項
A33: 専用の区画の有無 | N33: 有 | O33: 無
A34: 営業日(該当する日に○) | C34: 日 | D34: 月 | E34: 火 | F34: 水 | G34: 木 | H34: 金 | J34: 土 | L34: 祝
C36: その他(年末年始等)
A37: 営業時間 | C37: 平日 | E37: ： | G37: ～ | J37: ：
C38: 土曜 | E38: ： | G38: ～ | J38: ：
C39: 日・祝 | E39: ： | G39: ～ | J39: ：
A40: 利用料 | C40: 運営規定に定めるとおり
A41: その他の費用 | C41: 運営規定に定めるとおり
A42: 通常の事業の実施地域
A43: 協力医療機関 | C43: 名称 | G43: 主な診療科名
A44: (備考)
A45: １．記入欄が不足する場合は、次頁の「記入欄不足時の資料」に記載して添付してください。
A46: ２．「その他の費用」欄には、利用者に直接金銭の負担を求める場合のサービス内容についても記載してく ださい。
A47: 記入欄不足時の資料
A48: ■児童発達支援管理責任者
A49: 児童発達支援管理責任者 | B49: フリガナ | F49: 生年月日
B50: 氏 名 | H50: 年 | J50: 月 | L50: 日
B51: 住 所 | C51: (郵便番号 | E51: - | G51: )
B54: フリガナ | F54: 生年月日
B55: 氏 名 | H55: 年 | J55: 月 | L55: 日
B56: 住 所 | C56: (郵便番号 | E56: - | G56: )
B59: フリガナ | F59: 生年月日
B60: 氏 名 | H60: 年 | J60: 月 | L60: 日
B61: 住 所 | C61: (郵便番号 | E61: - | G61: )
B64: フリガナ | F64: 生年月日
B65: 氏 名 | H65: 年 | J65: 月 | L65: 日
B66: 住 所 | C66: (郵便番号 | E66: - | G66: )
B69: フリガナ | F69: 生年月日
B70: 氏 名 | H70: 年 | J70: 月 | L70: 日
B71: 住 所 | C71: (郵便番号 | E71: - | G71: )
B74: フリガナ | F74: 生年月日
B75: 氏 名 | H75: 年 | J75: 月 | L75: 日
B76: 住 所 | C76: (郵便番号 | E76: - | G76: )

Sheet 付表１８
A1: 付表１８ 保育所等訪問支援事業所の指定等に係る記載事項
A3: 事業所 | B3: フリガナ | C3: =指定申請書!D28 -> 0
B4: 名 称 | C4: =指定申請書!D29 -> 0 | P4: 「指定申請書」の事業所情報が自動で転記されます。
B5: 所在地 | C5: (郵便番号 | D5: =指定申請書!E30 -> 0 | E5: - | F5: =指定申請書!G30 -> 0
C6: =指定申請書!D31 -> 0
B8: 電話番号
B9: E-Mail
A10: 管理者 | B10: フリガナ | F10: 生年月日
B11: 氏 名 | H11: 年 | J11: 月 | L11: 日
B12: 住 所 | C12: (郵便番号 | E12: - | G12: )
B15: 当該施設で兼務する他の職種(兼務の場合記入)
B16: 他の事業所又は施設の従業者との兼務(兼務の場合記入) | D16: 事業所等の名称
D17: 兼務する職種
D18: 勤務時間等 | F18: ： ～ ：
A19: 児童発達支援管理責任者 | B19: フリガナ | F19: 生年月日
B20: 氏 名 | H20: 年 | J20: 月 | L20: 日
B21: 住 所 | C21: (郵便番号 | E21: - | G21: )
A24: 実施主体が地方公共団体である場合は、当該事業の実施について定めてある条例等 | H24: 第 条 第 項 第 号
A25: ○人員に関する基準の確認に必要な事項
A26: 従業者の職種・員数 | C26: 居宅介護等従業者 | E26: その他の従業者
C27: 専従 | D27: 兼務 | E27: 専従 | F27: 兼務
A28: 常勤(人)
A29: 非常勤(人)
A30: 常勤換算後の人数(人)
A31: 基準上の必要人数(人)
A32: ○運営・設備に関する基準の確認に必要な事項
A33: 営業日(該当する日に○) | C33: 日 | D33: 月 | E33: 火 | F33: 水 | G33: 木 | H33: 金 | J33: 土 | L33: 祝
C35: その他(年末年始等)
A36: 営業時間 | C36: 平日 | E36: ： | G36: ～ | J36: ：
C37: 土曜 | E37: ： | G37: ～ | J37: ：
C38: 日・祝 | E38: ： | G38: ～ | J38: ：
A39: 利用料 | C39: 運営規定に定めるとおり
A40: その他の費用 | C40: 運営規定に定めるとおり
A41: 通常の事業の実施地域
A42: (備考)
A43: １．記入欄が不足する場合は、次頁の「記入欄不足時の資料」に記載して添付してください。
A44: ２．「その他の費用」欄には、利用者に直接金銭の負担を求める場合のサービス内容についても記載してく ださい。
A45: 記入欄不足時の資料
A46: ■児童発達支援管理責任者
A47: 児童発達支援管理責任者 | B47: フリガナ | F47: 生年月日
B48: 氏 名 | H48: 年 | J48: 月 | L48: 日
B49: 住 所 | C49: (郵便番号 | E49: - | G49: )
B52: フリガナ | F52: 生年月日
B53: 氏 名 | H53: 年 | J53: 月 | L53: 日
B54: 住 所 | C54: (郵便番号 | E54: - | G54: )
B57: フリガナ | F57: 生年月日
B58: 氏 名 | H58: 年 | J58: 月 | L58: 日
B59: 住 所 | C59: (郵便番号 | E59: - | G59: )
B62: フリガナ | F62: 生年月日
B63: 氏 名 | H63: 年 | J63: 月 | L63: 日
B64: 住 所 | C64: (郵便番号 | E64: - | G64: )
B67: フリガナ | F67: 生年月日
B68: 氏 名 | H68: 年 | J68: 月 | L68: 日
B69: 住 所 | C69: (郵便番号 | E69: - | G69: )
B72: フリガナ | F72: 生年月日
B73: 氏 名 | H73: 年 | J73: 月 | L73: 日
B74: 住 所 | C74: (郵便番号 | E74: - | G74: )

Sheet 付表１９
A1: 付表１９ 障害児入所支援(福祉型障害児入所施設)の指定等に係る記載事項
A3: 施設 | B3: フリガナ | C3: =指定申請書!D28 -> 0
B4: 名 称 | C4: =指定申請書!D29 -> 0 | P4: 「指定申請書」の事業所情報が自動で転記されます。
B5: 所在地 | C5: (郵便番号 | D5: =指定申請書!E30 -> 0 | E5: - | F5: =指定申請書!G30 -> 0 | G5: ）
C6: =指定申請書!D31 -> 0
B8: 電話番号
B9: E-Mail
A10: 管理者 | B10: フリガナ | F10: 生年月日
B11: 氏 名 | H11: 年 | J11: 月 | L11: 日
B12: 住 所 | C12: (郵便番号 | E12: - | G12: )
A15: 児童発達支援管理責任者 | B15: フリガナ | F15: 生年月日
B16: 氏 名 | H16: 年 | J16: 月 | L16: 日
B17: 住 所 | C17: (郵便番号 | E17: - | G17: )
A20: 併設する施設の名称及び概要 | C20: 名称
C21: 概要
A22: 実施主体が地方公共団体である場合は、当該事業の実施について定めてある条例等 | H22: 第 条 第 項 第 号
A23: ○人員に関する基準の確認に必要な事項
A24: 従業者の職種・員数 | C24: 居宅介護等従業者 | E24: その他の従業者
C25: 専従 | D25: 兼務 | E25: 専従 | F25: 兼務
A26: 常勤(人)
A27: 非常勤(人)
A28: 常勤換算後の人数(人)
A29: 基準上の必要人数(人)
A30: ○運営・設備に関する基準の確認に必要な事項
A31: 居室 | C31: １室の最大定員(人)
C32: 入所者１人あたりの最小床面積(㎡)
A33: 設置部分(設置されているものに○) | C33: 居室 | E33: 調理室 | G33: 浴室 | J33: 便所
C34: 医務室 | E34: 静養室 | G34: 職業指導に必要な設備 | J34: 遊戯室
C35: 支援室 | E35: 音楽に関する設備 | G35: 身体の機能の不自由を助ける設備 | J35: 映像に関する設備
C36: 屋外遊戯場
A37: 入所定員(人/日)
A38: 利用者の推定数(人/日) | N38: ※新規指定の場合は、利用人数×0.9の人数を記載してください。（更新の場合は、前年度の平均利用者数を記載）
A39: 利用料 | C39: 運営規定に定めるとおり
A40: その他の費用 | C40: 運営規定に定めるとおり
A41: 協力医療機関 | C41: 名称 | G41: 主な診療科名
A42: 協力歯科医療機関 | C42: 名称
A43: (備考)
A44: １．記入欄が不足する場合は、次頁の「記入欄不足時の資料」に記載して添付してください。
A45: ２．更新の場合には、「利用者の推定数」欄は前年度の平均利用者数を記入してください。
A46: ３．「その他の費用」欄には、利用者に直接金銭の負担を求める場合のサービス内容についても記載してく ださい。
A47: 記入欄不足時の資料
A48: ■児童発達支援管理責任者
A49: 児童発達支援管理責任者 | B49: フリガナ | F49: 生年月日
B50: 氏 名 | H50: 年 | J50: 月 | L50: 日
B51: 住 所 | C51: (郵便番号 | E51: - | G51: )
B54: フリガナ | F54: 生年月日
B55: 氏 名 | H55: 年 | J55: 月 | L55: 日
B56: 住 所 | C56: (郵便番号 | E56: - | G56: )
B59: フリガナ | F59: 生年月日
B60: 氏 名 | H60: 年 | J60: 月 | L60: 日
B61: 住 所 | C61: (郵便番号 | E61: - | G61: )
B64: フリガナ | F64: 生年月日
B65: 氏 名 | H65: 年 | J65: 月 | L65: 日
B66: 住 所 | C66: (郵便番号 | E66: - | G66: )
B69: フリガナ | F69: 生年月日
B70: 氏 名 | H70: 年 | J70: 月 | L70: 日
B71: 住 所 | C71: (郵便番号 | E71: - | G71: )
B74: フリガナ | F74: 生年月日
B75: 氏 名 | H75: 年 | J75: 月 | L75: 日
B76: 住 所 | C76: (郵便番号 | E76: - | G76: )
A80: ■協力医療機関
A81: 協力医療機関 | C81: 名称 | G81: 主な診療科名
C82: 名称 | G82: 主な診療科名
C83: 名称 | G83: 主な診療科名
A84: 協力歯科医療機関 | C84: 名称
C85: 名称
C86: 名称

Sheet 付表２０
A1: 付表２０ 障害児入所支援(医療型障害児入所施設)の指定等に係る記載事項
A3: 施設 | B3: フリガナ | C3: =指定申請書!D28 -> 0
B4: 名 称 | C4: =指定申請書!D29 -> 0 | P4: 「指定申請書」の事業所情報が自動で転記されます。
B5: 所在地 | C5: (郵便番号 | D5: =指定申請書!E30 -> 0 | E5: - | F5: =指定申請書!G30 -> 0 | G5: ）
C6: =指定申請書!D31 -> 0
B8: 電話番号
B9: E-Mail
A10: 管理者 | B10: フリガナ | F10: 生年月日
B11: 氏 名 | H11: 年 | J11: 月 | L11: 日
B12: 住 所 | C12: (郵便番号 | E12: - | G12: )
A15: 児童発達支援管理責任者 | B15: フリガナ | F15: 生年月日
B16: 氏 名 | H16: 年 | J16: 月 | L16: 日
B17: 住 所 | C17: (郵便番号 | E17: - | G17: )
A20: 併設する施設の名称及び概要 | C20: 名称
C21: 概要
A22: 実施主体が地方公共団体である場合は、当該事業の実施について定めてある条例等 | H22: 第 条 第 項 第 号
A23: ○人員に関する基準の確認に必要な事項
A24: 従業者の職種・員数 | C24: 居宅介護等従業者 | E24: その他の従業者
C25: 専従 | D25: 兼務 | E25: 専従 | F25: 兼務
A26: 常勤(人)
A27: 非常勤(人)
A28: 常勤換算後の人数(人)
A29: 基準上の必要人数(人)
A30: ○運営・設備に関する基準の確認に必要な事項
A31: 居室 | C31: １室の最大定員(人)
C32: 入所者１人あたりの最小床面積(㎡)
A33: 設置部分(設置されているものに○) | C33: 支援室 | E33: 浴室 | G33: 静養室 | J33: 屋外遊戯場
C34: ギブス室 | E34: 特殊工芸の作業を支援するに必要な設備 | G34: 義肢装具を製作する設備 | J34: 身体の機能の不自由を助ける設備
C35: ＊医療法に規定する病院として必要な設備を設けてあること
A36: 入所定員(人/日)
A37: 利用者の推定数(人/日) | N37: ※新規指定の場合は、利用人数×0.9の人数を記載してください。（更新の場合は、前年度の平均利用者数を記載）
A38: 利用料 | C38: 運営規定に定めるとおり
A39: その他の費用 | C39: 運営規定に定めるとおり
A40: 協力歯科医療機関 | C40: 名称
A41: (備考)
A42: １．記入欄が不足する場合は、次頁の「記入欄不足時の資料」に記載して添付してください。
A43: ２．更新の場合には、「利用者の推定数」欄は前年度の平均利用者数を記入してください。
A44: ３．「その他の費用」欄には、利用者に直接金銭の負担を求める場合のサービス内容についても記載してく ださい。
A45: 記入欄不足時の資料
A46: ■児童発達支援管理責任者
A47: 児童発達支援管理責任者 | B47: フリガナ | F47: 生年月日
B48: 氏 名 | H48: 年 | J48: 月 | L48: 日
B49: 住 所 | C49: (郵便番号 | E49: - | G49: )
B52: フリガナ | F52: 生年月日
B53: 氏 名 | H53: 年 | J53: 月 | L53: 日
B54: 住 所 | C54: (郵便番号 | E54: - | G54: )
B57: フリガナ | F57: 生年月日
B58: 氏 名 | H58: 年 | J58: 月 | L58: 日
B59: 住 所 | C59: (郵便番号 | E59: - | G59: )
B62: フリガナ | F62: 生年月日
B63: 氏 名 | H63: 年 | J63: 月 | L63: 日
B64: 住 所 | C64: (郵便番号 | E64: - | G64: )
B67: フリガナ | F67: 生年月日
B68: 氏 名 | H68: 年 | J68: 月 | L68: 日
B69: 住 所 | C69: (郵便番号 | E69: - | G69: )
B72: フリガナ | F72: 生年月日
B73: 氏 名 | H73: 年 | J73: 月 | L73: 日
B74: 住 所 | C74: (郵便番号 | E74: - | G74: )
A78: ■協力歯科医療機関
A79: 協力歯科医療機関 | C79: 名称
C80: 名称
C81: 名称
C82: 名称
C83: 名称
C84: 名称
