Workbook

Sheet 調査票
A2: 重度訪問介護に係る事業所調査票
G4: 記入年月日
G5: 事業所番号
G6: 法人名
G7: 事業所名
G8: 担当者氏名（職名）
G9: 電話番号（直通）
G10: メールアドレス（代表）
B13: 問１ | D13: 貴事業所は、重度訪問介護を提供していますか？（該当するものに〇をつけてください。）
C14: ア 提供している
C15: イ 以前は提供していたが、現在は提供していない
C16: ウ 提供していない
B18: 問２ | D18: 重度訪問介護の利用を希望する障害者がいるにもかかわらず、サービス提供してもらえないという状況があることをご存じですか？ （該当するものに〇をつけてください。）
C19: ア 知っている
C20: イ 知らない
B22: 問３ | D22: 問１で「ア 提供している」とお答えになった事業者にお伺いします。
B23: 令和5年4月の状況でお答えください。
C24: (1) | D24: 貴事業所の重度訪問介護の利用者数及び１か月当たりの重度訪問介護の総提供時間数を教えてください。また、最も利用時間の多い利用者の利用時間を教えてください。
C25: 利用者数 | L25: 人
C26: １か月当たりの総提供時間数 | L26: 時間
C27: 最も利用時間の多い利用者の１か月当たりの利用時間 | L27: 時間
C29: (2) | D29: 重度訪問介護従業者の人数、性別、平均年齢及び平均勤続年数を教えてください。
C30: 従業者数 | E30: 合計 | G30: 人 | H30: (男 | J30: 人 ・ 女 | L30: 人）
C31: 平均年齢 | G31: 歳
C32: 平均勤続年数 | G32: 年
C34: (3) | D34: 重度訪問介護に従事する従業者は、どの資格をお持ちですか？ それぞれの人数をお書きください。
C35: ア 介護福祉士、実務者研修終了者、居宅介護職員初任者研修修了者等 | O35: 人
C36: イ 重度訪問介護従業者養成研修基礎課程修了者 | O36: 人
C37: ウ 重度訪問介護従業者養成研修追加課程 | O37: 人
C38: エ 重度訪問介護従業者養成研修統合課程修了者 | O38: 人
C39: オ 重度訪問介護従業者養成研修行動障害支援課程修了者 | O39: 人
C41: (4) | D41: 新たに重度訪問介護利用の相談があった場合、受け入れることは可能ですか？ （該当するものに〇をつけてください。）
D42: ア はい
D43: イ いいえ
D44: ウ その他（具体的にお書きください。） | K44: ⇒
B47: 問４ | D47: 問１で「イ 以前は提供していたが、現在は提供していない」「ウ 提供していない」とお答えになった事業者にお伺いします。
C48: (1) | D48: 重度訪問介護を提供していない理由を教えてください。 (該当するもの全てに○を付けてください。)
D49: ア 重度訪問介護利用の相談がない
D50: イ 重度訪問介護利用の相談はあるが、サービス提供できる従業者がいない
D51: ウ 重度訪問介護の報酬が低く採算が取れないため、サービス提供できない
...

Sheet 集計用シート
A1: 記入年月日 | B1: 事業所番号 | C1: 法人名 | D1: 事業所名 | E1: 担当者氏名（職名） | F1: 電話番号（直通） | G1: メールアドレス （代表） | H1: 問１ | K1: 問２ | M1: 問３ | AD1: 問４ | AP1: 問５
H2: ア | I2: イ | J2: ウ | K2: ア | L2: イ | M2: （１） | P2: （２） | U2: （３） | Z2: （４） | AD2: （１） | AJ2: （２）
M3: 利用者数 | N3: 総提供時間 | O3: 時間 | P3: 合計 | Q3: 男性 | R3: 女性 | S3: 平均年齢 | T3: 平均勤続年数 | U3: ア | V3: イ | W3: ウ | X3: エ | Y3: オ | Z3: ア | AA3: イ | AB3: ウ | AC3: 具体的な記載 | AD3: ア | AE3: イ | AF3: ウ | AG3: エ | AH3: オ | AI3: 具体的な記載 | AJ3: ア | AK3: イ | AL3: ウ | AM3: エ | AN3: オ | AO3: 具体的な記載
A4: =調査票!K4 -> 0 | B4: =調査票!K5 -> 0 | C4: =調査票!K6 -> 0 | D4: =調査票!K7 -> 0 | E4: =調査票!K8 -> 0 | F4: =調査票!K9 -> 0 | G4: =調査票!K10 -> 0 | H4: =調査票!B14 -> 0 | I4: =調査票!B15 -> 0 | J4: =調査票!B16 -> 0 | K4: =調査票!B19 -> 0 | L4: =調査票!B20 -> 0 | M4: =調査票!K25 -> 0 | N4: =調査票!K26 -> 0 | O4: =調査票!K27 -> 0 | P4: =調査票!F30 -> 0 | Q4: =調査票!I30 -> 0 | R4: =調査票!K30 -> 0 | S4: =調査票!E31 -> 0 | T4: =調査票!E32 -> 0 | U4: =調査票!N35 -> 0 | V4: =調査票!N36 -> 0 | W4: =調査票!N37 -> 0 | X4: =調査票!N38 -> 0 | Y4: =調査票!N39 -> 0 | Z4: =調査票!C42 -> 0 | AA4: =調査票!C43 -> 0 | AB4: =調査票!C44 -> 0 | AC4: =調査票!L44 -> 0 | AD4: =調査票!C49 -> 0 | AE4: =調査票!C50 -> 0 | AF4: =調査票!C51 -> 0 | AG4: =調査票!C52 -> 0 | AH4: =調査票!C53 -> 0 | AI4: =調査票!L53 -> 0 | AJ4: =調査票!C57 -> 0 | AK4: =調査票!C58 -> 0 | AL4: =調査票!C59 -> 0 | AM4: =調査票!C60 -> 0 | AN4: =調査票!C61 -> 0 | AO4: =調査票!L61 -> 0 | AP4: =調査票!C65 -> 0
