Workbook

Sheet 日中短期
A1: 日中短期 令和５年３月提供以前の利用者負担額算定シート
A2: ・ 利用者負担がある利用者については、このシートで利用者負担額を再計算してください。
A3: ・ 利用者負担がない利用者（非課税、生活保護）の場合にはこのシートは必要ありません。
A6: （手順）
A7: １ 請求情報作成ツールで請求明細情報を先に作成してください。
A8: ２ １の請求明細書情報登録画面を見ながら、黄色セルのみに入力してください。
A9: ３ 算出された決定利用者負担額について、請求明細書情報登録画面の集計情報の決定利用者負担額を修正してください。
C10: 利用者負担上限
B12: NO | C12: サービスコード | D12: サービス名称 | E12: 単位数 | F12: 給付率 | G12: 回数 | H12: サービス単位数 | I12: 利用者負担額
B13: 1 | D13: =VLOOKUP(C13,マスタ!$A$2:$D$86,3,FALSE) -> #N/A | E13: =VLOOKUP(C13,マスタ!$A$2:$D$86,4,FALSE) -> #N/A | F13: =VLOOKUP(C13,マスタ!$A$2:$E$86,5,FALSE) -> #N/A | H13: =E13*G13 -> #N/A | I13: =10*H13*(1-F13) -> #N/A
B14: 2 | D14: =VLOOKUP(C14,マスタ!$A$2:$D$86,3,FALSE) -> #N/A | E14: =VLOOKUP(C14,マスタ!$A$2:$D$86,4,FALSE) -> #N/A | F14: =VLOOKUP(C14,マスタ!$A$2:$E$86,5,FALSE) -> #N/A | H14: =E14*G14 -> #N/A | I14: =10*H14*(1-F14) -> #N/A
B15: 3 | D15: =VLOOKUP(C15,マスタ!$A$2:$D$86,3,FALSE) -> #N/A | E15: =VLOOKUP(C15,マスタ!$A$2:$D$86,4,FALSE) -> #N/A | F15: =VLOOKUP(C15,マスタ!$A$2:$E$86,5,FALSE) -> #N/A | H15: =E15*G15 -> #N/A | I15: =10*H15*(1-F15) -> #N/A
B16: 4 | D16: =VLOOKUP(C16,マスタ!$A$2:$D$86,3,FALSE) -> #N/A | E16: =VLOOKUP(C16,マスタ!$A$2:$D$86,4,FALSE) -> #N/A | F16: =VLOOKUP(C16,マスタ!$A$2:$E$86,5,FALSE) -> #N/A | H16: =E16*G16 -> #N/A | I16: =10*H16*(1-F16) -> #N/A
B17: 5 | D17: =VLOOKUP(C17,マスタ!$A$2:$D$86,3,FALSE) -> #N/A | E17: =VLOOKUP(C17,マスタ!$A$2:$D$86,4,FALSE) -> #N/A | F17: =VLOOKUP(C17,マスタ!$A$2:$E$86,5,FALSE) -> #N/A | H17: =E17*G17 -> #N/A | I17: =10*H17*(1-F17) -> #N/A
B18: 6 | D18: =VLOOKUP(C18,マスタ!$A$2:$D$86,3,FALSE) -> #N/A | E18: =VLOOKUP(C18,マスタ!$A$2:$D$86,4,FALSE) -> #N/A | F18: =VLOOKUP(C18,マスタ!$A$2:$E$86,5,FALSE) -> #N/A | H18: =E18*G18 -> #N/A | I18: =10*H18*(1-F18) -> #N/A
B19: 7 | D19: =VLOOKUP(C19,マスタ!$A$2:$D$86,3,FALSE) -> #N/A | E19: =VLOOKUP(C19,マスタ!$A$2:$D$86,4,FALSE) -> #N/A | F19: =VLOOKUP(C19,マスタ!$A$2:$E$86,5,FALSE) -> #N/A | H19: =E19*G19 -> #N/A | I19: =10*H19*(1-F19) -> #N/A
B20: 8 | D20: =VLOOKUP(C20,マスタ!$A$2:$D$86,3,FALSE) -> #N/A | E20: =VLOOKUP(C20,マスタ!$A$2:$D$86,4,FALSE) -> #N/A | F20: =VLOOKUP(C20,マスタ!$A$2:$E$86,5,FALSE) -> #N/A | H20: =E20*G20 -> #N/A | I20: =10*H20*(1-F20) -> #N/A
B21: 9 | D21: =VLOOKUP(C21,マスタ!$A$2:$D$86,3,FALSE) -> #N/A | E21: =VLOOKUP(C21,マスタ!$A$2:$D$86,4,FALSE) -> #N/A | F21: =VLOOKUP(C21,マスタ!$A$2:$E$86,5,FALSE) -> #N/A | H21: =E21*G21 -> #N/A | I21: =10*H21*(1-F21) -> #N/A
B22: 10 | D22: =VLOOKUP(C22,マスタ!$A$2:$D$86,3,FALSE) -> #N/A | E22: =VLOOKUP(C22,マスタ!$A$2:$D$86,4,FALSE) -> #N/A | F22: =VLOOKUP(C22,マスタ!$A$2:$E$86,5,FALSE) -> #N/A | H22: =E22*G22 -> #N/A | I22: =10*H22*(1-F22) -> #N/A
B23: 11 | D23: =VLOOKUP(C23,マスタ!$A$2:$D$86,3,FALSE) -> #N/A | E23: =VLOOKUP(C23,マスタ!$A$2:$D$86,4,FALSE) -> #N/A | F23: =VLOOKUP(C23,マスタ!$A$2:$E$86,5,FALSE) -> #N/A | H23: =E23*G23 -> #N/A | I23: =10*H23*(1-F23) -> #N/A
B24: 12 | D24: =VLOOKUP(C24,マスタ!$A$2:$D$86,3,FALSE) -> #N/A | E24: =VLOOKUP(C24,マスタ!$A$2:$D$86,4,FALSE) -> #N/A | F24: =VLOOKUP(C24,マスタ!$A$2:$E$86,5,FALSE) -> #N/A | H24: =E24*G24 -> #N/A | I24: =10*H24*(1-F24) -> #N/A
... B27: 15 | D27: =VLOOKUP(C27,マスタ!$A$2:$D$86,3,FALSE) -> #N/A | E27: =VLOOKUP(C27,マスタ!$A$2:$D$86,4,FALSE) -> #N/A | F27: =VLOOKUP(C27,マスタ!$A$2:$E$86,5,FALSE) -> #N/A | H27: =E27*G27 -> #N/A | I27: =10*H27*(1-F27) -> #N/A
E28: 決定利用者負担額 | H28: =IF(SUMIF(I13:I27,"<>#N/A")<=D10,SUMIF(I13:I27,"<>#N/A"),D10) -> 0
E29: 給付費 | H29: =10*SUMIF(H13:H27,"<>#N/A")-H28 -> 0
E30: 利用者負担額＋給付費 | H30: =SUM(H28:H29) -> 0

Sheet マスタ
A1: サービスコード | B1: サービス内容略称 | C1: サービス表示名称 | D1: 単位 | E1: 給付率（％）
A2: 021111 | B2: 日中短期入所 障害者区分１ １/４ | C2: 日中短期入所 者区分１ １/４ | D2: 135 | E2: 0.9
A3: 021112 | B3: 日中短期入所 障害者区分２ １/４ | C3: 日中短期入所 者区分２ １/４ | D3: 135 | E3: 0.9
A4: 021113 | B4: 日中短期入所 障害者区分３ １/４ | C4: 日中短期入所 者区分３ １/４ | D4: 155 | E4: 0.9
A5: 021114 | B5: 日中短期入所 障害者区分４ １/４ | C5: 日中短期入所 者区分４ １/４ | D5: 171 | E5: 0.9
A6: 021115 | B6: 日中短期入所 障害者区分５ １/４ | C6: 日中短期入所 者区分５ １/４ | D6: 208 | E6: 0.9
A7: 021116 | B7: 日中短期入所 障害者区分６ １/４ | C7: 日中短期入所 者区分６ １/４ | D7: 245 | E7: 0.9
A8: 021121 | B8: 日中短期入所 障害者区分１ ２/４ | C8: 日中短期入所 者区分１ ２/４ | D8: 269 | E8: 0.9
A9: 021122 | B9: 日中短期入所 障害者区分２ ２/４ | C9: 日中短期入所 者区分２ ２/４ | D9: 269 | E9: 0.9
A10: 021123 | B10: 日中短期入所 障害者区分３ ２/４ | C10: 日中短期入所 者区分３ ２/４ | D10: 308 | E10: 0.9
A11: 021124 | B11: 日中短期入所 障害者区分４ ２/４ | C11: 日中短期入所 者区分４ ２/４ | D11: 342 | E11: 0.9
A12: 021125 | B12: 日中短期入所 障害者区分５ ２/４ | C12: 日中短期入所 者区分５ ２/４ | D12: 416 | E12: 0.9
A13: 021126 | B13: 日中短期入所 障害者区分６ ２/４ | C13: 日中短期入所 者区分６ ２/４ | D13: 488 | E13: 0.9
... A86: 022951 | B86: 日中短期入所 重度障害加算減算 | C86: 日中短期 重度障害加算（減） | D86: 42 | E86: 1.0
