Workbook

Sheet 障害児・者一時預かり
A1: 障害児・者一時預かり 令和５年３月提供以前の利用者負担額算定シート
A2: ・ 利用者負担があり、かつ行動障害加算がある利用者については、このシートで利用者負担額を再計算してください。
A3: ・ 利用者負担がない利用者（非課税、生活保護）や、行動障害加算がない利用者の場合にはこのシートは必要ありません。
A6: （手順）
A7: １ 請求情報作成ツールで請求明細情報を先に作成してください。
A8: ２ １の請求明細書情報登録画面を見ながら、黄色セルのみに入力してください。
A9: ３ 算出された決定利用者負担額について、請求明細書情報登録画面の集計情報の決定利用者負担額を修正してください。
C10: 利用者負担上限
B12: NO | C12: サービスコード | D12: サービス名称 | E12: 単位数 | F12: 給付率 | G12: 回数 | H12: サービス単位数 | I12: 利用者負担額
B13: 1 | D13: =VLOOKUP(C13,マスタ!$A$2:$E$15,3,FALSE) -> #N/A | E13: =VLOOKUP(C13,マスタ!$A$2:$E$15,4,FALSE) -> #N/A | F13: =VLOOKUP(C13,マスタ!$A$2:$E$15,5,FALSE) -> #N/A | H13: =E13*G13 -> #N/A | I13: =10*H13*(1-F13) -> #N/A
B14: 2 | D14: =VLOOKUP(C14,マスタ!$A$2:$D$15,3,FALSE) -> #N/A | E14: =VLOOKUP(C14,マスタ!$A$2:$E$15,4,FALSE) -> #N/A | F14: =VLOOKUP(C14,マスタ!$A$2:$E$15,5,FALSE) -> #N/A | H14: =E14*G14 -> #N/A | I14: =10*H14*(1-F14) -> #N/A
B15: 3 | D15: =VLOOKUP(C15,マスタ!$A$2:$D$15,3,FALSE) -> #N/A | E15: =VLOOKUP(C15,マスタ!$A$2:$E$15,4,FALSE) -> #N/A | F15: =VLOOKUP(C15,マスタ!$A$2:$E$15,5,FALSE) -> #N/A | H15: =E15*G15 -> #N/A | I15: =10*H15*(1-F15) -> #N/A
B16: 4 | D16: =VLOOKUP(C16,マスタ!$A$2:$D$15,3,FALSE) -> #N/A | E16: =VLOOKUP(C16,マスタ!$A$2:$E$15,4,FALSE) -> #N/A | F16: =VLOOKUP(C16,マスタ!$A$2:$E$15,5,FALSE) -> #N/A | H16: =E16*G16 -> #N/A | I16: =10*H16*(1-F16) -> #N/A
B17: 5 | D17: =VLOOKUP(C17,マスタ!$A$2:$D$15,3,FALSE) -> #N/A | E17: =VLOOKUP(C17,マスタ!$A$2:$E$15,4,FALSE) -> #N/A | F17: =VLOOKUP(C17,マスタ!$A$2:$E$15,5,FALSE) -> #N/A | H17: =E17*G17 -> #N/A | I17: =10*H17*(1-F17) -> #N/A
B18: 6 | D18: =VLOOKUP(C18,マスタ!$A$2:$D$15,3,FALSE) -> #N/A | E18: =VLOOKUP(C18,マスタ!$A$2:$E$15,4,FALSE) -> #N/A | F18: =VLOOKUP(C18,マスタ!$A$2:$E$15,5,FALSE) -> #N/A | H18: =E18*G18 -> #N/A | I18: =10*H18*(1-F18) -> #N/A
B19: 7 | D19: =VLOOKUP(C19,マスタ!$A$2:$D$15,3,FALSE) -> #N/A | E19: =VLOOKUP(C19,マスタ!$A$2:$E$15,4,FALSE) -> #N/A | F19: =VLOOKUP(C19,マスタ!$A$2:$E$15,5,FALSE) -> #N/A | H19: =E19*G19 -> #N/A | I19: =10*H19*(1-F19) -> #N/A
B20: 8 | D20: =VLOOKUP(C20,マスタ!$A$2:$D$15,3,FALSE) -> #N/A | E20: =VLOOKUP(C20,マスタ!$A$2:$E$15,4,FALSE) -> #N/A | F20: =VLOOKUP(C20,マスタ!$A$2:$E$15,5,FALSE) -> #N/A | H20: =E20*G20 -> #N/A | I20: =10*H20*(1-F20) -> #N/A
B21: 9 | D21: =VLOOKUP(C21,マスタ!$A$2:$D$15,3,FALSE) -> #N/A | E21: =VLOOKUP(C21,マスタ!$A$2:$E$15,4,FALSE) -> #N/A | F21: =VLOOKUP(C21,マスタ!$A$2:$E$15,5,FALSE) -> #N/A | H21: =E21*G21 -> #N/A | I21: =10*H21*(1-F21) -> #N/A
B22: 10 | D22: =VLOOKUP(C22,マスタ!$A$2:$D$15,3,FALSE) -> #N/A | E22: =VLOOKUP(C22,マスタ!$A$2:$E$15,4,FALSE) -> #N/A | F22: =VLOOKUP(C22,マスタ!$A$2:$E$15,5,FALSE) -> #N/A | H22: =E22*G22 -> #N/A | I22: =10*H22*(1-F22) -> #N/A
B23: 11 | D23: =VLOOKUP(C23,マスタ!$A$2:$D$15,3,FALSE) -> #N/A | E23: =VLOOKUP(C23,マスタ!$A$2:$E$15,4,FALSE) -> #N/A | F23: =VLOOKUP(C23,マスタ!$A$2:$E$15,5,FALSE) -> #N/A | H23: =E23*G23 -> #N/A | I23: =10*H23*(1-F23) -> #N/A
B24: 12 | D24: =VLOOKUP(C24,マスタ!$A$2:$D$15,3,FALSE) -> #N/A | E24: =VLOOKUP(C24,マスタ!$A$2:$E$15,4,FALSE) -> #N/A | F24: =VLOOKUP(C24,マスタ!$A$2:$E$15,5,FALSE) -> #N/A | H24: =E24*G24 -> #N/A | I24: =10*H24*(1-F24) -> #N/A
B25: 13 | D25: =VLOOKUP(C25,マスタ!$A$2:$D$15,3,FALSE) -> #N/A | E25: =VLOOKUP(C25,マスタ!$A$2:$E$15,4,FALSE) -> #N/A | F25: =VLOOKUP(C25,マスタ!$A$2:$E$15,5,FALSE) -> #N/A | H25: =E25*G25 -> #N/A | I25: =10*H25*(1-F25) -> #N/A
... B27: 15 | D27: =VLOOKUP(C27,マスタ!$A$2:$D$15,3,FALSE) -> #N/A | E27: =VLOOKUP(C27,マスタ!$A$2:$E$15,4,FALSE) -> #N/A | F27: =VLOOKUP(C27,マスタ!$A$2:$E$15,5,FALSE) -> #N/A | H27: =E27*G27 -> #N/A | I27: =10*H27*(1-F27) -> #N/A
E28: 決定利用者負担額 | H28: =IF(SUMIF(I13:I27,"<>#N/A")<=D10,SUMIF(I13:I27,"<>#N/A"),D10) -> 0
E29: 給付費 | H29: =10*SUMIF(H13:H27,"<>#N/A")-H28 -> 0
E30: 利用者負担額＋給付費 | H30: =SUM(H28:H29) -> 0

Sheet マスタ
A1: サービスコード | B1: サービス内容略称 | C1: サービス表示名称 | D1: 単位 | E1: 給付率（％）
A2: 023100 | B2: 障害児者一時預かり ４時間以下 | C2: 一時預かり ４時間以下 | D2: 574 | E2: 0.9
A3: 023150 | B3: 障害児者一時預かり ４時間以下 ２０％減算 | C3: 一時預かり ４時間以下（減算） | D3: 459 | E3: 0.9
A4: 023200 | B4: 障害児者一時預かり ４時間超６時間以下 | C4: 一時預かり ６時間以下 | D4: 765 | E4: 0.9
A5: 023250 | B5: 障害児者一時預かり ４時間超６時間以下２０％減算 | C5: 一時預かり ６時間以下（減算） | D5: 612 | E5: 0.9
A6: 023300 | B6: 障害児者一時預かり ６時間超 | C6: 一時預かり ６時間超 | D6: 829 | E6: 0.9
A7: 023350 | B7: 障害児者一時預かり ６時間超 ２０％減算 | C7: 一時預かり ６時間超（減算） | D7: 663 | E7: 0.9
A8: 023400 | B8: 障害児者一時預かり 送迎加算 | C8: 一時預かり 送迎加算 | D8: 60 | E8: 0.9
A9: 023500 | B9: 障害児者一時預かり 欠席時対応加算 | C9: 一時預かり 欠席時対応加算 | D9: 103 | E9: 0.9
A10: 023700 | B10: 障害児者一時預かり 行動障害加算 | C10: 一時預かり 行動障害加算 | D10: 261 | E10: 1
A11: 023800 | B11: 障害児者一時預かり 初期加算 | C11: 一時預かり 初期加算 | D11: 33 | E11: 0.9
A12: 023900 | B12: 障害児者一時預かり 家庭連携加算 １H未満 | C12: 一時預かり家庭連携加算１Ｈ未満 | D12: 205 | E12: 0.9
A13: 023901 | B13: 障害児者一時預かり 家庭連携加算 １H以上 | C13: 一時預かり家庭連携加算１Ｈ以上 | D13: 307 | E13: 0.9
A14: 023902 | B14: 障害児者一時預かり 指導員加配加算 １０人以下 | C14: 一時預かり加配加算１０人以下 | D14: 212 | E14: 0.9
A15: 023903 | B15: 障害児者一時預かり 指導員加配加算 １１人以上 | C15: 一時預かり加配加算１１人以上 | D15: 142 | E15: 0.9
