Workbook

Sheet 【必須入力】虐待防止研修申込書
A1: 令和４年度 横浜市虐待防止研修 申込書
A3: ２０２２年 月 日
A5: 学校法人産業能率大学 殿
A7: 施設等の名称 | B7: =B12&""
A9: 代表者氏名
A11: 法人名
A12: 施設名
A13: 郵便番号
A15: 施設住所 (決定通知等送付先) 及び連絡先
A20: TEL：
A21: メールアドレス：
A22: 担当者名
A24: ※決定通知等はまとめて上記住所もしくはメールアドレス宛に送付いたします。郵送による申し込みで、施設住所と異なる場所への送付を希望する場合は、上記「施設住所」に送付先を記載ください。（受講者ごとに異なる送付先とすることはできません）
A26: 【申込書類確認】 | B26: ※□にチェックを入れ、 に変更してください。
A27: 同日・同研修に同じ施設から複数の受講者申込みをする場合に限り、施設内優先順位を全員分記載しましたか
A28: 申込書に記入漏れなく、すべての記載項目に記入しましたか
A29: 受講申込者全員分の希望者確認書類が入っていますか
A30: 郵送申込の場合、開催ごと(第1回用/第2回用)の返信用封筒(長形3号、94円切手の添付、施設住所・施設名
A31: の記載)が入っていますか

Sheet 第1回_管理者希望確認書類
A1: 令和４年度 横浜市障害者虐待防止研修
A2: 第1回:管理者対象研修 (9/22、9/29)
A3: 希望者確認書類
A5: 施設内優先順位 | C5: ←同日・同研修に同じ施設から複数人数の申し込みを行う場合のみ、優先順位を必ず記載してください。
A6: フリガナ
A7: 希望者氏名
A8: 事業所名
A9: 役職
A10: 事業所所在区
A11: 施設等種別
A12: 施設等の主たる対象者 (複数該当する場合は、主な対象者を選択ください)
A14: 受講に際しての 要配慮事項 (○を付けてください) | C14: 車いすの利用 | E14: 手話通訳者
C16: 車いす使用者用駐車場 | E16: 要約筆記者
C17: 補助犬の利用 | E17: その他( )
A18: 「虐待防止担当者」を兼務している方は○を付けてください
A20: ※ 受講者多数の場合は、受講できない場合があります。
A21: ※ 記載漏れや不備があった場合は、受講できないことがありますので、ご注意ください。
A22: ※ 同一講座に申込希望者が複数いらっしゃる場合は、EXCELファイルごとコピーしてご入力ください。
B28: =LEFT(B12,1)
B29: =IF(B14="○",1,"")
B30: =IF(B16="○",3,"")
B31: =IF(B17="○",5,"")
B32: =IF(D14="○",2,"")
B33: =IF(D16="○",4,"")
B34: =IF(D17="○",6,"")
B35: =B29&B32&B30&B33&B31&B34

Sheet 第1回_サービス管理者希望確認書類
A1: 令和４年度 横浜市障害者虐待防止研修
A2: 第1回:サービス管理責任者等対象研修 (9/22、9/30)
A3: 希望者確認書類
A5: 施設内優先順位 | C5: ←同日・同研修に同じ施設から複数人数の申し込みを行う場合のみ、優先順位を必ず記載してください。
A6: フリガナ
A7: 希望者氏名
A8: 事業所名
A9: 役職
A10: 事業所所在区
A11: 施設等種別
A12: 施設等の主たる対象者 (複数該当する場合は、主な対象者を選択ください)
A14: 受講に際しての 要配慮事項 (○を付けてください) | C14: 車いすの利用 | E14: 手話通訳者
C16: 車いす使用者用駐車場 | E16: 要約筆記者
C17: 補助犬の利用 | E17: その他( )
A18: 「虐待防止担当者」を兼務している方は○を付けてください
A20: ※ 受講者多数の場合は、受講できない場合があります。
A21: ※ 記載漏れや不備があった場合は、受講できないことがありますので、ご注意ください。
A22: ※ 同一講座に申込希望者が複数いらっしゃる場合は、EXCELファイルごとコピーしてご入力ください。
B28: =LEFT(B12,1)
B29: =IF(B14="○",1,"")
B30: =IF(B16="○",3,"")
B31: =IF(B17="○",5,"")
B32: =IF(D14="○",2,"")
B33: =IF(D16="○",4,"")
B34: =IF(D17="○",6,"")
B35: =B29&B32&B30&B33&B31&B34

Sheet 第2回_管理者希望確認書類
A1: 令和４年度 横浜市障害者虐待防止研修
A2: 第２回:管理者対象研修 (11/17、11/25)
A3: 希望者確認書類
A5: 施設内優先順位 | C5: ←同日・同研修に同じ施設から複数人数の申し込みを行う場合のみ、優先順位を必ず記載してください。
A6: フリガナ
A7: 希望者氏名
A8: 事業所名
A9: 役職
A10: 事業所所在区
A11: 施設等種別
A12: 施設等の主たる対象者 (複数該当する場合は、主な対象者を選択ください)
A14: 受講に際しての 要配慮事項 (○を付けてください) | C14: 車いすの利用 | E14: 手話通訳者
C16: 車いす使用者用駐車場 | E16: 要約筆記者
C17: 補助犬の利用 | E17: その他( )
A18: 「虐待防止担当者」を兼務している方は○を付けてください
A20: ※ 受講者多数の場合は、受講できない場合があります。
A21: ※ 記載漏れや不備があった場合は、受講できないことがありますので、ご注意ください。
A22: ※ 同一講座に申込希望者が複数いらっしゃる場合は、EXCELファイルごとコピーしてご入力ください。
B28: =LEFT(B12,1)
B29: =IF(B14="○",1,"")
B30: =IF(B16="○",3,"")
B31: =IF(B17="○",5,"")
B32: =IF(D14="○",2,"")
B33: =IF(D16="○",4,"")
B34: =IF(D17="○",6,"")
B35: =B29&B32&B30&B33&B31&B34

Sheet 第2回_サービス管理者希望確認書類
A1: 令和４年度 横浜市障害者虐待防止研修
A2: 第2回:サービス管理責任者等対象研修 (11/17、12/1)
A3: 希望者確認書類
A5: 施設内優先順位 | C5: ←同日・同研修に同じ施設から複数人数の申し込みを行う場合のみ、優先順位を必ず記載してください。
A6: フリガナ
A7: 希望者氏名
A8: 事業所名
A9: 役職
A10: 事業所所在区
A11: 施設等種別
A12: 施設等の主たる対象者 (複数該当する場合は、主な対象者を選択ください)
A14: 受講に際しての 要配慮事項 (○を付けてください) | C14: 車いすの利用 | E14: 手話通訳者
C16: 車いす使用者用駐車場 | E16: 要約筆記者
C17: 補助犬の利用 | E17: その他( )
A18: 「虐待防止担当者」を兼務している方は○を付けてください
A20: ※ 受講者多数の場合は、受講できない場合があります。
A21: ※ 記載漏れや不備があった場合は、受講できないことがありますので、ご注意ください。
A22: ※ 同一講座に申込希望者が複数いらっしゃる場合は、EXCELファイルごとコピーしてご入力ください。
B28: =LEFT(B12,1)
B29: =IF(B14="○",1,"")
B30: =IF(B16="○",3,"")
B31: =IF(B17="○",5,"")
B32: =IF(D14="○",2,"")
B33: =IF(D16="○",4,"")
B34: =IF(D17="○",6,"")
B35: =B29&B32&B30&B33&B31&B34

Sheet 事務局用シート
A1: No. | B1: 申込書到着日 (確認日） | C1: 到着種別 （メール/郵送） | D1: 代表者氏名 | E1: 法人名 | F1: 施設名 | G1: 郵便番号 | H1: 施設住所(決定通知等送付先)及び連絡先 | I1: TEL | J1: メールアドレス | K1: 担当者名 | L1: 法人内優先順位 | M1: 希望研修 1：管理者対象研修 第1回（9/22,9/29） 2：サービス管理責任者等対象研修 第1回（9/22,9/30） 3：管理者対象研修 第2回（11/17,11/25） 4：サービス管理責任者等対象研修 第2回（11/17,12/1） | N1: フリガナ | O1: 希望者氏名 | P1: 事業所名 | Q1: 役職 | R1: 事業所所在区 | S1: 施設等種別 | T1: 施設等の主たる対象者 1.特定なし 2.身体障害 3.知的障害 4.精神障害 5.障害児 | U1: 受講に際しての要配慮事項 1.車いすの利用 2.手話通訳者 3.車いす使用者用駐車場 4.要約筆記者 5.補助犬の利用 6.その他 | V1: 備考 | W1: 虐待防止担当者兼務
B2: =【必須入力】虐待防止研修申込書!$A$3 -> ２０２２年 月 日 | C2: メール | D2: =【必須入力】虐待防止研修申込書!$B$9&"" | E2: =【必須入力】虐待防止研修申込書!$B$11&"" | F2: =【必須入力】虐待防止研修申込書!$B$12&"" | G2: =【必須入力】虐待防止研修申込書!$B$13&"" | H2: =【必須入力】虐待防止研修申込書!$B$15&"" | I2: =【必須入力】虐待防止研修申込書!$B$20&"" | J2: =【必須入力】虐待防止研修申込書!$B$21&"" | K2: =【必須入力】虐待防止研修申込書!$B$22&"" | L2: =第1回_管理者希望確認書類!B5&"" | M2: 1 | N2: =第1回_管理者希望確認書類!B6&"" | O2: =第1回_管理者希望確認書類!B7&"" | P2: =第1回_管理者希望確認書類!B8&"" | Q2: =第1回_管理者希望確認書類!B9&"" | R2: =第1回_管理者希望確認書類!B10&"" | S2: =第1回_管理者希望確認書類!B11&"" | T2: =第1回_管理者希望確認書類!B28&"" | U2: =第1回_管理者希望確認書類!B35&"" | W2: =第1回_管理者希望確認書類!B18&""
B3: =【必須入力】虐待防止研修申込書!$A$3 -> ２０２２年 月 日 | C3: メール | D3: =【必須入力】虐待防止研修申込書!$B$9&"" | E3: =【必須入力】虐待防止研修申込書!$B$11&"" | F3: =【必須入力】虐待防止研修申込書!$B$12&"" | G3: =【必須入力】虐待防止研修申込書!$B$13&"" | H3: =【必須入力】虐待防止研修申込書!$B$15&"" | I3: =【必須入力】虐待防止研修申込書!$B$20&"" | J3: =【必須入力】虐待防止研修申込書!$B$21&"" | K3: =【必須入力】虐待防止研修申込書!$B$22&"" | L3: =第1回_サービス管理者希望確認書類!B5&"" | M3: 2 | N3: =第1回_サービス管理者希望確認書類!B6&"" | O3: =第1回_サービス管理者希望確認書類!B7&"" | P3: =第1回_サービス管理者希望確認書類!B8&"" | Q3: =第1回_サービス管理者希望確認書類!B9&"" | R3: =第1回_サービス管理者希望確認書類!B10&"" | S3: =第1回_サービス管理者希望確認書類!B11&"" | T3: =第1回_サービス管理者希望確認書類!B28&"" | U3: =第1回_サービス管理者希望確認書類!B35&"" | W3: =第1回_サービス管理者希望確認書類!B18&""
B4: =【必須入力】虐待防止研修申込書!$A$3 -> ２０２２年 月 日 | C4: メール | D4: =【必須入力】虐待防止研修申込書!$B$9&"" | E4: =【必須入力】虐待防止研修申込書!$B$11&"" | F4: =【必須入力】虐待防止研修申込書!$B$12&"" | G4: =【必須入力】虐待防止研修申込書!$B$13&"" | H4: =【必須入力】虐待防止研修申込書!$B$15&"" | I4: =【必須入力】虐待防止研修申込書!$B$20&"" | J4: =【必須入力】虐待防止研修申込書!$B$21&"" | K4: =【必須入力】虐待防止研修申込書!$B$22&"" | L4: =第2回_管理者希望確認書類!B5&"" | M4: 3 | N4: =第2回_管理者希望確認書類!B6&"" | O4: =第2回_管理者希望確認書類!B7&"" | P4: =第2回_管理者希望確認書類!B8&"" | Q4: =第2回_管理者希望確認書類!B9&"" | R4: =第2回_管理者希望確認書類!B10&"" | S4: =第2回_管理者希望確認書類!B11&"" | T4: =第2回_管理者希望確認書類!B28&"" | U4: =第2回_管理者希望確認書類!B35&"" | W4: =第2回_管理者希望確認書類!B18&""
B5: =【必須入力】虐待防止研修申込書!$A$3 -> ２０２２年 月 日 | C5: メール | D5: =【必須入力】虐待防止研修申込書!$B$9&"" | E5: =【必須入力】虐待防止研修申込書!$B$11&"" | F5: =【必須入力】虐待防止研修申込書!$B$12&"" | G5: =【必須入力】虐待防止研修申込書!$B$13&"" | H5: =【必須入力】虐待防止研修申込書!$B$15&"" | I5: =【必須入力】虐待防止研修申込書!$B$20&"" | J5: =【必須入力】虐待防止研修申込書!$B$21&"" | K5: =【必須入力】虐待防止研修申込書!$B$22&"" | L5: =第2回_サービス管理者希望確認書類!B5&"" | M5: 4 | N5: =第2回_サービス管理者希望確認書類!B6&"" | O5: =第2回_サービス管理者希望確認書類!B7&"" | P5: =第2回_サービス管理者希望確認書類!B8&"" | Q5: =第2回_サービス管理者希望確認書類!B9&"" | R5: =第2回_サービス管理者希望確認書類!B10&"" | S5: =第2回_サービス管理者希望確認書類!B11&"" | T5: =第2回_サービス管理者希望確認書類!B28&"" | U5: =第2回_サービス管理者希望確認書類!B35&""
W6: =第2回_サービス管理者希望確認書類!B18&""
