Workbook
Name _________kk29: #REF!
Name ________kk06: #REF!
Name ________kk29: #REF!
Name _______kk06: #REF!
Name _______kk29: #REF!
Name ______kk06: #REF!
Name ______kk29: #REF!
Name _____kk06: #REF!
Name _____kk29: #REF!
Name ____kk06: #REF!
Name ____kk29: #REF!
Name ___kk06: #REF!
Name ___kk29: #REF!
Name __kk06: #REF!
Name __kk29: #REF!
Name _kk06: #REF!
Name _kk1: #REF!
Name _kk1: #REF!
Name _kk1: #REF!
Name _kk1: #REF!
Name _kk2: #REF!
Name _kk2: #REF!
Name _kk2: #REF!
Name _kk29: #REF!
Name ▼選択してください。: #REF!
Name ▼選択してください。: #REF!
Name ▼選択してください。: #REF!
Name as: #REF!
Name as: #REF!
Name Avrg: #REF!
Name Avrg: #REF!
Name Avrg: #REF!
Name avrg1: #REF!
Name CSV_サービス情報: #REF!
Name CSV_サービス情報: #REF!
Name CSV_サービス情報: #REF!
Name CSV_口座振込依頼書: #REF!
Name CSV_口座振込依頼書: #REF!
Name CSV_口座振込依頼書: #REF!
Name CSV_施設種別: #REF!
Name CSV_追加情報: #REF!
Name CSV_追加情報: #REF!
Name CSV_追加情報: #REF!
Name CSV_付表１: #REF!
Name CSV_付表１: #REF!
Name CSV_付表１: #REF!
Name CSV_付表１＿１: #REF!
Name CSV_付表１＿１: #REF!
Name CSV_付表１＿２: #REF!
Name CSV_付表１＿２: #REF!
Name CSV_付表１＿２: #REF!
Name CSV_付表１０: #REF!
Name CSV_付表１０: #REF!
Name CSV_付表１０: #REF!
Name CSV_付表１０＿２: #REF!
Name CSV_付表１０＿２: #REF!
Name CSV_付表１０＿２: #REF!
Name CSV_付表１１: #REF!
Name CSV_付表１１: #REF!
Name CSV_付表１１: #REF!

Sheet 提出書類一覧
B8: 提 出 書 類 | F8: チェック欄
B10: ・A4フラットファイル桃色（紙製）に書類一式を綴じて、インデックスを付ける。 ※クリアポケットで綴るのは不可。 ・記入漏れや誤入力等がないか、ご提出前に改めてご確認をお願いいたします。
B11: 1 | D11: 指定申請書 | E11: ・別途Excel様式があります。 ・「主たる事務所の所在地」は、定款に記載されている事務所の住所表記と一致するように記載してください。
B12: 2 | D12: 口座振込（変更）依頼書 | E12: ・別途Excel様式があります。 ・通帳の写しは、①通帳の表紙面 ②表紙を一枚めくったカナ氏名と口座番号等が記載されているページを提出してください。 ・名義人の「フリガナ」は、通帳に記載されているカナ表記で記載してください。 例） カ）ヨコハマ などのように入力 ※ 名義人の「氏名」欄は、通帳表紙に記載されている表記をご記載ください。
B13: 3 | D13: 付表15 | E13: ・別途Excel様式があります。 ・営業日、営業時間、主たる対象者等について、運営規程上の定めと一致するように記載してください。
B14: 4 | D14: 別紙１ （既に指定を受けている事業等）
B15: 5 | D15: 別紙２ （兼務する相談支援専門員） | E15: ・相談支援専門員が他の事業所または施設の従業者と兼務する場合に提出してください。 ・他の事業所には「特定相談支援事業所」「一般相談支援事業所」も含まれます。
B16: 6 | D16: 申請者（法人）の定款、寄附行為等及びその登記簿謄本（又は条例） | E16: ・「児童福祉法に基づく障害児相談支援事業」と明記してください。
B17: 7 | D17: 履歴事項全部証明書
B18: 8 | D18: 運営規程
B19: 9 | D19: 参考様式１ （主たる対象者を特定する理由等） | E19: ・運営規程上で主たる対象者を限定している場合のみ必要になります。
B20: 10 | D20: 参考様式２ （苦情を解決するために講ずる措置の概要） | E20: ・連絡先に加え、横浜市の事業所管課（下記）も記入してください。 【横浜市こども青少年局障害児福祉保健課 電話：045-671-4274】
B21: 11 | D21: 参考様式３ （誓約書）
B22: 12 | D22: 別紙⑦ | E22: ・誓約書の別紙になります。必ず内容をご確認ください。
B23: 13 | D23: 参考様式４ （平面図）
B24: 14 | D24: 事業所外観および内部の写真 | E24: ・可能な限り、カラーで印刷してください。
B25: 15 | D25: 参考様式５ （設備・備品一覧）
B26: 16 | D26: 参考様式６ （経歴書） | E26: ・管理者と相談支援専門員を兼務する場合は、それぞれの役職に〇をして、１枚添付をしてください。 ・「主な職歴」の欄が参考様式５の内容と一致するように記載してください。
B27: 17 | D27: 参考様式７ （実務経験証明書） | E27: ・実務経験証明書は【写し】を提出する場合、原本証明が必要です。「原本と相違ないことを証明する」と記入し法人印を押印してください。 ・実務経験証明書の原本は法人で保管してください。
B28: 18 | D28: 各種資格証の写し | E28: ・実務経験の年数に応じて必要とある各種資格の証明を添付してください。 添付は必要最低限かつコピーで結構です。
B29: 19 | D29: 相談支援従事者初任者研修の修了証・現任研修の修了証の写し | E29: ・書類提出時に相談支援専門員の要件について確認します。資格や研修、実務経験等が相談支援専門員の要件を満たしているか確認してください。
B30: 20 | D30: 従業者の勤務の体制及び勤務形態一覧表 | E30: ・常勤・専従、常勤・兼務等、勤務形態についての記載漏れがないよう記入してください。
B31: 21 | D31: 参考様式８ （組織体制図）
B32: 22 | D32: 様式第11号 （県警照会誓約書）
B33: 23 | D33: 様式第12号 （役員名簿）
B34: 24 | D34: 参考様式９ （関係機関との協力体制）
B35: 25 | D35: 参考様式10 （事業計画書） | E35: ・「３ 従業者等の人員」は、兼務の場合は兼務と記載してください。 例）管理者が相談支援専門員を兼務し、さらにもう一人専従の相談支援専門員がいる場合は、「管理者１名、相談支援専門員２名（１名：管理者と兼務、１名：専従）」 というように記載してください。 ・事業計画書は、当該事業所の年間事業計画を作成してください。 ・運営基準で定められた、研修等についても、年間計画に記載をしてください。
B36: 26 | D36: 参考様式11 （事業開始届） | E36: ・「２ 職員の定数及び職務の内容」は、兼務の場合は兼務と記載してください。
B37: 27 | D37: 管理者誓約書
B38: 28 | C38: 資産の状況 | D38: 財産目録または決算書
B39: 29 | D39: 収支予算書
B40: 30 | C40: その他 | D40: 社会保険及び労働保険への加入状況にかかる確認票
B41: 31 | D41: 建物賃貸借契約書
B42: 32 | D42: 障害児相談支援給付費等算定に係る体制等に関する届出書 | E42: ・第１号様式と別紙１を提出してください（加算を算定する場合のみは各種別紙もあわせて提出）。 ・加算の算定に必要な各種資格証の写しもあわせて添付してください。
B43: 33 | D43: 児童福祉法に基づく業務管理体制の整備に関する事項の届出書 | E43: ・児童福祉法に基づく事業所又は施設の所在地に応じて、いずれかへご提出ください。 ① すべて横浜市内の場合、今回の申請にあわせて当課 ② すべて県内・複数の市町村の場合、神奈川県福祉子どもみらい局 障害サービス課 ③ 複数の都道府県の場合、厚生労働省社会・援護局 企画課 ・様式は（https://shougai.rakuraku.or.jp/search-library/lower-3-3.html?topid=2&id=146）からダウンロードできます。 ・障害者総合支援法に基づく場合の手続きは、別途行ってください。
B44: 34 | D44: 切手（270円）付の返信用封筒 | E44: ・「事業所住所記入」「270円分の切手を貼付」して、申請書類一式と合わせてご提出ください。

Sheet 別紙１
AD1: （別紙１）
G3: 他の法律において既に指定を受けている事業等について
A5: 法律の名称 | G5: サービスの種類 | K5: 事業所・施設名称 | O5: 指定年月日 | T5: 指定事業所番号

Sheet 別紙２
X1: （別紙２）
F2: 他の事業所又は施設の従事者と兼務する相談支援専門員について
A5: 他の事業所又は施設の従業者と兼務する相談支援専門員を全て記載してください。 ※記入欄が不足する場合は追加して記入してください。
A6: 1 | C6: 氏 名 | K6: 事業所の名称
C7: フリガナ | K7: 事業の種類 | T7: 兼務する職種
C8: 氏名 | K8: 勤務時間
A9: 2 | C9: 氏 名 | K9: 事業所の名称
C10: フリガナ | K10: 事業の種類 | T10: 兼務する職種
C11: 氏名 | K11: 勤務時間
A12: 3 | C12: 氏 名 | K12: 事業所の名称
C13: フリガナ | K13: 事業の種類 | T13: 兼務する職種
C14: 氏名 | K14: 勤務時間
A15: 4 | C15: 氏 名 | K15: 事業所の名称
C16: フリガナ | K16: 事業の種類 | T16: 兼務する職種
C17: 氏名 | K17: 勤務時間
A18: 5 | C18: 氏 名 | K18: 事業所の名称
C19: フリガナ | K19: 事業の種類 | T19: 兼務する職種
C20: 氏名 | K20: 勤務時間

Sheet 参考様式１
A1: (参考様式１)
A3: 指定障害福祉サービス等の主たる対象者を特定する理由等
B5: 事業所名
B6: 指定障害福祉サービス等の種類
A9: １ 申請に係る指定障害福祉サービス等の主たる対象者
A11: ２ 主たる対象者を１のとおり特定する理由
A13: ３ 今後における主たる対象者の拡充の予定
A14: (１)拡充予定の有無 | C14: ( 有り ・ 無し )
A15: (２)拡充予定の内容及び予定時期
A17: (３)拡充のための方策

Sheet 参考様式２
A1: (参考様式２)
A3: 利用者(入所者)又はその家族からの苦情を解決するために講ずる措置の概要
A5: 事業所名
A6: 指定障害福祉サービス等の種類
A8: 措 置 の 概 要
A9: １ 利用者(入所者)又はその家族からの相談又は苦情等に対応する常設の窓口(連絡先)、担当者
A11: ２ 円滑かつ迅速に苦情を解決するための処理体制・手順
A13: ※具体的な対応方針
A15: ３ その他参考事項

Sheet 参考様式３（誓約書）
A1: (参考様式３)
A2: 誓 約 書
H4: 年 | J4: 月 | L4: 日
A5: 横浜市長 | C5: 殿
A7: 申請者 | D7: （名称）
D9: （代表者の職名・氏名）
A13: 申請者が別紙のいずれにも該当しない者であることを誓約します。
C15: 別紙①： 障害福祉サービス事業者向け
C16: 別紙②： 障害者支援施設向け
C17: 別紙③： 一般相談支援事業者向け
C18: 別紙④： 特定相談支援事業者向け
C19: 別紙⑤： 障害児通所支援事業者向け
C20: 別紙⑥： 障害児入所施設向け
C21: 別紙⑦： 障害児相談支援事業者向け
B22: 注 該当する種別に○を付けてください。

Sheet 別紙⑦
B1: （別紙⑦： 障害児相談支援事業者向け）
C2: 児童福祉法第２４条の２８第２項
B4: 一 | C4: 申請者が法人でないとき。
B5: 二 | C5: 当該申請に係る障害児相談支援事業所（第二十四条の二十八第一項に規定する障害児相談支援事業所をいう。以下この項において同じ。）の従業者の知識及び技能並びに人員が、第二十四条の三十一第一項の内閣府令で定める基準を満たしていないとき。
B6: 三 | C6: 申請者が、第二十四条の三十一第二項の内閣府令で定める指定障害児相談支援の事業の運営に関する基準に従って適正な障害児相談支援事業の運営をすることができないと認められるとき。
B7: 五 | C7: 申請者が、この法律その他国民の保健医療若しくは福祉に関する法律で政令で定めるものの規定により罰金の刑に処せられ、その執行を終わり、又は執行を受けることがなくなるまでの者であるとき。
B8: 五の二 | C8: 申請者が、労働に関する法律の規定であって政令で定めるものにより罰金の刑に処せられ、その執行を終わり、又は執行を受けることがなくなるまでの者であるとき。
B9: 六 | C9: 申請者が、第二十四条の三十六又は第三十三条の十八第六項の規定により指定を取り消され、その取消しの日から起算して五年を経過しない者（当該指定を取り消された者が法人である場合においては、当該取消しの処分に係る行政手続法（平成五年法律第八十八号）第十五条の規定による通知があった日前六十日以内に当該法人の役員又はその障害児相談支援事業所を管理する者その他の政令で定める使用人（以下「役員等」という。）であった者で当該取消しの日から起算して五年を経過しないものを含み、当該指定を取り消された者が法人でない場合においては、当該通知があった日前六十日以内に当該者の管理者であった者で当該取消しの日から起算して五年を経過しないものを含む。）であるとき。ただし、当該指定の取消しが、指定障害児相談支援事業者（第二十四条の二十六第一項第一号に規定する指定障害児相談支援事業者をいう。以下この項において同じ。）の指定の取消しのうち当該指定の取消しの処分の理由となった事実及び当該事実の発生を防止するための当該指定障害児相談支援事業者による業務管理体制の整備についての取組の状況その他の当該事実に関して当該指定障害児相談支援事業者が有していた責任の程度を考慮して、この号本文に規定する指定の取消しに該当しないこととすることが相当であると認められるものとして内閣府令で定めるものに該当する場合を除く。
B10: 七 | C10: 申請者と密接な関係を有する者（申請者（法人に限る。以下この号において同じ。）の株式の所有その他の事由を通じて当該申請者の事業を実質的に支配し、若しくはその事業に重要な影響を与える関係にある者として内閣府令で定めるもの（以下この号において「申請者の親会社等」という。）、申請者の親会社等が株式の所有その他の事由を通じてその事業を実質的に支配し、若しくはその事業に重要な影響を与える関係にある者として内閣府令で定めるもの又は当該申請者が株式の所有その他の事由を通じてその事業を実質的に支配し、若しくはその事業に重要な影響を与える関係にある者として内閣府令で定めるもののうち、当該申請者と内閣府令で定める密接な関係を有する法人をいう。）が、第二十四条の三十六又は第三十三条の十八第六項の規定により指定を取り消され、その取消しの日から起算して五年を経過していないとき。ただし、当該指定の取消しが、指定障害児相談支援事業者の指定の取消しのうち当該指定の取消しの処分の理由となった事実及び当該事実の発生を防止するための当該指定障害児相談支援事業者による業務管理体制の整備についての取組の状況その他の当該事実に関して当該指定障害児相談支援事業者が有していた責任の程度を考慮して、この号本文に規定する指定の取消しに該当しないこととすることが相当であると認められるものとして内閣府令で定めるものに該当する場合を除く。
B11: 九 | C11: 申請者が、第二十四条の三十六又は第三十三条の十八第六項の規定による指定の取消しの処分に係る行政手続法第十五条の規定による通知があった日から当該処分をする日又は処分をしないことを決定する日までの間に第二十四条の三十二第二項の規定による事業の廃止の届出をした者（当該事業の廃止について相当の理由がある者を除く。）で、当該届出の日から起算して五年を経過しないものであるとき。
B12: 十 | C12: 申請者が、第二十四条の三十四第一項の規定による検査が行われた日から聴聞決定予定日（当該検査の結果に基づき第二十四条の三十六の規定による指定の取消しの処分に係る聴聞を行うか否かの決定をすることが見込まれる日として内閣府令で定めるところにより市町村長が当該申請者に当該検査が行われた日から十日以内に特定の日を通知した場合における当該特定の日をいう。）までの間に第二十四条の三十二第二項の規定による事業の廃止の届出をした者（当該事業の廃止について相当の理由がある者を除く。）で、当該届出の日から起算して五年を経過しないものであるとき。
B13: 十二 | C13: 申請者が、指定の申請前五年以内に障害児相談支援に関し不正又は著しく不当な行為をした者であるとき。
B14: 十三 | C14: 申請者が、法人で、その役員等のうちに第四号から第六号まで又は第九号から前号のいずれかに該当する者のあるものであるとき。

Sheet 参考様式４
B1: 参考様式４ | F1: 事業所・施設の平面図
C3: 事業所の名称
C7: 建物の名称
C8: 構造概要
C9: 事業所の共用の有無
B36: （備考）１ | C36: 各室、区画の用途及び面積を記載し、他の事業や施設と共用する場合は、その旨を記載し色分けする等わかりやすく表示してください。
B37: 2 | C37: 既製の平面図がある場合にはそれを添付してください。（その場合、Ａ３に縮尺の上、折り込んでください。）
B38: 3 | C38: 事業所の外観及び内部（各室、区画）の写真を添付してください。

Sheet 参考様式５
A1: 参考様式５ | D1: 事業所の設備・備品等一覧表
B4: 事業所の名称
B5: サービスの種類
A7: 設備の概要 | C7: 設備基準上適合すべき項目についての状況 | H7: 備品の品名及び数量 | K7: 適合の可否
A9: サービス提供上配慮すべき設備の概要
A36: 非常災害設備等
A58: 備考 １ | B58: 申請するサービスの種類に関して、基準省令で定められた設備基準上適合すべき項目のうち、「居室面積等一覧表」（参考様式２）に記載された項目以外の事項について記載してください。
A59: 2 | B59: 「適合の可否」欄には何も記載しないでください。

Sheet 参考様式６
A1: 参考様式６ | H1: 経 歴 書
D3: 管 理 者
D4: 相談支援専門員
A8: 事業所の名称
A9: サービスの種類
A10: （管理者の場合で当該管理者が管理する事業所が複数の場合はその全てを記載してください。）
B11: 事業の名称
B12: サービスの種類
A14: フリガナ | H14: 生年月日
A15: 氏 名
A16: 住 所 | B16: (自宅） | C16: （〒 - ）
A17: 電話番号 | B17: (自宅）
A18: 主な職歴
A19: 期間 | D19: 勤務先 | I19: 職務内容
A29: 職務に関する資格
A30: 資格の種類 | F30: 資格取得年月日
A43: 備考（研修等の受講の状況等）
A54: 備考 | B54: 管理者、サービス管理責任者、サービス提供責任者、相談支援専門員、指定地域移行支援従事者、指定地域定着支援従事者のいずれかを○印で囲ってください。それぞれ別葉で提出してください。

Sheet 参考様式７
A1: 参考様式７
A2: 実 務 経 験 (見 込) 証 明 書
D5: 横浜市長 様 | J5: 令和 年 月 日
E7: 所在地
E8: 名称
E9: 代表者氏名 | J9: 印
E10: 電話番号
A12: 下記の者の実務経験は、以下のとおりであることを証明します。
A14: 氏 名 | G14: （生年月日 年 月 日）
A15: 現 住 所
A16: 施設又は事業所名
D17: 施設・事業所の種別（ ）
A18: 業 務 期 間
D19: 年 月 日～ 年 月 日 （ 年 月間）
A20: 上記のうち業務に従事した日数 | D20: 日
A21: 業 務 内 容 | D21: 職名（ ）
A25: （注） | B25: １． | C25: 施設又は事業所名欄には、知的障害者更生施設等の種別も記入すること。
B26: ２． | C26: 業務期間欄は、実務経験被証明者が要援護者に対する直接的な援助を行っていた期間（見込においては援助を行うと見込まれる期間）を記入すること。（産休・育休・療養休暇や長期研修期間等は業務期間となりません）
B28: ３． | C28: 見込証明でない場合は、表題の（見込）を二重線で消すこと。
B30: ４． | C30: 業務内容欄は、看護師、生活指導員等の職名を記入し、業務内容について、老人デイサービス事業における○○業務、○○実施要綱の○○事業の○○業務等具体的に記入すること。
B32: ５． | C32: 証明内容を訂正する場合は、二重線で消した上、証明者（代表者）の印を押すこと。

Sheet 勤務形態一覧（児相談）
A1: 従業者の勤務の体制及び勤務形態一覧表 | AI1: サービス種別 | AK1: 障害児相談支援
M2: 2026 | Q2: 年 | U2: 月 | AI2: 事業所名
AI3: (1)記載する期間 | AK3: ４週
AI4: (2)予定/実績の別
AG5: (3)事業所における常勤の従業者が勤務すべき時間数 | AK5: 時間/週 | AM5: 時間/月
A7: No. | B7: (4)職種 | C7: (5)勤務形態 | D7: (6)資格 | E7: (7)氏名 | F7: (8) | AK7: (9)勤務時間数合計 | AL7: (10)週平均の勤務時間数 | AM7: (11)兼務状況 （兼務先／兼務する職務の内容）等
F8: 第１週 | M8: 第２週 | T8: 第３週 | AA8: 第４週 | AH8: 第５週
F9: =DATE($M$2,$S$2,1) -> 45992 | G9: =DATE($M$2,$S$2,2) -> 45993 | H9: =DATE($M$2,$S$2,3) -> 45994 | I9: =DATE($M$2,$S$2,4) -> 45995 | J9: =DATE($M$2,$S$2,5) -> 45996 | K9: =DATE($M$2,$S$2,6) -> 45997 | L9: =DATE($M$2,$S$2,7) -> 45998 | M9: =DATE($M$2,$S$2,8) -> 45999 | N9: =DATE($M$2,$S$2,9) -> 46000 | O9: =DATE($M$2,$S$2,10) -> 46001 | P9: =DATE($M$2,$S$2,11) -> 46002 | Q9: =DATE($M$2,$S$2,12) -> 46003 | R9: =DATE($M$2,$S$2,13) -> 46004 | S9: =DATE($M$2,$S$2,14) -> 46005 | T9: =DATE($M$2,$S$2,15) -> 46006 | U9: =DATE($M$2,$S$2,16) -> 46007 | V9: =DATE($M$2,$S$2,17) -> 46008 | W9: =DATE($M$2,$S$2,18) -> 46009 | X9: =DATE($M$2,$S$2,19) -> 46010 | Y9: =DATE($M$2,$S$2,20) -> 46011 | Z9: =DATE($M$2,$S$2,21) -> 46012 | AA9: =DATE($M$2,$S$2,22) -> 46013 | AB9: =DATE($M$2,$S$2,23) -> 46014 | AC9: =DATE($M$2,$S$2,24) -> 46015 | AD9: =DATE($M$2,$S$2,25) -> 46016 | AE9: =DATE($M$2,$S$2,26) -> 46017 | AF9: =DATE($M$2,$S$2,27) -> 46018 | AG9: =DATE($M$2,$S$2,28) -> 46019 | AH9: =IF(DAY(EOMONTH(F9,0))<29,"",DATE($M$2,$S$2,29)) -> 46020 | AI9: =IF(DAY(EOMONTH(F9,0))<30,"",DATE($M$2,$S$2,30)) -> 46021 | AJ9: =IF(DAY(EOMONTH(F9,0))<31,"",DATE($M$2,$S$2,31)) -> 46022
F10: =DATE($M$2,$S$2,1) -> 45992 | G10: =DATE($M$2,$S$2,2) -> 45993 | H10: =DATE($M$2,$S$2,3) -> 45994 | I10: =DATE($M$2,$S$2,4) -> 45995 | J10: =DATE($M$2,$S$2,5) -> 45996 | K10: =DATE($M$2,$S$2,6) -> 45997 | L10: =DATE($M$2,$S$2,7) -> 45998 | M10: =DATE($M$2,$S$2,8) -> 45999 | N10: =DATE($M$2,$S$2,9) -> 46000 | O10: =DATE($M$2,$S$2,10) -> 46001 | P10: =DATE($M$2,$S$2,11) -> 46002 | Q10: =DATE($M$2,$S$2,12) -> 46003 | R10: =DATE($M$2,$S$2,13) -> 46004 | S10: =DATE($M$2,$S$2,14) -> 46005 | T10: =DATE($M$2,$S$2,15) -> 46006 | U10: =DATE($M$2,$S$2,16) -> 46007 | V10: =DATE($M$2,$S$2,17) -> 46008 | W10: =DATE($M$2,$S$2,18) -> 46009 | X10: =DATE($M$2,$S$2,19) -> 46010 | Y10: =DATE($M$2,$S$2,20) -> 46011 | Z10: =DATE($M$2,$S$2,21) -> 46012 | AA10: =DATE($M$2,$S$2,22) -> 46013 | AB10: =DATE($M$2,$S$2,23) -> 46014 | AC10: =DATE($M$2,$S$2,24) -> 46015 | AD10: =DATE($M$2,$S$2,25) -> 46016 | AE10: =DATE($M$2,$S$2,26) -> 46017 | AF10: =DATE($M$2,$S$2,27) -> 46018 | AG10: =DATE($M$2,$S$2,28) -> 46019 | AH10: =IF(DAY(EOMONTH(F10,0))<29,"",DATE($M$2,$S$2,29)) -> 46020 | AI10: =IF(DAY(EOMONTH(F10,0))<30,"",DATE($M$2,$S$2,30)) -> 46021 | AJ10: =IF(DAY(EOMONTH(F10,0))<31,"",DATE($M$2,$S$2,31)) -> 46022
A11: 1 | B11: 管理者 | C11: A | E11: A | AK11: =+SUM(F11:AJ11) -> 0 | AL11: =IF($AK$3="４週",AK11/4,AK11/(DAY(EOMONTH($F$9,0))/7)) -> 0
A12: 2 | B12: 相談支援専門員 | C12: B | E12: B | AK12: =+SUM(F12:AJ12) -> 0 | AL12: =IF($AK$3="４週",AK12/4,AK12/(DAY(EOMONTH($F$9,0))/7)) -> 0
A13: 3 | B13: 相談支援専門員 | C13: C | E13: C | AK13: =+SUM(F13:AJ13) -> 0 | AL13: =IF($AK$3="４週",AK13/4,AK13/(DAY(EOMONTH($F$9,0))/7)) -> 0
A14: 4 | B14: 相談支援員 | C14: D | E14: D | AK14: =+SUM(F14:AJ14) -> 0 | AL14: =IF($AK$3="４週",AK14/4,AK14/(DAY(EOMONTH($F$9,0))/7)) -> 0
A15: 5 | AK15: =+SUM(F15:AJ15) -> 0 | AL15: =IF($AK$3="４週",AK15/4,AK15/(DAY(EOMONTH($F$9,0))/7)) -> 0
A16: 6 | AK16: =+SUM(F16:AJ16) -> 0 | AL16: =IF($AK$3="４週",AK16/4,AK16/(DAY(EOMONTH($F$9,0))/7)) -> 0
A17: 7 | AK17: =+SUM(F17:AJ17) -> 0 | AL17: =IF($AK$3="４週",AK17/4,AK17/(DAY(EOMONTH($F$9,0))/7)) -> 0
A18: 8 | AK18: =+SUM(F18:AJ18) -> 0 | AL18: =IF($AK$3="４週",AK18/4,AK18/(DAY(EOMONTH($F$9,0))/7)) -> 0
A19: 9 | AK19: =+SUM(F19:AJ19) -> 0 | AL19: =IF($AK$3="４週",AK19/4,AK19/(DAY(EOMONTH($F$9,0))/7)) -> 0
A20: 10 | AK20: =+SUM(F20:AJ20) -> 0 | AL20: =IF($AK$3="４週",AK20/4,AK20/(DAY(EOMONTH($F$9,0))/7)) -> 0
A21: 11 | AK21: =+SUM(F21:AJ21) -> 0 | AL21: =IF($AK$3="４週",AK21/4,AK21/(DAY(EOMONTH($F$9,0))/7)) -> 0
A22: 12 | AK22: =+SUM(F22:AJ22) -> 0 | AL22: =IF($AK$3="４週",AK22/4,AK22/(DAY(EOMONTH($F$9,0))/7)) -> 0
A23: 13 | AK23: =+SUM(F23:AJ23) -> 0 | AL23: =IF($AK$3="４週",AK23/4,AK23/(DAY(EOMONTH($F$9,0))/7)) -> 0
A24: 14 | AK24: =+SUM(F24:AJ24) -> 0 | AL24: =IF($AK$3="４週",AK24/4,AK24/(DAY(EOMONTH($F$9,0))/7)) -> 0
A25: 15 | AK25: =+SUM(F25:AJ25) -> 0 | AL25: =IF($AK$3="４週",AK25/4,AK25/(DAY(EOMONTH($F$9,0))/7)) -> 0
A26: 16 | AK26: =+SUM(F26:AJ26) -> 0 | AL26: =IF($AK$3="４週",AK26/4,AK26/(DAY(EOMONTH($F$9,0))/7)) -> 0
... A30: 20 | AK30: =+SUM(F30:AJ30) -> 0 | AL30: =IF($AK$3="４週",AK30/4,AK30/(DAY(EOMONTH($F$9,0))/7)) -> 0
A31: 合計 | F31: =+SUM(F11:F30) -> 0 | G31: =+SUM(G11:G30) -> 0 | H31: =+SUM(H11:H30) -> 0 | I31: =+SUM(I11:I30) -> 0 | J31: =+SUM(J11:J30) -> 0 | K31: =+SUM(K11:K30) -> 0 | L31: =+SUM(L11:L30) -> 0 | M31: =+SUM(M11:M30) -> 0 | ... AJ31: =+SUM(AJ11:AJ30) -> 0 | AK31: =+SUM(F31:AJ31) -> 0 | AL31: =IF($AK$3="４週",AK31/4,AK31/(DAY(EOMONTH($F$9,0))/7)) -> 0
A32: サービス提供時間
A35: ＜前６か月の平均値＞※新規申請の場合は推定数を記載ください。
D36: =IF(MONTH($F$9)<7,MONTH($F$9)+6,MONTH($F$9)-6) -> 6 | E36: =IF(MONTH($F$9)<6,MONTH($F$9)+7,MONTH($F$9)-5) -> 7 | F36: =IF(MONTH($F$9)<5,MONTH($F$9)+8,MONTH($F$9)-4) -> 8 | I36: =IF(MONTH($F$9)<4,MONTH($F$9)+9,MONTH($F$9)-3) -> 9 | L36: =IF(MONTH($F$9)<3,MONTH($F$9)+10,MONTH($F$9)-2) -> 10 | O36: =IF(MONTH($F$9)<2,MONTH($F$9)+11,MONTH($F$9)-1) -> 11 | R36: 計 | V36: 平均利用者数 | Z36: 相談支援専門員の数の標準
A37: 障害者 | R37: =SUM(D37:Q37) -> 0 | V37: =ROUNDUP((R37+R38)/6,1) -> 0 | Z37: =ROUNDDOWN(V37/35,1) -> 0
A38: 障害児 | R38: =+SUM(D38:Q38) -> 0
A39: ＜実人数集計＞
C40: =IF(VLOOKUP($AK$1,選択肢!$A$1:$K$9,C45,FALSE)=0,"-",VLOOKUP($AK$1,選択肢!$A$1:$K$9,C45,FALSE)) -> 管理者 | E40: =IF(VLOOKUP($AK$1,選択肢!$A$1:$K$9,E45,FALSE)=0,"-",VLOOKUP($AK$1,選択肢!$A$1:$K$9,E45,FALSE)) -> 相談支援専門員 | I40: =IF(VLOOKUP($AK$1,選択肢!$A$1:$K$9,I45,FALSE)=0,"-",VLOOKUP($AK$1,選択肢!$A$1:$K$9,I45,FALSE)) -> 相談支援員 | O40: =IF(VLOOKUP($AK$1,選択肢!$A$1:$K$9,O45,FALSE)=0,"-",VLOOKUP($AK$1,選択肢!$A$1:$K$9,O45,FALSE)) -> - | U40: =IF(VLOOKUP($AK$1,選択肢!$A$1:$K$9,U45,FALSE)=0,"-",VLOOKUP($AK$1,選択肢!$A$1:$K$9,U45,FALSE)) -> - | AA40: =IF(VLOOKUP($AK$1,選択肢!$A$1:$K$9,AA45,FALSE)=0,"-",VLOOKUP($AK$1,選択肢!$A$1:$K$9,AA45,FALSE)) -> - | AG40: =IF(VLOOKUP($AK$1,選択肢!$A$1:$K$9,AG45,FALSE)=0,"-",VLOOKUP($AK$1,選択肢!$A$1:$K$9,AG45,FALSE)) -> - | AL40: =IF(VLOOKUP($AK$1,選択肢!$A$1:$K$9,AL45,FALSE)=0,"-",VLOOKUP($AK$1,選択肢!$A$1:$K$9,AL45,FALSE)) -> -
C41: 専従 | D41: 兼務 | E41: 専従 | F41: 兼務 | I41: 専従 | L41: 兼務 | O41: 専従 | R41: 兼務 | U41: 専従 | X41: 兼務 | AA41: 専従 | AD41: 兼務 | AG41: 専従 | AJ41: 兼務 | AL41: 専従 | AM41: 兼務
B42: 常勤 | C42: =COUNTIFS($B$11:$B$30,C$40,$C$11:$C$30,"A",$E$11:$E$30,"*") -> 1 | D42: =COUNTIFS($B$11:$B$30,C$40,$C$11:$C$30,"B",$E$11:$E$30,"*") -> 0 | E42: =COUNTIFS($B$11:$B$30,E$40,$C$11:$C$30,"A",$E$11:$E$30,"*") -> 0 | F42: =COUNTIFS($B$11:$B$30,E$40,$C$11:$C$30,"B",$E$11:$E$30,"*") -> 1 | I42: =COUNTIFS($B$11:$B$30,I$40,$C$11:$C$30,"A",$E$11:$E$30,"*") -> 0 | L42: =COUNTIFS($B$11:$B$30,I$40,$C$11:$C$30,"B",$E$11:$E$30,"*") -> 0 | O42: =COUNTIFS($B$11:$B$30,O$40,$C$11:$C$30,"A",$E$11:$E$30,"*") -> 0 | R42: =COUNTIFS($B$11:$B$30,O$40,$C$11:$C$30,"B",$E$11:$E$30,"*") -> 0 | U42: =COUNTIFS($B$11:$B$30,U$40,$C$11:$C$30,"A",$E$11:$E$30,"*") -> 0 | X42: =COUNTIFS($B$11:$B$30,U$40,$C$11:$C$30,"B",$E$11:$E$30,"*") -> 0 | AA42: =COUNTIFS($B$11:$B$30,AA$40,$C$11:$C$30,"A",$E$11:$E$30,"*") -> 0 | AD42: =COUNTIFS($B$11:$B$30,AA$40,$C$11:$C$30,"B",$E$11:$E$30,"*") -> 0 | AG42: =COUNTIFS($B$11:$B$30,AG$40,$C$11:$C$30,"A",$E$11:$E$30,"*") -> 0 | AJ42: =COUNTIFS($B$11:$B$30,AG$40,$C$11:$C$30,"B",$E$11:$E$30,"*") -> 0 | AL42: =COUNTIFS($B$11:$B$30,AL$40,$C$11:$C$30,"A",$E$11:$E$30,"*") -> 0 | AM42: =COUNTIFS($B$11:$B$30,AL$40,$C$11:$C$30,"B",$E$11:$E$30,"*") -> 0
B43: 非常勤 | C43: =COUNTIFS($B$11:$B$30,C$40,$C$11:$C$30,"C",$E$11:$E$30,"*") -> 0 | D43: =COUNTIFS($B$11:$B$30,C$40,$C$11:$C$30,"D",$E$11:$E$30,"*") -> 0 | E43: =COUNTIFS($B$11:$B$30,E$40,$C$11:$C$30,"C",$E$11:$E$30,"*") -> 1 | F43: =COUNTIFS($B$11:$B$30,E$40,$C$11:$C$30,"D",$E$11:$E$30,"*") -> 0 | I43: =COUNTIFS($B$11:$B$30,I$40,$C$11:$C$30,"C",$E$11:$E$30,"*") -> 0 | L43: =COUNTIFS($B$11:$B$30,I$40,$C$11:$C$30,"D",$E$11:$E$30,"*") -> 1 | O43: =COUNTIFS($B$11:$B$30,O$40,$C$11:$C$30,"C",$E$11:$E$30,"*") -> 0 | R43: =COUNTIFS($B$11:$B$30,O$40,$C$11:$C$30,"D",$E$11:$E$30,"*") -> 0 | U43: =COUNTIFS($B$11:$B$30,U$40,$C$11:$C$30,"C",$E$11:$E$30,"*") -> 0 | X43: =COUNTIFS($B$11:$B$30,U$40,$C$11:$C$30,"D",$E$11:$E$30,"*") -> 0 | AA43: =COUNTIFS($B$11:$B$30,AA$40,$C$11:$C$30,"C",$E$11:$E$30,"*") -> 0 | AD43: =COUNTIFS($B$11:$B$30,AA$40,$C$11:$C$30,"D",$E$11:$E$30,"*") -> 0 | AG43: =COUNTIFS($B$11:$B$30,AG$40,$C$11:$C$30,"C",$E$11:$E$30,"*") -> 0 | AJ43: =COUNTIFS($B$11:$B$30,AG$40,$C$11:$C$30,"D",$E$11:$E$30,"*") -> 0 | AL43: =COUNTIFS($B$11:$B$30,AL$40,$C$11:$C$30,"C",$E$11:$E$30,"*") -> 0 | AM43: =COUNTIFS($B$11:$B$30,AL$40,$C$11:$C$30,"D",$E$11:$E$30,"*") -> 0
B44: 常勤換算数 | C44: =IF($AK$3="４週",SUMIFS($AK$11:$AK$30,$B$11:$B$30,C40)/4/$AH$5,IF($AK$3="歴月",SUMIFS($AK$11:$AK$30,$B$11:$B$30,C40)/$AL$5,"記載する期間を選択してください")) -> #DIV/0! | E44: =IF($AK$3="４週",SUMIFS($AK$11:$AK$30,$B$11:$B$30,E40)/4/$AH$5,IF($AK$3="歴月",SUMIFS($AK$11:$AK$30,$B$11:$B$30,E40)/$AL$5,"記載する期間を選択してください")) -> #DIV/0! | I44: =IF($AK$3="４週",SUMIFS($AK$11:$AK$30,$B$11:$B$30,I40)/4/$AH$5,IF($AK$3="歴月",SUMIFS($AK$11:$AK$30,$B$11:$B$30,I40)/$AL$5,"記載する期間を選択してください")) -> #DIV/0! | O44: =IF($AK$3="４週",SUMIFS($AK$11:$AK$30,$B$11:$B$30,O40)/4/$AH$5,IF($AK$3="歴月",SUMIFS($AK$11:$AK$30,$B$11:$B$30,O40)/$AL$5,"記載する期間を選択してください")) -> #DIV/0! | U44: =IF($AK$3="４週",SUMIFS($AK$11:$AK$30,$B$11:$B$30,U40)/4/$AH$5,IF($AK$3="歴月",SUMIFS($AK$11:$AK$30,$B$11:$B$30,U40)/$AL$5,"記載する期間を選択してください")) -> #DIV/0! | AA44: =IF($AK$3="４週",SUMIFS($AK$11:$AK$30,$B$11:$B$30,AA40)/4/$AH$5,IF($AK$3="歴月",SUMIFS($AK$11:$AK$30,$B$11:$B$30,AA40)/$AL$5,"記載する期間を選択してください")) -> #DIV/0! | AG44: =IF($AK$3="４週",SUMIFS($AK$11:$AK$30,$B$11:$B$30,AG40)/4/$AH$5,IF($AK$3="歴月",SUMIFS($AK$11:$AK$30,$B$11:$B$30,AG40)/$AL$5,"記載する期間を選択してください")) -> #DIV/0! | AL44: =IF($AK$3="４週",SUMIFS($AK$11:$AK$30,$B$11:$B$30,AL40)/4/$AH$5,IF($AK$3="歴月",SUMIFS($AK$11:$AK$30,$B$11:$B$30,AL40)/$AL$5,"記載する期間を選択してください")) -> #DIV/0!
C45: 2 | E45: 3 | I45: 4 | O45: 5 | U45: 6 | AA45: 7 | AG45: 8 | AL45: 9
A46: ・最初に「年月欄」「サービス種別」「事業所名」を入力してください。 | R46: 6 | X46: 7 | AD46: 8 | AJ46: 9
...

Sheet 参考様式８
A1: 参考様式８
D3: 組 織 体 制 図
B5: 事業所の名称
B6: サービスの種類
B53: 備考 既存の組織体制図がある場合は、その写し等の添付でかまいません。

Sheet 管理者誓約書（障害児相談） 
A1: 指定障害児相談支援事業所管理者誓約書
A5: 「児童福祉法に基づく指定障害児相談支援の事業の人員及び運営に関する基準（平成24年3月13日厚生労働省令第29号）」の規定に従い、運営に関する基準を遵守し、当指定障害児相談支援事業所の管理者の責務を適正に果たすことを誓約します。
A10: 令和 年 月 日
A13: 横浜市長 様
A16: 事業者名（開設法人名）
A19: 代表者氏名
A22: 事業所名
A25: 管理者氏名
A32: 児童福祉法に基づく指定障害児相談支援の事業の人員及び運営に関する基準【抜粋】
A34: （管理者の責務）
A35: 第18条 指定障害児相談支援事業所の管理者は、当該指定障害児相談支援事業所の相談支援専門員その他の従業者の管理、指定障害児相談支援の利用の申込みに係る調整、業務の実施状況の把握その他の管理を一元的に行わなければならない。
A38: ２ 指定障害児相談支援事業所の管理者は、当該指定障害児相談支援事業所の相談支援専門員その他の従業者にこの章の規定を遵守させるため必要な指揮命令を行うものとする。

Sheet 様式第11号（相談）
A1: 様式第11号
A2: 同 意 書
O8: 令和 | R8: 年 | T8: 月 | V8: 日
A13: 横 浜 市 長
J18: （申請者）
J20: 所 在 地
J22: 名 称
J24: 代表者氏名
A32: 令和 | D32: 年 | F32: 月 | H32: 日 | I32: に申請した、児童福祉法に規定する障害児相談支援に係る指
A35: 定申請書の内容について、児童福祉法に基づく指定障害児通所支援事業者、指定障害児入所
A38: 施設及び指定障害児相談支援事業者の指定等に関する要綱第４条に基づき、暴力団員でない
A41: ことを確認するため、記載された情報を神奈川県警察本部長に照会することについて同意します。
A58: 児童福祉法に基づく指定障害児通所支援事業者、指定障害児入所施設及び指定障害児相談支援事業者の指定等に関する要綱【抜粋】
A61: 第14条 第２条の指定及び指定の更新の申請をしようとする指定障害児通所支援事業者等及び
C62: 指定障害児相談支援事業者は、法第 21 条の５の15第３項各号の規定に該当しない旨の
C63: 誓約書（様式第10号）、神奈川県警察本部（以下「県警」という。）への照会について
C64: の同意書（様式第11号）及び役員等の名簿（様式第12号）を市長に提出しなければな
C65: らない。
A67: ２ 第９条により法人の役員等について変更の届出を行う指定障害児通所支援事業所等は、
C68: 役員等の名簿（様式第12号）を市長に提出しなければならない。
A70: ３ 市長は、前２項の書類を受理した時ときは、当該役員等について、暴排条例及び県警
A71: と締結した横浜市暴力団排除条例に基づく排除措置連絡体制等に関する合意書（平成24
C72: 年３月29日締結）に基づき、暴排条例第２条第２号に規定する暴力団、同条第３号に規
C73: 定する暴力団員、同条第４号に規定する暴力団員等及び同条第５号暴力団経営支配法人
C74: 等の該当の有無を県警に照会するものとする。
A76: ４ 前３項の「役員等」とは、当該法人の役員（業務を執行する社員、取締役、執行役又
C77: はこれらに準ずる者をいい、相談役、顧問その他いかなる名称を有する者であるかを問わ
C78: ず、法人に対し業務を執行する社員、取締役、執行役又はこれらに準ずる者と同等以上の
C79: 支配力を有するものと認められる者を含む。）及び事業所を管理する者をいう。

Sheet 様式第12号
A1: 様式第12号 | C1: 役 員 等 名 簿 | K1: 申請者（法人）名（ ）
B2: 氏名（姓と名を１字開けてください） | E2: 生年月日 | I2: 性別 | J2: 住 所 | L2: 役職名 ・呼称 | M2: TEL | N2: FAX
B3: ｶﾅ（半角） | D3: 漢 字 | E3: m（明治） t（大正） s（昭和） h（平成） | F3: 年 | G3: 月 | H3: 日 | I3: 男性（m）女性（f）
A4: 1
A5: 2
A6: 3
A7: 4
A8: 5
A9: 6
A10: 7
A11: 8
A12: 9
A13: 10
A14: 11
A15: 12
A16: ・役員等名簿に記載するのは当該法人の役員及び事業所の管理者です。 ・当該法人の役員とは、業務を執行する社員、取締役、執行役又はこれらに準ずる者をいい、相談役、顧問その他いかなる名称を有する者であるかを問わず、法人に対し業務を執行する社員、取締役、執行役、幹事又はこれらに準ずる者と同等以上の支配力を有するものと認められる者を含みます。 ・当該法人の役員が変わる場合には、新たに就任する役員のみ記載してください（退任する役員については記載不要です）。

Sheet 参考様式９
A2: 参考様式９
A3: 関係機関との協力体制
A5: 事業所の名称
A6: サービスの種類
A8: 関係機関の名称
A9: 所在地
A10: 協力の内容
A43: 備考 | B43: 「契約の内容」は、契約書の写し等の添付でもかまいません。

Sheet 参考様式10
A1: 参考様式10
A3: 事 業 計 画 書
B5: 事業所名又は施設名
B6: サービス種類
A8: 項 目 | D8: 内 容
A10: １ 事業の内容
A27: ２ 事業開始年月日
A29: ３ 従業者等の人員
A39: ４ 利用者の定員
A44: ５ 研修計画
A50: ６ その他
A54: ※事業計画書は、当該事業所の年間事業計画を作成してください。

Sheet 加入状況確認票（社会保険及び労働保険）
A2: 社会福祉事業等の事業所用
A3: 社会保険及び労働保険への加入状況にかかる確認票
A5: 貴事業所の現状等について、下記の項目に回答してください。
A6: Ⅰ．現在、厚生年金保険・健康保険に加入していますか。 （該当する番号に○を付してください。また、必要事項をご記入ください。）
B7: 加入状況
A8: 1 | B8: 加入している。 →下記のいずれかの書類の写しを提出してください。（提示も可）
B9: ●保険料の領収証書 ●社会保険料納入証明書
B10: ●社会保険料納入確認書
B11: ●健康保険・厚生年金保険資格取得確認および標準報酬決定通知書
B12: ●健康保険・厚生年金保険適用通知書
B13: ※上記書類を所持していない場合には事業所整理記号を下記に記載するのみで可。
B14: （本社等にて加入手続が行われている場合も事業所整理記号を下記に記載するのみで可。）
A17: 2 | B17: 現在、加入手続中である。
A18: 3 | B18: 今後、加入手続を行う。
B19: （申請から３か月以内に適用要件（法人事業所または従業員５人以上の個人事業所）に該当する予定の場合を含む。）
B20: 令和（ ）年（ ）月頃に手続予定。（申請から３か月以内の年月をご記入ください。）
A21: 4 | B21: 適用要件に該当しない。（個人事業所（法人ではない事業所）であって従業員が４名以下の場合。申請から３か月以内に適用要件に該当する予定がない。）
A22: 5 | B22: 適用要件に該当するか不明である。
B23: （個人事業所（法人ではない事業所）であって、正社員と、正社員以外で１週間の所定労働時間及び１か月の所定労働日数が同じ事業所で同様の業務に従事している正社員の４分の３以上である者との合計が５人以上か不明な場合。）
A25: Ⅱ．現在、労働者災害補償保険・雇用保険に加入していますか。 （該当する番号に○を付してください。また、必要事項をご記入ください。）
B26: 加入状況
A27: 1 | B27: 加入している。 →下記のいずれかの書類の写しを提出してください。（提示も可）
B28: ●労働保険概算・確定保険料申告書
B29: ●納付書・領収証等 ●保険関係成立届
B30: ※上記書類を所持していない場合には労働保険番号を下記に記載するのみで可。
B31: （本社等にて加入手続が行われている場合も労働保険番号を下記に記載するのみで可。）
M32: －
A34: 2 | B34: 現在、加入手続中である。
A35: 3 | B35: 今後、加入手続を行う。
B36: （申請から３か月以内に従業員（パート・アルバイトを含む）を雇う予定がある場合を含む。）
B37: 令和（ ）年（ ）月頃に手続予定。（申請から３か月以内の年月をご記入ください。）
A38: 4 | B38: 適用要件に該当しない。（事業主・役員・同居の親族のみで経営、従業員（パート・アルバイトを含む）がいない、申請から３か月以内に従業員を雇う予定がない。）
A40: 回答年月日 令和 年 月 日
A41: 事 業 所 名 称
A42: 事業所 所在地
A43: 会社等法人番号
A44: 電 話 番 号
A46: ※ 事業主の皆様には、全ての法令を遵守していただきたいと考えています。社会保険・労働保険の適用が確認できない場合は、厚生労働省からの依頼に基づき、厚生労働省に情報提供いたします。
A47: ※ 社会保険・労働保険の適用促進以外の目的では使用いたしません。

Sheet 参考様式11（障害児相談）
A1: 障害児相談支援事業 開始届出書
F2: 令和 年 月 日
A3: 横浜市長 殿
D6: 届出者 住所
D7: 氏名
A9: 次のとおり障害児相談支援事業を開始しますので、届け出ます。
A11: １ 経営者の氏名及び住所（法人であるときは、その名称及び主たる事務所の所在地）
A14: ２ 職員の定数及び職務の内容
A17: ３ 主な職員の氏名及び経歴
A20: ４ 事業を行おうとする区域（市町村の委託を受けて事業を行おうとする者にあって は、当該市町村の名称を含みます。）
A23: ５ 事業開始の予定年月日
A26: 備考１ この届出書は、指定申請書と同時に、政令・中核市に所在する事業所は、それぞれの市に、その他の市町村に所在する事業所は神奈川県に提出してください。

Sheet 選択肢
A1: ！申請するサービス類型を選択してください | B1: 職種① | C1: 職種② | D1: 職種③ | E1: 職種④ | F1: 職種⑤ | G1: 職種⑥ | H1: 職種⑦ | I1: 職種⑧ | J1: 職種⑨ | K1: 職種⑩
A2: 障害児相談支援 | B2: 管理者 | C2: 相談支援専門員 | D2: 相談支援員
A3: 児童発達支援・放課後等デイサービス | B3: 管理者 | C3: 児童発達支援管理責任者 | D3: 児童指導員 | E3: 保育士 | F3: 機能訓練担当職員 | G3: 看護職員 | H3: その他職員
A4: 児童発達支援・主として重症心身障害児を対象とする場合 | B4: 管理者 | C4: 児童発達支援管理責任者 | D4: 嘱託医 | E4: 看護職員 | F4: 児童指導員 | G4: 保育士 | H4: 機能訓練担当職員 | I4: その他職員
A5: 児童発達支援・児童発達支援センターであるもの | B5: 管理者 | C5: 児童発達支援管理責任者 | D5: 嘱託医 | E5: 児童指導員 | F5: 保育士 | G5: 栄養士 | H5: 調理員 | I5: 機能訓練担当職員 | J5: 看護職員 | K5: その他職員
A6: 保育所等訪問支援 | B6: 管理者 | C6: 児童発達支援管理責任者 | D6: 訪問支援員
A7: 居宅訪問型児童発達支援 | B7: 管理者 | C7: 児童発達支援管理責任者 | D7: 訪問支援員
A8: 福祉型障害児入所施設 | B8: 管理者 | C8: 児童発達支援管理責任者 | D8: 医師 | E8: 看護職員 | F8: 児童指導員 | G8: 保育士 | H8: 栄養士 | I8: 調理員 | J8: 心理担当職員 | K8: その他職員
A9: 医療型障害児入所施設 | B9: 児童発達支援管理責任者 | C9: 医師 | D9: 看護職員 | E9: 児童指導員 | F9: 保育士 | G9: 心理担当職員 | H9: 理学療法士又は作業療法士 | I9: 職業指導員 | J9: その他職員
